{"text_format":"1","workbook":"xlsx","n_sheets":46,"sheets":["CARmdldata","DESmdldata","EEmdldata","ELmdldata","ECmdldata","ESAmdldata","MEAmdldata","ESTHmdldata","MVLRmdldata","SOUmdldata","TUSmdldata","VCmdldata","VPMAmdldata","TUmdldata","EXmdldata","13004","13005","13006","14007","14008","14009","1111","2222","3333","Groupe 10","Groupe 11","Groupe 12","Groupe 13","Groupe 14","Groupe 15","Calendrier","Planification","grprgdata","cldrdata","horprofdata","Instructions","Julien, Rondeau","Julien Béland M.","Roch Gauthier","Nicolas Privé","Mathieu Chenard","Yanik Corbeil","Clément Gauthier","Mathieu Primard","Sylvain Bellemare","Feuil1"],"not_rendered":{"charts":0,"images":2,"macros":1,"external_links":0,"defined_names":10,"comments":25,"pivot_tables":0},"unopened":[],"bounds":{"document_bytes":16777216,"sheet_cells":100000,"rows_first":2000,"rows_last":500,"rows_between":2000,"halvings":0,"cell_chars":16384,"cell_head_chars":4096},"cells_cut":0,"cells_raw":0,"read":"whole","date_system":"1900"}

{"sheet":"CARmdldata","index":0,"n_rows":58,"n_cols":20,"rows_kept":58,"cut":false,"hidden":true,"merged":[[0,12,1,19],[2,12,2,14],[0,0,2,11]]}
["Carrosserie",null,null,null,null,null,null,null,null,null,null,null,"Spécifications techniques"]
[]
[null,null,null,null,null,null,null,null,null,null,null,null,"Enseignants",null,null,"Préalables","incompatible","Distribution","Équipements","Équipements"]
["No","Prog.","Code","Module","Durée","Ponction","Ponction Description","L'an passé","Cette Année","L'an proch.","Enseignant","Commentaires","maintenant","après prép.","à venir","(Requis pour…)",null,"(Idéal)","Spécifique","Partager"]
[1,"CAR",340012,"Situation en regard du métier",30,4,"ATE et Récupération",0,{"$f":"E5-F5-H5-J5","v":26},0]
[2,"CAR",340021,"Santé et sécurité du travail",15,2,"ATE et Récupération",0,13,0]
[3,"CAR",340032,"Plans et traçage des patrons",30,4,"ATE et Récupération",0,26,0]
[4,"CAR",340044,"Travail général d'atelier",60,14,"ATE et Récupération",0,46,0]
[5,"CAR",340052,"Construction-caractéristiques",30,4,"ATE et Récupération",0,26,0]
[6,"CAR",340063,"Soudage et découpage",45,6,"ATE et Récupération",0,39,0]
[7,"CAR",340076,"Fabric.-pièces de remplacement",90,18,"ATE et Récupération",0,72,0]
[8,"CAR",340085,"Réparation-éléments bosselés",75,3,"ATE et Récupération",0,72,0]
[9,"CAR",340095,"Soudage métaux-MIG, par points",75,3,"ATE et Récupération",0,72,0]
[10,"CAR",340103,"Répar. circuits électriques",45,6,"ATE et Récupération",0,39,0]
[11,"CAR",340114,"Access. répar., rempl., install.",60,20,"ATE et Récupération",0,40,0]
[12,"CAR",340122,"Plastiques soudage collage",30,4,"ATE et Récupération",0,26,0]
[13,"CAR",340133,"Vitres, glaces et garnitures",45,6,"ATE et Récupération",0,39,0]
[14,"CAR",340153,"Répar. en plastique renforcé",45,6,"ATE et Récupération",0,39,0]
[15,"CAR",340154,"Répar. au plastique et plomb",60,8,"ATE et Récupération",0,52,0]
[16,"CAR",340168,"Préparation pour la peinture",120,16,"ATE et Récupération",0,104,0]
[17,"CAR",340174,"Ajustement des couleurs",60,16,"ATE et Récupération",0,44,0]
[18,"CAR",340188,"Application de la peinture",120,22,"ATE et Récupération",0,98,0]
[19,"CAR",340192,"Préparation pour la livraison",30,4,"ATE et Récupération",0,26,0]
[20,"CAR",340214,"Remplac. d'éléments amovibles",60,14,"ATE et Récupération",0,46,0]
[21,"CAR",340217,"Remplac. d'organes mécaniques",105,15,"ATE et Récupération",0,90,0]
[22,"CAR",340222,"Systèmes refroid. et climatis.",30,4,"ATE et Récupération",0,26,0]
[23,"CAR",340235,"Répar. en tôle acier-aluminium",75,24,"ATE et Récupération",0,51,0]
[24,"CAR",340253,"Mesurage et contrôle",45,6,"ATE et Récupération",0,39,0]
[25,"CAR",340258,"Répar. élément. structurels soudés",120,14,"ATE et Récupération",0,106,0]
[26,"CAR",340261,"Moyen de recherche d'emploi",15,2,"ATE et Récupération",0,13,0]
[27,"CAR",340275,"Intégration, milieu de travail",75,75,"ATE et Récupération",0,0,0]
[28,null,null,null,null,null,null,0,0,0]
[29,null,null,null,null,null,null,0,0,0]
[30,null,null,null,null,null,null,0,0,0]
[31,null,null,null,null,null,null,0,0,0]
[32,null,null,null,null,null,null,0,0,0]
[33,null,null,null,null,null,null,0,0,0]
[34,null,null,null,null,null,null,0,0,0]
[35,null,null,null,null,null,null,0,0,0]
[36,null,null,null,null,null,null,0,0,0]
[37,null,null,null,null,null,null,0,0,0]
[38,null,null,null,null,null,null,0,0,0]
[39,null,null,null,null,null,null,0,0,0]
[40,null,null,null,null,null,null,0,0,0]
[90,null,null,"Doublon  CEP ATE  (Récup. et éval.)",0,-116,"Récupération",0,116,0]
[91,null,null,"ATE 1ère partie  supervisé à 100% (Stage d'observation)",0,-30,null,0,30,0]
[92,null,null,"ATE 2ième partie supervisé (Apprenti-carrossier et spécialisation)       ",0,-54,"ATE ",0,54,0]
[93,null,null,"ATE 2ième partie  non supervisé      ",36,0,"ATE ",0,36,0]
[94,null,null,"ATE 3ième partie supervisé( Apprenti-Peintre)         ",0,-66,"ATE ",0,66,0]
[95,null,null,"ATE 3ième partie non supervisé         ",44,null,"ATE ",0,44,0]
[96,null,null,"ATE 4ième partie supervisé(Apprenti-débosseleur et Intégration au milieu de travail) ",0,-54,"ATE ",0,54,0]
[97,null,null,"ATE 4ième partie non supervisé",36,null,"ATE ",0,36,0]
[98,null,null,null,null,null,null,0,0,0]
[99,null,null,"Réservé Organisation scolaire",null,null,null,0,{"$f":"E54-F54-H54-J54","v":0},0]
[null,null,null,"total programme  : ",{"$f":"SUM(E5:E54)","v":1706},{"$f":"SUM(F5:F54)","v":0},null,{"$f":"SUM(H5:H54)","v":0},{"$f":"SUM(I5:I54)","v":1706},{"$f":"SUM(J5:J54)","v":0},{"$f":"SUM(H55:J55)","v":1706},"  =total formation"]
[]
[null,null,null,"*  1590 + 116 heures en doublon = 1706",null,null,"**  Heures ate total = 320"]
[null,null,null,"à placer dans l'horaire"]

{"sheet":"DESmdldata","index":1,"n_rows":55,"n_cols":20,"rows_kept":55,"cut":false,"hidden":true,"merged":[[0,12,1,19],[2,12,2,14],[0,0,2,11]]}
["Dessin industriel",null,null,null,null,null,null,null,null,null,null,null,"Spécifications techniques"]
[]
[null,null,null,null,null,null,null,null,null,null,null,null,"Enseignants",null,null,"Préalables","incompatible","Distribution","Équipements","Équipements"]
["No","Prog.","Code","Module","Durée","Ponction","Ponction Description","L'an passé","Cette Année","L'an proch.","Enseignant","Commentaires","maintenant","après prép.","à venir","(Requis pour…)",null,"(Idéal)","Spécifique","Partager"]
[1,"DEI",372311,"Métier et formation",15,0,null,0,{"$f":"E5-F5-H5-J5","v":15},0]
[2,"DEI",372324,"Résolution probl. / dessin ind.",60,0,null,0,60,0]
[3,"DEI",372035,"Interprétation / dessins tech.",75,0,null,0,75,0]
[4,"DEI",372335,"Dessin de croquis",75,0,null,0,75,0]
[5,"DEI",372345,"Exploitation / poste informatisé",75,0,null,0,75,0]
[6,"DEI",372356,"Dessin de détail",90,0,null,0,90,0]
[7,"DEI",372364,"Dessin d'organes de liaison",60,0,null,0,60,0]
[8,"DEI",372373,"Agencement / pièces sur dessin",45,0,null,0,45,0]
[9,"DEI",372386,"Matériaux, procédés industriels",90,0,null,0,90,0]
[10,"DEI",372395,"Dessin d'ensemble",75,0,null,0,75,0]
[11,"DEI",372407,"Fonctions spéc. logiciel dessin",105,0,null,0,105,0]
[12,"DEI",372054,"Relevé, interprétation mesures",60,0,null,0,60,0]
[13,"DEI",372414,"Tolérances dimensionnelles",60,0,null,0,60,0]
[14,"DEI",372421,"Correction d'un dessin",15,0,null,0,15,0]
[15,"DEI",372436,"Dessin d'organes transmission",90,0,null,0,90,0]
[16,"DEI",372446,"Dessin de développement",90,0,null,0,90,0]
[17,"DEI",372456,"Modélisation d'un objet",90,0,null,0,90,0]
[18,"DEI",372466,"Dessin de détails / mécanisme",90,0,null,0,90,0]
[19,"DEI",372476,"Schéma / canalisations, circuits",90,0,null,0,90,0]
[20,"DEI",372482,"Recherche et création d'emploi",30,0,null,0,30,0]
[21,"DEI",372495,"Dessin d'un système mécanique",75,0,null,0,75,0]
[22,"DEI",372507,"Dessin d'un bâti de machines",105,0,null,0,105,0]
[23,"DEI",372153,"Nouvelles organisat. du travail",45,0,null,0,45,0]
[24,"DEI",372517,"Conception d'un objet simple",105,0,null,0,105,0]
[25,"DEI",372526,"Intégration / marché du travail",90,0,null,0,90,0]
[26,null,null,null,null,0,null,0,0,0]
[27,null,null,null,null,0,null,0,0,0]
[28,null,null,null,null,0,null,0,0,0]
[29,null,null,null,null,0,null,0,0,0]
[30,null,null,null,null,0,null,0,0,0]
[31,null,null,null,null,0,null,0,0,0]
[32,null,null,null,null,0,null,0,0,0]
[33,null,null,null,null,0,null,0,{"$f":"E37-F37-H37-J37","v":0},0]
[34,null,null,null,null,0,null,0,0,0]
[35,null,null,null,null,0,null,0,0,0]
[36,null,null,null,null,0,null,0,0,0]
[37,null,null,null,null,0,null,0,0,0]
[38,null,null,null,null,0,null,0,0,0]
[39,null,null,null,null,0,null,0,0,0]
[40,null,null,null,null,0,null,0,0,0]
[90,null,null,null,null,0,null,0,0,0]
[91,null,null,null,null,0,null,0,0,0]
[92,null,null,null,null,0,null,0,0,0]
[93,null,null,null,null,0,null,0,0,0]
[94,null,null,null,null,0,null,0,0,0]
[95,null,null,null,null,0,null,0,0,0]
[96,null,null,null,null,0,null,0,0,0]
[97,null,null,null,null,0,null,0,0,0]
[98,null,null,null,null,0,null,0,0,0]
[99,null,null,"Réservé Organisation scolaire",null,0,null,0,0,0]
[null,null,null,"total programme  : ",{"$f":"SUM(E5:E54)","v":1800},{"$f":"SUM(F5:F54)","v":0},null,{"$f":"SUM(H5:H54)","v":0},{"$f":"SUM(I5:I54)","v":1800},{"$f":"SUM(J5:J54)","v":0},{"$f":"SUM(H55:J55)","v":1800},"  =total formation"]

{"sheet":"EEmdldata","index":2,"n_rows":55,"n_cols":20,"rows_kept":55,"cut":false,"hidden":true,"merged":[[0,12,1,19],[2,12,2,14],[0,0,2,11]]}
["Électricité d'entretien",null,null,null,null,null,null,null,null,null,null,null,"Spécifications techniques"]
[]
[null,null,null,null,null,null,null,null,null,null,null,null,"Enseignants",null,null,"Préalables","incompatible","Distribution","Équipements","Équipements"]
["No","Prog.","Code","Module","Durée","Ponction","Ponction Description","L'an passé","Cette Année","L'an proch.","Enseignant","Commentaires","maintenant","après prép.","à venir","(Requis pour…)",null,"(Idéal)","Spécifique","Partager"]
[1,"EE",283211,"Métier et formation",15,0,null,0,{"$f":"E5-F5-H5-J5","v":15},0]
[2,"EE",342052,"Santé et sécurité au travail",30,0,null,0,30,0]
[3,"EE",286056,"Analyse d'un circuit à C.C.",90,0,null,0,90,0]
[4,"EE",286034,"Utilisation: outillage, ancrages",60,0,null,0,60,0]
[5,"EE",286123,"Traçage de croquis et schémas",45,0,null,0,45,0]
[6,"EE",283223,"Utilisation: manuels, plans",45,0,null,0,45,0]
[7,"EE",286115,"Analyse d'un circuit à C.A.",75,0,null,0,75,0]
[8,"EE",283236,"Install. matériel distribution",90,0,null,0,90,0]
[9,"EE",286291,"Communication professionnelle",15,0,null,0,15,0]
[10,"EE",343192,"Utilisation micro-ordinateur",30,0,null,0,30,0]
[11,"EE",343076,"Circuits à semi-conducteurs",90,0,null,0,90,0]
[12,"EE",283246,"Install. systèmes électriques",90,0,null,0,90,0]
[13,"EE",283393,"Logique combinatoire",45,0,null,0,45,0]
[14,"EE",283256,"Install. équipement industriel",90,0,null,0,90,0]
[15,"EE",283384,"Logique séquentielle",60,0,null,0,60,0]
[16,"EE",283262,"Iniation au métier",30,0,null,0,30,0]
[17,"EE",283274,"Procédés industriels",60,0,null,0,60,0]
[18,"EE",283286,"Modif. systèmes électriques",90,0,null,0,90,0]
[19,"EE",283295,"Rép. commande de moteur à C.C.",75,0,null,0,75,0]
[20,"EE",283306,"Rép. commande de moteur à C.A.",90,0,null,0,90,0]
[21,"EE",283316,"Électronique de puissance",90,0,null,0,90,0]
[22,"EE",283323,"Maintenance préventive",45,0,null,0,45,0]
[23,"EE",28337,"Modifications de programmes",105,0,null,0,105,0]
[24,"EE",283346,"Circuits fluidiques",90,0,null,0,90,0]
[25,"EE",283353,"Instrumentation industrielle",45,0,null,0,45,0]
[26,"EE",283367,"Réparation système automatisé",105,0,null,0,105,0]
[27,"EE",283376,"Intégration au travail",90,0,null,0,90,0]
[28,"EE",343121,"Moyens de recherche d'emploi",15,0,null,0,15,0]
[29,null,null,null,null,0,null,0,0,0]
[30,null,null,null,null,0,null,0,0,0]
[31,null,null,null,null,0,null,0,0,0]
[32,null,null,null,null,0,null,0,0,0]
[33,null,null,null,null,0,null,0,0,0]
[34,null,null,null,null,0,null,0,0,0]
[35,null,null,null,null,0,null,0,0,0]
[36,null,null,null,null,0,null,0,0,0]
[37,null,null,null,null,0,null,0,{"$f":"E41-F41-H41-J41","v":0},0]
[38,null,null,null,null,0,null,0,0,0]
[39,null,null,null,null,0,null,0,0,0]
[40,null,null,null,null,0,null,0,0,0]
[90,null,null,null,null,0,null,0,0,0]
[91,null,null,null,null,0,null,0,0,0]
[92,null,null,null,null,0,null,0,0,0]
[93,null,null,null,null,0,null,0,0,0]
[94,null,null,null,null,0,null,0,0,0]
[95,null,null,null,null,0,null,0,0,0]
[96,null,null,null,null,0,null,0,0,0]
[97,null,null,null,null,0,null,0,0,0]
[98,null,null,null,null,0,null,0,0,0]
[99,null,null,"Réservé Organisation scolaire",null,0,null,0,0,0]
[null,null,null,"total programme  : ",{"$f":"SUM(E5:E54)","v":1800},{"$f":"SUM(F5:F54)","v":0},null,{"$f":"SUM(H5:H54)","v":0},{"$f":"SUM(I5:I54)","v":1800},{"$f":"SUM(J5:J54)","v":0},{"$f":"SUM(H55:J55)","v":1800},"  =total formation"]

{"sheet":"ELmdldata","index":3,"n_rows":55,"n_cols":20,"rows_kept":55,"cut":false,"hidden":true,"merged":[[0,0,2,11],[0,12,1,19],[2,12,2,14]]}
["Électricité",null,null,null,null,null,null,null,null,null,null,null,"Spécifications techniques"]
[]
[null,null,null,null,null,null,null,null,null,null,null,null,"Enseignants",null,null,"Préalables","incompatible","Distribution","Équipements","Équipements"]
["No","Prog.","Code","Module","Durée","Ponction","Ponction Description","L'an passé","Cette Année","L'an proch.","Enseignant","Commentaires","maintenant","après prép.","à venir","(Requis pour…)",null,"(Idéal)","Spécifique","Partager"]
[1,"EL",283401,"Métier et formation",15,0,null,0,{"$f":"E5-F5-H5-J5","v":15},0]
[2,"EL",254992,"Santé sécurité: construction",30,0,null,0,30,0]
[3,"EL",283412,"Utilisation d'un ordinateur",30,0,null,0,30,0]
[4,"EL",283428,"Circuits électriques",120,0,null,0,120,0]
[5,"EL",283433,"Croquis et schémas",45,0,null,0,45,0]
[6,"EL",283445,"Outillage",75,0,null,0,75,0]
[7,"EL",283453,"Manutention de matériel",45,0,null,0,45,0]
[8,"EL",283466,"Cables et canalisations",90,0,null,0,90,0]
[9,"EL",283477,"Circuits de dérivation résidentiels",105,0,null,0,105,0]
[10,"EL",283484,"Plans et manuels techniques",60,0,null,0,60,0]
[11,"EL",283494,"Transformateurs triphasés",60,0,null,0,60,0]
[12,"EL",283506,"Branchement électrique",90,0,null,0,90,0]
[13,"EL",283517,"Circuits électroniques",105,0,null,0,105,0]
[14,"EL",283525,"Circuits logiques",75,0,null,0,75,0]
[15,"EL",283537,"Systèmes d'éclairage",105,0,null,0,105,0]
[16,"EL",283546,"Systèmes de chauffage",90,0,null,0,90,0]
[17,"EL",283555,"Cablage de communication",75,0,null,0,75,0]
[18,"EL",283564,"Systèmes d'alarme incendie",60,0,null,0,60,0]
[19,"EL",283578,"Domotique et téléphonie",120,0,null,0,120,0]
[20,"EL",283586,"Machine rotatives C.C et C.A. monophasé",90,0,null,0,90,0]
[21,"EL",283597,"Machine rotatives triphasé",105,0,null,0,105,0]
[22,"EL",283607,"Automate programmable",105,0,null,0,105,0]
[23,"EL",283615,"Instrumentation électronique",75,0,null,0,75,0]
[24,"EL",283622,"Préparation au marché du travail",30,0,null,0,30,0]
[25,null,null,null,null,0,null,0,0,0]
[26,null,null,null,null,0,null,0,0,0]
[27,null,null,null,null,0,null,0,0,0]
[28,null,null,null,null,0,null,0,0,0]
[29,null,null,null,null,0,null,0,0,0]
[30,null,null,null,null,0,null,0,0,0]
[31,null,null,null,null,0,null,0,0,0]
[32,null,null,null,null,0,null,0,0,0]
[33,null,null,null,null,0,null,0,0,0]
[34,null,null,null,null,0,null,0,0,0]
[35,null,null,null,null,0,null,0,0,0]
[36,null,null,null,null,0,null,0,0,0]
[37,null,null,null,null,0,null,0,{"$f":"E41-F41-H41-J41","v":0},0]
[38,null,null,null,null,0,null,0,0,0]
[39,null,null,null,null,0,null,0,0,0]
[40,null,null,null,null,0,null,0,0,0]
[90,null,null,null,null,0,null,0,0,0]
[91,null,null,null,null,0,null,0,0,0]
[92,null,null,null,null,0,null,0,0,0]
[93,null,null,null,null,0,null,0,0,0]
[94,null,null,null,null,0,null,0,0,0]
[95,null,null,null,null,0,null,0,0,0]
[96,null,null,null,null,0,null,0,0,0]
[97,null,null,null,null,0,null,0,0,0]
[98,null,null,null,null,0,null,0,0,0]
[99,null,null,"Réservé Organisation scolaire",null,0,null,0,0,0]
[null,null,null,"total programme  : ",{"$f":"SUM(E5:E54)","v":1800},{"$f":"SUM(F5:F54)","v":0},null,{"$f":"SUM(H5:H54)","v":0},{"$f":"SUM(I5:I54)","v":1800},{"$f":"SUM(J5:J54)","v":0},{"$f":"SUM(H55:J55)","v":1800},"  =total formation"]

{"sheet":"ECmdldata","index":4,"n_rows":55,"n_cols":20,"rows_kept":55,"cut":false,"hidden":true,"merged":[[0,12,1,19],[2,12,2,14],[0,0,2,11]]}
["Électricité de construction",null,null,null,null,null,null,null,null,null,null,null,"Spécifications techniques"]
[]
[null,null,null,null,null,null,null,null,null,null,null,null,"Enseignants",null,null,"Préalables","incompatible","Distribution","Équipements","Équipements"]
["No","Prog.","Code","Module","Durée","Ponction","Ponction Description","L'an passé","Cette Année","L'an proch.","Enseignant","Commentaires","maintenant","après prép.","à venir","(Requis pour…)",null,"(Idéal)","Spécifique","Partager"]
[1,"EC",286011,"Métier et formation",15,0,null,0,{"$f":"E5-F5-H5-J5","v":15},0]
[2,"EC",255001,"Organismes de la construction",15,0,null,0,15,0]
[3,"EC",255002,"Santé sécurité: construction",30,0,null,0,30,0]
[4,"EC",286034,"Utilisation: outilage, ancrages",60,0,null,0,60,0]
[5,"EC",286123,"Traçage de croquis et schémas",45,0,null,0,45,0]
[6,"EC",286056,"Analyse d'un circuit à C.C.",90,0,null,0,90,0]
[7,"EC",286086,"Câbles et canalisations",90,0,null,0,90,0]
[8,"EC",286105,"Sorties: éclairage, commodité",75,0,null,0,75,0]
[9,"EC",286142,"Échafaudages et gréage",30,0,null,0,30,0]
[10,"EC",286291,"Communication professionnelle",15,0,null,0,15,0]
[11,"EC",286073,"Utilisation de plans et devis",45,0,null,0,45,0]
[12,"EC",286115,"Analyse d'un circuit à C.A.",75,0,null,0,75,0]
[13,"EC",286135,"Branchements à basse tension",75,0,null,0,75,0]
[14,"EC",286303,"Installation de luminaires",45,0,null,0,45,0]
[15,"EC",286313,"Commandes à très basse tension",45,0,null,0,45,0]
[16,"EC",286325,"Install. de transformateurs",75,0,null,0,75,0]
[17,"EC",286165,"Install. systèmes de chauffage",75,0,null,0,75,0]
[18,"EC",286334,"Notions d'électronique",60,0,null,0,60,0]
[19,"EC",286244,"Install. systèmes avertisseurs",60,0,null,0,60,0]
[20,"EC",283393,"Logique combinatoire",45,0,null,0,45,0]
[21,"EC",286185,"Installation de moteurs à C.C.",75,0,null,0,75,0]
[22,"EC",286195,"Installation de moteurs à C.A.",75,0,null,0,75,0]
[23,"EC",283384,"Logique séquentielle",60,0,null,0,60,0]
[24,"EC",286254,"Installation d'automates prog.",60,0,null,0,60,0]
[25,"EC",286281,"Moyens de recherche d'emploi",15,0,null,0,15,0]
[26,null,null,null,null,0,null,0,0,0]
[27,null,null,null,null,0,null,0,0,0]
[28,null,null,null,null,0,null,0,0,0]
[29,null,null,null,null,0,null,0,0,0]
[30,null,null,null,null,0,null,0,0,0]
[31,null,null,null,null,0,null,0,0,0]
[32,null,null,null,null,0,null,0,0,0]
[33,null,null,null,null,0,null,0,0,0]
[34,null,null,null,null,0,null,0,0,0]
[35,null,null,null,null,0,null,0,0,0]
[36,null,null,null,null,0,null,0,0,0]
[37,null,null,null,null,0,null,0,{"$f":"E41-F41-H41-J41","v":0},0]
[38,null,null,null,null,0,null,0,0,0]
[39,null,null,null,null,0,null,0,0,0]
[40,null,null,null,null,0,null,0,0,0]
[90,null,null,null,null,0,null,0,0,0]
[91,null,null,null,null,0,null,0,0,0]
[92,null,null,null,null,0,null,0,0,0]
[93,null,null,null,null,0,null,0,0,0]
[94,null,null,null,null,0,null,0,0,0]
[95,null,null,null,null,0,null,0,0,0]
[96,null,null,null,null,0,null,0,0,0]
[97,null,null,null,null,0,null,0,0,0]
[98,null,null,null,null,0,null,0,0,0]
[99,null,null,"Réservé Organisation scolaire",null,0,null,0,0,0]
[null,null,null,"total programme  : ",{"$f":"SUM(E5:E54)","v":1350},{"$f":"SUM(F5:F54)","v":0},null,{"$f":"SUM(H5:H54)","v":0},{"$f":"SUM(I5:I54)","v":1350},{"$f":"SUM(J5:J54)","v":0},{"$f":"SUM(H55:J55)","v":1350},"  =total formation"]

{"sheet":"ESAmdldata","index":5,"n_rows":55,"n_cols":20,"rows_kept":55,"cut":false,"hidden":true,"merged":[[2,12,2,14],[0,12,1,19],[0,0,2,11]]}
["Électromécanique de systèmes automatisés",null,null,null,null,null,null,null,null,null,null,null,"Spécifications techniques"]
[]
[null,null,null,null,null,null,null,null,null,null,null,null,"Enseignants",null,null,"Préalables","incompatible","Distribution","Équipements","Équipements"]
["No","Prog.","Code","Module","Durée","Ponction","Ponction Description","L'an passé","Cette Année","L'an proch.","Enseignant","Commentaires","maintenant","après prép.","à venir","(Requis pour…)",null,"(Idéal)","Spécifique","Partager"]
[1,"ESA",281621,"Métier et formation",15,0,null,0,{"$f":"E5-F5-H5-J5","v":15},0]
[2,"ESA",254992,"Santé et sécurité",30,0,null,0,{"$f":"E6-F6-H6-J6","v":30},0]
[3,"ESA",281632,"Utilisation de l'informatique",30,0,null,0,30,0]
[4,"ESA",281648,"Vérif. d'un circuit électrique",120,0,null,0,120,0]
[5,"ESA",281652,"Dessin d'un croquis",30,0,null,0,30,0]
[6,"ESA",281667,"Travaux d'usinage manuel",105,0,null,0,105,0]
[7,"ESA",281672,"Déplacement d'équipement",30,0,null,0,30,0]
[8,"ESA",281685,"Coupage et soudage",75,0,null,0,75,0]
[9,"ESA",281692,"Raccordement de conduits",30,0,null,0,30,0]
[10,"ESA",281707,"Circuit d'électr. industrielle",105,0,null,0,105,0]
[11,"ESA",281716,"Usinage sur machines-outils",90,0,null,0,90,0]
[12,"ESA",281726,"Analyse d'un circuit logique",90,0,null,0,90,0]
[13,"ESA",281732,"Aligement conventionnel",30,0,null,0,30,0]
[14,"ESA",281747,"Maintenance, dispositifs méc.",105,0,null,0,105,0]
[15,"ESA",281755,"Montage pneumatique",75,0,null,0,75,0]
[16,"ESA",281764,"Montage hydraulique",60,0,null,0,60,0]
[17,"ESA",281777,"Maintenance, circuit de moteur",105,0,null,0,105,0]
[18,"ESA",281784,"Maintenance, pneumat. hydraul.",60,0,null,0,60,0]
[19,"ESA",281794,"Calibrage, boucle de contrôle",60,0,null,0,{"$f":"E23-F23-H23-J23","v":60},0]
[20,"ESA",281804,"Maint. électro-pneum. hydraul.",60,0,null,0,60,0]
[21,"ESA",281816,"Programmation d'un automate",90,0,null,0,90,0]
[22,"ESA",281824,"Commande élect. de moteur",60,0,null,0,60,0]
[23,"ESA",281831,"Moyens de recherche d'emploi",15,0,null,0,15,0]
[24,"ESA",281847,"Installation, syst. automatisé",105,0,null,0,105,0]
[25,"ESA",281853,"Maintenance planifiée",45,0,null,0,45,0]
[26,"ESA",281866,"Dépannage, système automatisé",90,0,null,0,90,0]
[27,"ESA",281876,"Intégration, milieu de travail",90,0,null,0,90,0]
[28,null,null,null,null,0,null,0,0,0]
[29,null,null,null,null,0,null,0,0,0]
[30,null,null,null,null,0,null,0,0,0]
[31,null,null,null,null,0,null,0,0,0]
[32,null,null,null,null,0,null,0,0,0]
[33,null,null,null,null,0,null,0,0,0]
[34,null,null,null,null,0,null,0,0,0]
[35,null,null,null,null,0,null,0,0,0]
[36,null,null,null,null,0,null,0,0,0]
[37,null,null,null,null,0,null,0,{"$f":"E41-F41-H41-J41","v":0},0]
[38,null,null,null,null,0,null,0,0,0]
[39,null,null,null,null,0,null,0,0,0]
[40,null,null,null,null,0,null,0,0,0]
[90,null,null,null,null,0,null,0,0,0]
[91,null,null,null,null,0,null,0,0,0]
[92,null,null,null,null,0,null,0,0,0]
[93,null,null,null,null,0,null,0,0,0]
[94,null,null,null,null,0,null,0,0,0]
[95,null,null,null,null,0,null,0,0,0]
[96,null,null,null,null,0,null,0,0,0]
[97,null,null,null,null,0,null,0,0,0]
[98,null,null,null,null,0,null,0,0,0]
[99,null,null,"Réservé Organisation scolaire",null,0,null,0,0,0]
[null,null,null,"total programme  : ",{"$f":"SUM(E5:E54)","v":1800},{"$f":"SUM(F5:F54)","v":0},null,{"$f":"SUM(H5:H54)","v":0},{"$f":"SUM(I5:I54)","v":1800},{"$f":"SUM(J5:J54)","v":0},{"$f":"SUM(H55:J55)","v":1800},"  =total formation"]

{"sheet":"MEAmdldata","index":6,"n_rows":55,"n_cols":20,"rows_kept":55,"cut":false,"hidden":true,"merged":[[0,12,1,19],[2,12,2,14],[0,0,2,11]]}
["Mécanique automobile",null,null,null,null,null,null,null,null,null,null,null,"Spécifications techniques"]
[]
[null,null,null,null,null,null,null,null,null,null,null,null,"Enseignants",null,null,"Préalables","incompatible","Distribution","Équipements","Équipements"]
["No","Prog.","Code","Module","Durée","Ponction","Ponction Description","L'an passé","Cette Année","L'an proch.","Enseignant","Commentaires","maintenant","après prép.","à venir","(Requis pour…)",null,"(Idéal)","Spécifique","Partager"]
[1,"MEA","343401  ","Métier et formation                                 ",15,0,null,0,{"$f":"E5-F5-H5-J5","v":15},0]
[2,"MEA","343412  ","Santé sécur. protec. environn.                      ",30,0,null,0,30,0]
[3,"MEA","343423  ","Recherche d'information techn.                      ",30,0,null,0,30,0]
[4,"MEA","343433  ","Chauffe, soudage et coupage                         ",15,0,null,0,15,0]
[5,"MEA",343445,"Travaux d'atelier                                   ",45,0,null,0,45,0]
[6,"MEA","343452  ","Communication milieu travail                        ",60,0,null,0,60,0]
[7,"MEA","343465  ","Vérif. moteur combustion int.                       ",75,0,null,0,75,0]
[8,"MEA","343476  ","Répar. moteur combustion int.                       ",105,0,null,0,105,0]
[9,"MEA","343484  ","Vérif. système tenue de route                       ",75,0,null,0,75,0]
[10,"MEA","343496  ","Répar. système tenue de route                       ",60,0,null,0,60,0]
[11,"MEA","343506  ","Vérif. syst. électr./ électron.                     ",30,0,null,0,30,0]
[12,"MEA","343514  ","Réparation syst. d'éclairage                        ",45,0,null,0,45,0]
[13,"MEA","343524  ","Vérif. syst. commandé ordinat.                      ",15,0,null,0,15,0]
[14,"MEA","343536  ","Vérif. syst. tranmiss. pouvoir                      ",60,0,null,0,60,0]
[15,"MEA","343547  ","Répar. syst. transm. pouvoir                        ",60,0,null,0,60,0]
[16,"MEA","343555  ","Démar. charg. acc. électrom.                        ",105,0,null,0,105,0]
[17,"MEA","343565  ","Rép. démar. charg. acc. élect.                      ",90,0,null,0,90,0]
[18,"MEA","343573  ","Vérif. temp. moteur/ habitacle                      ",105,0,null,0,105,0]
[19,"MEA","343583  ","Ent. rép. temp. moteur/ habit.                      ",60,0,null,0,60,0]
[20,"MEA","343593  ","Vér. syst. sécur. passif- actif                     ",75,0,null,0,75,0]
[21,"MEA","343604  ","Rép. syst. sécur. passif- actif                     ",75,0,null,0,75,0]
[22,"MEA","343614  ","Ent. général véhicule auto.                         ",45,0,null,0,45,0]
[23,"MEA","343624  ","Vérif. syst. allumage électr.                       ",60,0,null,0,60,0]
[24,"MEA","343634  ","Répar. syst. allumage électr.                       ",60,0,null,0,60,0]
[25,"MEA","343644  ","Vér. inject. électr. antipoll.                      ",75,0,null,0,75,0]
[26,"MEA","343655  ","Rép. inject. élect. antipoll.                       ",60,0,null,0,60,0]
[27,"MEA","343665  ","Vérif. groupe motopropulseur                        ",90,0,null,0,90,0]
[28,"MEA","343671  ","Recherche d'emploi                                  ",75,0,null,0,75,0]
[29,"MEA","343686  ","Intégration-milieu de travail                       ",15,0,null,0,15,0]
[30,"MEA",341906,"Intégr. au milieu de travail",90,0,null,0,90,0]
[31,null,null,null,null,0,null,0,{"$f":"E35-F35-H35-J35","v":0},0]
[32,null,null,null,null,0,null,0,{"$f":"E36-F36-H36-J36","v":0},0]
[33,null,null,null,null,0,null,0,{"$f":"E37-F37-H37-J37","v":0},0]
[34,null,null,null,null,0,null,0,0,0]
[35,null,null,null,null,0,null,0,0,0]
[36,null,null,null,null,0,null,0,0,0]
[37,null,null,null,null,0,null,0,0,0]
[38,null,null,null,null,0,null,0,0,0]
[39,null,null,null,null,0,null,0,0,0]
[40,null,null,null,null,0,null,0,0,0]
[90,null,null,null,null,0,null,0,0,0]
[91,null,null,null,null,0,null,0,0,0]
[92,null,null,null,null,0,null,0,0,0]
[93,null,null,null,null,0,null,0,0,0]
[94,null,null,null,null,0,null,0,0,0]
[95,null,null,null,null,0,null,0,0,0]
[96,null,null,null,null,0,null,0,0,0]
[97,null,null,null,null,0,null,0,0,0]
[98,null,null,null,null,0,null,0,0,0]
[99,null,null,"Réservé Organisation scolaire",null,0,null,0,0,0]
[null,null,null,"total programme  : ",{"$f":"SUM(E5:E54)","v":1800},{"$f":"SUM(F5:F54)","v":0},null,{"$f":"SUM(H5:H54)","v":0},{"$f":"SUM(I5:I54)","v":1800},{"$f":"SUM(J5:J54)","v":0},{"$f":"SUM(H55:J55)","v":1800},"  =total formation"]

{"sheet":"ESTHmdldata","index":7,"n_rows":55,"n_cols":20,"rows_kept":55,"cut":false,"hidden":true,"merged":[[0,0,2,11],[0,12,1,19],[2,12,2,14]]}
["Esthetique Automobile",null,null,null,null,null,null,null,null,null,null,null,"Spécifications techniques"]
[]
[null,null,null,null,null,null,null,null,null,null,null,null,"Enseignants",null,null,"Préalables","incompatible","Distribution","Équipements","Équipements"]
["No","Prog.","Code","Module","Durée","Ponction","Ponction Description","L'an passé","Cette Année","L'an proch.","Enseignant","Commentaires","maintenant","après prép.","à venir","(Requis pour…)",null,"(Idéal)","Spécifique","Partager"]
[1,"EA","208-011","Métier et formation",15,0,"ATE",0,{"$f":"E5-F5-H5","v":15},{"$f":"E5-F5-H5-I5","v":0}]
[2,"EA","208-023","Appli. des notions relatives au travail général d'atelier",45,0,"ATE",0,{"$f":"E6-F6-H6","v":45},{"$f":"E6-F6-H6-I6","v":0}]
[3,"EA","208-032","Apporche qualité et organisation du travail",30,0,"ATE",0,30,0]
[4,"EA","208-047","Nettoyer l'intérieur et l'extérieur, compartiment moteur",105,0,"ATE",0,105,0]
[5,"EA","208-052","Ent.charnières, serrures, caoutcoucs, moulures et bandes",30,0,"ATE",0,30,0]
[6,"EA","208-062","appliquer une protection antirouille",30,0,"ATE",0,30,0]
[7,"EA","208-077","Remettre en état des surfaces peintes",105,0,"ATE",0,105,0]
[8,"EA","208-082","Faire les retouches de peinture",30,0,"ATE",0,30,0]
[9,"EA","208-092","Réparer la sellerie d'un véhicule",30,0,"ATE",0,30,0]
[10,"EA","208-102","Poser des accessoires",30,0,"ATE",0,30,0]
[11,"EA","208-112","Mesurer et contrôler la qualité du travail",30,0,"ATE",0,30,0]
[12,"EA","208-122","Rehcerche d'un milieu de travail",30,0,"ATE",0,30,0]
[13,"EA","208-134","S'intégrer au marché du travail",60,0,"ATE",0,60,0]
[14,null,null,null,null,null,null,0,{"$f":"E18-F18-H18-J18","v":0},0]
[15,null,null,null,null,null,null,0,0,0]
[16,null,null,null,null,null,null,0,0,0]
[17,null,null,null,null,null,null,0,0,0]
[18,null,null,null,null,null,null,0,0,0]
[19,null,null,null,null,null,null,0,0,0]
[20,null,null,null,null,null,null,0,0,0]
[21,null,null,null,null,null,null,0,0,0]
[22,null,null,null,null,null,null,0,0,0]
[23,null,null,null,null,null,null,0,0,0]
[24,null,null,null,null,null,null,0,0,0]
[25,null,null,null,null,null,null,0,0,0]
[26,null,null,null,null,null,null,0,0,0]
[27,null,null,null,null,null,null,0,0,0]
[28,null,null,null,null,null,null,0,0,0]
[29,null,null,null,null,null,null,0,0,0]
[30,null,null,null,null,null,null,0,0,0]
[31,null,null,null,null,null,null,0,0,0]
[32,null,null,null,null,null,null,0,0,0]
[33,null,null,null,null,null,null,0,0,0]
[34,null,null,null,null,null,null,0,0,0]
[35,null,null,null,null,null,null,0,0,0]
[36,null,null,null,null,null,null,0,0,0]
[37,null,null,null,null,null,null,0,0,0]
[38,null,null,null,null,null,null,0,0,0]
[39,null,null,null,null,null,null,0,0,0]
[40,null,null,null,null,null,null,0,0,0]
[90,null,null,null,0,0,null,0,0,0]
[91,null,null,"ATE 1ère partie supervisé",0,0,null,0,0,0]
[92,null,null,"ATE 1ère partie non supervisé",0,0,"ATE ",0,0,0]
[93,null,null,"ATE 2ième partie supervisé      ",0,0,"ATE ",0,0,0]
[94,null,null,"ATE 2ième partie  non supervisé      ",0,0,null,0,0,0]
[95,null,null,null,0,0,null,0,0,0]
[96,null,null,null,0,0,null,0,0,0]
[97,null,null,null,0,0,null,0,0,0]
[98,null,null,null,null,null,null,0,0,0]
[99,null,null,"Réservé Organisation scolaire",null,null,null,0,{"$f":"E54-F54-H54-J54","v":0},0]
[null,null,null,"total programme  : ",{"$f":"SUM(E5:E54)","v":570},{"$f":"SUM(F5:F54)","v":0},null,{"$f":"SUM(H5:H54)","v":0},{"$f":"SUM(I5:I54)","v":570},{"$f":"SUM(J5:J54)","v":0},{"$f":"SUM(H55:J55)","v":570},"  =total formation"]

{"sheet":"MVLRmdldata","index":8,"n_rows":55,"n_cols":20,"rows_kept":55,"cut":false,"hidden":true,"merged":[[0,12,1,19],[2,12,2,14],[0,0,2,11]]}
["Mécanique de véhicules lourds routiers",null,null,null,null,null,null,null,null,null,null,null,"Spécifications techniques"]
[]
[null,null,null,null,null,null,null,null,null,null,null,null,"Enseignants",null,null,"Préalables","incompatible","Distribution","Équipements","Équipements"]
["No","Prog.","Code","Module","Durée","Ponction","Ponction Description","L'an passé","Cette Année","L'an proch.","Enseignant","Commentaires","maintenant","après prép.","à venir","(Requis pour…)",null,"(Idéal)","Spécifique","Partager"]
[1,"MVLR","350-561 ","Métier et formation",15,0,null,0,{"$f":"E5-F5-H5-J5","v":15},0]
[2,"MVLR","350-562 ","Santé/sécurité/environnement",30,0,null,0,30,0]
[3,"MVLR","350-563 ","Information technique",45,0,null,0,45,0]
[4,"MVLR","350-565 ","Travail d'atelier",75,0,null,0,75,0]
[5,"MVLR","350-575 ","Chauffe, soudage et coupage",75,0,null,0,75,0]
[6,"MVLR","350-572","Communication en milieu de travail",30,0,null,0,30,0]
[7,"MVLR","350-573","Réparation/remplacement des roues",45,0,null,0,45,0]
[8,"MVLR","350-566 ","Vérification des sytèmes hydraulique et pneumatique",90,0,null,0,90,0]
[9,"MVLR","350-585 ","Suspensions, cadres, sellettes",75,0,null,0,75,0]
[10,"MVLR","350-576","Systèmes électriques/électroniques",90,0,null,0,90,0]
[11,"MVLR","350-595 ","Directions assistance hydraulique",75,0,null,0,75,0]
[12,"MVLR","350-568","Freinage hydraulique/pneumatique",120,0,null,0,120,0]
[13,"MVLR","350-578 ","Transmission de pouvoir",120,0,null,0,120,0]
[14,"MVLR","350-564 ","Diffusion de pouvoir",60,0,null,0,60,0]
[15,"MVLR","350-583 ","Transmissions automatiques",45,0,null,0,45,0]
[16,"MVLR","350-574","Systèmes de charge et de démarrage",60,0,null,0,60,0]
[17,"MVLR","350-584 ","Réparation de l'équipement hydraulique",60,0,null,0,60,0]
[18,"MVLR","350-586 ","Cabine/accessoires/circuits",90,0,null,0,90,0]
[19,"MVLR","350-567 ","Injection diesel/freins moteur",105,0,null,0,105,0]
[20,"MVLR","350-577 ","Mise au point de moteurs diesels",105,0,null,0,105,0]
[21,"MVLR","350-594 ","Vérification de moteurs diesels",60,0,null,0,60,0]
[22,"MVLR","350-588 ","Réparation de moteurs diesels",120,0,null,0,120,0]
[23,"MVLR","350-605 ","Entretien de véhicule lourd",75,0,null,0,75,0]
[24,"MVLR","350-609 ","Intégration en milieu de travail",135,0,null,0,135,0]
[25,null,null,null,null,0,null,0,0,0]
[26,null,null,null,null,0,null,0,0,0]
[27,null,null,null,null,0,null,0,0,0]
[28,null,null,null,null,0,null,0,0,0]
[29,null,null,null,null,0,null,0,0,0]
[30,null,null,null,null,0,null,0,0,0]
[31,null,null,null,null,0,null,0,0,0]
[32,null,null,null,null,0,null,0,0,0]
[33,null,null,null,null,0,null,0,{"$f":"E37-F37-H37-J37","v":0},0]
[34,null,null,null,null,0,null,0,0,0]
[35,null,null,null,null,0,null,0,0,0]
[36,null,null,null,null,0,null,0,0,0]
[37,null,null,null,null,0,null,0,0,0]
[38,null,null,null,null,0,null,0,0,0]
[39,null,null,null,null,0,null,0,0,0]
[40,null,null,null,null,0,null,0,0,0]
[90,null,null,null,null,0,null,0,0,0]
[91,null,null,null,null,0,null,0,0,0]
[92,null,null,null,null,0,null,0,0,0]
[93,null,null,null,null,0,null,0,0,0]
[94,null,null,null,null,0,null,0,0,0]
[95,null,null,null,null,0,null,0,0,0]
[96,null,null,null,null,0,null,0,0,0]
[97,null,null,null,null,0,null,0,0,0]
[98,null,null,null,null,0,null,0,0,0]
[99,null,null,"Réservé Organisation scolaire",null,0,null,0,0,0]
[null,null,null,"total programme  : ",{"$f":"SUM(E5:E54)","v":1800},{"$f":"SUM(F5:F54)","v":0},null,{"$f":"SUM(H5:H54)","v":0},{"$f":"SUM(I5:I54)","v":1800},{"$f":"SUM(J5:J54)","v":0},{"$f":"SUM(H55:J55)","v":1800},"  =total formation"]

{"sheet":"SOUmdldata","index":9,"n_rows":55,"n_cols":20,"rows_kept":55,"cut":false,"hidden":true,"merged":[[0,12,1,19],[2,12,2,14],[0,0,2,11]]}
["Soudage montage",null,null,null,null,null,null,null,null,null,null,null,"Spécifications techniques"]
[]
[null,null,null,null,null,null,null,null,null,null,null,null,"Enseignants",null,null,"Préalables","incompatible","Distribution","Équipements","Équipements"]
["No","Prog.","Code","Module","Durée","Ponction","Ponction Description","L'an passé","Cette Année","L'an proch.","Enseignant","Commentaires","maintenant","après prép.","à venir","(Requis pour…)",null,"(Idéal)","Spécifique","Partager"]
[1,"SOU",301712,"Situation: métier et formation",30,0,null,0,{"$f":"E5-F5-H5-J5","v":30},0]
[2,"SOU",301722,"Santé et sécurité au travail",30,0,null,0,30,0]
[3,"SOU",301737,"Croquis et dessins",105,0,null,0,105,0]
[4,"SOU",301743,"Notions de métallurgie",45,0,null,0,45,0]
[5,"SOU",301762,"Coupage de métaux",30,0,null,0,30,0]
[6,"SOU",301776,"Coupage et façonnage",90,0,null,0,90,0]
[7,"SOU",301782,"Préparation de pièces",30,0,null,0,30,0]
[8,"SOU",301792,"Procédé de soudage (SMAW)",30,0,null,0,30,0]
[9,"SOU",301807,"Soudage sur acier (SMAW)",105,0,null,0,105,0]
[10,"SOU",301757,"Plans et devis d'assemblage",105,0,null,0,105,0]
[11,"SOU",301813,"Procédé de soudage (GTAW)",45,0,null,0,45,0]
[12,"SOU",301825,"Soudage sur acier (GTAW)",75,0,null,0,75,0]
[13,"SOU",301834,"Soudage sur aluminium",60,0,null,0,60,0]
[14,"SOU",301844,"Assemblages de base",60,0,null,0,60,0]
[15,"SOU",301852,"Procédé de soudage (GMAW)",30,0,null,0,30,0]
[16,"SOU",301868,"Soudage sur acier (GMAW)",120,0,null,0,120,0]
[17,"SOU",301874,"Soudage sur aluminium",60,0,null,0,60,0]
[18,"SOU",301884,"Assemblages simples",60,0,null,0,60,0]
[19,"SOU",301891,"Procédé de soudage (FCAW)",15,0,null,0,15,0]
[20,"SOU",301908,"Soudage sur acier (FCAW)",120,0,null,0,120,0]
[21,"SOU",301912,"Procédés de soudage SAW, RW, PAW",30,0,null,0,30,0]
[22,"SOU",301927,"Plans et devis d'ass. complexes",105,0,null,0,105,0]
[23,"SOU",301935,"Assembl. de complexité moyenne",75,0,null,0,75,0]
[24,"SOU",301941,"Communicat.: milieu de travail",15,0,null,0,15,0]
[25,"SOU",301958,"Assemblages complexes",120,0,null,0,120,0]
[26,"SOU",301963,"Modifications d'assemblages",45,0,null,0,45,0]
[27,"SOU",301974,"Réparation d'assemblages",60,0,null,0,60,0]
[28,"SOU",301981,"Recherche d'un emploi",15,0,null,0,15,0]
[29,"SOU",301996,"Intégration: milieu de travail",90,0,null,0,90,0]
[30,null,null,null,null,0,null,0,0,0]
[31,null,null,null,null,0,null,0,0,0]
[32,null,null,null,null,0,null,0,0,0]
[33,null,null,null,null,0,null,0,{"$f":"E37-F37-H37-J37","v":0},0]
[34,null,null,null,null,0,null,0,0,0]
[35,null,null,null,null,0,null,0,0,0]
[36,null,null,null,null,0,null,0,0,0]
[37,null,null,null,null,0,null,0,0,0]
[38,null,null,null,null,0,null,0,0,0]
[39,null,null,null,null,0,null,0,0,0]
[40,null,null,null,null,0,null,0,0,0]
[90,null,null,null,null,0,null,0,0,0]
[91,null,null,null,null,0,null,0,0,0]
[92,null,null,null,null,0,null,0,0,0]
[93,null,null,null,null,0,null,0,0,0]
[94,null,null,null,null,0,null,0,0,0]
[95,null,null,null,null,0,null,0,0,0]
[96,null,null,null,null,0,null,0,0,0]
[97,null,null,null,null,0,null,0,0,0]
[98,null,null,null,null,0,null,0,0,0]
[99,null,null,"Réservé Organisation scolaire",null,0,null,0,0,0]
[null,null,null,"total programme  : ",{"$f":"SUM(E5:E54)","v":1800},{"$f":"SUM(F5:F54)","v":0},null,{"$f":"SUM(H5:H54)","v":0},{"$f":"SUM(I5:I54)","v":1800},{"$f":"SUM(J5:J54)","v":0},{"$f":"SUM(H55:J55)","v":1800},"  =total formation"]

{"sheet":"TUSmdldata","index":10,"n_rows":55,"n_cols":20,"rows_kept":55,"cut":false,"hidden":true,"merged":[[0,12,1,19],[2,12,2,14],[0,0,2,11]]}
["Technique d'usinage",null,null,null,null,null,null,null,null,null,null,null,"Spécifications techniques"]
[]
[null,null,null,null,null,null,null,null,null,null,null,null,"Enseignants",null,null,"Préalables","incompatible","Distribution","Équipements","Équipements"]
["No","Prog.","Code","Module","Durée","Ponction","Ponction Description","L'an passé","Cette Année","L'an proch.","Enseignant","Commentaires","maintenant","après prép.","à venir","(Requis pour…)",null,"(Idéal)","Spécifique","Partager"]
[1,"TUS",372011,"Métier et formation",15,0,null,0,{"$f":"E5-F5-H5-J5","v":15},0]
[2,"TUS",372024,"Maths liées à l'usinage conv.",60,0,null,0,60,0]
[3,"TUS",372035,"Interprétation / dessins tech.",75,0,null,0,75,0]
[4,"TUS",372041,"Santé et sécurité",15,0,null,0,15,0]
[5,"TUS",372054,"Relevé, interprétation mesures",60,0,null,0,60,0]
[6,"TUS",372066,"Travaux d'atelier de perçage",90,0,null,0,90,0]
[7,"TUS",372072,"Matériaux et procédés",30,0,null,0,30,0]
[8,"TUS",372083,"Dessin de croquis",45,0,null,0,45,0]
[9,"TUS",372096,"Tournage cylindrique extérieur",90,0,null,0,90,0]
[10,"TUS",372105,"Tournage cylindrique intérieur",75,0,null,0,75,0]
[11,"TUS",372118,"Usinage parall. perp. / fraiseuse",120,0,null,0,120,0]
[12,"TUS",372125,"Filetage au tour",75,0,null,0,75,0]
[13,"TUS",372133,"Perçage, alésage sur fraiseuse",45,0,null,0,45,0]
[14,"TUS",372144,"Rectification plane",60,0,null,0,60,0]
[15,"TUS",372153,"Nouvelles organisat. du travail",45,0,null,0,45,0]
[16,"TUS",372162,"Initiation / milieu du travail",30,0,null,0,30,0]
[17,"TUS",372178,"Usinage ang. et circ. / fraiseuse",120,0,null,0,120,0]
[18,"TUS",372182,"Maths liées / usinage sur MOCN",30,0,null,0,30,0]
[19,"TUS",372194,"Programmation manuelle tour cn",60,0,null,0,60,0]
[20,"TUS",372206,"Usinage / pièces simples tour cn",90,0,null,0,90,0]
[21,"TUS",372214,"Programmation man. centre usin.",60,0,null,0,60,0]
[22,"TUS",372226,"Usinage simple au centre usin.",90,0,null,0,90,0]
[23,"TUS",372238,"Tournage complexe",120,0,null,0,120,0]
[24,"TUS",372248,"Fraisage complexe",120,0,null,0,120,0]
[25,"TUS",372255,"Production sérielle",75,0,null,0,75,0]
[26,"TUS",372271,"Entreprenariat",15,0,null,0,15,0]
[27,"TUS",372286,"Intégration / milieu de travail",90,0,null,0,90,0]
[28,null,null,null,null,0,null,0,0,0]
[29,null,null,null,null,0,null,0,0,0]
[30,null,null,null,null,0,null,0,0,0]
[31,null,null,null,null,0,null,0,0,0]
[32,null,null,null,null,0,null,0,0,0]
[33,null,null,null,null,0,null,0,{"$f":"E37-F37-H37-J37","v":0},0]
[34,null,null,null,null,0,null,0,0,0]
[35,null,null,null,null,0,null,0,0,0]
[36,null,null,null,null,0,null,0,0,0]
[37,null,null,null,null,0,null,0,0,0]
[38,null,null,null,null,0,null,0,0,0]
[39,null,null,null,null,0,null,0,0,0]
[40,null,null,null,null,0,null,0,0,0]
[90,null,null,null,null,0,null,0,0,0]
[91,null,null,null,null,0,null,0,0,0]
[92,null,null,null,null,0,null,0,0,0]
[93,null,null,null,null,0,null,0,0,0]
[94,null,null,null,null,0,null,0,0,0]
[95,null,null,null,null,0,null,0,0,0]
[96,null,null,null,null,0,null,0,0,0]
[97,null,null,null,null,0,null,0,0,0]
[98,null,null,null,null,0,null,0,0,0]
[99,null,null,"Réservé Organisation scolaire",null,0,null,0,0,0]
[null,null,null,"total programme  : ",{"$f":"SUM(E5:E54)","v":1800},{"$f":"SUM(F5:F54)","v":0},null,{"$f":"SUM(H5:H54)","v":0},{"$f":"SUM(I5:I54)","v":1800},{"$f":"SUM(J5:J54)","v":0},{"$f":"SUM(H55:J55)","v":1800},"  =total formation"]

{"sheet":"VCmdldata","index":11,"n_rows":55,"n_cols":20,"rows_kept":55,"cut":false,"hidden":true,"merged":[[0,12,1,19],[2,12,2,14],[0,0,2,11]]}
["Vente Conseil",null,null,null,null,null,null,null,null,null,null,null,"Spécifications techniques"]
[]
[null,null,null,null,null,null,null,null,null,null,null,null,"Enseignants",null,null,"Préalables","incompatible","Distribution","Équipements","Équipements"]
["No","Prog.","Code","Module","Durée","Ponction","Ponction Description","L'an passé","Cette Année","L'an proch.","Enseignant","Commentaires","maintenant","après prép.","à venir","(Requis pour…)",null,"(Idéal)","Spécifique","Partager"]
[1,"VC",448422,"Métier et formation",30,0,null,0,{"$f":"E5-F5-H5-J5","v":30},0]
[2,"VC",448436,"Relations professionnelles",90,0,null,0,90,0]
[3,"VC",448433,"Comportements de la clientèle",45,0,null,0,45,0]
[4,"VC",448452,"Service à la clientèle",30,0,null,0,30,0]
[5,"VC",448468,"Vente",120,0,null,0,120,0]
[6,"VC",448473,"Transactions liées à la vente",45,0,null,0,45,0]
[7,"VC",448481,"Organisation du temps",18,0,null,0,18,0]
[8,"VC",448492,"Recherche d'emploi",30,0,null,0,30,0]
[9,"VC",448504,"Initiation au métier",60,0,null,0,60,0]
[10,"VC",448512,"Lois et règlements",30,0,null,0,30,0]
[11,"VC",448522,"Service après-vente",24,0,null,0,24,0]
[12,"VC",448534,"Langue seconde",60,0,null,0,60,0]
[13,"VC",448543,"Produits et services",45,0,null,0,45,0]
[14,"VC",448554,"Approvisionnement",60,0,null,0,60,0]
[15,"VC",448563,"Présentation visuelle",48,0,null,0,48,0]
[16,"VC",448573,"Marketing de la vente",45,0,null,0,45,0]
[17,"VC",448588,"Intégration au travail",120,0,null,0,120,0]
[18,null,null,null,null,0,null,0,0,0]
[19,null,null,null,null,0,null,0,0,0]
[20,null,null,null,null,0,null,0,0,0]
[21,null,null,null,null,0,null,0,0,0]
[22,null,null,null,null,0,null,0,0,0]
[23,null,null,null,null,0,null,0,0,0]
[24,null,null,null,null,0,null,0,0,0]
[25,null,null,null,null,0,null,0,0,0]
[26,null,null,null,null,0,null,0,0,0]
[27,null,null,null,null,0,null,0,0,0]
[28,null,null,null,null,0,null,0,0,0]
[29,null,null,null,null,0,null,0,0,0]
[30,null,null,null,null,0,null,0,0,0]
[31,null,null,null,null,0,null,0,0,0]
[32,null,null,null,null,0,null,0,0,0]
[33,null,null,null,null,0,null,0,0,0]
[34,null,null,null,null,0,null,0,0,0]
[35,null,null,null,null,0,null,0,0,0]
[36,null,null,null,null,0,null,0,0,0]
[37,null,null,null,null,0,null,0,0,0]
[38,null,null,null,null,0,null,0,0,0]
[39,null,null,null,null,0,null,0,0,0]
[40,null,null,null,null,0,null,0,0,0]
[90,null,null,null,null,0,null,0,0,0]
[91,null,null,null,null,0,null,0,0,0]
[92,null,null,null,null,0,null,0,0,0]
[93,null,null,null,null,0,null,0,0,0]
[94,null,null,null,null,0,null,0,0,0]
[95,null,null,null,null,0,null,0,0,0]
[96,null,null,null,null,0,null,0,0,0]
[97,null,null,null,null,0,null,0,0,0]
[98,null,null,null,null,0,null,0,0,0]
[99,null,null,"Réservé Organisation scolaire",null,0,null,0,0,0]
[null,null,null,"total programme  : ",{"$f":"SUM(E5:E54)","v":900},{"$f":"SUM(F5:F54)","v":0},null,{"$f":"SUM(H5:H54)","v":0},{"$f":"SUM(I5:I54)","v":900},{"$f":"SUM(J5:J54)","v":0},{"$f":"SUM(H55:J55)","v":900},"  =total formation"]

{"sheet":"VPMAmdldata","index":12,"n_rows":55,"n_cols":20,"rows_kept":55,"cut":false,"hidden":true,"merged":[[0,0,2,11],[0,12,1,19],[2,12,2,14]]}
["Vente de pièces mécaniques et accessoires",null,null,null,null,null,null,null,null,null,null,null,"Spécifications techniques"]
[]
[null,null,null,null,null,null,null,null,null,null,null,null,"Enseignants",null,null,"Préalables","incompatible","Distribution","Équipements","Équipements"]
["No","Prog.","Code","Module","Durée","Ponction","Ponction Description","L'an passé","Cette Année","L'an proch.","Enseignant","Commentaires","maintenant","après prép.","à venir","(Requis pour…)",null,"(Idéal)","Spécifique","Partager"]
[1,"VPMA",342311,"Métier et formation",15,0,null,0,{"$f":"E5-F5-H5-J5","v":15},0]
[2,"VPMA",342325,"Rech. catalogues, microfiches",75,0,null,0,75,0]
[3,"VPMA",342337,"Pièces moteurs, outils de base",105,0,null,0,105,0]
[4,"VPMA",342345,"Pièces allumage et aliment",75,0,null,0,75,0]
[5,"VPMA",342354,"Syst. charge, démarr., éclair.",60,0,null,0,60,0]
[6,"VPMA",342364,"Réception, entrep. et expéd.",60,0,null,0,60,0]
[7,"VPMA",342371,"Recherche d'emploi",15,0,null,0,15,0]
[8,"VPMA",342386,"Pièces de rouages d'entraîn.",90,0,null,0,90,0]
[9,"VPMA",342396,"Pièces susp., direct., freins",90,0,null,0,90,0]
[10,"VPMA",342406,"Pièces carrosserie et châssis",90,0,null,0,90,0]
[11,"VPMA",342412,"Pièces d'équipement de garage",30,0,null,0,30,0]
[12,"VPMA",342422,"Accessoires de véhicules",30,0,null,0,30,0]
[13,"VPMA",342435,"Interpr. de l'inform. en angl.",75,0,null,0,75,0]
[14,"VPMA",342443,"Comm. avec client. et équipe",45,0,null,0,45,0]
[15,"VPMA",342454,"Vente comptoir et téléphone",60,0,null,0,60,0]
[16,"VPMA",342462,"Facturation et perception",30,0,null,0,30,0]
[17,"VPMA",342474,"Tenue d'un comptoir de vente",60,0,null,0,60,0]
[18,"VPMA",342486,"Intégr. au marché du travail",90,0,null,0,90,0]
[19,null,null,null,null,0,null,0,0,0]
[20,null,null,null,null,0,null,0,0,0]
[21,null,null,null,null,0,null,0,0,0]
[22,null,null,null,null,0,null,0,0,0]
[23,null,null,null,null,0,null,0,0,0]
[24,null,null,null,null,0,null,0,0,0]
[25,null,null,null,null,0,null,0,0,0]
[26,null,null,null,null,0,null,0,0,0]
[27,null,null,null,null,0,null,0,0,0]
[28,null,null,null,null,0,null,0,0,0]
[29,null,null,null,null,0,null,0,0,0]
[30,null,null,null,null,0,null,0,0,0]
[31,null,null,null,null,0,null,0,0,0]
[32,null,null,null,null,0,null,0,0,0]
[33,null,null,null,null,0,null,0,{"$f":"E37-F37-H37-J37","v":0},0]
[34,null,null,null,null,0,null,0,0,0]
[35,null,null,null,null,0,null,0,0,0]
[36,null,null,null,null,0,null,0,0,0]
[37,null,null,null,null,0,null,0,0,0]
[38,null,null,null,null,0,null,0,0,0]
[39,null,null,null,null,0,null,0,0,0]
[40,null,null,null,null,0,null,0,0,0]
[90,null,null,null,null,0,null,0,0,0]
[91,null,null,null,null,0,null,0,0,0]
[92,null,null,null,null,0,null,0,0,0]
[93,null,null,null,null,0,null,0,0,0]
[94,null,null,null,null,0,null,0,0,0]
[95,null,null,null,null,0,null,0,0,0]
[96,null,null,null,null,0,null,0,0,0]
[97,null,null,null,null,0,null,0,0,0]
[98,null,null,null,null,0,null,0,0,0]
[99,null,null,"Réservé Organisation scolaire",null,0,null,0,0,0]
[null,null,null,"total programme  : ",{"$f":"SUM(E5:E54)","v":1095},{"$f":"SUM(F5:F54)","v":0},null,{"$f":"SUM(H5:H54)","v":0},{"$f":"SUM(I5:I54)","v":1095},{"$f":"SUM(J5:J54)","v":0},{"$f":"SUM(H55:J55)","v":1095},"  =total formation"]

{"sheet":"TUmdldata","index":13,"n_rows":55,"n_cols":21,"rows_kept":55,"cut":false,"hidden":true,"merged":[[0,0,2,12],[0,13,1,20],[2,13,2,15]]}
["Tutorat et récupération",null,null,null,null,null,null,null,null,null,null,null,null,"Spécifications techniques"]
[]
[null,null,null,null,null,null,null,null,null,null,null,null,null,"Enseignants",null,null,"Préalables","incompatible","Distribution","Équipements","Équipements"]
["No","Groupe","Prog.","Code","Module","Durée","Ponction","Ponction Description","L'an passé","Cette Année","L'an proch.","Enseignant","Commentaires","maintenant","après prép.","à venir","(Requis pour…)",null,"(Idéal)","Spécifique","Partager"]
[1,null,null,null,null,null,0,null,0,{"$f":"F5-G5-I5-K5","v":0},0]
[2,null,null,null,null,null,0,null,0,{"$f":"F6-G6-I6-K6","v":0},0]
[3,null,null,null,null,null,0,null,0,0,0]
[4,null,null,null,null,null,0,null,0,0,0]
[5,null,null,null,null,null,0,null,0,0,0]
[6,null,null,null,null,null,0,null,0,0,0]
[7,null,null,null,null,null,0,null,0,0,0]
[8,null,null,null,null,null,0,null,0,0,0]
[9,null,null,null,null,null,0,null,0,0,0]
[10,null,null,null,null,null,0,null,0,0,0]
[11,null,null,null,null,null,0,null,0,0,0]
[12,null,null,null,null,null,0,null,0,0,0]
[13,null,null,null,null,null,0,null,0,0,0]
[14,null,null,null,null,null,0,null,0,0,0]
[15,null,null,null,null,null,0,null,0,0,0]
[16,null,null,null,null,null,0,null,0,0,0]
[17,null,null,null,null,null,0,null,0,0,0]
[18,null,null,null,null,null,0,null,0,0,0]
[19,null,null,null,null,null,0,null,0,{"$f":"F23-G23-I23-K23","v":0},0]
[20,null,null,null,null,null,0,null,0,0,0]
[21,null,null,null,null,null,0,null,0,0,0]
[22,null,null,null,null,null,0,null,0,0,0]
[23,null,null,null,null,null,0,null,0,0,0]
[24,null,null,null,null,null,0,null,0,0,0]
[25,null,null,null,null,null,0,null,0,0,0]
[26,null,null,null,null,null,0,null,0,0,0]
[27,null,null,null,null,null,0,null,0,0,0]
[28,null,null,null,null,null,0,null,0,0,0]
[29,null,null,null,null,null,0,null,0,0,0]
[30,null,null,null,null,null,0,null,0,0,0]
[31,null,null,null,null,null,0,null,0,0,0]
[32,null,null,null,null,null,0,null,0,0,0]
[33,null,null,null,null,null,0,null,0,0,0]
[34,null,null,null,null,null,0,null,0,0,0]
[35,null,null,null,null,null,0,null,0,0,0]
[36,null,null,null,null,null,0,null,0,0,0]
[37,null,null,null,null,null,0,null,0,{"$f":"F41-G41-I41-K41","v":0},0]
[38,null,null,null,null,null,0,null,0,0,0]
[39,null,null,null,null,null,0,null,0,0,0]
[40,null,null,null,null,null,0,null,0,0,0]
[90,null,null,null,null,null,0,null,0,0,0]
[91,null,null,null,null,null,0,null,0,0,0]
[92,null,null,null,null,null,0,null,0,0,0]
[93,null,null,null,null,null,0,null,0,0,0]
[94,null,null,null,null,null,0,null,0,0,0]
[95,null,null,null,null,null,0,null,0,0,0]
[96,null,null,null,null,null,0,null,0,0,0]
[97,null,null,null,null,null,0,null,0,0,0]
[98,null,null,null,null,null,0,null,0,0,0]
[99,null,null,null,"Réservé Organisation scolaire",null,0,null,0,0,0]
[null,null,null,null,"total programme  : ",{"$f":"SUM(F5:F54)","v":0},{"$f":"SUM(G5:G54)","v":0},null,{"$f":"SUM(I5:I54)","v":0},{"$f":"SUM(J5:J54)","v":0},{"$f":"SUM(K5:K54)","v":0},{"$f":"SUM(I55:K55)","v":0},"  =total formation"]

{"sheet":"EXmdldata","index":14,"n_rows":55,"n_cols":21,"rows_kept":55,"cut":false,"hidden":true,"merged":[[0,0,2,12],[0,13,1,20],[2,13,2,15]]}
["Exploration professionnelle",null,null,null,null,null,null,null,null,null,null,null,null,"Spécifications techniques"]
[]
[null,null,null,null,null,null,null,null,null,null,null,null,null,"Enseignants",null,null,"Préalables","incompatible","Distribution","Équipements","Équipements"]
["No","Groupe","Prog.","Code","Module","Durée","Ponction","Ponction Description","L'an passé","Cette Année","L'an proch.","Enseignant","Commentaires","maintenant","après prép.","à venir","(Requis pour…)",null,"(Idéal)","Spécifique","Partager"]
[1,null,null,null,null,null,0,null,0,{"$f":"F5-G5-I5-K5","v":0},0]
[2,null,null,null,null,null,0,null,0,{"$f":"F6-G6-I6-K6","v":0},0]
[3,null,null,null,null,null,0,null,0,0,0]
[4,null,null,null,null,null,0,null,0,0,0]
[5,null,null,null,null,null,0,null,0,0,0]
[6,null,null,null,null,null,0,null,0,0,0]
[7,null,null,null,null,null,0,null,0,0,0]
[8,null,null,null,null,null,0,null,0,0,0]
[9,null,null,null,null,null,0,null,0,0,0]
[10,null,null,null,null,null,0,null,0,0,0]
[11,null,null,null,null,null,0,null,0,0,0]
[12,null,null,null,null,null,0,null,0,0,0]
[13,null,null,null,null,null,0,null,0,0,0]
[14,null,null,null,null,null,0,null,0,0,0]
[15,null,null,null,null,null,0,null,0,0,0]
[16,null,null,null,null,null,0,null,0,0,0]
[17,null,null,null,null,null,0,null,0,0,0]
[18,null,null,null,null,null,0,null,0,0,0]
[19,null,null,null,null,null,0,null,0,{"$f":"F23-G23-I23-K23","v":0},0]
[20,null,null,null,null,null,0,null,0,0,0]
[21,null,null,null,null,null,0,null,0,0,0]
[22,null,null,null,null,null,0,null,0,0,0]
[23,null,null,null,null,null,0,null,0,0,0]
[24,null,null,null,null,null,0,null,0,0,0]
[25,null,null,null,null,null,0,null,0,0,0]
[26,null,null,null,null,null,0,null,0,0,0]
[27,null,null,null,null,null,0,null,0,0,0]
[28,null,null,null,null,null,0,null,0,0,0]
[29,null,null,null,null,null,0,null,0,0,0]
[30,null,null,null,null,null,0,null,0,0,0]
[31,null,null,null,null,null,0,null,0,0,0]
[32,null,null,null,null,null,0,null,0,0,0]
[33,null,null,null,null,null,0,null,0,0,0]
[34,null,null,null,null,null,0,null,0,0,0]
[35,null,null,null,null,null,0,null,0,0,0]
[36,null,null,null,null,null,0,null,0,0,0]
[37,null,null,null,null,null,0,null,0,{"$f":"F41-G41-I41-K41","v":0},0]
[38,null,null,null,null,null,0,null,0,0,0]
[39,null,null,null,null,null,0,null,0,0,0]
[40,null,null,null,null,null,0,null,0,0,0]
[90,null,null,null,null,null,0,null,0,0,0]
[91,null,null,null,null,null,0,null,0,0,0]
[92,null,null,null,null,null,0,null,0,0,0]
[93,null,null,null,null,null,0,null,0,0,0]
[94,null,null,null,null,null,0,null,0,0,0]
[95,null,null,null,null,null,0,null,0,0,0]
[96,null,null,null,null,null,0,null,0,0,0]
[97,null,null,null,null,null,0,null,0,0,0]
[98,null,null,null,null,null,0,null,0,0,0]
[99,null,null,null,"Réservé Organisation scolaire",null,0,null,0,0,0]
[null,null,null,null,"total programme  : ",{"$f":"SUM(F5:F54)","v":0},{"$f":"SUM(G5:G54)","v":0},null,{"$f":"SUM(I5:I54)","v":0},{"$f":"SUM(J5:J54)","v":0},{"$f":"SUM(K5:K54)","v":0},{"$f":"SUM(I55:K55)","v":0},"  =total formation"]

{"sheet":"13004","index":15,"n_rows":55,"n_cols":20,"rows_kept":55,"cut":false,"hidden":true,"merged":[[0,0,2,11],[0,12,1,19],[2,12,2,14]]}
["Mécanique de véhicules lourds routiers",null,null,null,null,null,null,null,null,null,null,null,"Spécifications techniques"]
[]
[null,null,null,null,null,null,null,null,null,null,null,null,"Enseignants",null,null,"Préalables","incompatible","Distribution","Équipements","Équipements"]
["No","Prog.","Code","Module","Durée","Ponction","Ponction Description","L'an passé","Cette Année","L'an proch.","Enseignant","Commentaires","maintenant","après prép.","à venir","(Requis pour…)",null,"(Idéal)","Spécifique","Partager"]
[1,"MVLR","350-561 ","Métier et formation",15,1,null,14,{"$f":"E5-F5-H5-J5","v":0},0]
[2,"MVLR","350-562 ","Santé/sécurité/environnement",30,2,null,28,0,0]
[3,"MVLR","350-563 ","Information technique",39,3,null,20,16,0]
[4,"MVLR","350-565 ","Travail d'atelier",76,7,null,69,0,0]
[5,"MVLR","350-575 ","Chauffe, soudage et coupage",75,0,"Pas de ponction SOUD",75,0,0]
[6,"MVLR","350-572","Communication en milieu de travail",25,2,null,23,0,0]
[7,"MVLR","350-573","Réparation/remplacement des roues",45,4,null,41,0,0]
[8,"MVLR","350-566 ","Vérif des sytèmes hydraulique et pneumatique",90,7,null,83,0,0]
[9,"MVLR","350-585 ","Suspensions, cadres, sellettes",75,6,null,69,0,0]
[10,"MVLR","350-576","Systèmes électriques/électroniques",90,7,null,83,0,0]
[11,"MVLR","350-595 ","Directions assistance hydraulique",75,6,null,69,0,0]
[12,"MVLR","350-568","Freinage hydraulique/pneumatique",120,9,null,111,0,0]
[13,"MVLR","350-578 ","Transmission de pouvoir",120,10,null,110,0,0]
[14,"MVLR","350-564 ","Diffusion de pouvoir",60,5,null,55,0,0]
[15,"MVLR","350-583 ","Transmissions automatiques",45,4,null,41,0,0]
[16,"MVLR","350-574","Systèmes de charge et de démarrage",60,5,null,55,0,0]
[17,"MVLR","350-584 ","Réparation de l'équipement hydraulique",60,5,null,0,55,0]
[18,"MVLR","350-586 ","Cabine/accessoires/circuits",90,7,null,63,20,0]
[19,"MVLR","350-567 ","Injection diesel/freins moteur",110,8,null,0,102,0]
[20,"MVLR","350-577 ","Mise au point de moteurs diesels",110,8,null,0,102,0]
[21,"MVLR","350-594 ","Vérification de moteurs diesels",60,5,null,0,55,0]
[22,"MVLR","350-588 ","Réparation de moteurs diesels",120,9,null,0,111,0]
[23,"MVLR","350-605 ","Entretien de véhicule lourd",75,6,null,0,69,0]
[24,"MVLR","350-609 ","Intégration en milieu de travail #1",45,20,null,25,0,0]
[25,"MVLR","350-609 ","Intégration en milieu de travail #2",90,45,null,0,45,0]
[26,null,null,null,null,0,null,0,0,0]
[27,null,null,null,null,0,null,0,0,0]
[28,null,null,null,null,0,null,0,0,0]
[29,null,null,null,null,0,null,0,0,0]
[30,null,null,null,null,0,null,0,0,0]
[31,null,null,null,null,0,null,0,0,0]
[32,null,null,null,null,0,null,0,0,0]
[33,null,null,null,null,0,null,0,0,0]
[34,null,null,null,null,0,null,0,0,0]
[35,null,null,null,null,0,null,0,0,0]
[36,null,null,null,null,0,null,0,0,0]
[37,null,null,null,null,0,null,0,0,0]
[38,null,null,null,null,0,null,0,0,0]
[39,null,null,null,null,0,null,0,0,0]
[40,null,null,null,null,0,null,0,0,0]
[90,null,null,"Récupération",null,-126,null,81,45,0]
[91,null,null,null,null,0,null,0,0,0]
[92,null,null,null,null,0,null,0,0,0]
[93,null,null,null,null,0,null,0,0,0]
[94,null,null,null,null,0,null,0,0,0]
[95,null,null,"Stage non assigné #1",null,-65,null,30,35,0]
[96,null,null," ",null,0,null,0,0,0]
[97,null,null,null,null,0,null,0,0,0]
[98,null,null,null,null,0,null,0,0,0]
[99,null,null,"Réservé Organisation scolaire",null,0,null,0,null,0]
[null,null,null,"total programme  : ",{"$f":"SUM(E5:E54)","v":1800},{"$f":"SUM(F5:F54)","v":0},null,{"$f":"SUM(H5:H54)","v":1145},{"$f":"SUM(I5:I54)","v":655},{"$f":"SUM(J5:J54)","v":0},{"$f":"SUM(H55:J55)","v":1800},"  =total formation"]

{"sheet":"13005","index":16,"n_rows":55,"n_cols":20,"rows_kept":55,"cut":false,"hidden":true,"merged":[[0,0,2,11],[0,12,1,19],[2,12,2,14]]}
["Mécanique de véhicules lourds routiers",null,null,null,null,null,null,null,null,null,null,null,"Spécifications techniques"]
[]
[null,null,null,null,null,null,null,null,null,null,null,null,"Enseignants",null,null,"Préalables","incompatible","Distribution","Équipements","Équipements"]
["No","Prog.","Code","Module","Durée","Ponction","Ponction Description","L'an passé","Cette Année","L'an proch.","Enseignant","Commentaires","maintenant","après prép.","à venir","(Requis pour…)",null,"(Idéal)","Spécifique","Partager"]
[1,"MVLR","350-561 ","Métier et formation",15,1,null,14,{"$f":"E5-F5-H5-J5","v":0},0]
[2,"MVLR","350-562 ","Santé/sécurité/environnement",30,2,null,28,0,0]
[3,"MVLR","350-563 ","Information technique",39,3,null,22,14,0]
[4,"MVLR","350-565 ","Travail d'atelier",76,7,null,69,0,0]
[5,"MVLR","350-575 ","Chauffe, soudage et coupage",75,0,"Pas de ponction SOUD",75,0,0]
[6,"MVLR","350-572","Communication en milieu de travail",25,2,null,23,0,0]
[7,"MVLR","350-573","Réparation/remplacement des roues",45,-2,null,47,0,0]
[8,"MVLR","350-566 ","Vérif des sytèmes hydraulique et pneumatique",90,12,null,78,0,0]
[9,"MVLR","350-585 ","Suspensions, cadres, sellettes",75,6,null,69,0,0]
[10,"MVLR","350-576","Systèmes électriques/électroniques",90,7,null,83,0,0]
[11,"MVLR","350-595 ","Directions assistance hydraulique",75,6,null,69,0,0]
[12,"MVLR","350-568","Freinage hydraulique/pneumatique",120,9,null,111,0,0]
[13,"MVLR","350-578 ","Transmission de pouvoir",120,7,null,113,0,0]
[14,"MVLR","350-564 ","Diffusion de pouvoir",60,7,null,50,3,0]
[15,"MVLR","350-583 ","Transmissions automatiques",45,4,null,0,41,0]
[16,"MVLR","350-574","Systèmes de charge et de démarrage",60,5,null,55,0,0]
[17,"MVLR","350-584 ","Réparation de l'équipement hydraulique",60,5,null,0,55,0]
[18,"MVLR","350-586 ","Cabine/accessoires/circuits",90,7,null,0,83,0]
[19,"MVLR","350-567 ","Injection diesel/freins moteur",110,9,null,0,101,0]
[20,"MVLR","350-577 ","Mise au point de moteurs diesels",110,9,null,0,101,0]
[21,"MVLR","350-594 ","Vérification de moteurs diesels",60,5,null,0,55,0]
[22,"MVLR","350-588 ","Réparation de moteurs diesels",120,9,null,0,111,0]
[23,"MVLR","350-605 ","Entretien de véhicule lourd",75,6,null,0,69,0]
[24,"MVLR","350-609 ","Intégration en milieu de travail #1",45,20,null,25,0,0]
[25,"MVLR","350-609 ","Intégration en milieu de travail #2",90,45,null,0,45,0]
[26,null,null,null,null,0,null,0,0,0]
[27,null,null,null,null,0,null,0,0,0]
[28,null,null,null,null,0,null,0,0,0]
[29,null,null,null,null,0,null,0,0,0]
[30,null,null,null,null,0,null,0,0,0]
[31,null,null,null,null,0,null,0,0,0]
[32,null,null,null,null,0,null,0,0,0]
[33,null,null,null,null,0,null,0,0,0]
[34,null,null,null,null,0,null,0,0,0]
[35,null,null,null,null,0,null,0,0,0]
[36,null,null,null,null,0,null,0,0,0]
[37,null,null,null,null,0,null,0,0,0]
[38,null,null,null,null,0,null,0,0,0]
[39,null,null,null,null,0,null,0,0,0]
[40,null,null,null,null,0,null,0,0,0]
[90,null,null,"Récupération",null,-126,null,52,74,0]
[91,null,null,null,null,0,null,0,0,0]
[92,null,null,null,null,0,null,0,0,0]
[93,null,null,null,null,0,null,0,0,0]
[94,null,null,null,null,0,null,0,0,0]
[95,null,null,"Stage non assigné #1",null,-65,null,30,35,0]
[96,null,null," ",null,0,null,0,0,0]
[97,null,null,null,null,0,null,0,0,0]
[98,null,null,null,null,0,null,0,0,0]
[99,null,null,"Réservé Organisation scolaire",null,0,null,0,null,0]
[null,null,null,"total programme  : ",{"$f":"SUM(E5:E54)","v":1800},{"$f":"SUM(F5:F54)","v":0},null,{"$f":"SUM(H5:H54)","v":1013},{"$f":"SUM(I5:I54)","v":787},{"$f":"SUM(J5:J54)","v":0},{"$f":"SUM(H55:J55)","v":1800},"  =total formation"]

{"sheet":"13006","index":17,"n_rows":55,"n_cols":20,"rows_kept":55,"cut":false,"hidden":true,"merged":[[0,0,2,11],[0,12,1,19],[2,12,2,14]]}
["Mécanique de véhicules lourds routiers",null,null,null,null,null,null,null,null,null,null,null,"Spécifications techniques"]
[]
[null,null,null,null,null,null,null,null,null,null,null,null,"Enseignants",null,null,"Préalables","incompatible","Distribution","Équipements","Équipements"]
["No","Prog.","Code","Module","Durée","Ponction","Ponction Description","L'an passé","Cette Année","L'an proch.","Enseignant","Commentaires","maintenant","après prép.","à venir","(Requis pour…)",null,"(Idéal)","Spécifique","Partager"]
[1,"MVLR","350-561 ","Métier et formation",15,1,null,14,{"$f":"E5-F5-H5-J5","v":0},0]
[2,"MVLR","350-562 ","Santé/sécurité/environnement",30,2,null,28,0,0]
[3,"MVLR","350-563 ","Information technique",39,3,null,25,11,0]
[4,"MVLR","350-565 ","Travail d'atelier",76,9,null,67,0,0]
[5,"MVLR","350-575 ","Chauffe, soudage et coupage",75,0,"Pas de ponction SOUD",75,0,0]
[6,"MVLR","350-572","Communication en milieu de travail",25,2,null,23,0,0]
[7,"MVLR","350-573","Réparation/remplacement des roues",45,2,null,43,0,0]
[8,"MVLR","350-566 ","Vérif des sytèmes hydraulique et pneumatique",90,7,null,83,0,0]
[9,"MVLR","350-585 ","Suspensions, cadres, sellettes",75,6,null,13,56,0]
[10,"MVLR","350-576","Systèmes électriques/électroniques",90,7,null,83,0,0]
[11,"MVLR","350-595 ","Directions assistance hydraulique",75,6,null,69,0,0]
[12,"MVLR","350-568","Freinage hydraulique/pneumatique",120,9,null,111,0,0]
[13,"MVLR","350-578 ","Transmission de pouvoir",120,10,null,0,110,0]
[14,"MVLR","350-564 ","Diffusion de pouvoir",60,5,null,0,55,0]
[15,"MVLR","350-583 ","Transmissions automatiques",45,4,null,0,41,0]
[16,"MVLR","350-574","Systèmes de charge et de démarrage",60,5,null,0,55,0]
[17,"MVLR","350-584 ","Réparation de l'équipement hydraulique",60,5,null,0,55,0]
[18,"MVLR","350-586 ","Cabine/accessoires/circuits",90,7,null,0,83,0]
[19,"MVLR","350-567 ","Injection diesel/freins moteur",110,8,null,0,102,0]
[20,"MVLR","350-577 ","Mise au point de moteurs diesels",110,8,null,0,102,0]
[21,"MVLR","350-594 ","Vérification de moteurs diesels",60,5,null,0,55,0]
[22,"MVLR","350-588 ","Réparation de moteurs diesels",120,9,null,0,111,0]
[23,"MVLR","350-605 ","Entretien de véhicule lourd",75,6,null,0,69,0]
[24,"MVLR","350-609 ","Intégration en milieu de travail #1",45,20,null,0,25,0]
[25,"MVLR","350-609 ","Intégration en milieu de travail #2",90,45,null,0,45,0]
[26,null,null,null,null,0,null,0,0,0]
[27,null,null,null,null,0,null,0,0,0]
[28,null,null,null,null,0,null,0,0,0]
[29,null,null,null,null,0,null,0,0,0]
[30,null,null,null,null,0,null,0,0,0]
[31,null,null,null,null,0,null,0,0,0]
[32,null,null,null,null,0,null,0,0,0]
[33,null,null,null,null,0,null,0,0,0]
[34,null,null,null,null,0,null,0,0,0]
[35,null,null,null,null,0,null,0,0,0]
[36,null,null,null,null,0,null,0,0,0]
[37,null,null,null,null,0,null,0,0,0]
[38,null,null,null,null,0,null,0,0,0]
[39,null,null,null,null,0,null,0,0,0]
[40,null,null,null,null,0,null,0,0,0]
[90,null,null,"Récupération",null,-126,null,30,96,0]
[91,null,null,null,null,0,null,0,0,0]
[92,null,null,null,null,0,null,0,0,0]
[93,null,null,null,null,0,null,0,0,0]
[94,null,null,null,null,0,null,0,0,0]
[95,null,null,"Stage non assigné #1",null,-65,null,0,65,0]
[96,null,null," ",null,0,null,0,0,0]
[97,null,null,null,null,0,null,0,0,0]
[98,null,null,null,null,0,null,0,0,0]
[99,null,null,"Réservé Organisation scolaire",null,0,null,0,null,0]
[null,null,null,"total programme  : ",{"$f":"SUM(E5:E54)","v":1800},{"$f":"SUM(F5:F54)","v":0},null,{"$f":"SUM(H5:H54)","v":664},{"$f":"SUM(I5:I54)","v":1136},{"$f":"SUM(J5:J54)","v":0},{"$f":"SUM(H55:J55)","v":1800},"  =total formation"]

{"sheet":"14007","index":18,"n_rows":55,"n_cols":20,"rows_kept":55,"cut":false,"hidden":true,"merged":[[0,0,2,11],[0,12,1,19],[2,12,2,14]]}
["Mécanique de véhicules lourds routiers",null,null,null,null,null,null,null,null,null,null,null,"Spécifications techniques"]
[]
[null,null,null,null,null,null,null,null,null,null,null,null,"Enseignants",null,null,"Préalables","incompatible","Distribution","Équipements","Équipements"]
["No","Prog.","Code","Module","Durée","Ponction","Ponction Description","L'an passé","Cette Année","L'an proch.","Enseignant","Commentaires","maintenant","après prép.","à venir","(Requis pour…)",null,"(Idéal)","Spécifique","Partager"]
[1,"MVLR","350-561 ","Métier et formation",15,1,null,0,{"$f":"E5-F5-H5-J5","v":14},0]
[2,"MVLR","350-562 ","Santé/sécurité/environnement",30,2,null,0,28,0]
[3,"MVLR","350-563 ","Information technique",45,9,null,0,36,0]
[4,"MVLR","350-565 ","Travail d'atelier",75,3,null,0,72,0]
[5,"MVLR","350-575 ","Chauffe, soudage et coupage",75,0,"Pas de ponction SOUD",0,75,0]
[6,"MVLR","350-572","Communication en milieu de travail",30,12,null,0,18,0]
[7,"MVLR","350-573","Réparation/remplacement des roues",45,3,null,0,42,0]
[8,"MVLR","350-566 ","Vérif des sytèmes hydraulique et pneumatique",90,6,null,0,84,0]
[9,"MVLR","350-585 ","Suspensions, cadres, sellettes",75,6,null,0,69,0]
[10,"MVLR","350-576","Systèmes électriques/électroniques",90,6,null,0,84,0]
[11,"MVLR","350-595 ","Directions assistance hydraulique",75,6,null,0,69,0]
[12,"MVLR","350-568","Freinage hydraulique/pneumatique",120,18,null,0,102,0]
[13,"MVLR","350-578 ","Transmission de pouvoir",120,9,null,0,111,0]
[14,"MVLR","350-564 ","Diffusion de pouvoir",60,6,null,0,54,0]
[15,"MVLR","350-583 ","Transmissions automatiques",45,6,null,0,39,0]
[16,"MVLR","350-574","Systèmes de charge et de démarrage",60,6,null,0,54,0]
[17,"MVLR","350-584 ","Réparation de l'équipement hydraulique",60,6,null,0,54,0]
[18,"MVLR","350-586 ","Cabine/accessoires/circuits",90,6,null,0,84,0]
[19,"MVLR","350-567 ","Injection diesel/freins moteur",105,12,null,0,93,0]
[20,"MVLR","350-577 ","Mise au point de moteurs diesels",105,12,null,0,93,0]
[21,"MVLR","350-594 ","Vérification de moteurs diesels",60,6,null,0,54,0]
[22,"MVLR","350-588 ","Réparation de moteurs diesels",120,9,null,0,111,0]
[23,"MVLR","350-605 ","Entretien de véhicule lourd",75,6,null,0,69,0]
[24,"MVLR","350-609 ","Intégration en milieu de travail #1",45,20,null,0,25,0]
[25,"MVLR","350-609 ","Intégration en milieu de travail #2",90,45,null,0,45,0]
[26,null,null,null,null,0,null,0,0,0]
[27,null,null,null,null,0,null,0,0,0]
[28,null,null,null,null,0,null,0,0,0]
[29,null,null,null,null,0,null,0,0,0]
[30,null,null,null,null,0,null,0,0,0]
[31,null,null,null,null,0,null,0,0,0]
[32,null,null,null,null,0,null,0,0,0]
[33,null,null,null,null,0,null,0,0,0]
[34,null,null,null,null,0,null,0,0,0]
[35,null,null,null,null,0,null,0,0,0]
[36,null,null,null,null,0,null,0,0,0]
[37,null,null,null,null,0,null,0,0,0]
[38,null,null,null,null,0,null,0,0,0]
[39,null,null,null,null,0,null,0,0,0]
[40,null,null,null,null,0,null,0,0,0]
[90,null,null,"Récupération",null,-156,null,0,156,0]
[91,null,null,null,null,0,null,0,0,0]
[92,null,null,null,null,0,null,0,0,0]
[93,null,null,null,null,0,null,0,0,0]
[94,null,null,null,null,0,null,0,0,0]
[95,null,null,"Stage non assigné #1",null,-65,null,0,65,0]
[96,null,null," ",null,0,null,0,0,0]
[97,null,null,null,null,0,null,0,0,0]
[98,null,null,null,null,0,null,0,0,0]
[99,null,null,"Réservé Organisation scolaire",null,0,null,0,0,0]
[null,null,null,"total programme  : ",{"$f":"SUM(E5:E54)","v":1800},{"$f":"SUM(F5:F54)","v":0},null,{"$f":"SUM(H5:H54)","v":0},{"$f":"SUM(I5:I54)","v":1800},{"$f":"SUM(J5:J54)","v":0},{"$f":"SUM(H55:J55)","v":1800},"  =total formation"]

{"sheet":"14008","index":19,"n_rows":55,"n_cols":20,"rows_kept":55,"cut":false,"hidden":true,"merged":[[0,0,2,11],[0,12,1,19],[2,12,2,14]]}
["Mécanique de véhicules lourds routiers",null,null,null,null,null,null,null,null,null,null,null,"Spécifications techniques"]
[]
[null,null,null,null,null,null,null,null,null,null,null,null,"Enseignants",null,null,"Préalables","incompatible","Distribution","Équipements","Équipements"]
["No","Prog.","Code","Module","Durée","Ponction","Ponction Description","L'an passé","Cette Année","L'an proch.","Enseignant","Commentaires","maintenant","après prép.","à venir","(Requis pour…)",null,"(Idéal)","Spécifique","Partager"]
[1,"MVLR","350-561 ","Métier et formation",15,1,null,0,{"$f":"E5-F5-H5-J5","v":14},0]
[2,"MVLR","350-562 ","Santé/sécurité/environnement",30,2,null,0,28,0]
[3,"MVLR","350-563 ","Information technique",45,9,null,0,36,0]
[4,"MVLR","350-565 ","Travail d'atelier",75,3,null,0,72,0]
[5,"MVLR","350-575 ","Chauffe, soudage et coupage",75,0,"Pas de ponction SOUD",0,75,0]
[6,"MVLR","350-572","Communication en milieu de travail",30,12,null,0,18,0]
[7,"MVLR","350-573","Réparation/remplacement des roues",45,3,null,0,42,0]
[8,"MVLR","350-566 ","Vérific. des syst. hydraulique pneumatique",90,6,null,0,84,0]
[9,"MVLR","350-585 ","Suspensions, cadres, sellettes",75,6,null,0,69,0]
[10,"MVLR","350-576","Systèmes électriques/électroniques",90,6,null,0,84,0]
[11,"MVLR","350-595 ","Directions assistance hydraulique",75,6,null,0,69,0]
[12,"MVLR","350-568","Freinage hydraulique/pneumatique",120,18,null,0,102,0]
[13,"MVLR","350-578 ","Transmission de pouvoir",120,9,null,0,111,0]
[14,"MVLR","350-564 ","Diffusion de pouvoir",60,6,null,0,54,0]
[15,"MVLR","350-583 ","Transmissions automatiques",45,6,null,0,39,0]
[16,"MVLR","350-574","Systèmes de charge et de démarrage",60,6,null,0,54,0]
[17,"MVLR","350-584 ","Réparation de l'équipement hydraulique",60,6,null,0,54,0]
[18,"MVLR","350-586 ","Cabine/accessoires/circuits",90,6,null,0,84,0]
[19,"MVLR","350-567 ","Injection diesel/freins moteur",105,12,null,0,93,0]
[20,"MVLR","350-577 ","Mise au point de moteurs diesels",105,12,null,0,93,0]
[21,"MVLR","350-594 ","Vérification de moteurs diesels",60,6,null,0,54,0]
[22,"MVLR","350-588 ","Réparation de moteurs diesels",120,9,null,0,111,0]
[23,"MVLR","350-605 ","Entretien de véhicule lourd",75,6,null,0,69,0]
[24,"MVLR","350-609 ","Intégration en milieu de travail",135,20,null,0,115,0]
[25,null,null,null,null,45,null,0,-45,0]
[26,null,null,null,null,0,null,0,0,0]
[27,null,null,null,null,0,null,0,0,0]
[28,null,null,null,null,0,null,0,0,0]
[29,null,null,null,null,0,null,0,0,0]
[30,null,null,null,null,0,null,0,0,0]
[31,null,null,null,null,0,null,0,0,0]
[32,null,null,null,null,0,null,0,0,0]
[33,null,null,null,null,0,null,0,0,0]
[34,null,null,null,null,0,null,0,0,0]
[35,null,null,null,null,0,null,0,0,0]
[36,null,null,null,null,0,null,0,0,0]
[37,null,null,null,null,0,null,0,0,0]
[38,null,null,null,null,0,null,0,0,0]
[39,null,null,null,null,0,null,0,0,0]
[40,null,null,null,null,0,null,0,0,0]
[90,null,null,"Récupération",null,-156,null,0,156,0]
[91,null,null,null,null,0,null,0,0,0]
[92,null,null,null,null,0,null,0,0,0]
[93,null,null,null,null,0,null,0,0,0]
[94,null,null,null,null,0,null,0,0,0]
[95,null,null,"Stage non assigné #1",null,-65,null,0,65,0]
[96,null,null,null,null,0,null,0,0,0]
[97,null,null,null,null,0,null,0,0,0]
[98,null,null,null,null,0,null,0,0,0]
[99,null,null,"Réservé Organisation scolaire",null,0,null,0,0,0]
[null,null,null,"total programme  : ",{"$f":"SUM(E5:E54)","v":1800},{"$f":"SUM(F5:F54)","v":0},null,{"$f":"SUM(H5:H54)","v":0},{"$f":"SUM(I5:I54)","v":1800},{"$f":"SUM(J5:J54)","v":0},{"$f":"SUM(H55:J55)","v":1800},"  =total formation"]

{"sheet":"14009","index":20,"n_rows":55,"n_cols":20,"rows_kept":55,"cut":false,"hidden":true,"merged":[[0,0,2,11],[0,12,1,19],[2,12,2,14]]}
["Mécanique de véhicules lourds routiers",null,null,null,null,null,null,null,null,null,null,null,"Spécifications techniques"]
[]
[null,null,null,null,null,null,null,null,null,null,null,null,"Enseignants",null,null,"Préalables","incompatible","Distribution","Équipements","Équipements"]
["No","Prog.","Code","Module","Durée","Ponction","Ponction Description","L'an passé","Cette Année","L'an proch.","Enseignant","Commentaires","maintenant","après prép.","à venir","(Requis pour…)",null,"(Idéal)","Spécifique","Partager"]
[1,"MVLR","350-561 ","Métier et formation",15,1,null,0,{"$f":"E5-F5-H5-J5","v":14},0]
[2,"MVLR","350-562 ","Santé/sécurité/environnement",30,2,null,0,28,0]
[3,"MVLR","350-563 ","Information technique",45,9,null,0,36,0]
[4,"MVLR","350-565 ","Travail d'atelier",75,3,null,0,72,0]
[5,"MVLR","350-575 ","Chauffe, soudage et coupage",75,0,"Pas de ponction SOUD",0,75,0]
[6,"MVLR","350-572","Communication en milieu de travail",30,12,null,0,18,0]
[7,"MVLR","350-573","Réparation/remplacement des roues",45,3,null,0,42,0]
[8,"MVLR","350-566 ","Vérific. des syst. hydraulique pneumatique",90,6,null,0,84,0]
[9,"MVLR","350-585 ","Suspensions, cadres, sellettes",75,6,null,0,69,0]
[10,"MVLR","350-576","Systèmes électriques/électroniques",90,6,null,0,84,0]
[11,"MVLR","350-595 ","Directions assistance hydraulique",75,6,null,0,69,0]
[12,"MVLR","350-568","Freinage hydraulique/pneumatique",120,18,null,0,102,0]
[13,"MVLR","350-578 ","Transmission de pouvoir",120,9,null,0,111,0]
[14,"MVLR","350-564 ","Diffusion de pouvoir",60,6,null,0,54,0]
[15,"MVLR","350-583 ","Transmissions automatiques",45,6,null,0,39,0]
[16,"MVLR","350-574","Systèmes de charge et de démarrage",60,6,null,0,54,0]
[17,"MVLR","350-584 ","Réparation de l'équipement hydraulique",60,6,null,0,54,0]
[18,"MVLR","350-586 ","Cabine/accessoires/circuits",90,6,null,0,84,0]
[19,"MVLR","350-567 ","Injection diesel/freins moteur",105,12,null,0,93,0]
[20,"MVLR","350-577 ","Mise au point de moteurs diesels",105,12,null,0,93,0]
[21,"MVLR","350-594 ","Vérification de moteurs diesels",60,6,null,0,54,0]
[22,"MVLR","350-588 ","Réparation de moteurs diesels",120,9,null,0,111,0]
[23,"MVLR","350-605 ","Entretien de véhicule lourd",75,6,null,0,69,0]
[24,"MVLR","350-609 ","Intégration en milieu de travail",135,20,null,0,115,0]
[25,null,null,null,null,45,null,0,-45,0]
[26,null,null,null,null,0,null,0,0,0]
[27,null,null,null,null,0,null,0,0,0]
[28,null,null,null,null,0,null,0,0,0]
[29,null,null,null,null,0,null,0,0,0]
[30,null,null,null,null,0,null,0,0,0]
[31,null,null,null,null,0,null,0,0,0]
[32,null,null,null,null,0,null,0,0,0]
[33,null,null,null,null,0,null,0,0,0]
[34,null,null,null,null,0,null,0,0,0]
[35,null,null,null,null,0,null,0,0,0]
[36,null,null,null,null,0,null,0,0,0]
[37,null,null,null,null,0,null,0,0,0]
[38,null,null,null,null,0,null,0,0,0]
[39,null,null,null,null,0,null,0,0,0]
[40,null,null,null,null,0,null,0,0,0]
[90,null,null,"Récupération",null,-156,null,0,156,0]
[91,null,null,null,null,0,null,0,0,0]
[92,null,null,null,null,0,null,0,0,0]
[93,null,null,null,null,0,null,0,0,0]
[94,null,null,null,null,0,null,0,0,0]
[95,null,null,"Stage non assigné #1",null,-65,null,0,65,0]
[96,null,null,null,null,0,null,0,0,0]
[97,null,null,null,null,0,null,0,0,0]
[98,null,null,null,null,0,null,0,0,0]
[99,null,null,"Réservé Organisation scolaire",null,0,null,0,0,0]
[null,null,null,"total programme  : ",{"$f":"SUM(E5:E54)","v":1800},{"$f":"SUM(F5:F54)","v":0},null,{"$f":"SUM(H5:H54)","v":0},{"$f":"SUM(I5:I54)","v":1800},{"$f":"SUM(J5:J54)","v":0},{"$f":"SUM(H55:J55)","v":1800},"  =total formation"]

{"sheet":"1111","index":21,"n_rows":55,"n_cols":20,"rows_kept":55,"cut":false,"hidden":true,"merged":[[0,0,2,11],[0,12,1,19],[2,12,2,14]]}
["Mécanique de véhicules lourds routiers",null,null,null,null,null,null,null,null,null,null,null,"Spécifications techniques"]
[]
[null,null,null,null,null,null,null,null,null,null,null,null,"Enseignants",null,null,"Préalables","incompatible","Distribution","Équipements","Équipements"]
["No","Prog.","Code","Module","Durée","Ponction","Ponction Description","L'an passé","Cette Année","L'an proch.","Enseignant","Commentaires","maintenant","après prép.","à venir","(Requis pour…)",null,"(Idéal)","Spécifique","Partager"]
[1,"MVLR","350-561 ","Métier et formation",15,0,null,0,{"$f":"E5-F5-H5-J5","v":15},0]
[2,"MVLR","350-562 ","Santé/sécurité/environnement",30,0,null,0,30,0]
[3,"MVLR","350-563 ","Information technique",45,0,null,0,45,0]
[4,"MVLR","350-565 ","Travail d'atelier",75,0,null,0,75,0]
[5,"MVLR","350-575 ","Chauffe, soudage et coupage",75,0,null,0,75,0]
[6,"MVLR","350-572","Communication en milieu de travail",30,0,null,0,30,0]
[7,"MVLR","350-573","Réparation/remplacement des roues",45,0,null,0,45,0]
[8,"MVLR","350-566 ","Vérific. des syst. hydraulique pneumatique",90,0,null,0,90,0]
[9,"MVLR","350-585 ","Suspensions, cadres, sellettes",75,0,null,0,75,0]
[10,"MVLR","350-576","Systèmes électriques/électroniques",90,0,null,0,90,0]
[11,"MVLR","350-595 ","Directions assistance hydraulique",75,0,null,0,75,0]
[12,"MVLR","350-568","Freinage hydraulique/pneumatique",120,0,null,0,120,0]
[13,"MVLR","350-578 ","Transmission de pouvoir",120,0,null,0,120,0]
[14,"MVLR","350-564 ","Diffusion de pouvoir",60,0,null,0,60,0]
[15,"MVLR","350-583 ","Transmissions automatiques",45,0,null,0,45,0]
[16,"MVLR","350-574","Systèmes de charge et de démarrage",60,0,null,0,60,0]
[17,"MVLR","350-584 ","Réparation de l'équipement hydraulique",60,0,null,0,60,0]
[18,"MVLR","350-586 ","Cabine/accessoires/circuits",90,0,null,0,90,0]
[19,"MVLR","350-567 ","Injection diesel/freins moteur",105,0,null,0,105,0]
[20,"MVLR","350-577 ","Mise au point de moteurs diesels",105,0,null,0,105,0]
[21,"MVLR","350-594 ","Vérification de moteurs diesels",60,0,null,0,60,0]
[22,"MVLR","350-588 ","Réparation de moteurs diesels",120,0,null,0,120,0]
[23,"MVLR","350-605 ","Entretien de véhicule lourd",75,0,null,0,75,0]
[24,"MVLR","350-609 ","Intégration en milieu de travail",135,0,null,0,135,0]
[25,null,null,null,null,0,null,0,0,0]
[26,null,null,null,null,0,null,0,0,0]
[27,null,null,null,null,0,null,0,0,0]
[28,null,null,null,null,0,null,0,0,0]
[29,null,null,null,null,0,null,0,0,0]
[30,null,null,null,null,0,null,0,0,0]
[31,null,null,null,null,0,null,0,0,0]
[32,null,null,null,null,0,null,0,0,0]
[33,null,null,null,null,0,null,0,0,0]
[34,null,null,null,null,0,null,0,0,0]
[35,null,null,null,null,0,null,0,0,0]
[36,null,null,null,null,0,null,0,0,0]
[37,null,null,null,null,0,null,0,0,0]
[38,null,null,null,null,0,null,0,0,0]
[39,null,null,null,null,0,null,0,0,0]
[40,null,null,null,null,0,null,0,0,0]
[90,null,null,null,null,0,null,0,0,0]
[91,null,null,null,null,0,null,0,0,0]
[92,null,null,null,null,0,null,0,0,0]
[93,null,null,null,null,0,null,0,0,0]
[94,null,null,null,null,0,null,0,0,0]
[95,null,null,null,null,0,null,0,0,0]
[96,null,null,null,null,0,null,0,0,0]
[97,null,null,null,null,0,null,0,0,0]
[98,null,null,null,null,0,null,0,0,0]
[99,null,null,"Réservé Organisation scolaire",null,0,null,0,0,0]
[null,null,null,"total programme  : ",{"$f":"SUM(E5:E54)","v":1800},{"$f":"SUM(F5:F54)","v":0},null,{"$f":"SUM(H5:H54)","v":0},{"$f":"SUM(I5:I54)","v":1800},{"$f":"SUM(J5:J54)","v":0},{"$f":"SUM(H55:J55)","v":1800},"  =total formation"]

{"sheet":"2222","index":22,"n_rows":55,"n_cols":20,"rows_kept":55,"cut":false,"hidden":true,"merged":[[0,0,2,11],[0,12,1,19],[2,12,2,14]]}
["Mécanique de véhicules lourds routiers",null,null,null,null,null,null,null,null,null,null,null,"Spécifications techniques"]
[]
[null,null,null,null,null,null,null,null,null,null,null,null,"Enseignants",null,null,"Préalables","incompatible","Distribution","Équipements","Équipements"]
["No","Prog.","Code","Module","Durée","Ponction","Ponction Description","L'an passé","Cette Année","L'an proch.","Enseignant","Commentaires","maintenant","après prép.","à venir","(Requis pour…)",null,"(Idéal)","Spécifique","Partager"]
[1,"MVLR","350-561 ","Métier et formation",15,0,null,0,{"$f":"E5-F5-H5-J5","v":15},0]
[2,"MVLR","350-562 ","Santé/sécurité/environnement",30,0,null,0,30,0]
[3,"MVLR","350-563 ","Information technique",45,0,null,0,45,0]
[4,"MVLR","350-565 ","Travail d'atelier",75,0,null,0,75,0]
[5,"MVLR","350-575 ","Chauffe, soudage et coupage",75,0,null,0,75,0]
[6,"MVLR","350-572","Communication en milieu de travail",30,0,null,0,30,0]
[7,"MVLR","350-573","Réparation/remplacement des roues",45,0,null,0,45,0]
[8,"MVLR","350-566 ","Vérific. des syst. hydraulique pneumatique",90,0,null,0,90,0]
[9,"MVLR","350-585 ","Suspensions, cadres, sellettes",75,0,null,0,75,0]
[10,"MVLR","350-576","Systèmes électriques/électroniques",90,0,null,0,90,0]
[11,"MVLR","350-595 ","Directions assistance hydraulique",75,0,null,0,75,0]
[12,"MVLR","350-568","Freinage hydraulique/pneumatique",120,0,null,0,120,0]
[13,"MVLR","350-578 ","Transmission de pouvoir",120,0,null,0,120,0]
[14,"MVLR","350-564 ","Diffusion de pouvoir",60,0,null,0,60,0]
[15,"MVLR","350-583 ","Transmissions automatiques",45,0,null,0,45,0]
[16,"MVLR","350-574","Systèmes de charge et de démarrage",60,0,null,0,60,0]
[17,"MVLR","350-584 ","Réparation de l'équipement hydraulique",60,0,null,0,60,0]
[18,"MVLR","350-586 ","Cabine/accessoires/circuits",90,0,null,0,90,0]
[19,"MVLR","350-567 ","Injection diesel/freins moteur",105,0,null,0,105,0]
[20,"MVLR","350-577 ","Mise au point de moteurs diesels",105,0,null,0,105,0]
[21,"MVLR","350-594 ","Vérification de moteurs diesels",60,0,null,0,60,0]
[22,"MVLR","350-588 ","Réparation de moteurs diesels",120,0,null,0,120,0]
[23,"MVLR","350-605 ","Entretien de véhicule lourd",75,0,null,0,75,0]
[24,"MVLR","350-609 ","Intégration en milieu de travail",135,0,null,0,135,0]
[25,null,null,null,null,0,null,0,0,0]
[26,null,null,null,null,0,null,0,0,0]
[27,null,null,null,null,0,null,0,0,0]
[28,null,null,null,null,0,null,0,0,0]
[29,null,null,null,null,0,null,0,0,0]
[30,null,null,null,null,0,null,0,0,0]
[31,null,null,null,null,0,null,0,0,0]
[32,null,null,null,null,0,null,0,0,0]
[33,null,null,null,null,0,null,0,0,0]
[34,null,null,null,null,0,null,0,0,0]
[35,null,null,null,null,0,null,0,0,0]
[36,null,null,null,null,0,null,0,0,0]
[37,null,null,null,null,0,null,0,0,0]
[38,null,null,null,null,0,null,0,0,0]
[39,null,null,null,null,0,null,0,0,0]
[40,null,null,null,null,0,null,0,0,0]
[90,null,null,null,null,0,null,0,0,0]
[91,null,null,null,null,0,null,0,0,0]
[92,null,null,null,null,0,null,0,0,0]
[93,null,null,null,null,0,null,0,0,0]
[94,null,null,null,null,0,null,0,0,0]
[95,null,null,null,null,0,null,0,0,0]
[96,null,null,null,null,0,null,0,0,0]
[97,null,null,null,null,0,null,0,0,0]
[98,null,null,null,null,0,null,0,0,0]
[99,null,null,"Réservé Organisation scolaire",null,0,null,0,0,0]
[null,null,null,"total programme  : ",{"$f":"SUM(E5:E54)","v":1800},{"$f":"SUM(F5:F54)","v":0},null,{"$f":"SUM(H5:H54)","v":0},{"$f":"SUM(I5:I54)","v":1800},{"$f":"SUM(J5:J54)","v":0},{"$f":"SUM(H55:J55)","v":1800},"  =total formation"]

{"sheet":"3333","index":23,"n_rows":55,"n_cols":20,"rows_kept":55,"cut":false,"hidden":true,"merged":[[0,0,2,11],[0,12,1,19],[2,12,2,14]]}
["Mécanique de véhicules lourds routiers",null,null,null,null,null,null,null,null,null,null,null,"Spécifications techniques"]
[]
[null,null,null,null,null,null,null,null,null,null,null,null,"Enseignants",null,null,"Préalables","incompatible","Distribution","Équipements","Équipements"]
["No","Prog.","Code","Module","Durée","Ponction","Ponction Description","L'an passé","Cette Année","L'an proch.","Enseignant","Commentaires","maintenant","après prép.","à venir","(Requis pour…)",null,"(Idéal)","Spécifique","Partager"]
[1,"MVLR","350-561 ","Métier et formation",15,0,null,0,{"$f":"E5-F5-H5-J5","v":15},0]
[2,"MVLR","350-562 ","Santé/sécurité/environnement",30,0,null,0,30,0]
[3,"MVLR","350-563 ","Information technique",45,0,null,0,45,0]
[4,"MVLR","350-565 ","Travail d'atelier",75,0,null,0,75,0]
[5,"MVLR","350-575 ","Chauffe, soudage et coupage",75,0,null,0,75,0]
[6,"MVLR","350-572","Communication en milieu de travail",30,0,null,0,30,0]
[7,"MVLR","350-573","Réparation/remplacement des roues",45,0,null,0,45,0]
[8,"MVLR","350-566 ","Vérific. des syst. hydraulique pneumatique",90,0,null,0,90,0]
[9,"MVLR","350-585 ","Suspensions, cadres, sellettes",75,0,null,0,75,0]
[10,"MVLR","350-576","Systèmes électriques/électroniques",90,0,null,0,90,0]
[11,"MVLR","350-595 ","Directions assistance hydraulique",75,0,null,0,75,0]
[12,"MVLR","350-568","Freinage hydraulique/pneumatique",120,0,null,0,120,0]
[13,"MVLR","350-578 ","Transmission de pouvoir",120,0,null,0,120,0]
[14,"MVLR","350-564 ","Diffusion de pouvoir",60,0,null,0,60,0]
[15,"MVLR","350-583 ","Transmissions automatiques",45,0,null,0,45,0]
[16,"MVLR","350-574","Systèmes de charge et de démarrage",60,0,null,0,60,0]
[17,"MVLR","350-584 ","Réparation de l'équipement hydraulique",60,0,null,0,60,0]
[18,"MVLR","350-586 ","Cabine/accessoires/circuits",90,0,null,0,90,0]
[19,"MVLR","350-567 ","Injection diesel/freins moteur",105,0,null,0,105,0]
[20,"MVLR","350-577 ","Mise au point de moteurs diesels",105,0,null,0,105,0]
[21,"MVLR","350-594 ","Vérification de moteurs diesels",60,0,null,0,60,0]
[22,"MVLR","350-588 ","Réparation de moteurs diesels",120,0,null,0,120,0]
[23,"MVLR","350-605 ","Entretien de véhicule lourd",75,0,null,0,75,0]
[24,"MVLR","350-609 ","Intégration en milieu de travail",135,0,null,0,135,0]
[25,null,null,null,null,0,null,0,0,0]
[26,null,null,null,null,0,null,0,0,0]
[27,null,null,null,null,0,null,0,0,0]
[28,null,null,null,null,0,null,0,0,0]
[29,null,null,null,null,0,null,0,0,0]
[30,null,null,null,null,0,null,0,0,0]
[31,null,null,null,null,0,null,0,0,0]
[32,null,null,null,null,0,null,0,0,0]
[33,null,null,null,null,0,null,0,0,0]
[34,null,null,null,null,0,null,0,0,0]
[35,null,null,null,null,0,null,0,0,0]
[36,null,null,null,null,0,null,0,0,0]
[37,null,null,null,null,0,null,0,0,0]
[38,null,null,null,null,0,null,0,0,0]
[39,null,null,null,null,0,null,0,0,0]
[40,null,null,null,null,0,null,0,0,0]
[90,null,null,null,null,0,null,0,0,0]
[91,null,null,null,null,0,null,0,0,0]
[92,null,null,null,null,0,null,0,0,0]
[93,null,null,null,null,0,null,0,0,0]
[94,null,null,null,null,0,null,0,0,0]
[95,null,null,null,null,0,null,0,0,0]
[96,null,null,null,null,0,null,0,0,0]
[97,null,null,null,null,0,null,0,0,0]
[98,null,null,null,null,0,null,0,0,0]
[99,null,null,"Réservé Organisation scolaire",null,0,null,0,0,0]
[null,null,null,"total programme  : ",{"$f":"SUM(E5:E54)","v":1800},{"$f":"SUM(F5:F54)","v":0},null,{"$f":"SUM(H5:H54)","v":0},{"$f":"SUM(I5:I54)","v":1800},{"$f":"SUM(J5:J54)","v":0},{"$f":"SUM(H55:J55)","v":1800},"  =total formation"]

{"sheet":"Groupe 10","index":24,"n_rows":0,"n_cols":0,"rows_kept":0,"cut":false,"hidden":true,"merged":[[0,0,2,11],[0,12,1,19],[2,12,2,14]]}

{"sheet":"Groupe 11","index":25,"n_rows":0,"n_cols":0,"rows_kept":0,"cut":false,"hidden":true,"merged":[[0,0,2,11],[0,12,1,19],[2,12,2,14]]}

{"sheet":"Groupe 12","index":26,"n_rows":0,"n_cols":0,"rows_kept":0,"cut":false,"hidden":true,"merged":[[0,0,2,11],[0,12,1,19],[2,12,2,14]]}

{"sheet":"Groupe 13","index":27,"n_rows":0,"n_cols":0,"rows_kept":0,"cut":false,"hidden":true,"merged":[[0,0,2,11],[0,12,1,19],[2,12,2,14]]}

{"sheet":"Groupe 14","index":28,"n_rows":0,"n_cols":0,"rows_kept":0,"cut":false,"hidden":true,"merged":[[0,0,2,11],[0,12,1,19],[2,12,2,14]]}

{"sheet":"Groupe 15","index":29,"n_rows":0,"n_cols":0,"rows_kept":0,"cut":false,"hidden":true,"merged":[[0,0,2,11],[0,12,1,19],[2,12,2,14]]}

{"sheet":"Calendrier","index":30,"n_rows":67,"n_cols":23,"rows_kept":67,"cut":false,"hidden":true,"merged":[[5,0,5,22],[6,0,6,22],[9,0,9,6],[9,8,9,14],[9,16,9,22],[19,0,19,6],[19,8,19,14],[19,16,19,22],[29,0,29,6],[29,8,29,14],[29,16,29,22],[39,0,39,6],[39,8,39,14],[39,16,39,22],[49,17,50,22],[52,17,52,22],[53,17,53,20],[54,17,54,20],[55,17,55,20],[56,17,56,20],[63,0,64,22],[57,17,57,20],[58,17,58,20],[59,17,59,20],[60,17,60,20],[61,17,61,20],[62,17,62,20]]}
[]
[]
[]
[]
[]
["Calendrier scolaire"]
["2014-2015"]
[]
[]
["juillet",null,null,null,null,null,null,null,"août",null,null,null,null,null,null,null,"septembre"]
["d","l","m","m","j","v","s",null,"d","l","m","m","j","v","s",null,"d","l","m","m","j","v","s"]
[null,null,1,2,3,4,5,null,null,null,null,null,null,1,2,null,null,1,2,3,4,5,6]
[6,7,8,9,10,11,12,null,3,4,5,6,7,8,9,null,7,8,9,10,11,12,13]
[13,14,15,16,17,18,19,null,10,11,12,13,14,15,16,null,14,15,16,17,18,19,20]
[20,21,22,23,24,25,26,null,17,18,19,20,21,22,23,null,21,22,23,24,25,26,27]
[27,28,29,30,31,null,null,null,24,25,26,27,28,29,30,null,28,29,30]
[null,null,null,null,null,null,null,null,31]
[]
[]
["octobre",null,null,null,null,null,null,null,"novembre",null,null,null,null,null,null,null,"décembre"]
["d","l","m","m","j","v","s",null,"d","l","m","m","j","v","s",null,"d","l","m","m","j","v","s"]
[null,null,null,1,2,3,4,null,null,null,null,null,null,null,1,null,null,1,2,3,4,5,6]
[5,6,7,8,9,10,11,null,2,3,4,5,6,7,8,null,7,8,9,10,11,12,13]
[12,13,14,15,16,17,18,null,9,10,11,12,13,14,15,null,14,15,16,17,18,19,20]
[19,20,21,22,23,24,25,null,16,17,18,19,20,21,22,null,21,22,23,24,25,26,27]
[26,27,28,29,30,31,null,null,23,24,25,26,27,28,29,null,28,29,30,31]
[null,null,null,null,null,null,null,null,30]
[]
[]
["janvier",null,null,null,null,null,null,null,"février",null,null,null,null,null,null,null,"mars"]
["d","l","m","m","j","v","s",null,"d","l","m","m","j","v","s",null,"d","l","m","m","j","v","s"]
[null,null,null,null,1,2,3,null,null,null,null,null,null,null,null,null,1,2,3,4,5,6,7]
[4,5,6,7,8,9,10,null,1,2,3,4,5,6,7,null,8,9,10,11,12,13,14]
[11,12,13,14,15,16,17,null,8,9,10,11,12,13,14,null,15,16,17,18,19,20,21]
[18,19,20,21,22,23,24,null,15,16,17,18,19,20,21,null,22,23,24,25,26,27,28]
[25,26,27,28,29,30,31,null,22,23,24,25,26,27,28,null,29,30,31]
[]
[]
[]
["avril",null,null,null,null,null,null,null,"mai",null,null,null,null,null,null,null,"juin"]
["d","l","m","m","j","v","s",null,"d","l","m","m","j","v","s",null,"d","l","m","m","j","v","s"]
[null,null,null,1,2,3,4,null,null,null,null,null,null,1,2,null,null,1,2,3,4,5,6]
[5,6,7,8,9,10,11,null,3,4,5,6,7,8,9,null,7,8,9,10,11,12,13]
[12,13,14,15,16,17,18,null,10,11,12,13,14,15,16,null,14,15,16,17,18,19,20]
[19,20,21,22,23,24,25,null,17,18,19,20,21,22,23,null,21,22,23,24,25,26,27]
[26,27,28,29,30,null,null,null,24,25,26,27,28,29,30,null,28,29,30]
[null,null,null,null,null,null,null,null,31]
[]
[]
[null,null,null,null,"Semaines de fermeture pour vacances estivales",null,null,null,null,null,null,null,null,null,null,null,null,"* Le 27 janvier 2015 est la 101e journée de travail pour les enseignants"]
[]
[null,null,null,null,"Congés pour les élèves et tout le personnel (13 statuaires et 4 mobiles)"]
[null,null,null,null,null,null,null,null,null,null,null,null,null,null,null,null,null,"Journées pédagogiques flottantes (2)"]
[null,null,null,null,"Journées pédagogiques (13 fixées et 2 flottantes par secteur)",null,null,null,null,null,null,null,null,null,null,null,null,"Mécanique automobile",null,null,null,"2014-11-13","2014-11-14"]
[null,null,null,null,"**(pour les groupes de soir la journée pédagogique sera le 12 plutôt le 13 mai)",null,null,null,null,null,null,null,null,null,null,null,null,"Méc. de véhicules lourds",null,null,null,"2014-11-13","2014-11-14"]
[null,null,null,null,null,null,null,null,null,null,null,null,null,null,null,null,null,"Carrosserie",null,null,null,"2014-11-13","2014-11-14"]
[null,null,null,null,null,null,null,null,null,null,null,null,null,null,null,null,null,"VPMA",null,null,null,"2014-11-13","2014-11-14"]
["Évènements spéciaux : ",null,null,null,"7 novembre - Journée pédagogique régionale",null,null,null,null,null,null,null,null,null,null,null,null,"Tech. d'usinage",null,null,null,"2014-10-23","2014-10-24"]
[null,null,null,null,"20 janvier - Portes ouvertes",null,null,null,null,null,null,null,null,null,null,null,null,"Dessin industriel",null,null,null,"2014-10-23","2014-10-24"]
[null,null,null,null,"12 mai - Gala des exCEPtionnels",null,null,null,null,null,null,null,null,null,null,null,null,"Vente-conseil",null,null,null,"2014-10-30","2014-01-28"]
[null,null,null,null,null,null,null,null,null,null,null,null,null,null,null,null,null,"Électrotechnique",null,null,null,"2014-10-24","2015-02-20"]
[null,null,null,null,null,null,null,null,null,null,null,null,null,null,null,null,null,"Soudage-montage",null,null,null,"2014-10-24","2015-04-10"]
[null,null,null,null,null,null,null,null,null,null,null,null,null,null,null,null,null,"Secretariat- compt.",null,null,null,"2014-11-21","2015-02-20"]
["Selon son horaire, chaque enseignant doit aviser la direction du moment oû il prendra sa semaine de relâche s'il travaille la semaine du 2 mars 2015."]
[]
[]
["Semaine d'arrêt en début mars pour les groupes concernés"]

{"sheet":"Planification","index":31,"n_rows":478,"n_cols":155,"rows_kept":478,"cut":false,"hidden":false,"merged":[[114,66,114,73],[373,66,373,73],[372,50,372,57],[372,58,372,65],[372,66,372,73],[373,2,373,9],[373,10,373,17],[373,18,373,25],[373,26,373,33],[373,34,373,41],[371,66,371,73],[373,42,373,49],[373,50,373,57],[372,2,372,9],[372,10,372,17],[372,18,372,25],[372,26,372,33],[372,34,372,41],[372,42,372,49],[373,58,373,65],[371,2,371,9],[371,10,371,17],[371,18,371,25],[371,26,371,33],[371,34,371,41],[371,42,371,49],[371,50,371,57],[371,58,371,65],[367,66,367,73],[368,2,368,9],[368,10,368,17],[368,18,368,25],[368,26,368,33],[368,34,368,41],[368,42,368,49],[368,50,368,57],[367,2,367,9],[367,10,367,17],[367,18,367,25],[367,26,367,33],[367,34,367,41],[367,42,367,49],[365,66,365,73],[366,2,366,9],[366,10,366,17],[366,18,366,25],[366,26,366,33],[366,34,366,41],[366,42,366,49],[366,50,366,57],[366,58,366,65],[366,66,366,73],[368,58,368,65],[368,66,368,73],[367,50,367,57],[367,58,367,65],[364,58,364,65],[364,66,364,73],[365,2,365,9],[365,10,365,17],[365,18,365,25],[365,26,365,33],[365,34,365,41],[365,42,365,49],[365,50,365,57],[365,58,365,65],[361,50,361,57],[361,58,361,65],[361,66,361,73],[364,2,364,9],[364,10,364,17],[364,18,364,25],[364,26,364,33],[364,34,364,41],[364,42,364,49],[364,50,364,57],[361,2,361,9],[361,10,361,17],[361,18,361,25],[361,26,361,33],[361,34,361,41],[361,42,361,49],[359,66,359,73],[360,2,360,9],[360,10,360,17],[360,18,360,25],[360,26,360,33],[360,34,360,41],[360,42,360,49],[360,50,360,57],[360,58,360,65],[360,66,360,73],[358,58,358,65],[358,66,358,73],[359,2,359,9],[359,10,359,17],[359,18,359,25],[359,26,359,33],[359,34,359,41],[359,42,359,49],[359,50,359,57],[359,58,359,65],[357,50,357,57],[357,58,357,65],[357,66,357,73],[358,2,358,9],[358,10,358,17],[358,18,358,25],[358,26,358,33],[358,34,358,41],[358,42,358,49],[358,50,358,57],[357,2,357,9],[357,10,357,17],[357,18,357,25],[357,26,357,33],[357,34,357,41],[357,42,357,49],[353,66,353,73],[354,2,354,9],[354,10,354,17],[354,18,354,25],[354,26,354,33],[354,34,354,41],[354,42,354,49],[354,50,354,57],[354,58,354,65],[354,66,354,73],[352,58,352,65],[352,66,352,73],[353,2,353,9],[353,10,353,17],[353,18,353,25],[353,26,353,33],[353,34,353,41],[353,42,353,49],[353,50,353,57],[353,58,353,65],[351,50,351,57],[351,58,351,65],[351,66,351,73],[352,2,352,9],[352,10,352,17],[352,18,352,25],[352,26,352,33],[352,34,352,41],[352,42,352,49],[352,50,352,57],[351,2,351,9],[351,10,351,17],[351,18,351,25],[351,26,351,33],[351,34,351,41],[351,42,351,49],[347,66,347,73],[350,2,350,9],[350,10,350,17],[350,18,350,25],[350,26,350,33],[350,34,350,41],[350,42,350,49],[350,50,350,57],[350,58,350,65],[350,66,350,73],[346,58,346,65],[346,66,346,73],[347,2,347,9],[347,10,347,17],[347,18,347,25],[347,26,347,33],[347,34,347,41],[347,42,347,49],[347,50,347,57],[347,58,347,65],[345,50,345,57],[345,58,345,65],[345,66,345,73],[346,2,346,9],[346,10,346,17],[346,18,346,25],[346,26,346,33],[346,34,346,41],[346,42,346,49],[346,50,346,57],[345,2,345,9],[345,10,345,17],[345,18,345,25],[345,26,345,33],[345,34,345,41],[345,42,345,49],[343,66,343,73],[344,2,344,9],[344,10,344,17],[344,18,344,25],[344,26,344,33],[344,34,344,41],[344,42,344,49],[344,50,344,57],[344,58,344,65],[344,66,344,73],[340,58,340,65],[340,66,340,73],[343,2,343,9],[343,10,343,17],[343,18,343,25],[343,26,343,33],[343,34,343,41],[343,42,343,49],[343,50,343,57],[343,58,343,65],[340,2,340,9],[340,10,340,17],[340,18,340,25],[340,26,340,33],[340,42,340,49],[340,50,340,57],[338,58,338,65],[338,66,338,73],[339,2,339,9],[339,10,339,17],[339,18,339,25],[339,26,339,33],[339,42,339,49],[339,50,339,57],[339,58,339,65],[339,66,339,73],[338,2,338,9],[338,10,338,17],[338,18,338,25],[338,26,338,33],[338,42,338,49],[338,50,338,57],[336,58,336,65],[336,66,336,73],[337,2,337,9],[337,10,337,17],[337,18,337,25],[337,26,337,33],[337,42,337,49],[337,50,337,57],[337,58,337,65],[337,66,337,73],[336,2,336,9],[336,10,336,17],[336,18,336,25],[336,26,336,33],[336,42,336,49],[336,50,336,57],[332,58,332,65],[332,66,332,73],[333,2,333,9],[333,10,333,17],[333,18,333,25],[333,26,333,33],[333,42,333,49],[333,50,333,57],[333,58,333,65],[333,66,333,73],[332,2,332,9],[332,10,332,17],[332,18,332,25],[332,26,332,33],[332,42,332,49],[332,50,332,57],[330,58,330,65],[330,66,330,73],[331,2,331,9],[331,10,331,17],[331,18,331,25],[331,26,331,33],[331,42,331,49],[331,50,331,57],[331,58,331,65],[331,66,331,73],[330,2,330,9],[330,10,330,17],[330,18,330,25],[330,26,330,33],[330,42,330,49],[330,50,330,57],[326,58,326,65],[326,66,326,73],[329,2,329,9],[329,10,329,17],[329,18,329,25],[329,26,329,33],[329,42,329,49],[329,50,329,57],[329,58,329,65],[329,66,329,73],[326,2,326,9],[326,10,326,17],[326,18,326,25],[326,26,326,33],[326,42,326,49],[326,50,326,57],[325,2,325,9],[325,10,325,17],[325,18,325,25],[325,26,325,33],[325,42,325,49],[325,50,325,57],[325,58,325,65],[325,66,325,73],[324,2,324,9],[324,10,324,17],[324,18,324,25],[324,26,324,33],[324,42,324,49],[324,50,324,57],[322,66,322,73],[323,2,323,9],[323,10,323,17],[323,18,323,25],[323,26,323,33],[323,42,323,49],[323,50,323,57],[323,58,323,65],[323,66,323,73],[322,2,322,9],[322,10,322,17],[322,18,322,25],[322,26,322,33],[322,42,322,49],[322,50,322,57],[322,58,322,65],[324,66,324,73],[324,34,324,41],[317,2,317,9],[317,10,317,17],[317,18,317,25],[317,26,317,33],[317,34,317,41],[317,42,317,49],[238,66,238,73],[280,2,280,9],[280,10,280,17],[280,18,280,25],[280,26,280,33],[280,34,280,41],[280,42,280,49],[280,50,280,57],[280,58,280,65],[280,66,280,73],[270,50,270,57],[270,58,270,65],[270,66,270,73],[270,2,270,9],[270,10,270,17],[270,18,270,25],[238,2,238,9],[238,10,238,17],[238,18,238,25],[238,26,238,33],[238,34,238,41],[238,42,238,49],[238,50,238,57],[238,58,238,65],[303,58,303,65],[310,58,310,65],[235,26,235,33],[235,34,235,41],[235,42,235,49],[235,50,235,57],[144,2,144,9],[144,10,144,17],[144,18,144,25],[144,26,144,33],[144,34,144,41],[144,42,144,49],[214,34,214,41],[214,42,214,49],[214,50,214,57],[214,66,214,73],[172,58,172,65],[172,66,172,73],[165,42,165,49],[235,58,235,65],[235,66,235,73],[198,42,198,49],[179,42,179,49],[193,42,193,49],[207,42,207,49],[226,58,226,65],[186,50,186,57],[192,50,192,57],[154,50,154,57],[161,50,161,57],[217,50,217,57],[224,50,224,57],[200,50,200,57],[198,66,198,73],[144,50,144,57],[203,50,203,57],[221,42,221,49],[175,50,175,57],[433,2,433,9],[433,10,433,17],[433,18,433,25],[433,26,433,33],[377,106,377,113],[377,114,377,121],[377,58,377,65],[377,66,377,73],[377,74,377,81],[377,82,377,89],[377,42,377,49],[377,50,377,57],[429,120,429,121],[429,78,429,79],[429,64,429,65],[429,66,429,67],[429,68,429,69],[429,70,429,71],[429,56,429,57],[429,58,429,59],[429,60,429,61],[377,90,377,97],[377,98,377,105],[429,62,429,63],[429,48,429,49],[429,54,429,55],[429,40,429,41],[429,42,429,43],[429,44,429,45],[429,46,429,47],[429,32,429,33],[429,34,429,35],[3,74,3,81],[3,82,3,89],[377,26,377,33],[377,34,377,41],[468,28,468,41],[469,22,469,27],[469,28,469,41],[463,28,463,41],[459,18,459,21],[459,22,459,27],[459,28,459,41],[449,114,449,117],[458,22,458,27],[458,28,458,41],[449,78,449,81],[449,50,449,53],[449,54,449,57],[449,58,449,61],[449,62,449,65],[449,34,449,37],[449,38,449,41],[449,42,449,45],[449,46,449,49],[448,114,448,117],[446,114,446,117],[444,114,444,117],[442,114,442,117],[440,114,440,117],[449,118,449,121],[456,0,456,27],[457,0,457,1],[449,98,449,101],[449,102,449,105],[449,106,449,109],[433,98,433,105],[433,106,433,113],[433,114,433,121],[433,66,433,73],[433,74,433,81],[433,82,433,89],[429,50,429,51],[429,52,429,53],[142,66,142,73],[433,90,433,97],[433,34,433,41],[433,42,433,49],[433,50,433,57],[433,58,433,65],[457,2,457,5],[457,6,457,9],[457,10,457,13],[457,14,457,17],[457,18,457,21],[457,22,457,27],[449,86,449,89],[449,90,449,93],[449,94,449,97],[449,66,449,69],[449,70,449,73],[449,74,449,77],[471,18,471,21],[471,22,471,27],[471,10,471,13],[470,28,470,41],[469,2,469,5],[471,28,471,41],[472,2,472,5],[472,6,472,9],[472,10,472,13],[472,14,472,17],[472,18,472,21],[472,22,472,27],[472,28,472,41],[470,2,470,5],[470,6,470,9],[470,10,470,13],[470,14,470,17],[470,18,470,21],[470,22,470,27],[469,6,469,9],[469,10,469,13],[469,14,469,17],[471,14,471,17],[469,18,469,21],[471,2,471,5],[471,6,471,9],[468,2,468,5],[468,6,468,9],[468,10,468,13],[468,14,468,17],[468,18,468,21],[468,22,468,27],[467,2,467,5],[467,6,467,9],[467,10,467,13],[467,14,467,17],[465,18,465,21],[465,22,465,27],[465,10,465,13],[465,14,465,17],[465,28,465,41],[466,2,466,5],[466,6,466,9],[466,10,466,13],[466,14,466,17],[466,18,466,21],[466,22,466,27],[466,28,466,41],[465,2,465,5],[465,6,465,9],[467,18,467,21],[467,22,467,27],[467,28,467,41],[464,10,464,13],[464,14,464,17],[464,18,464,21],[464,22,464,27],[464,28,464,41],[463,2,463,5],[463,6,463,9],[463,10,463,13],[463,14,463,17],[461,18,461,21],[461,22,461,27],[461,10,461,13],[461,14,461,17],[463,18,463,21],[463,22,463,27],[461,28,461,41],[462,2,462,5],[462,6,462,9],[462,10,462,13],[462,14,462,17],[462,18,462,21],[462,22,462,27],[461,6,461,9],[462,28,462,41],[461,2,461,5],[464,2,464,5],[464,6,464,9],[460,2,460,5],[460,6,460,9],[460,10,460,13],[460,14,460,17],[460,18,460,21],[460,22,460,27],[460,28,460,41],[459,2,459,5],[459,6,459,9],[459,10,459,13],[459,14,459,17],[457,28,457,41],[458,2,458,5],[458,6,458,9],[458,10,458,13],[458,14,458,17],[458,18,458,21],[448,118,448,121],[448,66,448,69],[448,70,448,73],[448,74,448,77],[448,78,448,81],[449,2,449,5],[449,6,449,9],[449,10,449,13],[449,14,449,17],[449,18,449,21],[449,22,449,25],[449,26,449,29],[449,30,449,33],[448,98,448,101],[448,102,448,105],[448,106,448,109],[448,110,448,113],[448,82,448,85],[448,86,448,89],[448,90,448,93],[448,94,448,97],[448,50,448,53],[448,54,448,57],[448,58,448,61],[448,62,448,65],[448,34,448,37],[448,38,448,41],[448,42,448,45],[448,46,448,49],[449,110,449,113],[449,82,449,85],[448,2,448,5],[448,6,448,9],[448,10,448,13],[448,14,448,17],[448,18,448,21],[448,22,448,25],[448,26,448,29],[448,30,448,33],[447,98,447,101],[447,102,447,105],[447,106,447,109],[447,110,447,113],[447,82,447,85],[447,86,447,89],[447,90,447,93],[447,94,447,97],[447,66,447,69],[447,70,447,73],[447,74,447,77],[447,78,447,81],[447,50,447,53],[447,54,447,57],[447,58,447,61],[447,62,447,65],[447,34,447,37],[447,38,447,41],[447,42,447,45],[447,46,447,49],[446,118,446,121],[446,66,446,69],[446,70,446,73],[446,74,446,77],[446,78,446,81],[447,2,447,5],[447,6,447,9],[447,10,447,13],[447,14,447,17],[447,18,447,21],[447,22,447,25],[447,26,447,29],[447,30,447,33],[446,98,446,101],[446,102,446,105],[446,106,446,109],[446,110,446,113],[446,82,446,85],[446,86,446,89],[446,90,446,93],[446,94,446,97],[446,50,446,53],[446,54,446,57],[446,58,446,61],[446,62,446,65],[446,34,446,37],[446,38,446,41],[446,42,446,45],[446,46,446,49],[447,114,447,117],[447,118,447,121],[446,2,446,5],[446,6,446,9],[446,10,446,13],[446,14,446,17],[446,18,446,21],[446,22,446,25],[446,26,446,29],[446,30,446,33],[445,98,445,101],[445,102,445,105],[445,106,445,109],[445,110,445,113],[445,82,445,85],[445,86,445,89],[445,90,445,93],[445,94,445,97],[445,66,445,69],[445,70,445,73],[445,74,445,77],[445,78,445,81],[445,50,445,53],[445,54,445,57],[445,58,445,61],[445,62,445,65],[445,34,445,37],[445,38,445,41],[445,42,445,45],[445,46,445,49],[444,118,444,121],[444,66,444,69],[444,70,444,73],[444,74,444,77],[444,78,444,81],[445,2,445,5],[445,6,445,9],[445,10,445,13],[445,14,445,17],[445,18,445,21],[445,22,445,25],[445,26,445,29],[445,30,445,33],[444,98,444,101],[444,102,444,105],[444,106,444,109],[444,110,444,113],[444,82,444,85],[444,86,444,89],[444,90,444,93],[444,94,444,97],[444,50,444,53],[444,54,444,57],[444,58,444,61],[444,62,444,65],[444,34,444,37],[444,38,444,41],[444,42,444,45],[444,46,444,49],[445,114,445,117],[445,118,445,121],[444,2,444,5],[444,6,444,9],[444,10,444,13],[444,14,444,17],[444,18,444,21],[444,22,444,25],[444,26,444,29],[444,30,444,33],[443,98,443,101],[443,102,443,105],[443,106,443,109],[443,110,443,113],[443,82,443,85],[443,86,443,89],[443,90,443,93],[443,94,443,97],[443,66,443,69],[443,70,443,73],[443,74,443,77],[443,78,443,81],[443,50,443,53],[443,54,443,57],[443,58,443,61],[443,62,443,65],[443,34,443,37],[443,38,443,41],[443,42,443,45],[443,46,443,49],[442,118,442,121],[442,66,442,69],[442,70,442,73],[442,74,442,77],[442,78,442,81],[443,2,443,5],[443,6,443,9],[443,10,443,13],[443,14,443,17],[443,18,443,21],[443,22,443,25],[443,26,443,29],[443,30,443,33],[442,98,442,101],[442,102,442,105],[442,106,442,109],[442,110,442,113],[442,82,442,85],[442,86,442,89],[442,90,442,93],[442,94,442,97],[442,50,442,53],[442,54,442,57],[442,58,442,61],[442,62,442,65],[442,34,442,37],[442,38,442,41],[442,42,442,45],[442,46,442,49],[443,114,443,117],[443,118,443,121],[442,2,442,5],[442,6,442,9],[442,10,442,13],[442,14,442,17],[442,18,442,21],[442,22,442,25],[442,26,442,29],[442,30,442,33],[441,98,441,101],[441,102,441,105],[441,106,441,109],[441,110,441,113],[441,82,441,85],[441,86,441,89],[441,90,441,93],[441,94,441,97],[441,66,441,69],[441,70,441,73],[441,74,441,77],[441,78,441,81],[441,50,441,53],[441,54,441,57],[441,58,441,61],[441,62,441,65],[441,34,441,37],[441,38,441,41],[441,42,441,45],[441,46,441,49],[440,118,440,121],[440,66,440,69],[440,70,440,73],[440,74,440,77],[440,78,440,81],[441,2,441,5],[441,6,441,9],[441,10,441,13],[441,14,441,17],[441,18,441,21],[441,22,441,25],[441,26,441,29],[441,30,441,33],[440,98,440,101],[440,102,440,105],[440,106,440,109],[440,110,440,113],[440,82,440,85],[440,86,440,89],[440,90,440,93],[440,94,440,97],[440,50,440,53],[440,54,440,57],[440,58,440,61],[440,62,440,65],[440,34,440,37],[440,38,440,41],[440,42,440,45],[440,46,440,49],[441,114,441,117],[441,118,441,121],[440,2,440,5],[440,6,440,9],[440,10,440,13],[440,14,440,17],[440,18,440,21],[440,22,440,25],[440,26,440,29],[440,30,440,33],[439,98,439,101],[439,102,439,105],[439,106,439,109],[439,110,439,113],[439,82,439,85],[439,86,439,89],[439,90,439,93],[439,94,439,97],[439,66,439,69],[439,70,439,73],[439,74,439,77],[439,78,439,81],[439,50,439,53],[439,54,439,57],[439,58,439,61],[439,62,439,65],[439,34,439,37],[439,38,439,41],[439,42,439,45],[439,46,439,49],[438,114,438,117],[438,118,438,121],[438,66,438,69],[438,70,438,73],[438,74,438,77],[438,78,438,81],[439,2,439,5],[439,6,439,9],[439,10,439,13],[439,14,439,17],[439,18,439,21],[439,22,439,25],[439,26,439,29],[439,30,439,33],[438,98,438,101],[438,102,438,105],[438,106,438,109],[438,110,438,113],[438,82,438,85],[438,86,438,89],[438,90,438,93],[438,94,438,97],[438,50,438,53],[438,54,438,57],[438,58,438,61],[438,62,438,65],[438,34,438,37],[438,38,438,41],[438,42,438,45],[438,46,438,49],[439,114,439,117],[439,118,439,121],[438,2,438,5],[438,6,438,9],[438,10,438,13],[438,14,438,17],[438,18,438,21],[438,22,438,25],[438,26,438,29],[438,30,438,33],[437,98,437,101],[437,102,437,105],[437,106,437,109],[437,110,437,113],[437,82,437,85],[437,86,437,89],[437,90,437,93],[437,94,437,97],[437,66,437,69],[437,70,437,73],[437,74,437,77],[437,78,437,81],[437,50,437,53],[437,54,437,57],[437,58,437,61],[437,62,437,65],[437,34,437,37],[437,38,437,41],[437,42,437,45],[437,46,437,49],[436,114,436,117],[436,118,436,121],[436,66,436,69],[436,70,436,73],[436,74,436,77],[436,78,436,81],[437,2,437,5],[437,6,437,9],[437,10,437,13],[437,14,437,17],[437,18,437,21],[437,22,437,25],[437,26,437,29],[437,30,437,33],[436,98,436,101],[436,102,436,105],[436,106,436,109],[436,110,436,113],[436,82,436,85],[436,86,436,89],[436,90,436,93],[436,94,436,97],[436,50,436,53],[436,54,436,57],[436,58,436,61],[436,62,436,65],[436,34,436,37],[436,38,436,41],[436,42,436,45],[436,46,436,49],[437,114,437,117],[437,118,437,121],[436,2,436,5],[436,6,436,9],[436,10,436,13],[436,14,436,17],[436,18,436,21],[436,22,436,25],[436,26,436,29],[436,30,436,33],[435,98,435,101],[435,102,435,105],[435,106,435,109],[435,110,435,113],[435,82,435,85],[435,86,435,89],[435,90,435,93],[435,94,435,97],[435,66,435,69],[435,70,435,73],[435,74,435,77],[435,78,435,81],[435,50,435,53],[435,54,435,57],[435,58,435,61],[435,62,435,65],[435,34,435,37],[435,38,435,41],[435,42,435,45],[435,46,435,49]],"merged_total":4578,"flags":["merged_cut"]}
[null,null,null,null,null,null,null,null,null,null,null,null,null,null,null,null,null,null,null,null,null,null,null,null,null,null,null,null,null,null,null,null,null,null,null,null,null,null,null,null,null,null,null,null,null,null,null,null,null,null,null,null,null,null,null,null,null,null,null,null,null,null,null,null,null,null,null,null,null,null,null,null,null,null,null,null,null,null,null,null,null,null,null,null,null,null,null,null,null,null,null,null,null,null,null,null,null,null,null,null,null,null,null,null,null,null,null,null,null,null,null,null,null,null,null,null,null,null,null,null,null,null,null,null,"GESTION DES CONFLITS :  enseignants",null,null,null,null,null,null,null,null,null,null,null,null,null,null,null,"GESTION DES CONFLITS :  heures / groupe / jour"]
["Planification Mécanique de véhicules lourds routiers",null,null,null,null,null,null,null,null,null,null,null,null,null,null,null,null,null,null,null,null,null,null,null,null,null,null,null,null,null,null,null,null,null,null,null,null,null,null,null,null,null,null,null,null,null,null,null,null,null,null,null,null,null,null,null,null,null,null,null,null,null,null,null,null,null,null,null,null,null,null,null,null,null,null,null,null,null,null,null,null,null,null,null,null,null,null,null,null,null,null,null,null,null,null,null,null,null,null,null,null,null,null,null,null,null,null,null,null,null,null,null,null,null,null,null,null,null,null,null,null,null,null,null,{"$f":"$A459 & \" = \" & $B459","v":"sb = Sylvain Bellemare"},{"$f":"$A460 & \" = \" & $B460","v":"mp = Mathieu Primard"},{"$f":"$A461 & \" = \" & $B461","v":"cg = Clément Gauthier"},{"$f":"$A462 & \" = \" & $B462","v":"jr = Julien, Rondeau"},{"$f":"$A463 & \" = \" & $B463","v":"yc = Yanik Corbeil"},{"$f":"$A464 & \" = \" & $B464","v":"mc = Mathieu Chenard"},{"$f":"$A465 & \" = \" & $B465","v":"rg = Roch Gauthier"},{"$f":"$A466 & \" = \" & $B466","v":"np = Nicolas Privé"},{"$f":"$A467 & \" = \" & $B467","v":" = "},{"$f":"$A468 & \" = \" & $B468","v":" = "},{"$f":"$A469 & \" = \" & $B469","v":" = "},{"$f":"$A470 & \" = \" & $B470","v":"p12 = Prof # 12"},{"$f":"$A471 & \" = \" & $B471","v":"p13 = Prof # 13"},{"$f":"$A472 & \" = \" & $B472","v":"p14 = Prof # 14"},{"$f":"$A473 & \" = \" & $B473","v":"p15 = Prof # 15"},null,{"$f":"C$4","v":"Groupe 27"},{"$f":"K$4","v":"Groupe 28"},{"$f":"S4","v":"Groupe 29"},{"$f":"AA4","v":"Groupe 30"},{"$f":"AI4","v":"Groupe 31"},{"$f":"AQ4","v":"Groupe 32"},{"$f":"AY4","v":"Groupe 33"},{"$f":"BG4","v":"Groupe 34"},{"$f":"BO4","v":"PréDEP"},{"$f":"BW4","v":"Groupe 10"},{"$f":"CE4","v":"Groupe 11"},{"$f":"CM4","v":"Groupe 12"},{"$f":"CU4","v":"Groupe 13"},{"$f":"DC4","v":"Groupe 14"},{"$f":"DK4","v":"Groupe 15"}]
[]
["Année scolaire 2025-2026",null,"Groupe 27",null,null,null,null,null,null,null,"Groupe 28",null,null,null,null,null,null,null,"Groupe 29",null,null,null,null,null,null,null,"Groupe 30",null,null,null,null,null,null,null,"Groupe 31",null,null,null,null,null,null,null,"Groupe 32",null,null,null,null,null,null,null,"Groupe 33",null,null,null,null,null,null,null,"Groupe 34",null,null,null,null,null,null,null,"PréDEP",null,null,null,null,null,null,null,"Groupe 10",null,null,null,null,null,null,null,"Groupe 11",null,null,null,null,null,null,null,"Groupe 12",null,null,null,null,null,null,null,"Groupe 13",null,null,null,null,null,null,null,"Groupe 14",null,null,null,null,null,null,null,"Groupe 15"]
[null,null,"TOSCA # 8 Jour/Intensif - 6",null,null,null,null,null,null,null,"TOSCA # 8 Jour/Intensif - 6",null,null,null,null,null,null,null,"TOSCA # 8 Jour/Intensif - 6",null,null,null,null,null,null,null,"TOSCA # 8 Jour/Intensif - 6",null,null,null,null,null,null,null,"TOSCA # 8 Jour/Intensif - 6",null,null,null,null,null,null,null,"TOSCA # 8 Jour/Intensif - 6",null,null,null,null,null,null,null,"TOSCA # 8 Jour/Intensif - 6",null,null,null,null,null,null,null,"TOSCA # 8 Jour/Intensif - 6",null,null,null,null,null,null,null,"TOSCA # 8 Jour/Intensif - 6",null,null,null,null,null,null,null," ",null,null,null,null,null,null,null," ",null,null,null,null,null,null,null," "]
[null,null,"    MVLR",null,"Jour    ",null,"    Intensif 1800",null,null,null,"    MVLR",null,"Jour    ",null,"    Intensif 1800",null,null,null,"    MVLR",null,"Jour    ",null,"    Intensif 1800",null,null,null,"    MVLR",null,"Jour    ",null,"    Intensif 1800",null,null,null,"    MVLR",null,"Jour    ",null,"    Intensif 1800",null,null,null,"    MVLR",null,"Jour    ",null,"    Intensif 1800",null,null,null,"    MVLR",null,"Jour    ",null,"    Intensif 1800",null,null,null,"    MVLR",null,"Jour    ",null,"    Intensif 1800",null,null,null,"    MVLR",null,"Jour    ",null,"    Intensif 1800",null,null,null,"     ",null,"     ",null,"     ",null,null,null,"     ",null,"     ",null,"     ",null,null,null,"     ",null,"     ",null,"     "]
[null,null,"M","P","H","L","M","P","H","L","M","P","H","L","M","P","H","L","M","P","H","L","M","P","H","L","M","P","H","L","M","P","H","L","M","P","H","L","M","P","m","L","M","P","H","L","M","P","H","L","M","P","H","L","M","P","H","L","M","P","H","L","M","P","H","L","M","P","H","L","M","P","H","L","M","P","H","L","M","P","H","L","M","P","H","L","M","P","H","L","M","P","H","L","M","P","H","L","M","P","H","L","M","P","H","L","M","P","H","L","M","P","H","L","M","P","H","L","M","P","H","L"]
[{"$f":"WEEKDAY(B8,2)","v":1},"2025-08-18","                   Vacances          ",null,null,null,null,null,null,null,"                   Vacances          ",null,null,null,null,null,null,null,"                   Vacances          ",null,null,null,null,null,null,null,"                   Vacances          ",null,null,null,null,null,null,null,"                   Vacances          ",null,null,null,null,null,null,null,"                   Vacances          ",null,null,null,null,null,null,null,"                   Vacances          ",null,null,null,null,null,null,null,"                   Vacances          ",null,null,null,null,null,null,null,"                   Vacances          ",null,null,null,null,null,null,null,null,null,null,null,null,null,null,null,null,null,null,null,null,null,null,null,null,null,null,null,null,null,null,null,null,null,null,null,null,null,null,null,null,null,null,null,null,null,null,null,null,null,null,null,null,null,null,null,null,null,{"$f":"COUNTIF($C8:$DR8,$A$459)","v":0},{"$f":"COUNTIF($C8:$DR8,$A$460)","v":0},{"$f":"COUNTIF($C8:$DR8,$A$461)","v":0},{"$f":"COUNTIF($C8:$DR8,$A$462)","v":0},{"$f":"COUNTIF($C8:$DR8,$A$463)","v":0},{"$f":"COUNTIF($C8:$DR8,$A$464)","v":0},{"$f":"COUNTIF($C8:$DR8,$A$465)","v":0},{"$f":"COUNTIF($C8:$DR8,$A$466)","v":0},{"$f":"COUNTIF($C8:$DR8,$A$467)","v":0},{"$f":"COUNTIF($C8:$DR8,$A$468)","v":0},{"$f":"COUNTIF($C8:$DR8,$A$469)","v":0},{"$f":"COUNTIF($C8:$DR8,$A$470)","v":0},{"$f":"COUNTIF($C8:$DR8,$A$471)","v":0},{"$f":"COUNTIF($C8:$DR8,$A$472)","v":0},{"$f":"COUNTIF($C8:$DR8,$A$473)","v":0},null,{"$f":"SUM($E8,$I8)","v":0},{"$f":"SUM($M8,$Q8)","v":0},{"$f":"SUM($U8,$Y8)","v":0},{"$f":"SUM(AC8,AG8)","v":0},{"$f":"SUM(AK8,AO8)","v":0},{"$f":"SUM(AS8,AW8)","v":0},{"$f":"SUM(BA8,BE8)","v":0},{"$f":"SUM(BI8,BM8)","v":0},{"$f":"SUM(BQ8,BU8)","v":0},{"$f":"SUM(BY8,CC8)","v":0},{"$f":"SUM(CG8,CK8)","v":0},{"$f":"SUM(CO8,CS8)","v":0},{"$f":"SUM(CW8,DA8)","v":0},{"$f":"SUM(DE8,DI8)","v":0},{"$f":"SUM(DM8,DQ8)","v":0}]
[{"$f":"WEEKDAY(B9,2)","v":2},"2025-08-19","                   Vacances          ",null,null,null,null,null,null,null,"                   Vacances          ",null,null,null,null,null,null,null,"                   Vacances          ",null,null,null,null,null,null,null,"                   Vacances          ",null,null,null,null,null,null,null,"                   Vacances          ",null,null,null,null,null,null,null,"                   Vacances          ",null,null,null,null,null,null,null,"                   Vacances          ",null,null,null,null,null,null,null,"                   Vacances          ",null,null,null,null,null,null,null,"                   Vacances          ",null,null,null,null,null,null,null,null,null,null,null,null,null,null,null,null,null,null,null,null,null,null,null,null,null,null,null,null,null,null,null,null,null,null,null,null,null,null,null,null,null,null,null,null,null,null,null,null,null,null,null,null,null,null,null,null,null,0,0,0,0,0,0,0,0,0,0,0,0,0,0,0,null,0,0,0,{"$f":"SUM(AC9,AG9)","v":0},{"$f":"SUM(AK9,AO9)","v":0},{"$f":"SUM(AS9,AW9)","v":0},{"$f":"SUM(BA9,BE9)","v":0},{"$f":"SUM(BI9,BM9)","v":0},{"$f":"SUM(BQ9,BU9)","v":0},{"$f":"SUM(BY9,CC9)","v":0},{"$f":"SUM(CG9,CK9)","v":0},{"$f":"SUM(CO9,CS9)","v":0},{"$f":"SUM(CW9,DA9)","v":0},{"$f":"SUM(DE9,DI9)","v":0},{"$f":"SUM(DM9,DQ9)","v":0}]
[{"$f":"WEEKDAY(B10,2)","v":3},{"$f":"B9+1","v":"2025-08-20"},"                   Vacances          ",null,null,null,null,null,null,null,"                   Vacances          ",null,null,null,null,null,null,null,"                   Vacances          ",null,null,null,null,null,null,null,"                   Vacances          ",null,null,null,null,null,null,null,"                   Vacances          ",null,null,null,null,null,null,null,"                   Vacances          ",null,null,null,null,null,null,null,"                   Vacances          ",null,null,null,null,null,null,null,"                   Vacances          ",null,null,null,null,null,null,null,"                   Vacances          ",null,null,null,null,null,null,null,null,null,null,null,null,null,null,null,null,null,null,null,null,null,null,null,null,null,null,null,null,null,null,null,null,null,null,null,null,null,null,null,null,null,null,null,null,null,null,null,null,null,null,null,null,null,null,null,null,null,0,0,0,0,0,0,0,0,0,0,0,0,0,0,0,null,0,0,0,{"$f":"SUM(AC10,AG10)","v":0},{"$f":"SUM(AK10,AO10)","v":0},{"$f":"SUM(AS10,AW10)","v":0},{"$f":"SUM(BA10,BE10)","v":0},{"$f":"SUM(BI10,BM10)","v":0},{"$f":"SUM(BQ10,BU10)","v":0},{"$f":"SUM(BY10,CC10)","v":0},{"$f":"SUM(CG10,CK10)","v":0},{"$f":"SUM(CO10,CS10)","v":0},{"$f":"SUM(CW10,DA10)","v":0},{"$f":"SUM(DE10,DI10)","v":0},{"$f":"SUM(DM10,DQ10)","v":0}]
[4,{"$f":"B10+1","v":"2025-08-21"},"                   Vacances          ",null,null,null,null,null,null,null,"                   Vacances          ",null,null,null,null,null,null,null,"                   Vacances          ",null,null,null,null,null,null,null,"                   Vacances          ",null,null,null,null,null,null,null,"                   Vacances          ",null,null,null,null,null,null,null,"                   Vacances          ",null,null,null,null,null,null,null,"                   Vacances          ",null,null,null,null,null,null,null,"                   Vacances          ",null,null,null,null,null,null,null,"                   Vacances          ",null,null,null,null,null,null,null,null,null,null,null,null,null,null,null,null,null,null,null,null,null,null,null,null,null,null,null,null,null,null,null,null,null,null,null,null,null,null,null,null,null,null,null,null,null,null,null,null,null,null,null,null,null,null,null,null,null,0,0,0,0,0,0,0,0,0,0,0,0,0,0,0,null,0,0,0,0,0,0,0,0,0,0,0,0,0,0,0]
[5,"2025-08-22","     Pédagogique Commune",null,null,null,null,null,null,null,"     Pédagogique Commune",null,null,null,null,null,null,null,"     Pédagogique Commune",null,null,null,null,null,null,null,"     Pédagogique Commune",null,null,null,null,null,null,null,"     Pédagogique Commune",null,null,null,null,null,null,null,"     Pédagogique Commune",null,null,null,null,null,null,null,"     Pédagogique Commune",null,null,null,null,null,null,null,"     Pédagogique Commune",null,null,null,null,null,null,null,"     Pédagogique Commune",null,null,null,null,null,null,null,null,null,null,null,null,null,null,null,null,null,null,null,null,null,null,null,null,null,null,null,null,null,null,null,null,null,null,null,null,null,null,null,null,null,null,null,null,null,null,null,null,null,null,null,null,null,null,null,null,null,0,0,0,0,0,0,0,0,0,0,0,0,0,0,0,null,0,0,0,0,0,0,0,0,0,0,0,0,0,0,0]
[6,"2025-08-23","                                   WEEK-END                       ",null,null,null,null,null,null,null,"                                   WEEK-END                       ",null,null,null,null,null,null,null,"                                   WEEK-END                       ",null,null,null,null,null,null,null,"                                   WEEK-END                       ",null,null,null,null,null,null,null,"                                   WEEK-END                       ",null,null,null,null,null,null,null,"                                   WEEK-END                       ",null,null,null,null,null,null,null,"                                   WEEK-END                       ",null,null,null,null,null,null,null,"                                   WEEK-END                       ",null,null,null,null,null,null,null,"                                   WEEK-END                       ",null,null,null,null,null,null,null,null,null,null,null,null,null,null,null,null,null,null,null,null,null,null,null,null,null,null,null,null,null,null,null,null,null,null,null,null,null,null,null,null,null,null,null,null,null,null,null,null,null,null,null,null,null,null,null,null,null,0,0,0,0,0,0,0,0,0,0,0,0,0,0,0,null,0,0,0,0,0,0,0,0,0,0,0,0,0,0,0]
[7,"2025-08-24","                                   WEEK-END                       ",null,null,null,null,null,null,null,"                                   WEEK-END                       ",null,null,null,null,null,null,null,"                                   WEEK-END                       ",null,null,null,null,null,null,null,"                                   WEEK-END                       ",null,null,null,null,null,null,null,"                                   WEEK-END                       ",null,null,null,null,null,null,null,"                                   WEEK-END                       ",null,null,null,null,null,null,null,"                                   WEEK-END                       ",null,null,null,null,null,null,null,"                                   WEEK-END                       ",null,null,null,null,null,null,null,"                                   WEEK-END                       ",null,null,null,null,null,null,null,null,null,null,null,null,null,null,null,null,null,null,null,null,null,null,null,null,null,null,null,null,null,null,null,null,null,null,null,null,null,null,null,null,null,null,null,null,null,null,null,null,null,null,null,null,null,null,null,null,null,0,0,0,0,0,0,0,0,0,0,0,0,0,0,0,null,0,0,0,0,0,0,0,0,0,0,0,0,0,0,0]
[1,"2025-08-25","     Pédagogique",null,null,null,null,null,null,null,"     Pédagogique",null,null,null,null,null,null,null,"     Pédagogique",null,null,null,null,null,null,null,"     Pédagogique",null,null,null,null,null,null,null,"     Pédagogique",null,null,null,null,null,null,null,"     Pédagogique",null,null,null,null,null,null,null,"     Pédagogique",null,null,null,null,null,null,null,"     Pédagogique",null,null,null,null,null,null,null,"     Pédagogique",null,null,null,null,null,null,null,null,null,null,null,null,null,null,null,null,null,null,null,null,null,null,null,null,null,null,null,null,null,null,null,null,null,null,null,null,null,null,null,null,null,null,null,null,null,null,null,null,null,null,null,null,null,null,null,null,null,0,0,0,0,0,0,0,0,0,0,0,0,0,0,0,null,0,0,0,0,0,0,0,0,0,0,0,0,0,0,0]
[2,"2025-08-26",23,"sb",6,null,null,null,null,null,14,"mc",6,null,null,null,null,null,13,"cg",6,null,null,null,null,null,16,"mp",6,null,null,null,null,null,10,"jr",6,null,null,null,null,null,1,"rg",6,null,null,null,null,null,null,null,null,null,null,null,null,null,null,null,null,null,null,null,null,null,null,null,null,null,null,null,null,null,null,null,null,null,null,null,null,null,null,null,null,null,null,null,null,null,null,null,null,null,null,null,null,null,null,null,null,null,null,null,null,null,null,null,null,null,null,null,null,null,null,null,null,null,null,null,null,null,null,null,1,1,1,1,0,1,1,0,0,0,0,0,0,0,0,null,{"$f":"SUM(#REF!,$E16)","v":{"$error":"#REF!"}},6,6,6,6,6,0,0,0,0,0,0,0,0,0]
[3,"2025-08-27",23,"sb",6,null,null,null,null,null,14,"mc",6,null,null,null,null,null,13,"cg",6,null,null,null,null,null,16,"mp",6,null,null,null,null,null,10,"jr",6,null,null,null,null,null,1,"rg",6,null,null,null,null,null,null,null,null,null,null,null,null,null,null,null,null,null,null,null,null,null,null,null,null,null,null,null,null,null,null,null,null,null,null,null,null,null,null,null,null,null,null,null,null,null,null,null,null,null,null,null,null,null,null,null,null,null,null,null,null,null,null,null,null,null,null,null,null,null,null,null,null,null,null,null,null,null,null,null,1,1,1,1,0,1,1,0,0,0,0,0,0,0,0,null,{"$f":"SUM(#REF!,$E17)","v":{"$error":"#REF!"}},6,6,6,6,6,0,0,0,0,0,0,0,0,0]
[4,"2025-08-28",23,"sb",6,null,null,null,null,null,14,"mc",6,null,null,null,null,null,13,"cg",6,null,null,null,null,null,16,"mp",6,null,null,null,null,null,10,"jr",6,null,null,null,null,null,2,"rg",6,null,null,null,null,null,null,null,null,null,null,null,null,null,null,null,null,null,null,null,null,null,null,null,null,null,null,null,null,null,null,null,null,null,null,null,null,null,null,null,null,null,null,null,null,null,null,null,null,null,null,null,null,null,null,null,null,null,null,null,null,null,null,null,null,null,null,null,null,null,null,null,null,null,null,null,null,null,null,null,1,1,1,1,0,1,1,0,0,0,0,0,0,0,0,null,{"$f":"SUM(#REF!,$E18)","v":{"$error":"#REF!"}},6,6,6,6,6,0,0,0,0,0,0,0,0,0]
[5,"2025-08-29",23,"sb",3,null,24,"sb",3,"st",14,"mc",6,null,null,null,null,null,13,"cg",6,null,null,null,null,null,16,"mp",6,null,null,null,null,null,10,"jr",6,null,null,null,null,null,2,"rg",6,null,null,null,null,null,null,null,null,null,null,null,null,null,null,null,null,null,null,null,null,null,null,null,null,null,null,null,null,null,null,null,null,null,null,null,null,null,null,null,null,null,null,null,null,null,null,null,null,null,null,null,null,null,null,null,null,null,null,null,null,null,null,null,null,null,null,null,null,null,null,null,null,null,null,null,null,null,null,null,2,1,1,1,0,1,1,0,0,0,0,0,0,0,0,null,{"$f":"SUM(#REF!,$E19)","v":{"$error":"#REF!"}},6,6,6,6,6,0,0,0,0,0,0,0,0,0]
[6,"2025-08-30","                                   WEEK-END                       ",null,null,null,null,null,null,null,"                                   WEEK-END                       ",null,null,null,null,null,null,null,"                                   WEEK-END                       ",null,null,null,null,null,null,null,"                                   WEEK-END                       ",null,null,null,null,null,null,null,"                                   WEEK-END                       ",null,null,null,null,null,null,null,"                                   WEEK-END                       ",null,null,null,null,null,null,null,"                                   WEEK-END                       ",null,null,null,null,null,null,null,"                                   WEEK-END                       ",null,null,null,null,null,null,null,"                                   WEEK-END                       ",null,null,null,null,null,null,null,null,null,null,null,null,null,null,null,null,null,null,null,null,null,null,null,null,null,null,null,null,null,null,null,null,null,null,null,null,null,null,null,null,null,null,null,null,null,null,null,null,null,null,null,null,null,null,null,null,null,0,0,0,0,0,0,0,0,0,0,0,0,0,0,0,null,0,0,0,0,0,0,0,0,0,0,0,0,0,0,0]
[7,"2025-08-31","                                   WEEK-END                       ",null,null,null,null,null,null,null,"                                   WEEK-END                       ",null,null,null,null,null,null,null,"                                   WEEK-END                       ",null,null,null,null,null,null,null,"                                   WEEK-END                       ",null,null,null,null,null,null,null,"                                   WEEK-END                       ",null,null,null,null,null,null,null,"                                   WEEK-END                       ",null,null,null,null,null,null,null,"                                   WEEK-END                       ",null,null,null,null,null,null,null,"                                   WEEK-END                       ",null,null,null,null,null,null,null,"                                   WEEK-END                       ",null,null,null,null,null,null,null,null,null,null,null,null,null,null,null,null,null,null,null,null,null,null,null,null,null,null,null,null,null,null,null,null,null,null,null,null,null,null,null,null,null,null,null,null,null,null,null,null,null,null,null,null,null,null,null,null,null,0,0,0,0,0,0,0,0,0,0,0,0,0,0,0,null,0,0,0,0,0,0,0,0,0,0,0,0,0,0,0]
[1,"2025-09-01","Congé",null,null,null,null,null,null,null,"Congé",null,null,null,null,null,null,null,"Congé",null,null,null,null,null,null,null,"Congé",null,null,null,null,null,null,null,"Congé",null,null,null,null,null,null,null,"Congé",null,null,null,null,null,null,null,"Congé",null,null,null,null,null,null,null,"Congé",null,null,null,null,null,null,null,"Congé",null,null,null,null,null,null,null,null,null,null,null,null,null,null,null,null,null,null,null,null,null,null,null,null,null,null,null,null,null,null,null,null,null,null,null,null,null,null,null,null,null,null,null,null,null,null,null,null,null,null,null,null,null,null,null,null,null,0,0,0,0,0,0,0,0,0,0,0,0,0,0,0,null,0,0,0,0,0,0,0,0,0,0,0,0,0,0,0]
[2,"2025-09-02",23,"sb",6,null,null,null,null,null,14,"mc",6,null,null,null,null,null,13,"cg",6,null,null,null,null,null,16,"mp",6,null,null,null,null,null,10,"jr",6,null,null,null,null,null,2,"rg",6,null,null,null,null,null,null,null,null,null,null,null,null,null,null,null,null,null,null,null,null,null,null,null,null,null,null,null,null,null,null,null,null,null,null,null,null,null,null,null,null,null,null,null,null,null,null,null,null,null,null,null,null,null,null,null,null,null,null,null,null,null,null,null,null,null,null,null,null,null,null,null,null,null,null,null,null,null,null,null,1,1,1,1,0,1,1,0,0,0,0,0,0,0,0,null,6,6,6,6,6,6,0,0,0,0,0,0,0,0,0]
[3,"2025-09-03",23,"sb",6,null,null,null,null,null,14,"mc",6,null,null,null,null,null,13,"cg",6,null,null,null,null,null,16,"mp",6,null,null,null,null,null,10,"jr",6,null,null,null,null,null,1,"rg",6,"EX",null,null,null,null,null,null,null,null,null,null,null,null,null,null,null,null,null,null,null,null,null,null,null,null,null,null,null,null,null,null,null,null,null,null,null,null,null,null,null,null,null,null,null,null,null,null,null,null,null,null,null,null,null,null,null,null,null,null,null,null,null,null,null,null,null,null,null,null,null,null,null,null,null,null,null,null,null,null,1,1,1,1,0,1,1,0,0,0,0,0,0,0,0,null,6,6,6,6,6,6,0,0,0,0,0,0,0,0,0]
[4,"2025-09-04",23,"sb",6,null,null,null,null,null,14,"mc",6,null,null,null,null,null,13,"cg",6,null,null,null,null,null,90,"mp",6,"R12",null,null,null,null,10,"jr",6,null,null,null,null,null,2,"rg",6,null,null,null,null,null,null,null,null,null,null,null,null,null,null,null,null,null,null,null,null,null,null,null,null,null,null,null,null,null,null,null,null,null,null,null,null,null,null,null,null,null,null,null,null,null,null,null,null,null,null,null,null,null,null,null,null,null,null,null,null,null,null,null,null,null,null,null,null,null,null,null,null,null,null,null,null,null,null,null,1,1,1,1,0,1,1,0,0,0,0,0,0,0,0,null,6,6,6,6,6,6,0,0,0,0,0,0,0,0,0]
[5,"2025-09-05",90,"sb",6,"R21",null,null,null,null,14,"mc",6,null,null,null,null,null,13,"cg",6,null,null,null,null,null,16,"mp",6,null,null,null,null,null,10,"jr",6,null,null,null,null,null,2,"rg",6,"EX",null,null,null,null,null,null,null,null,null,null,null,null,null,null,null,null,null,null,null,null,null,null,null,null,null,null,null,null,null,null,null,null,null,null,null,null,null,null,null,null,null,null,null,null,null,null,null,null,null,null,null,null,null,null,null,null,null,null,null,null,null,null,null,null,null,null,null,null,null,null,null,null,null,null,null,null,null,null,1,1,1,1,0,1,1,0,0,0,0,0,0,0,0,null,6,6,6,6,6,6,0,0,0,0,0,0,0,0,0]
[6,"2025-09-06","                                   WEEK-END                       ",null,null,null,null,null,null,null,"                                   WEEK-END                       ",null,null,null,null,null,null,null,"                                   WEEK-END                       ",null,null,null,null,null,null,null,"                                   WEEK-END                       ",null,null,null,null,null,null,null,"                                   WEEK-END                       ",null,null,null,null,null,null,null,"                                   WEEK-END                       ",null,null,null,null,null,null,null,"                                   WEEK-END                       ",null,null,null,null,null,null,null,"                                   WEEK-END                       ",null,null,null,null,null,null,null,"                                   WEEK-END                       ",null,null,null,null,null,null,null,null,null,null,null,null,null,null,null,null,null,null,null,null,null,null,null,null,null,null,null,null,null,null,null,null,null,null,null,null,null,null,null,null,null,null,null,null,null,null,null,null,null,null,null,null,null,null,null,null,null,0,0,0,0,0,0,0,0,0,0,0,0,0,0,0,null,0,0,0,0,0,0,0,0,0,0,0,0,0,0,0]
[7,"2025-09-07","                                   WEEK-END                       ",null,null,null,null,null,null,null,"                                   WEEK-END                       ",null,null,null,null,null,null,null,"                                   WEEK-END                       ",null,null,null,null,null,null,null,"                                   WEEK-END                       ",null,null,null,null,null,null,null,"                                   WEEK-END                       ",null,null,null,null,null,null,null,"                                   WEEK-END                       ",null,null,null,null,null,null,null,"                                   WEEK-END                       ",null,null,null,null,null,null,null,"                                   WEEK-END                       ",null,null,null,null,null,null,null,"                                   WEEK-END                       ",null,null,null,null,null,null,null,null,null,null,null,null,null,null,null,null,null,null,null,null,null,null,null,null,null,null,null,null,null,null,null,null,null,null,null,null,null,null,null,null,null,null,null,null,null,null,null,null,null,null,null,null,null,null,null,null,null,0,0,0,0,0,0,0,0,0,0,0,0,0,0,0,null,0,0,0,0,0,0,0,0,0,0,0,0,0,0,0]
[1,"2025-09-08",23,"sb",6,"EX",null,null,null,null,90,"mc",6,"R13",null,null,null,null,13,"cg",6,null,null,null,null,null,16,"mp",6,"EX",33,"rg",6,"X12",10,"jr",6,"EX",null,null,null,null,"Congé",null,null,null,null,null,null,null,null,null,null,null,null,null,null,null,null,null,null,null,null,null,null,null,null,null,null,null,null,null,null,null,null,null,null,null,null,null,null,null,null,null,null,null,null,null,null,null,null,null,null,null,null,null,null,null,null,null,null,null,null,null,null,null,null,null,null,null,null,null,null,null,null,null,null,null,null,null,null,null,null,null,1,1,1,1,0,1,1,0,0,0,0,0,0,0,0,null,6,6,6,12,6,0,0,0,0,0,0,0,0,0,0]
[2,"2025-09-09",23,"sb",6,"EX",null,null,null,null,14,"mc",6,"EX",null,null,null,null,13,"rg",6,null,null,null,null,null,16,"mp",6,"EX",null,null,null,null,10,"jr",6,"EX",null,null,null,null,3,"yc",6,null,null,null,null,null,null,null,null,null,null,null,null,null,null,null,null,null,null,null,null,null,null,null,null,null,null,null,null,null,null,null,null,null,null,null,null,null,null,null,null,null,null,null,null,null,null,null,null,null,null,null,null,null,null,null,null,null,null,null,null,null,null,null,null,null,null,null,null,null,null,null,null,null,null,null,null,null,null,null,1,1,0,1,1,1,1,0,0,0,0,0,0,0,0,null,6,6,6,6,6,6,0,0,0,0,0,0,0,0,0]
[3,{"$f":"B30+1","v":"2025-09-10"},95,null,6,null,33,"sb",3,"X21",14,"mc",6,"EX",33,"sb",3,"X13",13,"cg",6,null,null,null,null,null,11,"rg",6,null,null,null,null,null,12,"jr",6,null,null,null,null,null,3,"yc",6,null,null,null,null,null,null,null,null,null,null,null,null,null,null,null,null,null,null,null,null,null,null,null,null,null,null,null,null,null,null,null,null,null,null,null,null,null,null,null,null,null,null,null,null,null,null,null,null,null,null,null,null,null,null,null,null,null,null,null,null,null,null,null,null,null,null,null,null,null,null,null,null,null,null,null,null,null,null,null,2,0,1,1,1,1,1,0,0,0,0,0,0,0,0,null,9,9,6,6,6,6,0,0,0,0,0,0,0,0,0]
[4,"2025-09-11",24,"sb",6,null,null,null,null,null,22,"mp",6,null,null,null,null,null,13,"cg",6,null,null,null,null,null,11,"mc",6,null,null,null,null,null,12,"jr",6,null,null,null,null,null,3,"yc",6,null,null,null,null,null,null,null,null,null,null,null,null,null,null,null,null,null,null,null,null,null,null,null,null,null,null,null,null,null,null,null,null,null,null,null,null,null,null,null,null,null,null,null,null,null,null,null,null,null,null,null,null,null,null,null,null,null,null,null,null,null,null,null,null,null,null,null,null,null,null,null,null,null,null,null,null,null,null,null,1,1,1,1,1,1,0,0,0,0,0,0,0,0,0,null,6,6,6,6,6,6,0,0,0,0,0,0,0,0,0]
[5,"2025-09-12",95,null,6,null,null,null,null,null,22,"mp",6,null,null,null,null,null,13,"cg",6,null,null,null,null,null,11,"mc",6,null,null,null,null,null,12,"rg",6,null,null,null,null,null,3,"yc",6,"EX",null,null,null,null,null,null,null,null,null,null,null,null,null,null,null,null,null,null,null,null,null,null,null,null,null,null,null,null,null,null,null,null,null,null,null,null,null,null,null,null,null,null,null,null,null,null,null,null,null,null,null,null,null,null,null,null,null,null,null,null,null,null,null,null,null,null,null,null,null,null,null,null,null,null,null,null,null,null,0,1,1,0,1,1,1,0,0,0,0,0,0,0,0,null,6,6,6,6,6,6,0,0,0,0,0,0,0,0,0]
[6,"2025-09-13","                                   WEEK-END                       ",null,null,null,null,null,null,null,"                                   WEEK-END                       ",null,null,null,null,null,null,null,"                                   WEEK-END                       ",null,null,null,null,null,null,null,"                                   WEEK-END                       ",null,null,null,null,null,null,null,"                                   WEEK-END                       ",null,null,null,null,null,null,null,"                                   WEEK-END                       ",null,null,null,null,null,null,null,"                                   WEEK-END                       ",null,null,null,null,null,null,null,"                                   WEEK-END                       ",null,null,null,null,null,null,null,"                                   WEEK-END                       ",null,null,null,null,null,null,null,null,null,null,null,null,null,null,null,null,null,null,null,null,null,null,null,null,null,null,null,null,null,null,null,null,null,null,null,null,null,null,null,null,null,null,null,null,null,null,null,null,null,null,null,null,null,null,null,null,null,0,0,0,0,0,0,0,0,0,0,0,0,0,0,0,null,0,0,0,0,0,0,0,0,0,0,0,0,0,0,0]
[7,"2025-09-14","                                   WEEK-END                       ",null,null,null,null,null,null,null,"                                   WEEK-END                       ",null,null,null,null,null,null,null,"                                   WEEK-END                       ",null,null,null,null,null,null,null,"                                   WEEK-END                       ",null,null,null,null,null,null,null,"                                   WEEK-END                       ",null,null,null,null,null,null,null,"                                   WEEK-END                       ",null,null,null,null,null,null,null,"                                   WEEK-END                       ",null,null,null,null,null,null,null,"                                   WEEK-END                       ",null,null,null,null,null,null,null,"                                   WEEK-END                       ",null,null,null,null,null,null,null,null,null,null,null,null,null,null,null,null,null,null,null,null,null,null,null,null,null,null,null,null,null,null,null,null,null,null,null,null,null,null,null,null,null,null,null,null,null,null,null,null,null,null,null,null,null,null,null,null,null,0,0,0,0,0,0,0,0,0,0,0,0,0,0,0,null,0,0,0,0,0,0,0,0,0,0,0,0,0,0,0]
[1,"2025-09-15",24,"sb",6,null,null,null,null,null,22,"mp",6,null,null,null,null,null,13,"cg",6,null,null,null,null,null,11,"mc",6,null,null,null,null,null,12,"rg",6,null,null,null,null,null,4,"yc",6,null,null,null,null,null,null,null,null,null,null,null,null,null,null,null,null,null,null,null,null,null,null,null,null,null,null,null,null,null,null,null,null,null,null,null,null,null,null,null,null,null,null,null,null,null,null,null,null,null,null,null,null,null,null,null,null,null,null,null,null,null,null,null,null,null,null,null,null,null,null,null,null,null,null,null,null,null,null,null,1,1,1,0,1,1,1,0,0,0,0,0,0,0,0,null,6,6,6,6,6,6,0,0,0,0,0,0,0,0,0]
[2,"2025-09-16",24,"sb",6,null,null,null,null,null,22,"mp",6,null,null,null,null,null,13,"cg",6,null,null,null,null,null,11,"mc",6,null,null,null,null,null,12,"jr",6,null,null,null,null,null,4,"yc",6,null,null,null,null,null,null,null,null,null,null,null,null,null,null,null,null,null,null,null,null,null,null,null,null,null,null,null,null,null,null,null,null,null,null,null,null,null,null,null,null,null,null,null,null,null,null,null,null,null,null,null,null,null,null,null,null,null,null,null,null,null,null,null,null,null,null,null,null,null,null,null,null,null,null,null,null,null,null,null,1,1,1,1,1,1,0,0,0,0,0,0,0,0,0,null,6,6,6,6,6,6,0,0,0,0,0,0,0,0,0]
[3,"2025-09-17",24,"sb",6,null,null,null,null,null,22,"mp",6,null,null,null,null,null,13,"cg",6,null,null,null,null,null,90,"rg",6,"R16",null,null,null,null,12,"jr",6,null,null,null,null,null,4,"yc",6,null,null,null,null,null,null,null,null,null,null,null,null,null,null,null,null,null,null,null,null,null,null,null,null,null,null,null,null,null,null,null,null,null,null,null,null,null,null,null,null,null,null,null,null,null,null,null,null,null,null,null,null,null,null,null,null,null,null,null,null,null,null,null,null,null,null,null,null,null,null,null,null,null,null,null,null,null,null,null,1,1,1,1,1,0,1,0,0,0,0,0,0,0,0,null,6,6,6,6,6,6,0,0,0,0,0,0,0,0,0]
[4,"2025-09-18",95,null,6,null,null,null,null,null,22,"sb",6,null,null,null,null,null,90,"rg",6,"R15",null,null,null,null,11,"mc",6,null,null,null,null,null,12,"jr",6,null,null,null,null,null,4,"yc",6,null,null,null,null,null,null,null,null,null,null,null,null,null,null,null,null,null,null,null,null,null,null,null,null,null,null,null,null,null,null,null,null,null,null,null,null,null,null,null,null,null,null,null,null,null,null,null,null,null,null,null,null,null,null,null,null,null,null,null,null,null,null,null,null,null,null,null,null,null,null,null,null,null,null,null,null,null,null,null,1,0,0,1,1,1,1,0,0,0,0,0,0,0,0,null,6,6,6,6,6,6,0,0,0,0,0,0,0,0,0]
[5,"2025-09-19",95,null,6,null,null,null,null,null,22,"mp",6,null,null,null,null,null,13,"cg",6,null,null,null,null,null,11,"mc",6,null,null,null,null,null,12,"jr",6,null,null,null,null,null,"Congé",null,null,null,null,null,null,null,null,null,null,null,null,null,null,null,null,null,null,null,null,null,null,null,null,null,null,null,null,null,null,null,null,null,null,null,null,null,null,null,null,null,null,null,null,null,null,null,null,null,null,null,null,null,null,null,null,null,null,null,null,null,null,null,null,null,null,null,null,null,null,null,null,null,null,null,null,null,null,null,null,null,{"$f":"COUNTIF($C40:$DR40,$A$459)","v":0},{"$f":"COUNTIF($C40:$DR40,$A$460)","v":1},{"$f":"COUNTIF($C40:$DR40,$A$461)","v":1},{"$f":"COUNTIF($C40:$DR40,$A$462)","v":1},{"$f":"COUNTIF($C40:$DR40,$A$463)","v":0},{"$f":"COUNTIF($C40:$DR40,$A$464)","v":1},{"$f":"COUNTIF($C40:$DR40,$A$465)","v":0},{"$f":"COUNTIF($C40:$DR40,$A$466)","v":0},{"$f":"COUNTIF($C40:$DR40,$A$467)","v":0},{"$f":"COUNTIF($C40:$DR40,$A$468)","v":0},{"$f":"COUNTIF($C40:$DR40,$A$469)","v":0},{"$f":"COUNTIF($C40:$DR40,$A$470)","v":0},{"$f":"COUNTIF($C40:$DR40,$A$471)","v":0},{"$f":"COUNTIF($C40:$DR40,$A$472)","v":0},{"$f":"COUNTIF($C40:$DR40,$A$473)","v":0},null,6,6,6,6,6,{"$f":"SUM(#REF!,AW40)","v":{"$error":"#REF!"}},0,0,0,0,0,0,0,0,0]
[6,"2025-09-20","                                   WEEK-END                       ",null,null,null,null,null,null,null,"                                   WEEK-END                       ",null,null,null,null,null,null,null,"                                   WEEK-END                       ",null,null,null,null,null,null,null,"                                   WEEK-END                       ",null,null,null,null,null,null,null,"                                   WEEK-END                       ",null,null,null,null,null,null,null,"                                   WEEK-END                       ",null,null,null,null,null,null,null,"                                   WEEK-END                       ",null,null,null,null,null,null,null,"                                   WEEK-END                       ",null,null,null,null,null,null,null,"                                   WEEK-END                       ",null,null,null,null,null,null,null,null,null,null,null,null,null,null,null,null,null,null,null,null,null,null,null,null,null,null,null,null,null,null,null,null,null,null,null,null,null,null,null,null,null,null,null,null,null,null,null,null,null,null,null,null,null,null,null,null,null,0,0,0,0,0,0,0,0,0,0,0,0,0,0,0,null,0,0,0,0,0,0,0,0,0,0,0,0,0,0,0]
[7,"2025-09-21","                                   WEEK-END                       ",null,null,null,null,null,null,null,"                                   WEEK-END                       ",null,null,null,null,null,null,null,"                                   WEEK-END                       ",null,null,null,null,null,null,null,"                                   WEEK-END                       ",null,null,null,null,null,null,null,"                                   WEEK-END                       ",null,null,null,null,null,null,null,"                                   WEEK-END                       ",null,null,null,null,null,null,null,"                                   WEEK-END                       ",null,null,null,null,null,null,null,"                                   WEEK-END                       ",null,null,null,null,null,null,null,"                                   WEEK-END                       ",null,null,null,null,null,null,null,null,null,null,null,null,null,null,null,null,null,null,null,null,null,null,null,null,null,null,null,null,null,null,null,null,null,null,null,null,null,null,null,null,null,null,null,null,null,null,null,null,null,null,null,null,null,null,null,null,null,0,0,0,0,0,0,0,0,0,0,0,0,0,0,0,null,0,0,0,0,0,0,0,0,0,0,0,0,0,0,0]
[1,"2025-09-22",95,null,6,null,null,null,null,null,22,"mp",6,null,null,null,null,null,13,"cg",6,"EX",null,null,null,null,11,"mc",6,null,null,null,null,null,12,"jr",6,null,null,null,null,null,4,"yc",6,null,null,null,null,null,null,null,null,null,null,null,null,null,null,null,null,null,null,null,null,null,null,null,null,null,null,null,null,null,null,null,null,null,null,null,null,null,null,null,null,null,null,null,null,null,null,null,null,null,null,null,null,null,null,null,null,null,null,null,null,null,null,null,null,null,null,null,null,null,null,null,null,null,null,null,null,null,null,null,0,1,1,1,1,1,0,0,0,0,0,0,0,0,0,null,6,6,6,6,6,{"$f":"SUM(AS40,#REF!)","v":{"$error":"#REF!"}},0,0,0,0,0,0,0,0,0]
[2,"2025-09-23",24,"sb",6,null,null,null,null,null,22,"mp",6,null,null,null,null,null,13,"cg",6,"EX",33,"rg",3,"X15",11,"mc",6,null,null,null,null,null,12,"jr",6,null,null,null,null,null,4,"yc",6,null,null,null,null,null,null,null,null,null,null,null,null,null,null,null,null,null,null,null,null,null,null,null,null,null,null,null,null,null,null,null,null,null,null,null,null,null,null,null,null,null,null,null,null,null,null,null,null,null,null,null,null,null,null,null,null,null,null,null,null,null,null,null,null,null,null,null,null,null,null,null,null,null,null,null,null,null,null,null,1,1,1,1,1,1,1,0,0,0,0,0,0,0,0,null,6,6,9,6,6,{"$f":"SUM(AS43,AW43)","v":6},0,0,0,0,0,0,0,0,0]
[3,"2025-09-24",24,"sb",6,null,null,null,null,null,22,"mp",6,null,null,null,null,null,14,"cg",6,null,null,null,null,null,11,"mc",6,null,null,null,null,null,90,"rg",6,"R10",null,null,null,null,4,"yc",6,null,null,null,null,null,null,null,null,null,null,null,null,null,null,null,null,null,null,null,null,null,null,null,null,null,null,null,null,null,null,null,null,null,null,null,null,null,null,null,null,null,null,null,null,null,null,null,null,null,null,null,null,null,null,null,null,null,null,null,null,null,null,null,null,null,null,null,null,null,null,null,null,null,null,null,null,null,null,null,1,1,1,0,1,1,1,0,0,0,0,0,0,0,0,null,6,6,6,6,{"$f":"SUM(#REF!,AO45)","v":{"$error":"#REF!"}},{"$f":"SUM(AS44,AW44)","v":6},0,0,0,0,0,0,0,0,0]
[4,{"$f":"B45+1","v":"2025-09-25"},95,null,6,null,null,null,null,null,22,"sb",6,null,null,null,null,null,14,"cg",6,null,null,null,null,null,11,"mc",6,"EX",33,"rg",3,"X16",12,"jr",6,null,null,null,null,null,4,"yc",6,null,null,null,null,null,null,null,null,null,null,null,null,null,null,null,null,null,null,null,null,null,1,"np",6,null,null,null,null,null,null,null,null,null,null,null,null,null,null,null,null,null,null,null,null,null,null,null,null,null,null,null,null,null,null,null,null,null,null,null,null,null,null,null,null,null,null,null,null,null,null,null,null,null,null,null,null,null,null,null,1,0,1,1,1,1,1,1,0,0,0,0,0,0,0,null,6,6,6,9,6,{"$f":"SUM(AS45,AW45)","v":6},0,0,6,0,0,0,0,0,0]
[5,"2025-09-26",95,null,6,null,null,null,null,null,22,"sb",6,null,null,null,null,null,14,"mp",6,null,null,null,null,null,11,"mc",6,"EX",null,null,null,null,12,"jr",6,null,null,null,null,null,"Congé",null,null,null,null,null,null,null,null,null,null,null,null,null,null,null,null,null,null,null,null,null,null,null,1,"rg",6,null,null,null,null,null,null,null,null,null,null,null,null,null,null,null,null,null,null,null,null,null,null,null,null,null,null,null,null,null,null,null,null,null,null,null,null,null,null,null,null,null,null,null,null,null,null,null,null,null,null,null,null,null,null,null,1,1,0,1,0,1,1,0,0,0,0,0,0,0,0,null,6,6,6,6,{"$f":"SUM(AK45,AO47)","v":6},{"$f":"SUM(AS46,AW46)","v":6},0,0,6,0,0,0,0,0,0]
[6,"2025-09-27","                                   WEEK-END                       ",null,null,null,null,null,null,null,"                                   WEEK-END                       ",null,null,null,null,null,null,null,"                                   WEEK-END                       ",null,null,null,null,null,null,null,"                                   WEEK-END                       ",null,null,null,null,null,null,null,"                                   WEEK-END                       ",null,null,null,null,null,null,null,"                                   WEEK-END                       ",null,null,null,null,null,null,null,"                                   WEEK-END                       ",null,null,null,null,null,null,null,"                                   WEEK-END                       ",null,null,null,null,null,null,null,"                                   WEEK-END                       ",null,null,null,null,null,null,null,null,null,null,null,null,null,null,null,null,null,null,null,null,null,null,null,null,null,null,null,null,null,null,null,null,null,null,null,null,null,null,null,null,null,null,null,null,null,null,null,null,null,null,null,null,null,null,null,null,null,0,0,0,0,0,0,0,0,0,0,0,0,0,0,0,null,0,0,0,0,0,0,0,0,0,0,0,0,0,0,0]
[7,"2025-09-28","                                   WEEK-END                       ",null,null,null,null,null,null,null,"                                   WEEK-END                       ",null,null,null,null,null,null,null,"                                   WEEK-END                       ",null,null,null,null,null,null,null,"                                   WEEK-END                       ",null,null,null,null,null,null,null,"                                   WEEK-END                       ",null,null,null,null,null,null,null,"                                   WEEK-END                       ",null,null,null,null,null,null,null,"                                   WEEK-END                       ",null,null,null,null,null,null,null,"                                   WEEK-END                       ",null,null,null,null,null,null,null,"                                   WEEK-END                       ",null,null,null,null,null,null,null,null,null,null,null,null,null,null,null,null,null,null,null,null,null,null,null,null,null,null,null,null,null,null,null,null,null,null,null,null,null,null,null,null,null,null,null,null,null,null,null,null,null,null,null,null,null,null,null,null,null,0,0,0,0,0,0,0,0,0,0,0,0,0,0,0,null,0,0,0,0,0,0,0,0,0,0,0,0,0,0,0]
[1,"2025-09-29",24,"sb",6,null,null,null,null,null,22,"mp",6,null,null,null,null,null,14,"cg",6,null,null,null,null,null,18,"mc",6,null,null,null,null,null,12,"rg",6,null,null,null,null,null,4,"yc",6,null,null,null,null,null,null,null,null,null,null,null,null,null,null,null,null,null,null,null,null,null,null,null,null,null,null,null,null,null,null,null,null,null,null,null,null,null,null,null,null,null,null,null,null,null,null,null,null,null,null,null,null,null,null,null,null,null,null,null,null,null,null,null,null,null,null,null,null,null,null,null,null,null,null,null,null,null,null,null,1,1,1,0,1,1,1,0,0,0,0,0,0,0,0,null,6,{"$f":"SUM($M54,$Q50)","v":6},6,6,6,{"$f":"SUM(AS47,AW47)","v":0},0,0,0,0,0,0,0,0,0]
[2,"2025-09-30",24,"sb",6,"RT",null,null,null,null,22,"mp",6,null,null,null,null,null,14,"cg",6,null,null,null,null,null,18,"mc",6,null,null,null,null,null,12,"jr",6,null,null,null,null,null,4,"yc",6,null,null,null,null,null,null,null,null,null,null,null,null,null,null,null,null,null,null,null,null,null,null,null,null,null,null,null,null,null,null,null,null,null,null,null,null,null,null,null,null,null,null,null,null,null,null,null,null,null,null,null,null,null,null,null,null,null,null,null,null,null,null,null,null,null,null,null,null,null,null,null,null,null,null,null,null,null,null,null,1,1,1,1,1,1,0,0,0,0,0,0,0,0,0,null,6,6,6,6,6,{"$f":"SUM(AS50,AW50)","v":6},0,0,0,0,0,0,0,0,0]
[3,"2025-10-01",90,"sb",6,"R23",null,null,null,null,22,"mp",6,null,null,null,null,null,90,"rg",6,"R13",null,null,null,null,18,"mc",6,null,null,null,null,null,12,"jr",6,null,null,null,null,null,4,"yc",6,"EX",null,null,null,null,null,null,null,null,null,null,null,null,null,null,null,null,null,null,null,null,null,null,null,null,null,null,null,null,null,null,null,null,null,null,null,null,null,null,null,null,null,null,null,null,null,null,null,null,null,null,null,null,null,null,null,null,null,null,null,null,null,null,null,null,null,null,null,null,null,null,null,null,null,null,null,null,null,null,1,1,0,1,1,1,1,0,0,0,0,0,0,0,0,null,6,6,6,6,{"$f":"SUM(AK52,AO52)","v":6},{"$f":"SUM(AS51,AW51)","v":6},0,0,0,0,0,0,0,0,0]
[4,"2025-10-02",33,"sb",3,"X23",null,null,null,null,22,"mp",6,null,null,null,null,null,14,"cg",6,null,null,null,null,null,18,"mc",6,null,null,null,null,null,12,"jr",6,"EX",33,"rg",3,"X10",4,"yc",6,"EX",null,null,null,null,null,null,null,null,null,null,null,null,null,null,null,null,null,null,null,null,2,"np",6,null,null,null,null,null,null,null,null,null,null,null,null,null,null,null,null,null,null,null,null,null,null,null,null,null,null,null,null,null,null,null,null,null,null,null,null,null,null,null,null,null,null,null,null,null,null,null,null,null,null,null,null,null,null,null,1,1,1,1,1,1,1,1,0,0,0,0,0,0,0,null,3,6,6,6,9,{"$f":"SUM(AS52,AW52)","v":6},0,0,6,0,0,0,0,0,0]
[5,"2025-10-03",null,null,null,null,null,null,null,null,90,"rg",6,"R14",null,null,null,null,14,"cg",6,null,null,null,null,null,18,"mc",6,null,null,null,null,null,12,"jr",6,"EX",null,null,null,null,"Congé",null,null,null,null,null,null,null,null,null,null,null,null,null,null,null,null,null,null,null,null,null,null,null,1,"np",6,null,null,null,null,null,null,null,null,null,null,null,null,null,null,null,null,null,null,null,null,null,null,null,null,null,null,null,null,null,null,null,null,null,null,null,null,null,null,null,null,null,null,null,null,null,null,null,null,null,null,null,null,null,null,null,0,0,1,1,0,1,1,1,0,0,0,0,0,0,0,null,0,{"$f":"SUM(#REF!,$Q54)","v":{"$error":"#REF!"}},6,6,6,{"$f":"SUM(AS53,AW53)","v":6},0,0,6,0,0,0,0,0,0]
[6,"2025-10-04","                                   WEEK-END                       ",null,null,null,null,null,null,null,"                                   WEEK-END                       ",null,null,null,null,null,null,null,"                                   WEEK-END                       ",null,null,null,null,null,null,null,"                                   WEEK-END                       ",null,null,null,null,null,null,null,"                                   WEEK-END                       ",null,null,null,null,null,null,null,"                                   WEEK-END                       ",null,null,null,null,null,null,null,"                                   WEEK-END                       ",null,null,null,null,null,null,null,"                                   WEEK-END                       ",null,null,null,null,null,null,null,"                                   WEEK-END                       ",null,null,null,null,null,null,null,null,null,null,null,null,null,null,null,null,null,null,null,null,null,null,null,null,null,null,null,null,null,null,null,null,null,null,null,null,null,null,null,null,null,null,null,null,null,null,null,null,null,null,null,null,null,null,null,null,null,0,0,0,0,0,0,0,0,0,0,0,0,0,0,0,null,0,0,0,0,0,0,0,0,0,0,0,0,0,0,0]
[7,"2025-10-05","                                   WEEK-END                       ",null,null,null,null,null,null,null,"                                   WEEK-END                       ",null,null,null,null,null,null,null,"                                   WEEK-END                       ",null,null,null,null,null,null,null,"                                   WEEK-END                       ",null,null,null,null,null,null,null,"                                   WEEK-END                       ",null,null,null,null,null,null,null,"                                   WEEK-END                       ",null,null,null,null,null,null,null,"                                   WEEK-END                       ",null,null,null,null,null,null,null,"                                   WEEK-END                       ",null,null,null,null,null,null,null,"                                   WEEK-END                       ",null,null,null,null,null,null,null,null,null,null,null,null,null,null,null,null,null,null,null,null,null,null,null,null,null,null,null,null,null,null,null,null,null,null,null,null,null,null,null,null,null,null,null,null,null,null,null,null,null,null,null,null,null,null,null,null,null,0,0,0,0,0,0,0,0,0,0,0,0,0,0,0,null,0,0,0,0,0,0,0,0,0,0,0,0,0,0,0]
[1,"2025-10-06",null,null,null,null,null,null,null,null,22,"mp",6,"EX",null,null,null,null,14,"cg",6,null,null,null,null,null,18,"mc",6,null,null,null,null,null,11,"rg",6,null,null,null,null,null,6,"jr",6,null,null,null,null,null,null,null,null,null,null,null,null,null,null,null,null,null,null,null,null,null,null,null,null,null,null,null,null,null,null,null,null,null,null,null,null,null,null,null,null,null,null,null,null,null,null,null,null,null,null,null,null,null,null,null,null,null,null,null,null,null,null,null,null,null,null,null,null,null,null,null,null,null,null,null,null,null,null,null,0,1,1,1,0,1,1,0,0,0,0,0,0,0,0,null,0,6,6,6,6,{"$f":"SUM(AS54,AW54)","v":0},0,0,0,0,0,0,0,0,0]
[2,"2025-10-07",null,null,null,null,null,null,null,null,22,"mp",6,"EX",33,"yc",3,"X14",14,"cg",6,"EX",33,"yc",3,"X13",18,"mc",6,null,null,null,null,null,11,"rg",6,null,null,null,null,null,6,"jr",6,null,null,null,null,null,null,null,null,null,null,null,null,null,null,null,null,null,null,null,null,null,null,null,null,null,null,null,null,null,null,null,null,null,null,null,null,null,null,null,null,null,null,null,null,null,null,null,null,null,null,null,null,null,null,null,null,null,null,null,null,null,null,null,null,null,null,null,null,null,null,null,null,null,null,null,null,null,null,null,0,1,1,1,2,1,1,0,0,0,0,0,0,0,0,null,0,9,{"$f":"SUM($U58,#REF!)","v":{"$error":"#REF!"}},6,6,{"$f":"SUM(AS57,AW57)","v":6},0,0,0,0,0,0,0,0,0]
[3,"2025-10-08",null,null,null,null,null,null,null,null,19,"sb",6,null,null,null,null,null,14,"cg",6,"EX",null,null,null,null,18,"mc",6,null,null,null,null,null,11,"rg",6,null,null,null,null,null,6,"jr",6,"EX",null,null,null,null,null,null,null,null,null,null,null,null,null,null,null,null,null,null,null,null,null,null,null,null,null,null,null,null,null,null,null,null,null,null,null,null,null,null,null,null,null,null,null,null,null,null,null,null,null,null,null,null,null,null,null,null,null,null,null,null,null,null,null,null,null,null,null,null,null,null,null,null,null,null,null,null,null,null,1,0,1,1,0,1,1,0,0,0,0,0,0,0,0,null,0,6,{"$f":"SUM($U59,$Y58)","v":9},6,6,{"$f":"SUM(#REF!,AW58)","v":{"$error":"#REF!"}},0,0,0,0,0,0,0,0,0]
[4,"2025-10-09",null,null,null,null,null,null,null,null,19,"sb",6,null,null,null,null,null,22,"yc",6,null,null,null,null,null,18,"mc",6,null,null,null,null,null,11,"rg",6,null,null,null,null,null,7,"jr",6,null,null,null,null,null,null,null,null,null,null,null,null,null,null,null,null,null,null,null,null,null,2,"mp",6,null,null,null,null,null,null,null,null,null,null,null,null,null,null,null,null,null,null,null,null,null,null,null,null,null,null,null,null,null,null,null,null,null,null,null,null,null,null,null,null,null,null,null,null,null,null,null,null,null,null,null,null,null,null,null,1,1,0,1,1,1,1,0,0,0,0,0,0,0,0,null,0,6,6,6,6,{"$f":"SUM(#REF!,AW59)","v":{"$error":"#REF!"}},0,0,6,0,0,0,0,0,0]
[5,"2025-10-10",null,null,null,null,null,null,null,null,19,"sb",6,null,null,null,null,null,22,"yc",6,null,null,null,null,null,90,"mp",6,"R11",null,null,null,null,11,"cg",6,null,null,null,null,null,"Congé",null,null,null,null,null,null,null,null,null,null,null,null,null,null,null,null,null,null,null,null,null,null,null,null,null,null,null,null,null,null,null,null,null,null,null,null,null,null,null,null,null,null,null,null,null,null,null,null,null,null,null,null,null,null,null,null,null,null,null,null,null,null,null,null,null,null,null,null,null,null,null,null,null,null,null,null,null,null,null,null,null,1,1,1,0,1,0,0,0,0,0,0,0,0,0,0,null,0,6,6,6,6,{"$f":"SUM(#REF!,AW60)","v":{"$error":"#REF!"}},0,0,0,0,0,0,0,0,0]
[6,"2025-10-11","                                   WEEK-END                       ",null,null,null,null,null,null,null,"                                   WEEK-END                       ",null,null,null,null,null,null,null,"                                   WEEK-END                       ",null,null,null,null,null,null,null,"                                   WEEK-END                       ",null,null,null,null,null,null,null,"                                   WEEK-END                       ",null,null,null,null,null,null,null,"                                   WEEK-END                       ",null,null,null,null,null,null,null,"                                   WEEK-END                       ",null,null,null,null,null,null,null,"                                   WEEK-END                       ",null,null,null,null,null,null,null,"                                   WEEK-END                       ",null,null,null,null,null,null,null,null,null,null,null,null,null,null,null,null,null,null,null,null,null,null,null,null,null,null,null,null,null,null,null,null,null,null,null,null,null,null,null,null,null,null,null,null,null,null,null,null,null,null,null,null,null,null,null,null,null,0,0,0,0,0,0,0,0,0,0,0,0,0,0,0,null,0,0,0,0,0,0,0,0,0,0,0,0,0,0,0]
[7,"2025-10-12","                                   WEEK-END                       ",null,null,null,null,null,null,null,"                                   WEEK-END                       ",null,null,null,null,null,null,null,"                                   WEEK-END                       ",null,null,null,null,null,null,null,"                                   WEEK-END                       ",null,null,null,null,null,null,null,"                                   WEEK-END                       ",null,null,null,null,null,null,null,"                                   WEEK-END                       ",null,null,null,null,null,null,null,"                                   WEEK-END                       ",null,null,null,null,null,null,null,"                                   WEEK-END                       ",null,null,null,null,null,null,null,"                                   WEEK-END                       ",null,null,null,null,null,null,null,null,null,null,null,null,null,null,null,null,null,null,null,null,null,null,null,null,null,null,null,null,null,null,null,null,null,null,null,null,null,null,null,null,null,null,null,null,null,null,null,null,null,null,null,null,null,null,null,null,null,0,0,0,0,0,0,0,0,0,0,0,0,0,0,0,null,0,0,0,0,0,0,0,0,0,0,0,0,0,0,0]
[1,"2025-10-13","Congé",null,null,null,null,null,null,null,"Congé",null,null,null,null,null,null,null,"Congé",null,null,null,null,null,null,null,"Congé",null,null,null,null,null,null,null,"Congé",null,null,null,null,null,null,null,"Congé",null,null,null,null,null,null,null,"Congé",null,null,null,null,null,null,null,"Congé",null,null,null,null,null,null,null,"Congé",null,null,null,null,null,null,null,null,null,null,null,null,null,null,null,null,null,null,null,null,null,null,null,null,null,null,null,null,null,null,null,null,null,null,null,null,null,null,null,null,null,null,null,null,null,null,null,null,null,null,null,null,null,null,null,null,null,0,0,0,0,0,0,0,0,0,0,0,0,0,0,0,null,0,0,0,0,0,0,0,0,0,0,0,0,0,0,0]
[2,"2025-10-14",null,null,null,null,null,null,null,null,19,"sb",6,null,null,null,null,null,22,"yc",6,null,null,null,null,null,18,"mc",6,null,null,null,null,null,11,"cg",6,null,null,null,null,null,7,"jr",6,null,null,null,null,null,null,null,null,null,null,null,null,null,null,null,null,null,null,null,null,null,null,null,null,null,null,null,null,null,null,null,null,null,null,null,null,null,null,null,null,null,null,null,null,null,null,null,null,null,null,null,null,null,null,null,null,null,null,null,null,null,null,null,null,null,null,null,null,null,null,null,null,null,null,null,null,null,null,null,1,0,1,1,1,1,0,0,0,0,0,0,0,0,0,null,0,6,6,6,6,{"$f":"SUM(#REF!,AW65)","v":{"$error":"#REF!"}},0,0,0,0,0,0,0,0,0]
[3,"2025-10-15",null,null,null,null,null,null,null,null,19,"sb",6,null,null,null,null,null,22,"yc",6,null,null,null,null,null,18,"mc",6,null,null,null,null,null,11,"cg",6,null,null,null,null,null,7,"jr",6,null,null,null,null,null,null,null,null,null,null,null,null,null,null,null,null,null,null,null,null,null,null,null,null,null,null,null,null,null,null,null,null,null,null,null,null,null,null,null,null,null,null,null,null,null,null,null,null,null,null,null,null,null,null,null,null,null,null,null,null,null,null,null,null,null,null,null,null,null,null,null,null,null,null,null,null,null,null,null,1,0,1,1,1,1,0,0,0,0,0,0,0,0,0,null,0,6,6,6,6,{"$f":"SUM(#REF!,AW66)","v":{"$error":"#REF!"}},0,0,0,0,0,0,0,0,0]
[4,"2025-10-16",null,null,null,null,null,null,null,null,19,"sb",6,null,null,null,null,null,22,"yc",6,null,null,null,null,null,18,"mc",6,"EX",33,"mp",3,"X11",11,"cg",6,null,null,null,null,null,7,"jr",6,null,null,null,null,null,null,null,null,null,null,null,null,null,null,null,null,null,null,null,null,null,2,"rg",6,null,null,null,null,null,null,null,null,null,null,null,null,null,null,null,null,null,null,null,null,null,null,null,null,null,null,null,null,null,null,null,null,null,null,null,null,null,null,null,null,null,null,null,null,null,null,null,null,null,null,null,null,null,null,null,1,1,1,1,1,1,1,0,0,0,0,0,0,0,0,null,0,6,6,9,6,{"$f":"SUM(#REF!,AW67)","v":{"$error":"#REF!"}},0,0,6,0,0,0,0,0,0]
[5,"2025-10-17",null,null,null,null,null,null,null,null,19,"sb",6,null,null,null,null,null,22,"yc",6,null,null,null,null,null,18,"mc",6,"EX",null,null,null,null,90,"cg",6,"R12",null,null,null,null,90,"jr",6,"R4",null,null,null,null,null,null,null,null,null,null,null,null,null,null,null,null,null,null,null,null,2,"rg",6,null,null,null,null,null,null,null,null,null,null,null,null,null,null,null,null,null,null,null,null,null,null,null,null,null,null,null,null,null,null,null,null,null,null,null,null,null,null,null,null,null,null,null,null,null,null,null,null,null,null,null,null,null,null,null,1,0,1,1,1,1,1,0,0,0,0,0,0,0,0,null,0,6,6,6,6,{"$f":"SUM(#REF!,AW68)","v":{"$error":"#REF!"}},0,0,6,0,0,0,0,0,0]
[6,"2025-10-18","                                   WEEK-END                       ",null,null,null,null,null,null,null,"                                   WEEK-END                       ",null,null,null,null,null,null,null,"                                   WEEK-END                       ",null,null,null,null,null,null,null,"                                   WEEK-END                       ",null,null,null,null,null,null,null,"                                   WEEK-END                       ",null,null,null,null,null,null,null,"                                   WEEK-END                       ",null,null,null,null,null,null,null,"                                   WEEK-END                       ",null,null,null,null,null,null,null,"                                   WEEK-END                       ",null,null,null,null,null,null,null,"                                   WEEK-END                       ",null,null,null,null,null,null,null,null,null,null,null,null,null,null,null,null,null,null,null,null,null,null,null,null,null,null,null,null,null,null,null,null,null,null,null,null,null,null,null,null,null,null,null,null,null,null,null,null,null,null,null,null,null,null,null,null,null,0,0,0,0,0,0,0,0,0,0,0,0,0,0,0,null,0,0,0,0,0,0,0,0,0,0,0,0,0,0,0]
[7,"2025-10-19","                                   WEEK-END                       ",null,null,null,null,null,null,null,"                                   WEEK-END                       ",null,null,null,null,null,null,null,"                                   WEEK-END                       ",null,null,null,null,null,null,null,"                                   WEEK-END                       ",null,null,null,null,null,null,null,"                                   WEEK-END                       ",null,null,null,null,null,null,null,"                                   WEEK-END                       ",null,null,null,null,null,null,null,"                                   WEEK-END                       ",null,null,null,null,null,null,null,"                                   WEEK-END                       ",null,null,null,null,null,null,null,"                                   WEEK-END                       ",null,null,null,null,null,null,null,null,null,null,null,null,null,null,null,null,null,null,null,null,null,null,null,null,null,null,null,null,null,null,null,null,null,null,null,null,null,null,null,null,null,null,null,null,null,null,null,null,null,null,null,null,null,null,null,null,null,0,0,0,0,0,0,0,0,0,0,0,0,0,0,0,null,0,0,0,0,0,0,0,0,0,0,0,0,0,0,0]
[1,"2025-10-20",null,null,null,null,null,null,null,null,19,"sb",6,null,null,null,null,null,22,"yc",6,null,null,null,null,null,17,"rg",6,null,null,null,null,null,11,"cg",6,null,null,null,null,null,7,"jr",6,null,null,null,null,null,null,null,null,null,null,null,null,null,null,null,null,null,null,null,null,null,null,null,null,null,null,null,null,null,null,null,null,null,null,null,null,null,null,null,null,null,null,null,null,null,null,null,null,null,null,null,null,null,null,null,null,null,null,null,null,null,null,null,null,null,null,null,null,null,null,null,null,null,null,null,null,null,null,null,1,0,1,1,1,0,1,0,0,0,0,0,0,0,0,null,0,6,6,6,6,{"$f":"SUM(#REF!,#REF!)","v":{"$error":"#REF!"}},0,0,0,0,0,0,0,0,0]
[2,"2025-10-21",null,null,null,null,null,null,null,null,19,"sb",6,null,null,null,null,null,22,"yc",6,null,null,null,null,null,17,"rg",6,null,null,null,null,null,11,"cg",6,null,null,null,null,null,7,"jr",6,null,null,null,null,null,null,null,null,null,null,null,null,null,null,null,null,null,null,null,null,null,null,null,null,null,null,null,null,null,null,null,null,null,null,null,null,null,null,null,null,null,null,null,null,null,null,null,null,null,null,null,null,null,null,null,null,null,null,null,null,null,null,null,null,null,null,null,null,null,null,null,null,null,null,null,null,null,null,null,{"$f":"COUNTIF($C72:$DR72,$A$459)","v":1},{"$f":"COUNTIF($C72:$DR72,$A$460)","v":0},{"$f":"COUNTIF($C72:$DR72,$A$461)","v":1},{"$f":"COUNTIF($C72:$DR72,$A$462)","v":1},{"$f":"COUNTIF($C72:$DR72,$A$463)","v":1},{"$f":"COUNTIF($C72:$DR72,$A$464)","v":0},{"$f":"COUNTIF($C72:$DR72,$A$465)","v":1},{"$f":"COUNTIF($C72:$DR72,$A$466)","v":0},{"$f":"COUNTIF($C72:$DR72,$A$467)","v":0},{"$f":"COUNTIF($C72:$DR72,$A$468)","v":0},{"$f":"COUNTIF($C72:$DR72,$A$469)","v":0},{"$f":"COUNTIF($C72:$DR72,$A$470)","v":0},{"$f":"COUNTIF($C72:$DR72,$A$471)","v":0},{"$f":"COUNTIF($C72:$DR72,$A$472)","v":0},{"$f":"COUNTIF($C72:$DR72,$A$473)","v":0},null,0,6,6,6,6,{"$f":"SUM(#REF!,#REF!)","v":{"$error":"#REF!"}},0,0,0,0,0,0,0,0,0]
[3,"2025-10-22","     Pédagogique",null,null,null,null,null,null,null,"     Pédagogique",null,null,null,null,null,null,null,"     Pédagogique",null,null,null,null,null,null,null,"     Pédagogique",null,null,null,null,null,null,null,"     Pédagogique",null,null,null,null,null,null,null,"     Pédagogique",null,null,null,null,null,null,null,"     Pédagogique",null,null,null,null,null,null,null,"     Pédagogique",null,null,null,null,null,null,null,"     Pédagogique",null,null,null,null,null,null,null,null,null,null,null,null,null,null,null,null,null,null,null,null,null,null,null,null,null,null,null,null,null,null,null,null,null,null,null,null,null,null,null,null,null,null,null,null,null,null,null,null,null,null,null,null,null,null,null,null,null,0,0,0,0,0,0,0,0,0,0,0,0,0,0,0,null,{"$f":"SUM($E73,$I73)","v":0},{"$f":"SUM($M73,$Q73)","v":0},{"$f":"SUM($U73,$Y73)","v":0},0,0,{"$f":"SUM(#REF!,#REF!)","v":{"$error":"#REF!"}},0,0,0,0,0,0,0,0,0]
[{"$f":"WEEKDAY(B74,2)","v":4},"2025-10-23",null,null,null,null,null,null,null,null,19,"sb",6,null,null,null,null,null,22,"yc",6,null,null,null,null,null,17,"rg",6,null,null,null,null,null,11,"cg",6,"EX",null,null,null,null,7,"jr",6,null,null,null,null,null,null,null,null,null,null,null,null,null,null,null,null,null,null,null,null,null,2,"mc",6,null,null,null,null,null,null,null,null,null,null,null,null,null,null,null,null,null,null,null,null,null,null,null,null,null,null,null,null,null,null,null,null,null,null,null,null,null,null,null,null,null,null,null,null,null,null,null,null,null,null,null,null,null,null,null,1,0,1,1,1,1,1,0,0,0,0,0,0,0,0,null,0,6,6,{"$f":"SUM(AC74,AG74)","v":6},{"$f":"SUM(AK74,AO74)","v":6},{"$f":"SUM(#REF!,#REF!)","v":{"$error":"#REF!"}},{"$f":"SUM(BA74,BE74)","v":0},{"$f":"SUM(BI74,BM74)","v":0},{"$f":"SUM(BQ74,BU74)","v":6},{"$f":"SUM(BY74,CC74)","v":0},{"$f":"SUM(CG74,CK74)","v":0},{"$f":"SUM(CO74,CS74)","v":0},{"$f":"SUM(CW74,DA74)","v":0},{"$f":"SUM(DE74,DI74)","v":0},{"$f":"SUM(DM74,DQ74)","v":0}]
[5,{"$f":"B74+1","v":"2025-10-24"},null,null,null,null,null,null,null,null,19,"sb",6,null,null,null,null,null,22,"yc",6,null,null,null,null,null,17,"rg",6,null,null,null,null,null,11,"cg",6,"EX",33,"mp",3,"X12",7,"jr",6,"EX",33,"mp",3,"X4",null,null,null,null,null,null,null,null,null,null,null,null,null,null,null,null,2,"mc",6,null,null,null,null,null,null,null,null,null,null,null,null,null,null,null,null,null,null,null,null,null,null,null,null,null,null,null,null,null,null,null,null,null,null,null,null,null,null,null,null,null,null,null,null,null,null,null,null,null,null,null,null,null,null,null,1,2,1,1,1,1,1,0,0,0,0,0,0,0,0,null,0,6,6,{"$f":"SUM(AC75,AG75)","v":6},9,{"$f":"SUM(#REF!,#REF!)","v":{"$error":"#REF!"}},0,0,6,0,0,0,0,0,0]
[6,"2025-10-25","                                   WEEK-END                       ",null,null,null,null,null,null,null,"                                   WEEK-END                       ",null,null,null,null,null,null,null,"                                   WEEK-END                       ",null,null,null,null,null,null,null,"                                   WEEK-END                       ",null,null,null,null,null,null,null,"                                   WEEK-END                       ",null,null,null,null,null,null,null,"                                   WEEK-END                       ",null,null,null,null,null,null,null,"                                   WEEK-END                       ",null,null,null,null,null,null,null,"                                   WEEK-END                       ",null,null,null,null,null,null,null,"                                   WEEK-END                       ",null,null,null,null,null,null,null,null,null,null,null,null,null,null,null,null,null,null,null,null,null,null,null,null,null,null,null,null,null,null,null,null,null,null,null,null,null,null,null,null,null,null,null,null,null,null,null,null,null,null,null,null,null,null,null,null,null,0,0,0,0,0,0,0,0,0,0,0,0,0,0,0,null,0,0,0,{"$f":"SUM(AC76,AG76)","v":0},0,{"$f":"SUM(AS76,AW76)","v":0},0,0,0,0,0,0,0,0,0]
[7,"2025-10-26","                                   WEEK-END                       ",null,null,null,null,null,null,null,"                                   WEEK-END                       ",null,null,null,null,null,null,null,"                                   WEEK-END                       ",null,null,null,null,null,null,null,"                                   WEEK-END                       ",null,null,null,null,null,null,null,"                                   WEEK-END                       ",null,null,null,null,null,null,null,"                                   WEEK-END                       ",null,null,null,null,null,null,null,"                                   WEEK-END                       ",null,null,null,null,null,null,null,"                                   WEEK-END                       ",null,null,null,null,null,null,null,"                                   WEEK-END                       ",null,null,null,null,null,null,null,null,null,null,null,null,null,null,null,null,null,null,null,null,null,null,null,null,null,null,null,null,null,null,null,null,null,null,null,null,null,null,null,null,null,null,null,null,null,null,null,null,null,null,null,null,null,null,null,null,null,0,0,0,0,0,0,0,0,0,0,0,0,0,0,0,null,0,0,0,{"$f":"SUM(AC77,AG77)","v":0},0,0,0,0,0,0,0,0,0,0,0]
[1,"2025-10-27",null,null,null,null,null,null,null,null,19,"sb",6,null,null,null,null,null,22,"yc",6,null,null,null,null,null,90,"mc",6,"R18",null,null,null,null,16,"mp",6,null,null,null,null,null,7,"jr",6,"EX",null,null,null,null,null,null,null,null,null,null,null,null,null,null,null,null,null,null,null,null,null,null,null,null,null,null,null,null,null,null,null,null,null,null,null,null,null,null,null,null,null,null,null,null,null,null,null,null,null,null,null,null,null,null,null,null,null,null,null,null,null,null,null,null,null,null,null,null,null,null,null,null,null,null,null,null,null,null,1,1,0,1,1,1,0,0,0,0,0,0,0,0,0,null,0,6,6,{"$f":"SUM(#REF!,AC78)","v":{"$error":"#REF!"}},6,{"$f":"SUM(AS58,#REF!)","v":{"$error":"#REF!"}},0,0,0,0,0,0,0,0,0]
[2,"2025-10-28",null,null,null,null,null,null,null,null,90,"rg",6,"R22",null,null,null,null,22,"yc",6,null,null,null,null,null,17,"cg",6,null,null,null,null,null,16,"mp",6,null,null,null,null,null,9,"mc",6,null,null,null,null,null,null,null,null,null,null,null,null,null,null,null,null,null,null,null,null,null,null,null,null,null,null,null,null,null,null,null,null,null,null,null,null,null,null,null,null,null,null,null,null,null,null,null,null,null,null,null,null,null,null,null,null,null,null,null,null,null,null,null,null,null,null,null,null,null,null,null,null,null,null,null,null,null,null,null,0,1,1,0,1,1,1,0,0,0,0,0,0,0,0,null,0,6,6,{"$f":"SUM(#REF!,AC79)","v":{"$error":"#REF!"}},6,{"$f":"SUM(AS59,AW72)","v":6},0,0,0,0,0,0,0,0,0]
[3,"2025-10-29",null,null,null,null,null,null,null,null,19,"sb",6,null,null,null,null,null,90,"rg",6,"R14",null,null,null,null,17,"cg",6,null,null,null,null,null,16,"jr",6,null,null,null,null,null,9,"mc",6,null,null,null,null,null,null,null,null,null,null,null,null,null,null,null,null,null,null,null,null,null,null,null,null,null,null,null,null,null,null,null,null,null,null,null,null,null,null,null,null,null,null,null,null,null,null,null,null,null,null,null,null,null,null,null,null,null,null,null,null,null,null,null,null,null,null,null,null,null,null,null,null,null,null,null,null,null,null,null,1,0,1,1,0,1,1,0,0,0,0,0,0,0,0,null,0,6,6,{"$f":"SUM(#REF!,AC80)","v":{"$error":"#REF!"}},6,{"$f":"SUM(AS61,#REF!)","v":{"$error":"#REF!"}},0,0,0,0,0,0,0,0,0]
[4,"2025-10-30",null,null,null,null,null,null,null,null,19,"sb",6,null,null,null,null,null,22,"yc",6,null,null,null,null,null,17,"cg",6,null,null,null,null,null,16,"jr",6,null,null,null,null,null,9,"mc",6,null,null,null,null,null,null,null,null,null,null,null,null,null,null,null,null,null,null,null,null,null,4,"rg",6,null,null,null,null,null,null,null,null,null,null,null,null,null,null,null,null,null,null,null,null,null,null,null,null,null,null,null,null,null,null,null,null,null,null,null,null,null,null,null,null,null,null,null,null,null,null,null,null,null,null,null,null,null,null,null,1,0,1,1,1,1,1,0,0,0,0,0,0,0,0,null,0,6,6,{"$f":"SUM(#REF!,AC81)","v":{"$error":"#REF!"}},6,{"$f":"SUM(#REF!,#REF!)","v":{"$error":"#REF!"}},0,0,6,0,0,0,0,0,0]
[5,"2025-10-31",null,null,null,null,null,null,null,null,19,"sb",6,null,null,null,null,null,22,"yc",6,null,null,null,null,null,17,"cg",6,"EX",33,"mc",3,"X18",16,"jr",6,null,null,null,null,null,"Congé",null,null,null,null,null,null,null,null,null,null,null,null,null,null,null,null,null,null,null,null,null,null,null,4,"rg",6,null,null,null,null,null,null,null,null,null,null,null,null,null,null,null,null,null,null,null,null,null,null,null,null,null,null,null,null,null,null,null,null,null,null,null,null,null,null,null,null,null,null,null,null,null,null,null,null,null,null,null,null,null,null,null,1,0,1,1,1,1,1,0,0,0,0,0,0,0,0,null,0,{"$f":"SUM(#REF!,$M82)","v":{"$error":"#REF!"}},6,{"$f":"SUM(#REF!,AC82)","v":{"$error":"#REF!"}},6,{"$f":"SUM(AS65,#REF!)","v":{"$error":"#REF!"}},0,0,6,0,0,0,0,0,0]
[6,"2025-11-01","                                   WEEK-END                       ",null,null,null,null,null,null,null,"                                   WEEK-END                       ",null,null,null,null,null,null,null,"                                   WEEK-END                       ",null,null,null,null,null,null,null,"                                   WEEK-END                       ",null,null,null,null,null,null,null,"                                   WEEK-END                       ",null,null,null,null,null,null,null,"                                   WEEK-END                       ",null,null,null,null,null,null,null,"                                   WEEK-END                       ",null,null,null,null,null,null,null,"                                   WEEK-END                       ",null,null,null,null,null,null,null,"                                   WEEK-END                       ",null,null,null,null,null,null,null,null,null,null,null,null,null,null,null,null,null,null,null,null,null,null,null,null,null,null,null,null,null,null,null,null,null,null,null,null,null,null,null,null,null,null,null,null,null,null,null,null,null,null,null,null,null,null,null,null,null,0,0,0,0,0,0,0,0,0,0,0,0,0,0,0,null,0,{"$f":"SUM($M83,$Q83)","v":0},0,{"$f":"SUM(AC83,AG83)","v":0},0,0,0,0,0,0,0,0,0,0,0]
[7,"2025-11-02","                                   WEEK-END                       ",null,null,null,null,null,null,null,"                                   WEEK-END                       ",null,null,null,null,null,null,null,"                                   WEEK-END                       ",null,null,null,null,null,null,null,"                                   WEEK-END                       ",null,null,null,null,null,null,null,"                                   WEEK-END                       ",null,null,null,null,null,null,null,"                                   WEEK-END                       ",null,null,null,null,null,null,null,"                                   WEEK-END                       ",null,null,null,null,null,null,null,"                                   WEEK-END                       ",null,null,null,null,null,null,null,"                                   WEEK-END                       ",null,null,null,null,null,null,null,null,null,null,null,null,null,null,null,null,null,null,null,null,null,null,null,null,null,null,null,null,null,null,null,null,null,null,null,null,null,null,null,null,null,null,null,null,null,null,null,null,null,null,null,null,null,null,null,null,null,0,0,0,0,0,0,0,0,0,0,0,0,0,0,0,null,0,{"$f":"SUM($M84,$Q84)","v":0},0,{"$f":"SUM(AC84,AG84)","v":0},0,0,0,0,0,0,0,0,0,0,0]
[1,"2025-11-03",null,null,null,null,null,null,null,null,19,"sb",6,"EX",33,"rg",3,"X22",22,"yc",6,null,null,null,null,null,17,"cg",6,"EX",null,null,null,null,16,"jr",6,null,null,null,null,null,9,"mc",6,null,null,null,null,null,null,null,null,null,null,null,null,null,null,null,null,null,null,null,null,null,null,null,null,null,null,null,null,null,null,null,null,null,null,null,null,null,null,null,null,null,null,null,null,null,null,null,null,null,null,null,null,null,null,null,null,null,null,null,null,null,null,null,null,null,null,null,null,null,null,null,null,null,null,null,null,null,null,null,1,0,1,1,1,1,1,0,0,0,0,0,0,0,0,null,0,{"$f":"SUM(#REF!,$M85)","v":{"$error":"#REF!"}},6,{"$f":"SUM(#REF!,AC85)","v":{"$error":"#REF!"}},6,{"$f":"SUM(AS67,#REF!)","v":{"$error":"#REF!"}},0,0,0,0,0,0,0,0,0]
[2,"2025-11-04",null,null,null,null,null,null,null,null,19,"sb",6,"EX",null,null,null,null,22,"yc",6,null,null,null,null,null,15,"rg",6,null,null,null,null,null,90,"cg",6,"R11",null,null,null,null,9,"mc",6,null,null,null,null,null,null,null,null,null,null,null,null,null,null,null,null,null,null,null,null,null,null,null,null,null,null,null,null,null,null,null,null,null,null,null,null,null,null,null,null,null,null,null,null,null,null,null,null,null,null,null,null,null,null,null,null,null,null,null,null,null,null,null,null,null,null,null,null,null,null,null,null,null,null,null,null,null,null,null,1,0,1,0,1,1,1,0,0,0,0,0,0,0,0,null,0,{"$f":"SUM(#REF!,$M86)","v":{"$error":"#REF!"}},{"$f":"SUM($U92,$Y92)","v":6},{"$f":"SUM(#REF!,AC86)","v":{"$error":"#REF!"}},6,{"$f":"SUM(AS68,#REF!)","v":{"$error":"#REF!"}},0,0,0,0,0,0,0,0,0]
[3,"2025-11-05",null,null,null,null,null,null,null,null,20,"mp",6,null,null,null,null,null,22,"yc",6,"EX",33,"cg","é","X14",15,"rg",6,null,null,null,null,null,16,"jr",6,null,null,null,null,null,9,"mc",6,null,null,null,null,null,null,null,null,null,null,null,null,null,null,null,null,null,null,null,null,null,null,null,null,null,null,null,null,null,null,null,null,null,null,null,null,null,null,null,null,null,null,null,null,null,null,null,null,null,null,null,null,null,null,null,null,null,null,null,null,null,null,null,null,null,null,null,null,null,null,null,null,null,null,null,null,null,null,null,0,1,1,1,1,1,1,0,0,0,0,0,0,0,0,null,0,{"$f":"SUM(#REF!,$M87)","v":{"$error":"#REF!"}},{"$f":"SUM($U93,$Y93)","v":6},{"$f":"SUM(#REF!,AC87)","v":{"$error":"#REF!"}},6,{"$f":"SUM(AS66,#REF!)","v":{"$error":"#REF!"}},0,0,0,0,0,0,0,0,0]
[4,"2025-11-06",null,null,null,null,null,null,null,null,20,"mp",6,null,null,null,null,null,22,"yc",6,"EX",null,null,null,null,15,"rg",6,null,null,null,null,null,16,"jr",6,"EX",null,null,null,null,9,"mc",6,null,null,null,null,null,null,null,null,null,null,null,null,null,null,null,null,null,null,null,null,null,4,"np",6,null,null,null,null,null,null,null,null,null,null,null,null,null,null,null,null,null,null,null,null,null,null,null,null,null,null,null,null,null,null,null,null,null,null,null,null,null,null,null,null,null,null,null,null,null,null,null,null,null,null,null,null,null,null,null,{"$f":"COUNTIF($C88:$DR88,$A$459)","v":0},{"$f":"COUNTIF($C88:$DR88,$A$460)","v":1},{"$f":"COUNTIF($C88:$DR88,$A$461)","v":0},{"$f":"COUNTIF($C88:$DR88,$A$462)","v":1},{"$f":"COUNTIF($C88:$DR88,$A$463)","v":1},{"$f":"COUNTIF($C88:$DR88,$A$464)","v":1},{"$f":"COUNTIF($C88:$DR88,$A$465)","v":1},{"$f":"COUNTIF($C88:$DR88,$A$466)","v":1},{"$f":"COUNTIF($C88:$DR88,$A$467)","v":0},{"$f":"COUNTIF($C88:$DR88,$A$468)","v":0},{"$f":"COUNTIF($C88:$DR88,$A$469)","v":0},{"$f":"COUNTIF($C88:$DR88,$A$470)","v":0},{"$f":"COUNTIF($C88:$DR88,$A$471)","v":0},{"$f":"COUNTIF($C88:$DR88,$A$472)","v":0},{"$f":"COUNTIF($C88:$DR88,$A$473)","v":0},null,0,{"$f":"SUM(#REF!,$M88)","v":{"$error":"#REF!"}},6,{"$f":"SUM(#REF!,AC88)","v":{"$error":"#REF!"}},6,6,0,0,6,0,0,0,0,0,0]
[5,{"$f":"B88+1","v":"2025-11-07"},"     Pédagogique",null,null,null,null,null,null,null,"     Pédagogique",null,null,null,null,null,null,null,"     Pédagogique",null,null,null,null,null,null,null,"     Pédagogique",null,null,null,null,null,null,null,"     Pédagogique",null,null,null,null,null,null,null,"     Pédagogique",null,null,null,null,null,null,null,"     Pédagogique",null,null,null,null,null,null,null,"     Pédagogique",null,null,null,null,null,null,null,4,"np",6,null,null,null,null,null,null,null,null,null,null,null,null,null,null,null,null,null,null,null,null,null,null,null,null,null,null,null,null,null,null,null,null,null,null,null,null,null,null,null,null,null,null,null,null,null,null,null,null,null,null,null,null,null,null,null,{"$f":"COUNTIF($C89:$DR89,$A$459)","v":0},{"$f":"COUNTIF($C89:$DR89,$A$460)","v":0},{"$f":"COUNTIF($C89:$DR89,$A$461)","v":0},{"$f":"COUNTIF($C89:$DR89,$A$462)","v":0},{"$f":"COUNTIF($C89:$DR89,$A$463)","v":0},{"$f":"COUNTIF($C89:$DR89,$A$464)","v":0},{"$f":"COUNTIF($C89:$DR89,$A$465)","v":0},{"$f":"COUNTIF($C89:$DR89,$A$466)","v":1},{"$f":"COUNTIF($C89:$DR89,$A$467)","v":0},{"$f":"COUNTIF($C89:$DR89,$A$468)","v":0},{"$f":"COUNTIF($C89:$DR89,$A$469)","v":0},{"$f":"COUNTIF($C89:$DR89,$A$470)","v":0},{"$f":"COUNTIF($C89:$DR89,$A$471)","v":0},{"$f":"COUNTIF($C89:$DR89,$A$472)","v":0},{"$f":"COUNTIF($C89:$DR89,$A$473)","v":0},null,0,{"$f":"SUM(#REF!,$M89)","v":{"$error":"#REF!"}},0,{"$f":"SUM(#REF!,AC89)","v":{"$error":"#REF!"}},0,0,0,0,6,0,0,0,0,0,0]
[6,"2025-11-08","                                   WEEK-END                       ",null,null,null,null,null,null,null,"                                   WEEK-END                       ",null,null,null,null,null,null,null,"                                   WEEK-END                       ",null,null,null,null,null,null,null,"                                   WEEK-END                       ",null,null,null,null,null,null,null,"                                   WEEK-END                       ",null,null,null,null,null,null,null,"                                   WEEK-END                       ",null,null,null,null,null,null,null,"                                   WEEK-END                       ",null,null,null,null,null,null,null,"                                   WEEK-END                       ",null,null,null,null,null,null,null,"                                   WEEK-END                       ",null,null,null,null,null,null,null,null,null,null,null,null,null,null,null,null,null,null,null,null,null,null,null,null,null,null,null,null,null,null,null,null,null,null,null,null,null,null,null,null,null,null,null,null,null,null,null,null,null,null,null,null,null,null,null,null,null,0,0,0,0,0,0,0,0,0,0,0,0,0,0,0,null,0,{"$f":"SUM($M90,$Q90)","v":0},0,{"$f":"SUM(AC90,AG90)","v":0},0,0,0,0,0,0,0,0,0,0,0]
[7,"2025-11-09","                                   WEEK-END                       ",null,null,null,null,null,null,null,"                                   WEEK-END                       ",null,null,null,null,null,null,null,"                                   WEEK-END                       ",null,null,null,null,null,null,null,"                                   WEEK-END                       ",null,null,null,null,null,null,null,"                                   WEEK-END                       ",null,null,null,null,null,null,null,"                                   WEEK-END                       ",null,null,null,null,null,null,null,"                                   WEEK-END                       ",null,null,null,null,null,null,null,"                                   WEEK-END                       ",null,null,null,null,null,null,null,"                                   WEEK-END                       ",null,null,null,null,null,null,null,null,null,null,null,null,null,null,null,null,null,null,null,null,null,null,null,null,null,null,null,null,null,null,null,null,null,null,null,null,null,null,null,null,null,null,null,null,null,null,null,null,null,null,null,null,null,null,null,null,null,0,0,0,0,0,0,0,0,0,0,0,0,0,0,0,null,0,{"$f":"SUM($M91,$Q91)","v":0},0,{"$f":"SUM(AC91,AG91)","v":0},0,0,0,0,0,0,0,0,0,0,0]
[1,"2025-11-10",null,null,null,null,null,null,null,null,20,"mp",6,null,null,null,null,null,23,"yc",6,null,null,null,null,null,15,"rg",6,null,null,null,null,null,16,"jr",6,"EX",33,"cg",3,"X11",9,"mc",6,null,null,null,null,null,null,null,null,null,null,null,null,null,null,null,null,null,null,null,null,null,null,null,null,null,null,null,null,null,null,null,null,null,null,null,null,null,null,null,null,null,null,null,null,null,null,null,null,null,null,null,null,null,null,null,null,null,null,null,null,null,null,null,null,null,null,null,null,null,null,null,null,null,null,null,null,null,null,null,0,1,1,1,1,1,1,0,0,0,0,0,0,0,0,null,0,{"$f":"SUM(#REF!,$M92)","v":{"$error":"#REF!"}},{"$f":"SUM(#REF!,#REF!)","v":{"$error":"#REF!"}},{"$f":"SUM(#REF!,AC92)","v":{"$error":"#REF!"}},9,{"$f":"SUM(AS71,AW71)","v":6},{"$f":"SUM(BA92,#REF!)","v":{"$error":"#REF!"}},0,0,0,0,0,0,0,0]
[2,"2025-11-11",null,null,null,null,null,null,null,null,20,"mp",6,null,null,null,null,null,23,"yc",6,null,null,null,null,null,15,"rg",6,null,null,null,null,null,18,"sb",6,null,null,null,null,null,90,"jr",6,"R7",null,null,null,null,null,null,null,null,null,null,null,null,null,null,null,null,null,null,null,null,null,null,null,null,null,null,null,null,null,null,null,null,null,null,null,null,null,null,null,null,null,null,null,null,null,null,null,null,null,null,null,null,null,null,null,null,null,null,null,null,null,null,null,null,null,null,null,null,null,null,null,null,null,null,null,null,null,null,1,1,0,1,1,0,1,0,0,0,0,0,0,0,0,null,0,{"$f":"SUM(#REF!,$M93)","v":{"$error":"#REF!"}},{"$f":"SUM(#REF!,#REF!)","v":{"$error":"#REF!"}},{"$f":"SUM(#REF!,AC93)","v":{"$error":"#REF!"}},6,{"$f":"SUM(#REF!,#REF!)","v":{"$error":"#REF!"}},0,0,0,0,0,0,0,0,0]
[3,"2025-11-12",null,null,null,null,null,null,null,null,20,"mp",6,null,null,null,null,null,23,"yc",6,null,null,null,null,null,15,"rg",6,null,null,null,null,null,18,"sb",6,null,null,null,null,null,9,"mc",6,null,null,null,null,null,null,null,null,null,null,null,null,null,null,null,null,null,null,null,null,null,null,null,null,null,null,null,null,null,null,null,null,null,null,null,null,null,null,null,null,null,null,null,null,null,null,null,null,null,null,null,null,null,null,null,null,null,null,null,null,null,null,null,null,null,null,null,null,null,null,null,null,null,null,null,null,null,null,null,1,1,0,0,1,1,1,0,0,0,0,0,0,0,0,null,0,{"$f":"SUM(#REF!,$M94)","v":{"$error":"#REF!"}},6,{"$f":"SUM(AC94,AG94)","v":6},6,{"$f":"SUM(AS92,AW92)","v":6},0,0,0,0,0,0,0,0,0]
[4,"2025-11-13",null,null,null,null,null,null,null,null,20,"mp",6,null,null,null,null,null,23,"yc",6,null,null,null,null,null,90,"cg",6,"R17",null,null,null,null,18,"sb",6,null,null,null,null,null,9,"mc",6,null,null,null,null,null,null,null,null,null,null,null,null,null,null,null,null,null,null,null,null,null,4,"jr",6,null,null,null,null,null,null,null,null,null,null,null,null,null,null,null,null,null,null,null,null,null,null,null,null,null,null,null,null,null,null,null,null,null,null,null,null,null,null,null,null,null,null,null,null,null,null,null,null,null,null,null,null,null,null,null,1,1,1,1,1,1,0,0,0,0,0,0,0,0,0,null,0,{"$f":"SUM(#REF!,$M95)","v":{"$error":"#REF!"}},6,{"$f":"SUM(#REF!,AC95)","v":{"$error":"#REF!"}},6,{"$f":"SUM(AS74,AW74)","v":6},0,0,6,0,0,0,0,0,0]
[5,"2025-11-14",null,null,null,null,null,null,null,null,20,"sb",6,null,null,null,null,null,23,"jr",6,null,null,null,null,null,15,"rg",6,"EX",null,null,null,null,18,"mc",6,null,null,null,null,null,"Congé",null,null,null,null,null,null,null,null,null,null,null,null,null,null,null,null,null,null,null,null,null,null,null,4,"cg",6,null,null,null,null,null,null,null,null,null,null,null,null,null,null,null,null,null,null,null,null,null,null,null,null,null,null,null,null,null,null,null,null,null,null,null,null,null,null,null,null,null,null,null,null,null,null,null,null,null,null,null,null,null,null,null,1,0,1,1,0,1,1,0,0,0,0,0,0,0,0,null,0,{"$f":"SUM(#REF!,$M96)","v":{"$error":"#REF!"}},6,{"$f":"SUM(#REF!,AC96)","v":{"$error":"#REF!"}},6,{"$f":"SUM(AS75,AW75)","v":9},{"$f":"SUM(#REF!,BE92)","v":{"$error":"#REF!"}},0,6,0,0,0,0,0,0]
[6,"2025-11-15","                                   WEEK-END                       ",null,null,null,null,null,null,null,"                                   WEEK-END                       ",null,null,null,null,null,null,null,"                                   WEEK-END                       ",null,null,null,null,null,null,null,"                                   WEEK-END                       ",null,null,null,null,null,null,null,"                                   WEEK-END                       ",null,null,null,null,null,null,null,"                                   WEEK-END                       ",null,null,null,null,null,null,null,"                                   WEEK-END                       ",null,null,null,null,null,null,null,"                                   WEEK-END                       ",null,null,null,null,null,null,null,"                                   WEEK-END                       ",null,null,null,null,null,null,null,null,null,null,null,null,null,null,null,null,null,null,null,null,null,null,null,null,null,null,null,null,null,null,null,null,null,null,null,null,null,null,null,null,null,null,null,null,null,null,null,null,null,null,null,null,null,null,null,null,null,0,0,0,0,0,0,0,0,0,0,0,0,0,0,0,null,0,{"$f":"SUM($M97,$Q97)","v":0},0,{"$f":"SUM(AC97,AG97)","v":0},0,0,0,0,0,0,0,0,0,0,0]
[7,"2025-11-16","                                   WEEK-END                       ",null,null,null,null,null,null,null,"                                   WEEK-END                       ",null,null,null,null,null,null,null,"                                   WEEK-END                       ",null,null,null,null,null,null,null,"                                   WEEK-END                       ",null,null,null,null,null,null,null,"                                   WEEK-END                       ",null,null,null,null,null,null,null,"                                   WEEK-END                       ",null,null,null,null,null,null,null,"                                   WEEK-END                       ",null,null,null,null,null,null,null,"                                   WEEK-END                       ",null,null,null,null,null,null,null,"                                   WEEK-END                       ",null,null,null,null,null,null,null,null,null,null,null,null,null,null,null,null,null,null,null,null,null,null,null,null,null,null,null,null,null,null,null,null,null,null,null,null,null,null,null,null,null,null,null,null,null,null,null,null,null,null,null,null,null,null,null,null,null,0,0,0,0,0,0,0,0,0,0,0,0,0,0,0,null,0,{"$f":"SUM($M98,$Q98)","v":0},0,{"$f":"SUM(AC98,AG98)","v":0},0,0,0,0,0,0,0,0,0,0,0]
[1,"2025-11-17",null,null,null,null,null,null,null,null,20,"jr",6,null,null,null,null,null,23,"yc",6,null,null,null,null,null,15,"rg",6,"EX",33,"cg",3,"X17",18,"sb",6,null,null,null,null,null,9,"mc",6,"EX",33,"cg",3,"X7",null,null,null,null,null,null,null,null,null,null,null,null,null,null,null,null,null,null,null,null,null,null,null,null,null,null,null,null,null,null,null,null,null,null,null,null,null,null,null,null,null,null,null,null,null,null,null,null,null,null,null,null,null,null,null,null,null,null,null,null,null,null,null,null,null,null,null,null,null,null,null,null,null,null,1,0,2,1,1,1,1,0,0,0,0,0,0,0,0,null,0,{"$f":"SUM(#REF!,$M99)","v":{"$error":"#REF!"}},6,{"$f":"SUM(#REF!,AC99)","v":{"$error":"#REF!"}},6,{"$f":"SUM(AS78,AW78)","v":6},{"$f":"SUM(BA96,BE96)","v":0},0,0,0,0,0,0,0,0]
[2,"2025-11-18",null,null,null,null,null,null,null,null,20,"jr",6,null,null,null,null,null,90,"rg",6,"R22",null,null,null,null,13,"cg",6,null,null,null,null,null,18,"sb",6,null,null,null,null,null,9,"mc",6,"EX",null,null,null,null,null,null,null,null,null,null,null,null,null,null,null,null,null,null,null,null,null,null,null,null,null,null,null,null,null,null,null,null,null,null,null,null,null,null,null,null,null,null,null,null,null,null,null,null,null,null,null,null,null,null,null,null,null,null,null,null,null,null,null,null,null,null,null,null,null,null,null,null,null,null,null,null,null,null,1,0,1,1,0,1,1,0,0,0,0,0,0,0,0,null,0,{"$f":"SUM(#REF!,$M100)","v":{"$error":"#REF!"}},{"$f":"SUM(#REF!,$U100)","v":{"$error":"#REF!"}},{"$f":"SUM(#REF!,AC100)","v":{"$error":"#REF!"}},6,{"$f":"SUM(AS79,AW79)","v":6},0,0,0,0,0,0,0,0,0]
[3,"2025-11-19",null,null,null,null,null,null,null,null,20,"jr",6,null,null,null,null,null,23,"yc",6,null,null,null,null,null,13,"cg",6,null,null,null,null,null,18,"mc",6,null,null,null,null,null,90,"rg",6,"R9",null,null,null,null,null,null,null,null,null,null,null,null,null,null,null,null,null,null,null,null,null,null,null,null,null,null,null,null,null,null,null,null,null,null,null,null,null,null,null,null,null,null,null,null,null,null,null,null,null,null,null,null,null,null,null,null,null,null,null,null,null,null,null,null,null,null,null,null,null,null,null,null,null,null,null,null,null,null,0,0,1,1,1,1,1,0,0,0,0,0,0,0,0,null,0,{"$f":"SUM(#REF!,$M101)","v":{"$error":"#REF!"}},{"$f":"SUM(#REF!,$U101)","v":{"$error":"#REF!"}},{"$f":"SUM(#REF!,AC101)","v":{"$error":"#REF!"}},6,{"$f":"SUM(AS80,AW80)","v":6},0,0,0,0,0,0,0,0,0]
[{"$f":"WEEKDAY(B102,2)","v":4},"2025-11-20","     Pédagogique Commune",null,null,null,null,null,null,null,"     Pédagogique Commune",null,null,null,null,null,null,null,"     Pédagogique Commune",null,null,null,null,null,null,null,"     Pédagogique Commune",null,null,null,null,null,null,null,"     Pédagogique Commune",null,null,null,null,null,null,null,"     Pédagogique Commune",null,null,null,null,null,null,null,"     Pédagogique Commune",null,null,null,null,null,null,null,"     Pédagogique Commune",null,null,null,null,null,null,null,"     Pédagogique Commune",null,null,null,null,null,null,null,null,null,null,null,null,null,null,null,null,null,null,null,null,null,null,null,null,null,null,null,null,null,null,null,null,null,null,null,null,null,null,null,null,null,null,null,null,null,null,null,null,null,null,null,null,null,null,null,null,null,0,0,0,0,0,0,0,0,0,0,0,0,0,0,0,null,0,{"$f":"SUM(#REF!,$M102)","v":{"$error":"#REF!"}},0,{"$f":"SUM(#REF!,AC102)","v":{"$error":"#REF!"}},0,0,0,0,0,0,0,0,0,0,0]
[5,"2025-11-21",null,null,null,null,null,null,null,null,90,"rg",6,"R19",null,null,null,null,23,"yc",6,"EX",null,null,null,null,13,"cg",6,null,null,null,null,null,18,"mc",6,null,null,null,null,null,10,"jr",6,null,null,null,null,null,null,null,null,null,null,null,null,null,null,null,null,null,null,null,null,null,4,"np",6,null,null,null,null,null,null,null,null,null,null,null,null,null,null,null,null,null,null,null,null,null,null,null,null,null,null,null,null,null,null,null,null,null,null,null,null,null,null,null,null,null,null,null,null,null,null,null,null,null,null,null,null,null,null,null,0,0,1,1,1,1,1,1,0,0,0,0,0,0,0,null,0,{"$f":"SUM(#REF!,$M103)","v":{"$error":"#REF!"}},{"$f":"SUM(#REF!,$U103)","v":{"$error":"#REF!"}},{"$f":"SUM(#REF!,AC103)","v":{"$error":"#REF!"}},6,{"$f":"SUM(AS86,AW87)","v":6},0,0,6,0,0,0,0,0,0]
[6,"2025-11-22","                                   WEEK-END                       ",null,null,null,null,null,null,null,"                                   WEEK-END                       ",null,null,null,null,null,null,null,"                                   WEEK-END                       ",null,null,null,null,null,null,null,"                                   WEEK-END                       ",null,null,null,null,null,null,null,"                                   WEEK-END                       ",null,null,null,null,null,null,null,"                                   WEEK-END                       ",null,null,null,null,null,null,null,"                                   WEEK-END                       ",null,null,null,null,null,null,null,"                                   WEEK-END                       ",null,null,null,null,null,null,null,"                                   WEEK-END                       ",null,null,null,null,null,null,null,null,null,null,null,null,null,null,null,null,null,null,null,null,null,null,null,null,null,null,null,null,null,null,null,null,null,null,null,null,null,null,null,null,null,null,null,null,null,null,null,null,null,null,null,null,null,null,null,null,null,0,0,0,0,0,0,0,0,0,0,0,0,0,0,0,null,0,{"$f":"SUM($M104,$Q104)","v":0},0,{"$f":"SUM(AC104,AG104)","v":0},0,0,0,0,0,0,0,0,0,0,0]
[7,"2025-11-23","                                   WEEK-END                       ",null,null,null,null,null,null,null,"                                   WEEK-END                       ",null,null,null,null,null,null,null,"                                   WEEK-END                       ",null,null,null,null,null,null,null,"                                   WEEK-END                       ",null,null,null,null,null,null,null,"                                   WEEK-END                       ",null,null,null,null,null,null,null,"                                   WEEK-END                       ",null,null,null,null,null,null,null,"                                   WEEK-END                       ",null,null,null,null,null,null,null,"                                   WEEK-END                       ",null,null,null,null,null,null,null,"                                   WEEK-END                       ",null,null,null,null,null,null,null,null,null,null,null,null,null,null,null,null,null,null,null,null,null,null,null,null,null,null,null,null,null,null,null,null,null,null,null,null,null,null,null,null,null,null,null,null,null,null,null,null,null,null,null,null,null,null,null,null,null,0,0,0,0,0,0,0,0,0,0,0,0,0,0,0,null,0,{"$f":"SUM($M105,$Q105)","v":0},0,{"$f":"SUM(AC105,AG105)","v":0},0,0,0,0,0,0,0,0,0,0,0]
[{"$f":"WEEKDAY(B106,2)","v":1},"2025-11-24",null,null,null,null,null,null,null,null,20,"mp",6,null,null,null,null,null,23,"yc",6,"EX",33,"rg",3,"X22",13,"cg",6,null,null,null,null,null,18,"mc",6,null,null,null,null,null,10,"jr",6,null,null,null,null,null,null,null,null,null,null,null,null,null,null,null,null,null,null,null,null,null,null,null,null,null,null,null,null,null,null,null,null,null,null,null,null,null,null,null,null,null,null,null,null,null,null,null,null,null,null,null,null,null,null,null,null,null,null,null,null,null,null,null,null,null,null,null,null,null,null,null,null,null,null,null,null,null,null,null,0,1,1,1,1,1,1,0,0,0,0,0,0,0,0,null,0,{"$f":"SUM($M106,$Q106)","v":6},{"$f":"SUM(#REF!,$U106)","v":{"$error":"#REF!"}},{"$f":"SUM(#REF!,AC106)","v":{"$error":"#REF!"}},6,{"$f":"SUM(AS81,AW81)","v":6},0,0,0,0,0,0,0,0,0]
[2,"2025-11-25",null,null,null,null,null,null,null,null,20,"mp",6,"EX",33,"rg",6,"X19",34,"AC",6,null,null,null,null,null,13,"cg",6,null,null,null,null,null,18,"mc",6,null,null,null,null,null,10,"jr",6,null,null,null,null,null,null,null,null,null,null,null,null,null,null,null,null,null,null,null,null,null,null,null,null,null,null,null,null,null,null,null,null,null,null,null,null,null,null,null,null,null,null,null,null,null,null,null,null,null,null,null,null,null,null,null,null,null,null,null,null,null,null,null,null,null,null,null,null,null,null,null,null,null,null,null,null,null,null,null,0,1,1,1,0,1,1,0,0,0,0,0,0,0,0,null,0,{"$f":"SUM(#REF!,$M107)","v":{"$error":"#REF!"}},{"$f":"SUM(#REF!,$U107)","v":{"$error":"#REF!"}},{"$f":"SUM(#REF!,AC107)","v":{"$error":"#REF!"}},6,{"$f":"SUM(AS85,AW85)","v":6},0,0,0,0,0,0,0,0,0]
[3,"2025-11-26",null,null,null,null,null,null,null,null,20,"mp",6,"EX",null,null,null,null,34,"AC",6,null,null,null,null,null,13,"rg",6,null,null,null,null,null,18,"mc",6,null,null,null,null,null,10,"jr",6,null,null,null,null,null,null,null,null,null,null,null,null,null,null,null,null,null,null,null,null,null,null,null,null,null,null,null,null,null,null,null,null,null,null,null,null,null,null,null,null,null,null,null,null,null,null,null,null,null,null,null,null,null,null,null,null,null,null,null,null,null,null,null,null,null,null,null,null,null,null,null,null,null,null,null,null,null,null,null,0,1,0,1,0,1,1,0,0,0,0,0,0,0,0,null,0,{"$f":"SUM(#REF!,$M108)","v":{"$error":"#REF!"}},{"$f":"SUM(#REF!,#REF!)","v":{"$error":"#REF!"}},{"$f":"SUM(#REF!,AC108)","v":{"$error":"#REF!"}},6,{"$f":"SUM(#REF!,AW86)","v":{"$error":"#REF!"}},{"$f":"SUM(#REF!,BE108)","v":{"$error":"#REF!"}},0,0,0,0,0,0,0,0]
[4,"2025-11-27",null,null,null,null,null,null,null,null,21,"mp",6,null,null,null,null,null,34,"AC",6,null,null,null,null,null,13,"cg",6,null,null,null,null,null,90,"yc",6,"R16",null,null,null,null,10,"jr",6,null,null,null,null,null,null,null,null,null,null,null,null,null,null,null,null,null,null,null,null,null,4,"rg",6,null,null,null,null,null,null,null,null,null,null,null,null,null,null,null,null,null,null,null,null,null,null,null,null,null,null,null,null,null,null,null,null,null,null,null,null,null,null,null,null,null,null,null,null,null,null,null,null,null,null,null,null,null,null,null,0,1,1,1,1,0,1,0,0,0,0,0,0,0,0,null,0,{"$f":"SUM(#REF!,$M109)","v":{"$error":"#REF!"}},{"$f":"SUM(#REF!,$U109)","v":{"$error":"#REF!"}},{"$f":"SUM(#REF!,AC109)","v":{"$error":"#REF!"}},{"$f":"SUM(AD109,AH109)","v":0},{"$f":"SUM(AS82,AW82)","v":0},{"$f":"SUM(BA99,BE99)","v":0},0,6,0,0,0,0,0,0]
[5,"2025-11-28",null,null,null,null,null,null,null,null,21,"yc",6,null,null,null,null,null,34,"AC",6,null,null,null,null,null,13,"cg",6,null,null,null,null,null,18,"mc",6,"EX",null,null,null,null,"Congé",null,null,null,null,null,null,null,null,null,null,null,null,null,null,null,null,null,null,null,null,null,null,null,4,"rg",6,null,null,null,null,null,null,null,null,null,null,null,null,null,null,null,null,null,null,null,null,null,null,null,null,null,null,null,null,null,null,null,null,null,null,null,null,null,null,null,null,null,null,null,null,null,null,null,null,null,null,null,null,null,null,null,0,0,1,0,1,1,1,0,0,0,0,0,0,0,0,null,0,{"$f":"SUM($M110,$Q110)","v":6},6,{"$f":"SUM(AC110,AG110)","v":6},6,{"$f":"SUM(AK109,AO109)","v":6},0,0,6,0,0,0,0,0,0]
[6,"2025-11-29","                                   WEEK-END                       ",null,null,null,null,null,null,null,"                                   WEEK-END                       ",null,null,null,null,null,null,null,"                                   WEEK-END                       ",null,null,null,null,null,null,null,"                                   WEEK-END                       ",null,null,null,null,null,null,null,"                                   WEEK-END                       ",null,null,null,null,null,null,null,"                                   WEEK-END                       ",null,null,null,null,null,null,null,"                                   WEEK-END                       ",null,null,null,null,null,null,null,"                                   WEEK-END                       ",null,null,null,null,null,null,null,"                                   WEEK-END                       ",null,null,null,null,null,null,null,null,null,null,null,null,null,null,null,null,null,null,null,null,null,null,null,null,null,null,null,null,null,null,null,null,null,null,null,null,null,null,null,null,null,null,null,null,null,null,null,null,null,null,null,null,null,null,null,null,null,0,0,0,0,0,0,0,0,0,0,0,0,0,0,0,null,0,{"$f":"SUM($M111,$Q111)","v":0},0,{"$f":"SUM(AC111,AG111)","v":0},0,0,0,0,0,0,0,0,0,0,0]
[7,"2025-11-30","                                   WEEK-END                       ",null,null,null,null,null,null,null,"                                   WEEK-END                       ",null,null,null,null,null,null,null,"                                   WEEK-END                       ",null,null,null,null,null,null,null,"                                   WEEK-END                       ",null,null,null,null,null,null,null,"                                   WEEK-END                       ",null,null,null,null,null,null,null,"                                   WEEK-END                       ",null,null,null,null,null,null,null,"                                   WEEK-END                       ",null,null,null,null,null,null,null,"                                   WEEK-END                       ",null,null,null,null,null,null,null,"                                   WEEK-END                       ",null,null,null,null,null,null,null,null,null,null,null,null,null,null,null,null,null,null,null,null,null,null,null,null,null,null,null,null,null,null,null,null,null,null,null,null,null,null,null,null,null,null,null,null,null,null,null,null,null,null,null,null,null,null,null,null,null,0,0,0,0,0,0,0,0,0,0,0,0,0,0,0,null,0,{"$f":"SUM($M112,$Q112)","v":0},0,{"$f":"SUM(AC112,AG112)","v":0},0,0,0,0,0,0,0,0,0,0,0]
[1,"2025-12-01",null,null,null,null,null,null,null,null,21,"mp",6,null,null,null,null,null,34,"AC",6,null,null,null,null,null,13,"cg",6,null,null,null,null,null,18,"mc",6,"EX",33,"rg",3,"X16",10,"jr",6,null,null,null,null,null,null,null,null,null,null,null,null,null,null,null,null,null,null,null,null,null,null,null,null,null,null,null,null,null,null,null,null,null,null,null,null,null,null,null,null,null,null,null,null,null,null,null,null,null,null,null,null,null,null,null,null,null,null,null,null,null,null,null,null,null,null,null,null,null,null,null,null,null,null,null,null,null,null,null,0,1,1,1,0,1,1,0,0,0,0,0,0,0,0,null,0,{"$f":"SUM($M113,$Q113)","v":6},{"$f":"SUM(#REF!,#REF!)","v":{"$error":"#REF!"}},{"$f":"SUM(AC113,AG113)","v":6},9,{"$f":"SUM(AS93,AW93)","v":6},{"$f":"SUM(#REF!,BE113)","v":{"$error":"#REF!"}},0,0,0,0,0,0,0,0]
[2,"2025-12-02",null,null,null,null,null,null,null,null,21,"mp",6,null,null,null,null,null,19,"sb",6,null,null,null,null,null,13,"cg",6,null,null,null,null,null,17,"mc",6,null,null,null,null,null,10,"jr",6,null,null,null,null,null,null,null,null,null,null,null,null,null,null,null,null,null,null,null,null,null,null,null,null,null,null,null,null,null,null,null,null,null,null,null,null,null,null,null,null,null,null,null,null,null,null,null,null,null,null,null,null,null,null,null,null,null,null,null,null,null,null,null,null,null,null,null,null,null,null,null,null,null,null,null,null,null,null,null,1,1,1,1,0,1,0,0,0,0,0,0,0,0,0,null,0,{"$f":"SUM(#REF!,$M114)","v":{"$error":"#REF!"}},{"$f":"SUM(#REF!,$U113)","v":{"$error":"#REF!"}},{"$f":"SUM(#REF!,AC114)","v":{"$error":"#REF!"}},6,{"$f":"SUM(AS115,AW115)","v":0},{"$f":"SUM(BA108,BE114)","v":0},0,0,0,0,0,0,0,0]
[3,"2025-12-03","     Pédagogique",null,null,null,null,null,null,null,"     Pédagogique",null,null,null,null,null,null,null,"     Pédagogique",null,null,null,null,null,null,null,"     Pédagogique",null,null,null,null,null,null,null,"     Pédagogique",null,null,null,null,null,null,null,"     Pédagogique",null,null,null,null,null,null,null,"     Pédagogique",null,null,null,null,null,null,null,"     Pédagogique",null,null,null,null,null,null,null,"     Pédagogique",null,null,null,null,null,null,null,null,null,null,null,null,null,null,null,null,null,null,null,null,null,null,null,null,null,null,null,null,null,null,null,null,null,null,null,null,null,null,null,null,null,null,null,null,null,null,null,null,null,null,null,null,null,null,null,null,null,0,0,0,0,0,0,0,0,0,0,0,0,0,0,0,null,0,{"$f":"SUM(#REF!,$M115)","v":{"$error":"#REF!"}},{"$f":"SUM(#REF!,$U108)","v":{"$error":"#REF!"}},{"$f":"SUM(AC115,AG115)","v":0},0,{"$f":"SUM(AS95,AW95)","v":6},{"$f":"SUM(#REF!,BE115)","v":{"$error":"#REF!"}},0,0,0,0,0,0,0,0]
[4,"2025-12-04",null,null,null,null,null,null,null,null,21,"mp",6,null,null,null,null,null,19,"sb",6,null,null,null,null,null,13,"cg",6,null,null,null,null,null,17,"mc",6,null,null,null,null,null,5,null,6,"SO",null,null,null,null,null,null,null,null,null,null,null,null,null,null,null,null,null,null,null,null,4,"rg",6,null,null,null,null,null,null,null,null,null,null,null,null,null,null,null,null,null,null,null,null,null,null,null,null,null,null,null,null,null,null,null,null,null,null,null,null,null,null,null,null,null,null,null,null,null,null,null,null,null,null,null,null,null,null,null,1,1,1,0,0,1,1,0,0,0,0,0,0,0,0,null,0,{"$f":"SUM(#REF!,$M116)","v":{"$error":"#REF!"}},{"$f":"SUM(#REF!,$U116)","v":{"$error":"#REF!"}},{"$f":"SUM(#REF!,AC116)","v":{"$error":"#REF!"}},{"$f":"SUM(AK117,AO117)","v":6},{"$f":"SUM(AS96,AW96)","v":0},0,0,6,0,0,0,0,0,0]
[5,"2025-12-05",null,null,null,null,null,null,null,null,21,"mp",3,null,24,"mp",3,"ST",19,"sb",6,null,null,null,null,null,13,"cg",6,null,null,null,null,null,17,"rg",6,null,null,null,null,null,5,null,6,"SO",null,null,null,null,null,null,null,null,null,null,null,null,null,null,null,null,null,null,null,null,4,"mc",6,null,null,null,null,null,null,null,null,null,null,null,null,null,null,null,null,null,null,null,null,null,null,null,null,null,null,null,null,null,null,null,null,null,null,null,null,null,null,null,null,null,null,null,null,null,null,null,null,null,null,null,null,null,null,null,1,2,1,0,0,1,1,0,0,0,0,0,0,0,0,null,0,{"$f":"SUM(#REF!,$M117)","v":{"$error":"#REF!"}},{"$f":"SUM(#REF!,$U117)","v":{"$error":"#REF!"}},{"$f":"SUM(#REF!,AC117)","v":{"$error":"#REF!"}},{"$f":"SUM(AD117,AH117)","v":0},{"$f":"SUM(AS99,AW99)","v":9},0,0,6,0,0,0,0,0,0]
[6,"2025-12-06","                                   WEEK-END                       ",null,null,null,null,null,null,null,"                                   WEEK-END                       ",null,null,null,null,null,null,null,"                                   WEEK-END                       ",null,null,null,null,null,null,null,"                                   WEEK-END                       ",null,null,null,null,null,null,null,"                                   WEEK-END                       ",null,null,null,null,null,null,null,"                                   WEEK-END                       ",null,null,null,null,null,null,null,"                                   WEEK-END                       ",null,null,null,null,null,null,null,"                                   WEEK-END                       ",null,null,null,null,null,null,null,"                                   WEEK-END                       ",null,null,null,null,null,null,null,null,null,null,null,null,null,null,null,null,null,null,null,null,null,null,null,null,null,null,null,null,null,null,null,null,null,null,null,null,null,null,null,null,null,null,null,null,null,null,null,null,null,null,null,null,null,null,null,null,null,0,0,0,0,0,0,0,0,0,0,0,0,0,0,0,null,0,{"$f":"SUM($M118,$Q118)","v":0},0,{"$f":"SUM(AC118,AG118)","v":0},0,0,0,0,0,0,0,0,0,0,0]
[7,"2025-12-07","                                   WEEK-END                       ",null,null,null,null,null,null,null,"                                   WEEK-END                       ",null,null,null,null,null,null,null,"                                   WEEK-END                       ",null,null,null,null,null,null,null,"                                   WEEK-END                       ",null,null,null,null,null,null,null,"                                   WEEK-END                       ",null,null,null,null,null,null,null,"                                   WEEK-END                       ",null,null,null,null,null,null,null,"                                   WEEK-END                       ",null,null,null,null,null,null,null,"                                   WEEK-END                       ",null,null,null,null,null,null,null,"                                   WEEK-END                       ",null,null,null,null,null,null,null,null,null,null,null,null,null,null,null,null,null,null,null,null,null,null,null,null,null,null,null,null,null,null,null,null,null,null,null,null,null,null,null,null,null,null,null,null,null,null,null,null,null,null,null,null,null,null,null,null,null,0,0,0,0,0,0,0,0,0,0,0,0,0,0,0,null,0,{"$f":"SUM($M119,$Q119)","v":0},0,{"$f":"SUM(AC119,AG119)","v":0},0,0,0,0,0,0,0,0,0,0,0]
[1,"2025-12-08",null,null,null,null,null,null,null,null,21,"mp",6,null,null,null,null,null,19,"sb",6,null,null,null,null,null,13,"cg",6,null,null,null,null,null,17,"mc",6,null,null,null,null,null,5,null,6,"SO",null,null,null,null,null,null,null,null,null,null,null,null,null,null,null,null,null,null,null,null,null,null,null,null,null,null,null,null,null,null,null,null,null,null,null,null,null,null,null,null,null,null,null,null,null,null,null,null,null,null,null,null,null,null,null,null,null,null,null,null,null,null,null,null,null,null,null,null,null,null,null,null,null,null,null,null,null,null,1,1,1,0,0,1,0,0,0,0,0,0,0,0,0,null,0,{"$f":"SUM(#REF!,$M122)","v":{"$error":"#REF!"}},{"$f":"SUM(#REF!,$U120)","v":{"$error":"#REF!"}},{"$f":"SUM(#REF!,AC120)","v":{"$error":"#REF!"}},6,{"$f":"SUM(AS101,AW101)","v":6},0,0,0,0,0,0,0,0,0]
[2,"2025-12-09",null,null,null,null,null,null,null,null,21,"mp",6,null,null,null,null,null,19,"sb",6,null,null,null,null,null,90,"rg",6,"R15",null,null,null,null,17,"mc",6,null,null,null,null,null,5,null,6,"SO",null,null,null,null,null,null,null,null,null,null,null,null,null,null,null,null,null,null,null,null,null,null,null,null,null,null,null,null,null,null,null,null,null,null,null,null,null,null,null,null,null,null,null,null,null,null,null,null,null,null,null,null,null,null,null,null,null,null,null,null,null,null,null,null,null,null,null,null,null,null,null,null,null,null,null,null,null,null,1,1,0,0,0,1,1,0,0,0,0,0,0,0,0,null,0,{"$f":"SUM(#REF!,$M121)","v":{"$error":"#REF!"}},{"$f":"SUM(#REF!,$U121)","v":{"$error":"#REF!"}},{"$f":"SUM(#REF!,AC121)","v":{"$error":"#REF!"}},6,{"$f":"SUM(AS103,AW103)","v":6},0,0,0,0,0,0,0,0,0]
[3,"2025-12-10",null,null,null,null,null,null,null,null,90,"yc",6,"R20",null,null,null,null,19,"sb",6,null,null,null,null,null,13,"cg",6,null,null,null,null,null,90,"rg",6,"R18",null,null,null,null,5,null,6,"SO",null,null,null,null,null,null,null,null,null,null,null,null,null,null,null,null,null,null,null,null,null,null,null,null,null,null,null,null,null,null,null,null,null,null,null,null,null,null,null,null,null,null,null,null,null,null,null,null,null,null,null,null,null,null,null,null,null,null,null,null,null,null,null,null,null,null,null,null,null,null,null,null,null,null,null,null,null,null,1,0,1,0,1,0,1,0,0,0,0,0,0,0,0,null,0,{"$f":"SUM(#REF!,#REF!)","v":{"$error":"#REF!"}},{"$f":"SUM(#REF!,$U122)","v":{"$error":"#REF!"}},{"$f":"SUM(#REF!,AC122)","v":{"$error":"#REF!"}},6,{"$f":"SUM(AS106,AW106)","v":6},0,0,0,0,0,0,0,0,0]
[4,"2025-12-11",null,null,null,null,null,null,null,null,21,"mp",6,"EX",33,"yc",3,"X20",19,"sb",6,null,null,null,null,null,13,"cg",6,null,null,null,null,null,17,"mc",6,null,null,null,null,null,5,null,6,"SO",null,null,null,null,null,null,null,null,null,null,null,null,null,null,null,null,null,null,null,null,4,"rg",6,null,null,null,null,null,null,null,null,null,null,null,null,null,null,null,null,null,null,null,null,null,null,null,null,null,null,null,null,null,null,null,null,null,null,null,null,null,null,null,null,null,null,null,null,null,null,null,null,null,null,null,null,null,null,null,1,1,1,0,1,1,1,0,0,0,0,0,0,0,0,null,0,{"$f":"SUM(#REF!,$M123)","v":{"$error":"#REF!"}},{"$f":"SUM(#REF!,$U123)","v":{"$error":"#REF!"}},{"$f":"SUM(#REF!,AC123)","v":{"$error":"#REF!"}},6,{"$f":"SUM(AS107,AW107)","v":6},0,0,6,0,0,0,0,0,0]
[5,"2025-12-12",null,null,null,null,null,null,null,null,21,"mp",6,"EX",null,null,null,null,19,"yc",6,null,null,null,null,null,13,"cg",6,null,null,null,null,null,17,"mc",6,null,null,null,null,null,5,null,6,"SO",null,null,null,null,null,null,null,null,null,null,null,null,null,null,null,null,null,null,null,null,4,"rg",6,null,null,null,null,null,null,null,null,null,null,null,null,null,null,null,null,null,null,null,null,null,null,null,null,null,null,null,null,null,null,null,null,null,null,null,null,null,null,null,null,null,null,null,null,null,null,null,null,null,null,null,null,null,null,null,0,1,1,0,1,1,1,0,0,0,0,0,0,0,0,null,0,{"$f":"SUM(#REF!,$M124)","v":{"$error":"#REF!"}},{"$f":"SUM(#REF!,$U124)","v":{"$error":"#REF!"}},{"$f":"SUM(#REF!,AC124)","v":{"$error":"#REF!"}},6,{"$f":"SUM(AS108,AW108)","v":6},0,0,6,0,0,0,0,0,0]
[6,"2025-12-13","                                   WEEK-END                       ",null,null,null,null,null,null,null,"                                   WEEK-END                       ",null,null,null,null,null,null,null,"                                   WEEK-END                       ",null,null,null,null,null,null,null,"                                   WEEK-END                       ",null,null,null,null,null,null,null,"                                   WEEK-END                       ",null,null,null,null,null,null,null,"                                   WEEK-END                       ",null,null,null,null,null,null,null,"                                   WEEK-END                       ",null,null,null,null,null,null,null,"                                   WEEK-END                       ",null,null,null,null,null,null,null,"                                   WEEK-END                       ",null,null,null,null,null,null,null,null,null,null,null,null,null,null,null,null,null,null,null,null,null,null,null,null,null,null,null,null,null,null,null,null,null,null,null,null,null,null,null,null,null,null,null,null,null,null,null,null,null,null,null,null,null,null,null,null,null,0,0,0,0,0,0,0,0,0,0,0,0,0,0,0,null,0,{"$f":"SUM($M125,$Q125)","v":0},0,{"$f":"SUM(AC125,AG125)","v":0},0,0,0,0,0,0,0,0,0,0,0]
[7,"2025-12-14","                                   WEEK-END                       ",null,null,null,null,null,null,null,"                                   WEEK-END                       ",null,null,null,null,null,null,null,"                                   WEEK-END                       ",null,null,null,null,null,null,null,"                                   WEEK-END                       ",null,null,null,null,null,null,null,"                                   WEEK-END                       ",null,null,null,null,null,null,null,"                                   WEEK-END                       ",null,null,null,null,null,null,null,"                                   WEEK-END                       ",null,null,null,null,null,null,null,"                                   WEEK-END                       ",null,null,null,null,null,null,null,"                                   WEEK-END                       ",null,null,null,null,null,null,null,null,null,null,null,null,null,null,null,null,null,null,null,null,null,null,null,null,null,null,null,null,null,null,null,null,null,null,null,null,null,null,null,null,null,null,null,null,null,null,null,null,null,null,null,null,null,null,null,null,null,0,0,0,0,0,0,0,0,0,0,0,0,0,0,0,null,0,{"$f":"SUM($M126,$Q126)","v":0},0,{"$f":"SUM(AC126,AG126)","v":0},0,0,0,0,0,0,0,0,0,0,0]
[1,"2025-12-15",null,null,null,null,null,null,null,null,34,"AC",6,null,null,null,null,null,19,"sb",6,null,null,null,null,null,13,"cg",6,null,null,null,null,null,17,"mc",6,"EX",null,null,null,null,5,null,6,"SO",null,null,null,null,null,null,null,null,null,null,null,null,null,null,null,null,null,null,null,null,null,null,null,null,null,null,null,null,null,null,null,null,null,null,null,null,null,null,null,null,null,null,null,null,null,null,null,null,null,null,null,null,null,null,null,null,null,null,null,null,null,null,null,null,null,null,null,null,null,null,null,null,null,null,null,null,null,null,1,0,1,0,0,1,0,0,0,0,0,0,0,0,0,null,0,{"$f":"SUM(#REF!,$M127)","v":{"$error":"#REF!"}},{"$f":"SUM(#REF!,$U127)","v":{"$error":"#REF!"}},{"$f":"SUM(#REF!,AC127)","v":{"$error":"#REF!"}},6,{"$f":"SUM(AS109,AW109)","v":6},0,0,0,0,0,0,0,0,0]
[2,"2025-12-16",null,null,null,null,null,null,null,null,34,"AC",6,null,null,null,null,null,19,"sb",6,null,null,null,null,null,13,"cg",6,"EX",33,"rg",3,"X15",17,"mc",6,"EX",33,"rg",3,"X18",5,null,6,"SO",null,null,null,null,null,null,null,null,null,null,null,null,null,null,null,null,null,null,null,null,null,null,null,null,null,null,null,null,null,null,null,null,null,null,null,null,null,null,null,null,null,null,null,null,null,null,null,null,null,null,null,null,null,null,null,null,null,null,null,null,null,null,null,null,null,null,null,null,null,null,null,null,null,null,null,null,null,null,1,0,1,0,0,1,2,0,0,0,0,0,0,0,0,null,0,{"$f":"SUM(#REF!,$M128)","v":{"$error":"#REF!"}},{"$f":"SUM(#REF!,$U128)","v":{"$error":"#REF!"}},{"$f":"SUM(#REF!,AC128)","v":{"$error":"#REF!"}},9,{"$f":"SUM(AS114,AW114)","v":6},0,0,0,0,0,0,0,0,0]
[3,"2025-12-17",null,null,null,null,null,null,null,null,34,"AC",6,null,null,null,null,null,19,"sb",6,null,null,null,null,null,13,"cg",6,"EX",null,null,null,null,15,"mc",6,null,null,null,null,null,5,null,6,"SO",null,null,null,null,null,null,null,null,null,null,null,null,null,null,null,null,null,null,null,null,null,null,null,null,null,null,null,null,null,null,null,null,null,null,null,null,null,null,null,null,null,null,null,null,null,null,null,null,null,null,null,null,null,null,null,null,null,null,null,null,null,null,null,null,null,null,null,null,null,null,null,null,null,null,null,null,null,null,1,0,1,0,0,1,0,0,0,0,0,0,0,0,0,null,0,{"$f":"SUM(#REF!,$M129)","v":{"$error":"#REF!"}},{"$f":"SUM(#REF!,$U129)","v":{"$error":"#REF!"}},{"$f":"SUM(#REF!,AC129)","v":{"$error":"#REF!"}},6,{"$f":"SUM(AS100,AW100)","v":6},{"$f":"SUM(#REF!,#REF!)","v":{"$error":"#REF!"}},0,0,0,0,0,0,0,0]
[4,"2025-12-18",null,null,null,null,null,null,null,null,34,"AC",6,null,null,null,null,null,90,"yc",6,"R23",null,null,null,null,14,"mp",6,null,null,null,null,null,15,"mc",6,null,null,null,null,null,5,null,6,"SO",null,null,null,null,null,null,null,null,null,null,null,null,null,null,null,null,null,null,null,null,4,"jr",6,null,null,null,null,null,null,null,null,null,null,null,null,null,null,null,null,null,null,null,null,null,null,null,null,null,null,null,null,null,null,null,null,null,null,null,null,null,null,null,null,null,null,null,null,null,null,null,null,null,null,null,null,null,null,null,0,1,0,1,1,1,0,0,0,0,0,0,0,0,0,null,0,{"$f":"SUM(#REF!,$M130)","v":{"$error":"#REF!"}},6,{"$f":"SUM(#REF!,AC130)","v":{"$error":"#REF!"}},6,{"$f":"SUM(AS110,#REF!)","v":{"$error":"#REF!"}},{"$f":"SUM(#REF!,BE129)","v":{"$error":"#REF!"}},0,6,0,0,0,0,0,0]
[5,"2025-12-19",null,null,null,null,null,null,null,null,34,"AC",6,null,null,null,null,null,33,"yc",3,"X23",null,null,null,null,14,"mp",6,null,null,null,null,null,90,"cg",6,"R17",null,null,null,null,5,null,6,"SO",null,null,null,null,null,null,null,null,null,null,null,null,null,null,null,null,null,null,null,null,4,"jr",6,null,null,null,null,null,null,null,null,null,null,null,null,null,null,null,null,null,null,null,null,null,null,null,null,null,null,null,null,null,null,null,null,null,null,null,null,null,null,null,null,null,null,null,null,null,null,null,null,null,null,null,null,null,null,null,0,1,1,1,1,0,0,0,0,0,0,0,0,0,0,null,0,{"$f":"SUM(#REF!,$M131)","v":{"$error":"#REF!"}},3,{"$f":"SUM(#REF!,AC131)","v":{"$error":"#REF!"}},6,{"$f":"SUM(#REF!,#REF!)","v":{"$error":"#REF!"}},{"$f":"SUM(#REF!,BE130)","v":{"$error":"#REF!"}},0,6,0,0,0,0,0,0]
[6,"2025-12-20","                                   WEEK-END                       ",null,null,null,null,null,null,null,"                                   WEEK-END                       ",null,null,null,null,null,null,null,"                                   WEEK-END                       ",null,null,null,null,null,null,null,"                                   WEEK-END                       ",null,null,null,null,null,null,null,"                                   WEEK-END                       ",null,null,null,null,null,null,null,"                                   WEEK-END                       ",null,null,null,null,null,null,null,"                                   WEEK-END                       ",null,null,null,null,null,null,null,"                                   WEEK-END                       ",null,null,null,null,null,null,null,"                                   WEEK-END                       ",null,null,null,null,null,null,null,null,null,null,null,null,null,null,null,null,null,null,null,null,null,null,null,null,null,null,null,null,null,null,null,null,null,null,null,null,null,null,null,null,null,null,null,null,null,null,null,null,null,null,null,null,null,null,null,null,null,0,0,0,0,0,0,0,0,0,0,0,0,0,0,0,null,0,{"$f":"SUM($M132,$Q132)","v":0},0,{"$f":"SUM(AC132,AG132)","v":0},0,0,0,0,0,0,0,0,0,0,0]
[7,"2025-12-21","                                   WEEK-END                       ",null,null,null,null,null,null,null,"                                   WEEK-END                       ",null,null,null,null,null,null,null,"                                   WEEK-END                       ",null,null,null,null,null,null,null,"                                   WEEK-END                       ",null,null,null,null,null,null,null,"                                   WEEK-END                       ",null,null,null,null,null,null,null,"                                   WEEK-END                       ",null,null,null,null,null,null,null,"                                   WEEK-END                       ",null,null,null,null,null,null,null,"                                   WEEK-END                       ",null,null,null,null,null,null,null,"                                   WEEK-END                       ",null,null,null,null,null,null,null,null,null,null,null,null,null,null,null,null,null,null,null,null,null,null,null,null,null,null,null,null,null,null,null,null,null,null,null,null,null,null,null,null,null,null,null,null,null,null,null,null,null,null,null,null,null,null,null,null,null,0,0,0,0,0,0,0,0,0,0,0,0,0,0,0,null,0,{"$f":"SUM($M133,$Q133)","v":0},0,{"$f":"SUM(AC133,AG133)","v":0},0,0,0,0,0,0,0,0,0,0,0]
[1,"2025-12-22","Congé Noël",null,null,null,null,null,null,null,"Congé Noël",null,null,null,null,null,null,null,"Congé Noël",null,null,null,null,null,null,null,"Congé Noël",null,null,null,null,null,null,null,"Congé Noël",null,null,null,null,null,null,null,"Congé Noël",null,null,null,null,null,null,null,"Congé Noël",null,null,null,null,null,null,null,"Congé Noël",null,null,null,null,null,null,null,"Congé Noël",null,null,null,null,null,null,null,null,null,null,null,null,null,null,null,null,null,null,null,null,null,null,null,null,null,null,null,null,null,null,null,null,null,null,null,null,null,null,null,null,null,null,null,null,null,null,null,null,null,null,null,null,null,null,null,null,null,0,0,0,0,0,0,0,0,0,0,0,0,0,0,0,null,0,{"$f":"SUM(#REF!,$M134)","v":{"$error":"#REF!"}},0,{"$f":"SUM(#REF!,AC134)","v":{"$error":"#REF!"}},0,0,0,0,0,0,0,0,0,0,0]
[2,"2025-12-23","Congé Noël",null,null,null,null,null,null,null,"Congé Noël",null,null,null,null,null,null,null,"Congé Noël",null,null,null,null,null,null,null,"Congé Noël",null,null,null,null,null,null,null,"Congé Noël",null,null,null,null,null,null,null,"Congé Noël",null,null,null,null,null,null,null,"Congé Noël",null,null,null,null,null,null,null,"Congé Noël",null,null,null,null,null,null,null,"Congé Noël",null,null,null,null,null,null,null,null,null,null,null,null,null,null,null,null,null,null,null,null,null,null,null,null,null,null,null,null,null,null,null,null,null,null,null,null,null,null,null,null,null,null,null,null,null,null,null,null,null,null,null,null,null,null,null,null,null,0,0,0,0,0,0,0,0,0,0,0,0,0,0,0,null,0,{"$f":"SUM(#REF!,$M135)","v":{"$error":"#REF!"}},0,{"$f":"SUM(#REF!,AC135)","v":{"$error":"#REF!"}},0,0,0,0,0,0,0,0,0,0,0]
[3,"2025-12-24","Congé Noël",null,null,null,null,null,null,null,"Congé Noël",null,null,null,null,null,null,null,"Congé Noël",null,null,null,null,null,null,null,"Congé Noël",null,null,null,null,null,null,null,"Congé Noël",null,null,null,null,null,null,null,"Congé Noël",null,null,null,null,null,null,null,"Congé Noël",null,null,null,null,null,null,null,"Congé Noël",null,null,null,null,null,null,null,"Congé Noël",null,null,null,null,null,null,null,null,null,null,null,null,null,null,null,null,null,null,null,null,null,null,null,null,null,null,null,null,null,null,null,null,null,null,null,null,null,null,null,null,null,null,null,null,null,null,null,null,null,null,null,null,null,null,null,null,null,0,0,0,0,0,0,0,0,0,0,0,0,0,0,0,null,0,{"$f":"SUM(#REF!,$M136)","v":{"$error":"#REF!"}},0,{"$f":"SUM(#REF!,AC136)","v":{"$error":"#REF!"}},0,0,0,0,0,0,0,0,0,0,0]
[4,"2025-12-25","Congé Noël",null,null,null,null,null,null,null,"Congé Noël",null,null,null,null,null,null,null,"Congé Noël",null,null,null,null,null,null,null,"Congé Noël",null,null,null,null,null,null,null,"Congé Noël",null,null,null,null,null,null,null,"Congé Noël",null,null,null,null,null,null,null,"Congé Noël",null,null,null,null,null,null,null,"Congé Noël",null,null,null,null,null,null,null,"Congé Noël",null,null,null,null,null,null,null,null,null,null,null,null,null,null,null,null,null,null,null,null,null,null,null,null,null,null,null,null,null,null,null,null,null,null,null,null,null,null,null,null,null,null,null,null,null,null,null,null,null,null,null,null,null,null,null,null,null,{"$f":"COUNTIF($C137:$DR137,$A$459)","v":0},{"$f":"COUNTIF($C137:$DR137,$A$460)","v":0},{"$f":"COUNTIF($C137:$DR137,$A$461)","v":0},{"$f":"COUNTIF($C137:$DR137,$A$462)","v":0},{"$f":"COUNTIF($C137:$DR137,$A$463)","v":0},{"$f":"COUNTIF($C137:$DR137,$A$464)","v":0},{"$f":"COUNTIF($C137:$DR137,$A$465)","v":0},{"$f":"COUNTIF($C137:$DR137,$A$466)","v":0},{"$f":"COUNTIF($C137:$DR137,$A$467)","v":0},{"$f":"COUNTIF($C137:$DR137,$A$468)","v":0},{"$f":"COUNTIF($C137:$DR137,$A$469)","v":0},{"$f":"COUNTIF($C137:$DR137,$A$470)","v":0},{"$f":"COUNTIF($C137:$DR137,$A$471)","v":0},{"$f":"COUNTIF($C137:$DR137,$A$472)","v":0},{"$f":"COUNTIF($C137:$DR137,$A$473)","v":0},null,{"$f":"SUM($E137,$I137)","v":0},{"$f":"SUM($M137,$Q137)","v":0},{"$f":"SUM($U137,$Y137)","v":0},{"$f":"SUM(AC137,AG137)","v":0},0,0,0,0,0,0,0,0,0,0,0]
[{"$f":"WEEKDAY(B138,2)","v":5},"2025-12-26","Congé Noël",null,null,null,null,null,null,null,"Congé Noël",null,null,null,null,null,null,null,"Congé Noël",null,null,null,null,null,null,null,"Congé Noël",null,null,null,null,null,null,null,"Congé Noël",null,null,null,null,null,null,null,"Congé Noël",null,null,null,null,null,null,null,"Congé Noël",null,null,null,null,null,null,null,"Congé Noël",null,null,null,null,null,null,null,"Congé Noël",null,null,null,null,null,null,null,null,null,null,null,null,null,null,null,null,null,null,null,null,null,null,null,null,null,null,null,null,null,null,null,null,null,null,null,null,null,null,null,null,null,null,null,null,null,null,null,null,null,null,null,null,null,null,null,null,null,0,0,0,0,0,0,0,0,0,0,0,0,0,0,0,null,0,0,0,{"$f":"SUM(AC138,AG138)","v":0},{"$f":"SUM(AK138,AO138)","v":0},{"$f":"SUM(AS138,AW138)","v":0},{"$f":"SUM(BA138,BE138)","v":0},{"$f":"SUM(BI138,BM138)","v":0},{"$f":"SUM(BQ138,BU138)","v":0},{"$f":"SUM(BY138,CC138)","v":0},{"$f":"SUM(CG138,CK138)","v":0},{"$f":"SUM(CO138,CS138)","v":0},{"$f":"SUM(CW138,DA138)","v":0},{"$f":"SUM(DE138,DI138)","v":0},{"$f":"SUM(DM138,DQ138)","v":0}]
[6,{"$f":"B138+1","v":"2025-12-27"},"                                   WEEK-END                       ",null,null,null,null,null,null,null,"                                   WEEK-END                       ",null,null,null,null,null,null,null,"                                   WEEK-END                       ",null,null,null,null,null,null,null,"                                   WEEK-END                       ",null,null,null,null,null,null,null,"                                   WEEK-END                       ",null,null,null,null,null,null,null,"                                   WEEK-END                       ",null,null,null,null,null,null,null,"                                   WEEK-END                       ",null,null,null,null,null,null,null,"                                   WEEK-END                       ",null,null,null,null,null,null,null,"                                   WEEK-END                       ",null,null,null,null,null,null,null,null,null,null,null,null,null,null,null,null,null,null,null,null,null,null,null,null,null,null,null,null,null,null,null,null,null,null,null,null,null,null,null,null,null,null,null,null,null,null,null,null,null,null,null,null,null,null,null,null,null,0,0,0,0,0,0,0,0,0,0,0,0,0,0,0,null,0,0,0,0,0,0,0,0,0,0,0,0,0,0,0]
[7,"2025-12-28","                                   WEEK-END                       ",null,null,null,null,null,null,null,"                                   WEEK-END                       ",null,null,null,null,null,null,null,"                                   WEEK-END                       ",null,null,null,null,null,null,null,"                                   WEEK-END                       ",null,null,null,null,null,null,null,"                                   WEEK-END                       ",null,null,null,null,null,null,null,"                                   WEEK-END                       ",null,null,null,null,null,null,null,"                                   WEEK-END                       ",null,null,null,null,null,null,null,"                                   WEEK-END                       ",null,null,null,null,null,null,null,"                                   WEEK-END                       ",null,null,null,null,null,null,null,null,null,null,null,null,null,null,null,null,null,null,null,null,null,null,null,null,null,null,null,null,null,null,null,null,null,null,null,null,null,null,null,null,null,null,null,null,null,null,null,null,null,null,null,null,null,null,null,null,null,0,0,0,0,0,0,0,0,0,0,0,0,0,0,0,null,0,0,0,0,0,0,0,0,0,0,0,0,0,0,0]
[1,"2025-12-29","Congé Noël",null,null,null,null,null,null,null,"Congé Noël",null,null,null,null,null,null,null,"Congé Noël",null,null,null,null,null,null,null,"Congé Noël",null,null,null,null,null,null,null,"Congé Noël",null,null,null,null,null,null,null,"Congé Noël",null,null,null,null,null,null,null,"Congé Noël",null,null,null,null,null,null,null,"Congé Noël",null,null,null,null,null,null,null,"Congé Noël",null,null,null,null,null,null,null,null,null,null,null,null,null,null,null,null,null,null,null,null,null,null,null,null,null,null,null,null,null,null,null,null,null,null,null,null,null,null,null,null,null,null,null,null,null,null,null,null,null,null,null,null,null,null,null,null,null,{"$f":"COUNTIF($C141:$DR141,$A$459)","v":0},{"$f":"COUNTIF($C141:$DR141,$A$460)","v":0},{"$f":"COUNTIF($C141:$DR141,$A$461)","v":0},{"$f":"COUNTIF($C141:$DR141,$A$462)","v":0},{"$f":"COUNTIF($C141:$DR141,$A$463)","v":0},{"$f":"COUNTIF($C141:$DR141,$A$464)","v":0},{"$f":"COUNTIF($C141:$DR141,$A$465)","v":0},{"$f":"COUNTIF($C141:$DR141,$A$466)","v":0},{"$f":"COUNTIF($C141:$DR141,$A$467)","v":0},{"$f":"COUNTIF($C141:$DR141,$A$468)","v":0},{"$f":"COUNTIF($C141:$DR141,$A$469)","v":0},{"$f":"COUNTIF($C141:$DR141,$A$470)","v":0},{"$f":"COUNTIF($C141:$DR141,$A$471)","v":0},{"$f":"COUNTIF($C141:$DR141,$A$472)","v":0},{"$f":"COUNTIF($C141:$DR141,$A$473)","v":0},null,{"$f":"SUM(#REF!,$E141)","v":{"$error":"#REF!"}},0,0,{"$f":"SUM(#REF!,AC141)","v":{"$error":"#REF!"}},0,0,0,0,0,0,0,0,0,0,0]
[2,"2025-12-30","Congé Noël",null,null,null,null,null,null,null,"Congé Noël",null,null,null,null,null,null,null,"Congé Noël",null,null,null,null,null,null,null,"Congé Noël",null,null,null,null,null,null,null,"Congé Noël",null,null,null,null,null,null,null,"Congé Noël",null,null,null,null,null,null,null,"Congé Noël",null,null,null,null,null,null,null,"Congé Noël",null,null,null,null,null,null,null,"Congé Noël",null,null,null,null,null,null,null,null,null,null,null,null,null,null,null,null,null,null,null,null,null,null,null,null,null,null,null,null,null,null,null,null,null,null,null,null,null,null,null,null,null,null,null,null,null,null,null,null,null,null,null,null,null,null,null,null,null,{"$f":"COUNTIF($C142:$DR142,$A$459)","v":0},{"$f":"COUNTIF($C142:$DR142,$A$460)","v":0},{"$f":"COUNTIF($C142:$DR142,$A$461)","v":0},{"$f":"COUNTIF($C142:$DR142,$A$462)","v":0},{"$f":"COUNTIF($C142:$DR142,$A$463)","v":0},{"$f":"COUNTIF($C142:$DR142,$A$464)","v":0},{"$f":"COUNTIF($C142:$DR142,$A$465)","v":0},{"$f":"COUNTIF($C142:$DR142,$A$466)","v":0},{"$f":"COUNTIF($C142:$DR142,$A$467)","v":0},{"$f":"COUNTIF($C142:$DR142,$A$468)","v":0},{"$f":"COUNTIF($C142:$DR142,$A$469)","v":0},{"$f":"COUNTIF($C142:$DR142,$A$470)","v":0},{"$f":"COUNTIF($C142:$DR142,$A$471)","v":0},{"$f":"COUNTIF($C142:$DR142,$A$472)","v":0},{"$f":"COUNTIF($C142:$DR142,$A$473)","v":0},null,{"$f":"SUM(#REF!,$E142)","v":{"$error":"#REF!"}},{"$f":"SUM(#REF!,$M142)","v":{"$error":"#REF!"}},0,0,0,0,0,0,0,0,0,0,0,0,0]
[3,"2025-12-31","Congé Noël",null,null,null,null,null,null,null,"Congé Noël",null,null,null,null,null,null,null,"Congé Noël",null,null,null,null,null,null,null,"Congé Noël",null,null,null,null,null,null,null,"Congé Noël",null,null,null,null,null,null,null,"Congé Noël",null,null,null,null,null,null,null,"Congé Noël",null,null,null,null,null,null,null,"Congé Noël",null,null,null,null,null,null,null,"Congé Noël",null,null,null,null,null,null,null,null,null,null,null,null,null,null,null,null,null,null,null,null,null,null,null,null,null,null,null,null,null,null,null,null,null,null,null,null,null,null,null,null,null,null,null,null,null,null,null,null,null,null,null,null,null,null,null,null,null,{"$f":"COUNTIF($C143:$DR143,$A$459)","v":0},{"$f":"COUNTIF($C143:$DR143,$A$460)","v":0},{"$f":"COUNTIF($C143:$DR143,$A$461)","v":0},{"$f":"COUNTIF($C143:$DR143,$A$462)","v":0},{"$f":"COUNTIF($C143:$DR143,$A$463)","v":0},{"$f":"COUNTIF($C143:$DR143,$A$464)","v":0},{"$f":"COUNTIF($C143:$DR143,$A$465)","v":0},{"$f":"COUNTIF($C143:$DR143,$A$466)","v":0},{"$f":"COUNTIF($C143:$DR143,$A$467)","v":0},{"$f":"COUNTIF($C143:$DR143,$A$468)","v":0},{"$f":"COUNTIF($C143:$DR143,$A$469)","v":0},{"$f":"COUNTIF($C143:$DR143,$A$470)","v":0},{"$f":"COUNTIF($C143:$DR143,$A$471)","v":0},{"$f":"COUNTIF($C143:$DR143,$A$472)","v":0},{"$f":"COUNTIF($C143:$DR143,$A$473)","v":0},null,{"$f":"SUM(#REF!,$E143)","v":{"$error":"#REF!"}},{"$f":"SUM(#REF!,$M143)","v":{"$error":"#REF!"}},0,{"$f":"SUM(#REF!,AC143)","v":{"$error":"#REF!"}},0,0,0,0,0,0,0,0,0,0,0]
[4,"2026-01-01","Congé Noël",null,null,null,null,null,null,null,"Congé Noël",null,null,null,null,null,null,null,"Congé Noël",null,null,null,null,null,null,null,"Congé Noël",null,null,null,null,null,null,null,"Congé Noël",null,null,null,null,null,null,null,"Congé Noël",null,null,null,null,null,null,null,"Congé Noël",null,null,null,null,null,null,null,"Congé Noël",null,null,null,null,null,null,null,"Congé Noël",null,null,null,null,null,null,null,null,null,null,null,null,null,null,null,null,null,null,null,null,null,null,null,null,null,null,null,null,null,null,null,null,null,null,null,null,null,null,null,null,null,null,null,null,null,null,null,null,null,null,null,null,null,null,null,null,null,0,0,0,0,0,0,0,0,0,0,0,0,0,0,0,null,0,0,0,0,0,0,0,0,0,0,0,0,0,0,0]
[5,"2026-01-02","Congé Noël",null,null,null,null,null,null,null,"Congé Noël",null,null,null,null,null,null,null,"Congé Noël",null,null,null,null,null,null,null,"Congé Noël",null,null,null,null,null,null,null,"Congé Noël",null,null,null,null,null,null,null,"Congé Noël",null,null,null,null,null,null,null,"Congé Noël",null,null,null,null,null,null,null,"Congé Noël",null,null,null,null,null,null,null,"Congé Noël",null,null,null,null,null,null,null,null,null,null,null,null,null,null,null,null,null,null,null,null,null,null,null,null,null,null,null,null,null,null,null,null,null,null,null,null,null,null,null,null,null,null,null,null,null,null,null,null,null,null,null,null,null,null,null,null,null,0,0,0,0,0,0,0,0,0,0,0,0,0,0,0,null,0,0,0,0,0,0,0,0,0,0,0,0,0,0,0]
[6,"2026-01-03","                                   WEEK-END                       ",null,null,null,null,null,null,null,"                                   WEEK-END                       ",null,null,null,null,null,null,null,"                                   WEEK-END                       ",null,null,null,null,null,null,null,"                                   WEEK-END                       ",null,null,null,null,null,null,null,"                                   WEEK-END                       ",null,null,null,null,null,null,null,"                                   WEEK-END                       ",null,null,null,null,null,null,null,"                                   WEEK-END                       ",null,null,null,null,null,null,null,"                                   WEEK-END                       ",null,null,null,null,null,null,null,"                                   WEEK-END                       ",null,null,null,null,null,null,null,null,null,null,null,null,null,null,null,null,null,null,null,null,null,null,null,null,null,null,null,null,null,null,null,null,null,null,null,null,null,null,null,null,null,null,null,null,null,null,null,null,null,null,null,null,null,null,null,null,null,0,0,0,0,0,0,0,0,0,0,0,0,0,0,0,null,0,0,0,0,0,0,0,0,0,0,0,0,0,0,0]
[7,"2026-01-04","                                   WEEK-END                       ",null,null,null,null,null,null,null,"                                   WEEK-END                       ",null,null,null,null,null,null,null,"                                   WEEK-END                       ",null,null,null,null,null,null,null,"                                   WEEK-END                       ",null,null,null,null,null,null,null,"                                   WEEK-END                       ",null,null,null,null,null,null,null,"                                   WEEK-END                       ",null,null,null,null,null,null,null,"                                   WEEK-END                       ",null,null,null,null,null,null,null,"                                   WEEK-END                       ",null,null,null,null,null,null,null,"                                   WEEK-END                       ",null,null,null,null,null,null,null,null,null,null,null,null,null,null,null,null,null,null,null,null,null,null,null,null,null,null,null,null,null,null,null,null,null,null,null,null,null,null,null,null,null,null,null,null,null,null,null,null,null,null,null,null,null,null,null,null,null,0,0,0,0,0,0,0,0,0,0,0,0,0,0,0,null,0,0,0,0,0,0,0,0,0,0,0,0,0,0,0]
[1,"2026-01-05","     Pédagogique Commune",null,null,null,null,null,null,null,"     Pédagogique Commune",null,null,null,null,null,null,null,"     Pédagogique Commune",null,null,null,null,null,null,null,"     Pédagogique Commune",null,null,null,null,null,null,null,"     Pédagogique Commune",null,null,null,null,null,null,null,"     Pédagogique Commune",null,null,null,null,null,null,null,"     Pédagogique Commune",null,null,null,null,null,null,null,"     Pédagogique Commune",null,null,null,null,null,null,null,"     Pédagogique Commune",null,null,null,null,null,null,null,null,null,null,null,null,null,null,null,null,null,null,null,null,null,null,null,null,null,null,null,null,null,null,null,null,null,null,null,null,null,null,null,null,null,null,null,null,null,null,null,null,null,null,null,null,null,null,null,null,null,{"$f":"COUNTIF($C148:$DR148,$A$459)","v":0},{"$f":"COUNTIF($C148:$DR148,$A$460)","v":0},{"$f":"COUNTIF($C148:$DR148,$A$461)","v":0},{"$f":"COUNTIF($C148:$DR148,$A$462)","v":0},{"$f":"COUNTIF($C148:$DR148,$A$463)","v":0},{"$f":"COUNTIF($C148:$DR148,$A$464)","v":0},{"$f":"COUNTIF($C148:$DR148,$A$465)","v":0},{"$f":"COUNTIF($C148:$DR148,$A$466)","v":0},{"$f":"COUNTIF($C148:$DR148,$A$467)","v":0},{"$f":"COUNTIF($C148:$DR148,$A$468)","v":0},{"$f":"COUNTIF($C148:$DR148,$A$469)","v":0},{"$f":"COUNTIF($C148:$DR148,$A$470)","v":0},{"$f":"COUNTIF($C148:$DR148,$A$471)","v":0},{"$f":"COUNTIF($C148:$DR148,$A$472)","v":0},{"$f":"COUNTIF($C148:$DR148,$A$473)","v":0},null,{"$f":"SUM(#REF!,$E148)","v":{"$error":"#REF!"}},{"$f":"SUM(#REF!,$M148)","v":{"$error":"#REF!"}},0,{"$f":"SUM(#REF!,AC148)","v":{"$error":"#REF!"}},0,0,0,0,0,0,0,0,0,0,0]
[2,"2026-01-06",null,null,null,null,null,null,null,null,23,"mc",6,null,null,null,null,null,19,"yc",6,null,null,null,null,null,14,"mp",6,null,null,null,null,null,15,"rg",6,null,null,null,null,null,10,"jr",6,null,null,null,null,null,1,"cg",6,null,null,null,null,null,null,null,null,null,null,null,null,null,null,null,null,null,null,null,null,null,null,null,null,null,null,null,null,null,null,null,null,null,null,null,null,null,null,null,null,null,null,null,null,null,null,null,null,null,null,null,null,null,null,null,null,null,null,null,null,null,null,null,null,null,null,null,null,null,null,null,{"$f":"COUNTIF($C149:$DR149,$A$459)","v":0},{"$f":"COUNTIF($C149:$DR149,$A$460)","v":1},{"$f":"COUNTIF($C149:$DR149,$A$461)","v":1},{"$f":"COUNTIF($C149:$DR149,$A$462)","v":1},{"$f":"COUNTIF($C149:$DR149,$A$463)","v":1},{"$f":"COUNTIF($C149:$DR149,$A$464)","v":1},{"$f":"COUNTIF($C149:$DR149,$A$465)","v":1},{"$f":"COUNTIF($C149:$DR149,$A$466)","v":0},{"$f":"COUNTIF($C149:$DR149,$A$467)","v":0},{"$f":"COUNTIF($C149:$DR149,$A$468)","v":0},{"$f":"COUNTIF($C149:$DR149,$A$469)","v":0},{"$f":"COUNTIF($C149:$DR149,$A$470)","v":0},{"$f":"COUNTIF($C149:$DR149,$A$471)","v":0},{"$f":"COUNTIF($C149:$DR149,$A$472)","v":0},{"$f":"COUNTIF($C149:$DR149,$A$473)","v":0},null,{"$f":"SUM(#REF!,$E149)","v":{"$error":"#REF!"}},{"$f":"SUM(#REF!,$M149)","v":{"$error":"#REF!"}},6,{"$f":"SUM(#REF!,AC149)","v":{"$error":"#REF!"}},6,{"$f":"SUM(AS113,AW113)","v":6},{"$f":"SUM(BA113,BE149)","v":0},0,0,0,0,0,0,0,0]
[3,"2026-01-07",null,null,null,null,null,null,null,null,23,"mc",6,null,null,null,null,null,19,"yc",6,null,null,null,null,null,14,"mp",6,null,null,null,null,null,15,"rg",6,null,null,null,null,null,10,"jr",6,null,null,null,null,null,1,"cg",6,null,null,null,null,null,null,null,null,null,null,null,null,null,null,null,null,null,null,null,null,null,null,null,null,null,null,null,null,null,null,null,null,null,null,null,null,null,null,null,null,null,null,null,null,null,null,null,null,null,null,null,null,null,null,null,null,null,null,null,null,null,null,null,null,null,null,null,null,null,null,null,{"$f":"COUNTIF($C150:$DR150,$A$459)","v":0},{"$f":"COUNTIF($C150:$DR150,$A$460)","v":1},{"$f":"COUNTIF($C150:$DR150,$A$461)","v":1},{"$f":"COUNTIF($C150:$DR150,$A$462)","v":1},{"$f":"COUNTIF($C150:$DR150,$A$463)","v":1},{"$f":"COUNTIF($C150:$DR150,$A$464)","v":1},{"$f":"COUNTIF($C150:$DR150,$A$465)","v":1},{"$f":"COUNTIF($C150:$DR150,$A$466)","v":0},{"$f":"COUNTIF($C150:$DR150,$A$467)","v":0},{"$f":"COUNTIF($C150:$DR150,$A$468)","v":0},{"$f":"COUNTIF($C150:$DR150,$A$469)","v":0},{"$f":"COUNTIF($C150:$DR150,$A$470)","v":0},{"$f":"COUNTIF($C150:$DR150,$A$471)","v":0},{"$f":"COUNTIF($C150:$DR150,$A$472)","v":0},{"$f":"COUNTIF($C150:$DR150,$A$473)","v":0},null,{"$f":"SUM(#REF!,$E150)","v":{"$error":"#REF!"}},{"$f":"SUM(#REF!,$M150)","v":{"$error":"#REF!"}},{"$f":"SUM(#REF!,$U150)","v":{"$error":"#REF!"}},{"$f":"SUM(#REF!,AC150)","v":{"$error":"#REF!"}},6,{"$f":"SUM(#REF!,#REF!)","v":{"$error":"#REF!"}},{"$f":"SUM(BA115,BE151)","v":0},0,0,0,0,0,0,0,0]
[4,"2026-01-08",null,null,null,null,null,null,null,null,23,"mc",6,null,null,null,null,null,19,"yc",6,null,null,null,null,null,14,"mp",6,null,null,null,null,null,15,"rg",6,null,null,null,null,null,10,"jr",6,null,null,null,null,null,2,"cg",6,null,null,null,null,null,null,null,null,null,null,null,null,null,4,"np",6,null,null,null,null,null,null,null,null,null,null,null,null,null,null,null,null,null,null,null,null,null,null,null,null,null,null,null,null,null,null,null,null,null,null,null,null,null,null,null,null,null,null,null,null,null,null,null,null,null,null,null,null,null,null,null,{"$f":"COUNTIF($C151:$DR151,$A$459)","v":0},{"$f":"COUNTIF($C151:$DR151,$A$460)","v":1},{"$f":"COUNTIF($C151:$DR151,$A$461)","v":1},{"$f":"COUNTIF($C151:$DR151,$A$462)","v":1},{"$f":"COUNTIF($C151:$DR151,$A$463)","v":1},{"$f":"COUNTIF($C151:$DR151,$A$464)","v":1},{"$f":"COUNTIF($C151:$DR151,$A$465)","v":1},{"$f":"COUNTIF($C151:$DR151,$A$466)","v":1},{"$f":"COUNTIF($C151:$DR151,$A$467)","v":0},{"$f":"COUNTIF($C151:$DR151,$A$468)","v":0},{"$f":"COUNTIF($C151:$DR151,$A$469)","v":0},{"$f":"COUNTIF($C151:$DR151,$A$470)","v":0},{"$f":"COUNTIF($C151:$DR151,$A$471)","v":0},{"$f":"COUNTIF($C151:$DR151,$A$472)","v":0},{"$f":"COUNTIF($C151:$DR151,$A$473)","v":0},null,{"$f":"SUM(#REF!,$E151)","v":{"$error":"#REF!"}},{"$f":"SUM(#REF!,$M151)","v":{"$error":"#REF!"}},{"$f":"SUM(#REF!,$U151)","v":{"$error":"#REF!"}},{"$f":"SUM(#REF!,AC151)","v":{"$error":"#REF!"}},6,{"$f":"SUM(AS116,AW116)","v":6},{"$f":"SUM(BA158,BE158)","v":6},0,6,0,0,0,0,0,0]
[5,"2026-01-09",null,null,null,null,null,null,null,null,23,"mc",6,null,null,null,null,null,19,"yc",6,null,null,null,null,null,14,"mp",6,null,null,null,null,null,15,"rg",6,null,null,null,null,null,10,"jr",6,null,null,null,null,null,2,"cg",6,null,null,null,null,null,null,null,null,null,null,null,null,null,4,"np",6,null,null,null,null,null,null,null,null,null,null,null,null,null,null,null,null,null,null,null,null,null,null,null,null,null,null,null,null,null,null,null,null,null,null,null,null,null,null,null,null,null,null,null,null,null,null,null,null,null,null,null,null,null,null,null,{"$f":"COUNTIF($C152:$DR152,$A$459)","v":0},{"$f":"COUNTIF($C152:$DR152,$A$460)","v":1},{"$f":"COUNTIF($C152:$DR152,$A$461)","v":1},{"$f":"COUNTIF($C152:$DR152,$A$462)","v":1},{"$f":"COUNTIF($C152:$DR152,$A$463)","v":1},{"$f":"COUNTIF($C152:$DR152,$A$464)","v":1},{"$f":"COUNTIF($C152:$DR152,$A$465)","v":1},{"$f":"COUNTIF($C152:$DR152,$A$466)","v":1},{"$f":"COUNTIF($C152:$DR152,$A$467)","v":0},{"$f":"COUNTIF($C152:$DR152,$A$468)","v":0},{"$f":"COUNTIF($C152:$DR152,$A$469)","v":0},{"$f":"COUNTIF($C152:$DR152,$A$470)","v":0},{"$f":"COUNTIF($C152:$DR152,$A$471)","v":0},{"$f":"COUNTIF($C152:$DR152,$A$472)","v":0},{"$f":"COUNTIF($C152:$DR152,$A$473)","v":0},null,{"$f":"SUM(#REF!,$E152)","v":{"$error":"#REF!"}},{"$f":"SUM(#REF!,$M152)","v":{"$error":"#REF!"}},{"$f":"SUM(#REF!,$U152)","v":{"$error":"#REF!"}},{"$f":"SUM(#REF!,AC152)","v":{"$error":"#REF!"}},6,{"$f":"SUM(AS121,AW121)","v":6},{"$f":"SUM(BA149,BE152)","v":6},0,6,0,0,0,0,0,0]
[6,"2026-01-10","                                   WEEK-END                       ",null,null,null,null,null,null,null,"                                   WEEK-END                       ",null,null,null,null,null,null,null,"                                   WEEK-END                       ",null,null,null,null,null,null,null,"                                   WEEK-END                       ",null,null,null,null,null,null,null,"                                   WEEK-END                       ",null,null,null,null,null,null,null,"                                   WEEK-END                       ",null,null,null,null,null,null,null,"                                   WEEK-END                       ",null,null,null,null,null,null,null,"                                   WEEK-END                       ",null,null,null,null,null,null,null,"                                   WEEK-END                       ",null,null,null,null,null,null,null,null,null,null,null,null,null,null,null,null,null,null,null,null,null,null,null,null,null,null,null,null,null,null,null,null,null,null,null,null,null,null,null,null,null,null,null,null,null,null,null,null,null,null,null,null,null,null,null,null,null,0,0,0,0,0,0,0,0,0,0,0,0,0,0,0,null,0,0,0,0,0,0,0,0,0,0,0,0,0,0,0]
[7,"2026-01-11","                                   WEEK-END                       ",null,null,null,null,null,null,null,"                                   WEEK-END                       ",null,null,null,null,null,null,null,"                                   WEEK-END                       ",null,null,null,null,null,null,null,"                                   WEEK-END                       ",null,null,null,null,null,null,null,"                                   WEEK-END                       ",null,null,null,null,null,null,null,"                                   WEEK-END                       ",null,null,null,null,null,null,null,"                                   WEEK-END                       ",null,null,null,null,null,null,null,"                                   WEEK-END                       ",null,null,null,null,null,null,null,"                                   WEEK-END                       ",null,null,null,null,null,null,null,null,null,null,null,null,null,null,null,null,null,null,null,null,null,null,null,null,null,null,null,null,null,null,null,null,null,null,null,null,null,null,null,null,null,null,null,null,null,null,null,null,null,null,null,null,null,null,null,null,null,0,0,0,0,0,0,0,0,0,0,0,0,0,0,0,null,0,0,0,0,0,0,0,0,0,0,0,0,0,0,0]
[1,"2026-01-12",null,null,null,null,null,null,null,null,23,"mc",6,null,null,null,null,null,19,"yc",6,"EX",null,null,null,null,90,"np",6,"R13",null,null,null,null,15,"rg",6,"EX",null,null,null,null,10,"jr",6,null,null,null,null,null,"Congé",null,null,null,null,null,null,null,null,null,null,null,null,null,null,null,null,null,null,null,null,null,null,null,null,null,null,null,null,null,null,null,null,null,null,null,null,null,null,null,null,null,null,null,null,null,null,null,null,null,null,null,null,null,null,null,null,null,null,null,null,null,null,null,null,null,null,null,null,null,null,null,null,null,{"$f":"COUNTIF($C155:$DR155,$A$459)","v":0},{"$f":"COUNTIF($C155:$DR155,$A$460)","v":0},{"$f":"COUNTIF($C155:$DR155,$A$461)","v":0},{"$f":"COUNTIF($C155:$DR155,$A$462)","v":1},{"$f":"COUNTIF($C155:$DR155,$A$463)","v":1},{"$f":"COUNTIF($C155:$DR155,$A$464)","v":1},{"$f":"COUNTIF($C155:$DR155,$A$465)","v":1},{"$f":"COUNTIF($C155:$DR155,$A$466)","v":1},{"$f":"COUNTIF($C155:$DR155,$A$467)","v":0},{"$f":"COUNTIF($C155:$DR155,$A$468)","v":0},{"$f":"COUNTIF($C155:$DR155,$A$469)","v":0},{"$f":"COUNTIF($C155:$DR155,$A$470)","v":0},{"$f":"COUNTIF($C155:$DR155,$A$471)","v":0},{"$f":"COUNTIF($C155:$DR155,$A$472)","v":0},{"$f":"COUNTIF($C155:$DR155,$A$473)","v":0},null,{"$f":"SUM(#REF!,$E155)","v":{"$error":"#REF!"}},{"$f":"SUM(#REF!,$M155)","v":{"$error":"#REF!"}},{"$f":"SUM(#REF!,$U155)","v":{"$error":"#REF!"}},{"$f":"SUM(#REF!,AC155)","v":{"$error":"#REF!"}},6,{"$f":"SUM(AS129,AW129)","v":6},{"$f":"SUM(BA150,BE155)","v":6},{"$f":"SUM(BI176,BM155)","v":0},0,0,0,0,0,0,0]
[2,"2026-01-13",null,null,null,null,null,null,null,null,23,"mc",6,null,null,null,null,null,19,"yc",6,"EX",null,null,null,null,14,"mp",6,null,null,null,null,null,15,"rg",6,"EX",33,"cg",3,"X17",10,"jr",6,null,null,null,null,null,1,"sb",6,null,null,null,null,null,null,null,null,null,null,null,null,null,null,null,null,null,null,null,null,null,null,null,null,null,null,null,null,null,null,null,null,null,null,null,null,null,null,null,null,null,null,null,null,null,null,null,null,null,null,null,null,null,null,null,null,null,null,null,null,null,null,null,null,null,null,null,null,null,null,null,{"$f":"COUNTIF($C156:$DR156,$A$459)","v":1},{"$f":"COUNTIF($C156:$DR156,$A$460)","v":1},{"$f":"COUNTIF($C156:$DR156,$A$461)","v":1},{"$f":"COUNTIF($C156:$DR156,$A$462)","v":1},{"$f":"COUNTIF($C156:$DR156,$A$463)","v":1},{"$f":"COUNTIF($C156:$DR156,$A$464)","v":1},{"$f":"COUNTIF($C156:$DR156,$A$465)","v":1},{"$f":"COUNTIF($C156:$DR156,$A$466)","v":0},{"$f":"COUNTIF($C156:$DR156,$A$467)","v":0},{"$f":"COUNTIF($C156:$DR156,$A$468)","v":0},{"$f":"COUNTIF($C156:$DR156,$A$469)","v":0},{"$f":"COUNTIF($C156:$DR156,$A$470)","v":0},{"$f":"COUNTIF($C156:$DR156,$A$471)","v":0},{"$f":"COUNTIF($C156:$DR156,$A$472)","v":0},{"$f":"COUNTIF($C156:$DR156,$A$473)","v":0},null,{"$f":"SUM(#REF!,$E156)","v":{"$error":"#REF!"}},{"$f":"SUM(#REF!,$M156)","v":{"$error":"#REF!"}},{"$f":"SUM(#REF!,$U156)","v":{"$error":"#REF!"}},{"$f":"SUM(#REF!,AC156)","v":{"$error":"#REF!"}},9,{"$f":"SUM(AS122,AW122)","v":6},{"$f":"SUM(BA151,BE156)","v":6},{"$f":"SUM(BI177,BM177)","v":0},0,0,0,0,0,0,0]
[3,"2026-01-14",null,null,null,null,null,null,null,null,23,"mc",6,null,null,null,null,null,20,"sb",3,null,24,"sb",3,"ST",14,"mp",6,null,null,null,null,null,13,"cg",6,null,null,null,null,null,90,"np",6,"R9",null,null,null,null,2,"yc",6,null,null,null,null,null,null,null,null,null,null,null,null,null,null,null,null,null,null,null,null,null,null,null,null,null,null,null,null,null,null,null,null,null,null,null,null,null,null,null,null,null,null,null,null,null,null,null,null,null,null,null,null,null,null,null,null,null,null,null,null,null,null,null,null,null,null,null,null,null,null,null,{"$f":"COUNTIF($C157:$DR157,$A$459)","v":2},{"$f":"COUNTIF($C157:$DR157,$A$460)","v":1},{"$f":"COUNTIF($C157:$DR157,$A$461)","v":1},{"$f":"COUNTIF($C157:$DR157,$A$462)","v":0},{"$f":"COUNTIF($C157:$DR157,$A$463)","v":1},{"$f":"COUNTIF($C157:$DR157,$A$464)","v":1},{"$f":"COUNTIF($C157:$DR157,$A$465)","v":0},{"$f":"COUNTIF($C157:$DR157,$A$466)","v":1},{"$f":"COUNTIF($C157:$DR157,$A$467)","v":0},{"$f":"COUNTIF($C157:$DR157,$A$468)","v":0},{"$f":"COUNTIF($C157:$DR157,$A$469)","v":0},{"$f":"COUNTIF($C157:$DR157,$A$470)","v":0},{"$f":"COUNTIF($C157:$DR157,$A$471)","v":0},{"$f":"COUNTIF($C157:$DR157,$A$472)","v":0},{"$f":"COUNTIF($C157:$DR157,$A$473)","v":0},null,{"$f":"SUM(#REF!,$E157)","v":{"$error":"#REF!"}},{"$f":"SUM(#REF!,$M157)","v":{"$error":"#REF!"}},{"$f":"SUM(#REF!,$U157)","v":{"$error":"#REF!"}},{"$f":"SUM(#REF!,AC157)","v":{"$error":"#REF!"}},6,{"$f":"SUM(AS123,AW123)","v":6},{"$f":"SUM(BA152,BE157)","v":6},{"$f":"SUM(BI178,BM178)","v":0},0,0,0,0,0,0,0]
[4,"2026-01-15",null,null,null,null,null,null,null,null,90,"mc",6,"R21",null,null,null,null,20,"rg",6,null,null,null,null,null,14,"mp",6,"EX",null,null,null,null,13,"cg",6,null,null,null,null,null,10,"jr",6,"EX",null,null,null,null,2,"sb",6,null,null,null,null,null,null,null,null,null,null,null,null,null,4,"np",6,null,null,null,null,null,null,null,null,null,null,null,null,null,null,null,null,null,null,null,null,null,null,null,null,null,null,null,null,null,null,null,null,null,null,null,null,null,null,null,null,null,null,null,null,null,null,null,null,null,null,null,null,null,null,null,{"$f":"COUNTIF($C158:$DR158,$A$459)","v":1},{"$f":"COUNTIF($C158:$DR158,$A$460)","v":1},{"$f":"COUNTIF($C158:$DR158,$A$461)","v":1},{"$f":"COUNTIF($C158:$DR158,$A$462)","v":1},{"$f":"COUNTIF($C158:$DR158,$A$463)","v":0},{"$f":"COUNTIF($C158:$DR158,$A$464)","v":1},{"$f":"COUNTIF($C158:$DR158,$A$465)","v":1},{"$f":"COUNTIF($C158:$DR158,$A$466)","v":1},{"$f":"COUNTIF($C158:$DR158,$A$467)","v":0},{"$f":"COUNTIF($C158:$DR158,$A$468)","v":0},{"$f":"COUNTIF($C158:$DR158,$A$469)","v":0},{"$f":"COUNTIF($C158:$DR158,$A$470)","v":0},{"$f":"COUNTIF($C158:$DR158,$A$471)","v":0},{"$f":"COUNTIF($C158:$DR158,$A$472)","v":0},{"$f":"COUNTIF($C158:$DR158,$A$473)","v":0},null,{"$f":"SUM(#REF!,$E158)","v":{"$error":"#REF!"}},{"$f":"SUM(#REF!,$M162)","v":{"$error":"#REF!"}},{"$f":"SUM(#REF!,$U158)","v":{"$error":"#REF!"}},{"$f":"SUM(#REF!,AC158)","v":{"$error":"#REF!"}},6,{"$f":"SUM(AS124,AW124)","v":6},{"$f":"SUM(BA155,#REF!)","v":{"$error":"#REF!"}},{"$f":"SUM(BI179,BM179)","v":0},6,0,0,0,0,0,0]
[5,"2026-01-16",null,null,null,null,null,null,null,null,23,"mc",6,"EX",null,null,null,null,20,"rg",6,null,null,null,null,null,14,"mp",6,"EX",33,"yc",3,"X13",13,"cg",6,null,null,null,null,null,10,"jr",6,"EX",33,"yc",3,"X9",2,"sb",6,"EX",null,null,null,null,null,null,null,null,null,null,null,null,4,"np",6,null,null,null,null,null,null,null,null,null,null,null,null,null,null,null,null,null,null,null,null,null,null,null,null,null,null,null,null,null,null,null,null,null,null,null,null,null,null,null,null,null,null,null,null,null,null,null,null,null,null,null,null,null,null,null,{"$f":"COUNTIF($C159:$DR159,$A$459)","v":1},{"$f":"COUNTIF($C159:$DR159,$A$460)","v":1},{"$f":"COUNTIF($C159:$DR159,$A$461)","v":1},{"$f":"COUNTIF($C159:$DR159,$A$462)","v":1},{"$f":"COUNTIF($C159:$DR159,$A$463)","v":2},{"$f":"COUNTIF($C159:$DR159,$A$464)","v":1},{"$f":"COUNTIF($C159:$DR159,$A$465)","v":1},{"$f":"COUNTIF($C159:$DR159,$A$466)","v":1},{"$f":"COUNTIF($C159:$DR159,$A$467)","v":0},{"$f":"COUNTIF($C159:$DR159,$A$468)","v":0},{"$f":"COUNTIF($C159:$DR159,$A$469)","v":0},{"$f":"COUNTIF($C159:$DR159,$A$470)","v":0},{"$f":"COUNTIF($C159:$DR159,$A$471)","v":0},{"$f":"COUNTIF($C159:$DR159,$A$472)","v":0},{"$f":"COUNTIF($C159:$DR159,$A$473)","v":0},null,{"$f":"SUM(#REF!,$E159)","v":{"$error":"#REF!"}},{"$f":"SUM(#REF!,$M159)","v":{"$error":"#REF!"}},{"$f":"SUM(#REF!,$U159)","v":{"$error":"#REF!"}},{"$f":"SUM(#REF!,AC159)","v":{"$error":"#REF!"}},6,{"$f":"SUM(AS150,AW150)","v":6},{"$f":"SUM(#REF!,#REF!)","v":{"$error":"#REF!"}},{"$f":"SUM(BI180,BM180)","v":0},6,0,0,0,0,0,0]
[6,"2026-01-17","                                   WEEK-END                       ",null,null,null,null,null,null,null,"                                   WEEK-END                       ",null,null,null,null,null,null,null,"                                   WEEK-END                       ",null,null,null,null,null,null,null,"                                   WEEK-END                       ",null,null,null,null,null,null,null,"                                   WEEK-END                       ",null,null,null,null,null,null,null,"                                   WEEK-END                       ",null,null,null,null,null,null,null,"                                   WEEK-END                       ",null,null,null,null,null,null,null,"                                   WEEK-END                       ",null,null,null,null,null,null,null,"                                   WEEK-END                       ",null,null,null,null,null,null,null,null,null,null,null,null,null,null,null,null,null,null,null,null,null,null,null,null,null,null,null,null,null,null,null,null,null,null,null,null,null,null,null,null,null,null,null,null,null,null,null,null,null,null,null,null,null,null,null,null,null,0,0,0,0,0,0,0,0,0,0,0,0,0,0,0,null,0,0,0,0,0,0,0,{"$f":"SUM(BI160,BM160)","v":0},0,0,0,0,0,0,0]
[7,"2026-01-18","                                   WEEK-END                       ",null,null,null,null,null,null,null,"                                   WEEK-END                       ",null,null,null,null,null,null,null,"                                   WEEK-END                       ",null,null,null,null,null,null,null,"                                   WEEK-END                       ",null,null,null,null,null,null,null,"                                   WEEK-END                       ",null,null,null,null,null,null,null,"                                   WEEK-END                       ",null,null,null,null,null,null,null,"                                   WEEK-END                       ",null,null,null,null,null,null,null,"                                   WEEK-END                       ",null,null,null,null,null,null,null,"                                   WEEK-END                       ",null,null,null,null,null,null,null,null,null,null,null,null,null,null,null,null,null,null,null,null,null,null,null,null,null,null,null,null,null,null,null,null,null,null,null,null,null,null,null,null,null,null,null,null,null,null,null,null,null,null,null,null,null,null,null,null,null,0,0,0,0,0,0,0,0,0,0,0,0,0,0,0,null,0,0,0,0,0,0,0,{"$f":"SUM(BI161,BM161)","v":0},0,0,0,0,0,0,0]
[1,"2026-01-19",null,null,null,null,null,null,null,null,23,"mc",6,"EX",33,"yc",6,"X21",20,"rg",6,null,null,null,null,null,22,"sb",6,null,null,null,null,null,13,"cg",6,null,null,null,null,null,8,"jr",6,null,null,null,null,null,"Congé",null,null,null,null,null,null,null,null,null,null,null,null,null,null,null,null,null,null,null,null,null,null,null,null,null,null,null,null,null,null,null,null,null,null,null,null,null,null,null,null,null,null,null,null,null,null,null,null,null,null,null,null,null,null,null,null,null,null,null,null,null,null,null,null,null,null,null,null,null,null,null,null,null,{"$f":"COUNTIF($C162:$DR162,$A$459)","v":1},{"$f":"COUNTIF($C162:$DR162,$A$460)","v":0},{"$f":"COUNTIF($C162:$DR162,$A$461)","v":1},{"$f":"COUNTIF($C162:$DR162,$A$462)","v":1},{"$f":"COUNTIF($C162:$DR162,$A$463)","v":1},{"$f":"COUNTIF($C162:$DR162,$A$464)","v":1},{"$f":"COUNTIF($C162:$DR162,$A$465)","v":1},{"$f":"COUNTIF($C162:$DR162,$A$466)","v":0},{"$f":"COUNTIF($C162:$DR162,$A$467)","v":0},{"$f":"COUNTIF($C162:$DR162,$A$468)","v":0},{"$f":"COUNTIF($C162:$DR162,$A$469)","v":0},{"$f":"COUNTIF($C162:$DR162,$A$470)","v":0},{"$f":"COUNTIF($C162:$DR162,$A$471)","v":0},{"$f":"COUNTIF($C162:$DR162,$A$472)","v":0},{"$f":"COUNTIF($C162:$DR162,$A$473)","v":0},null,{"$f":"SUM(#REF!,$E162)","v":{"$error":"#REF!"}},{"$f":"SUM(#REF!,$M163)","v":{"$error":"#REF!"}},{"$f":"SUM(#REF!,$U162)","v":{"$error":"#REF!"}},{"$f":"SUM(#REF!,AC162)","v":{"$error":"#REF!"}},6,{"$f":"SUM(AS127,AW127)","v":6},{"$f":"SUM(BA156,BE159)","v":6},{"$f":"SUM(BI169,BM169)","v":0},0,0,0,0,0,0,0]
[2,"2026-01-20",null,null,null,null,null,null,null,null,95,null,6,null,null,null,null,null,20,"rg",6,null,null,null,null,null,22,"mp",6,null,null,null,null,null,13,"cg",6,null,null,null,null,null,8,"jr",6,null,null,null,null,null,3,"mc",6,null,null,null,null,null,null,null,null,null,null,null,null,null,null,null,null,null,null,null,null,null,null,null,null,null,null,null,null,null,null,null,null,null,null,null,null,null,null,null,null,null,null,null,null,null,null,null,null,null,null,null,null,null,null,null,null,null,null,null,null,null,null,null,null,null,null,null,null,null,null,null,{"$f":"COUNTIF($C163:$DR163,$A$459)","v":0},{"$f":"COUNTIF($C163:$DR163,$A$460)","v":1},{"$f":"COUNTIF($C163:$DR163,$A$461)","v":1},{"$f":"COUNTIF($C163:$DR163,$A$462)","v":1},{"$f":"COUNTIF($C163:$DR163,$A$463)","v":0},{"$f":"COUNTIF($C163:$DR163,$A$464)","v":1},{"$f":"COUNTIF($C163:$DR163,$A$465)","v":1},{"$f":"COUNTIF($C163:$DR163,$A$466)","v":0},{"$f":"COUNTIF($C163:$DR163,$A$467)","v":0},{"$f":"COUNTIF($C163:$DR163,$A$468)","v":0},{"$f":"COUNTIF($C163:$DR163,$A$469)","v":0},{"$f":"COUNTIF($C163:$DR163,$A$470)","v":0},{"$f":"COUNTIF($C163:$DR163,$A$471)","v":0},{"$f":"COUNTIF($C163:$DR163,$A$472)","v":0},{"$f":"COUNTIF($C163:$DR163,$A$473)","v":0},null,{"$f":"SUM(#REF!,$E163)","v":{"$error":"#REF!"}},{"$f":"SUM(#REF!,$M172)","v":{"$error":"#REF!"}},{"$f":"SUM(#REF!,$U163)","v":{"$error":"#REF!"}},{"$f":"SUM(#REF!,AC163)","v":{"$error":"#REF!"}},6,{"$f":"SUM(AS128,AW128)","v":6},{"$f":"SUM(BA159,BE162)","v":6},{"$f":"SUM(BI170,BM170)","v":0},0,0,0,0,0,0,0]
[3,"2026-01-21",null,null,null,null,null,null,null,null,24,"mp",6,null,null,null,null,null,20,"rg",6,null,null,null,null,null,22,"sb",6,null,null,null,null,null,13,"cg",6,null,null,null,null,null,8,"jr",6,null,null,null,null,null,3,"mc",6,null,null,null,null,null,null,null,null,null,null,null,null,null,null,null,null,null,null,null,null,null,null,null,null,null,null,null,null,null,null,null,null,null,null,null,null,null,null,null,null,null,null,null,null,null,null,null,null,null,null,null,null,null,null,null,null,null,null,null,null,null,null,null,null,null,null,null,null,null,null,null,{"$f":"COUNTIF($C164:$DR164,$A$459)","v":1},{"$f":"COUNTIF($C164:$DR164,$A$460)","v":1},{"$f":"COUNTIF($C164:$DR164,$A$461)","v":1},{"$f":"COUNTIF($C164:$DR164,$A$462)","v":1},{"$f":"COUNTIF($C164:$DR164,$A$463)","v":0},{"$f":"COUNTIF($C164:$DR164,$A$464)","v":1},{"$f":"COUNTIF($C164:$DR164,$A$465)","v":1},{"$f":"COUNTIF($C164:$DR164,$A$466)","v":0},{"$f":"COUNTIF($C164:$DR164,$A$467)","v":0},{"$f":"COUNTIF($C164:$DR164,$A$468)","v":0},{"$f":"COUNTIF($C164:$DR164,$A$469)","v":0},{"$f":"COUNTIF($C164:$DR164,$A$470)","v":0},{"$f":"COUNTIF($C164:$DR164,$A$471)","v":0},{"$f":"COUNTIF($C164:$DR164,$A$472)","v":0},{"$f":"COUNTIF($C164:$DR164,$A$473)","v":0},null,{"$f":"SUM(#REF!,$E164)","v":{"$error":"#REF!"}},{"$f":"SUM(#REF!,$M164)","v":{"$error":"#REF!"}},{"$f":"SUM(#REF!,$U164)","v":{"$error":"#REF!"}},{"$f":"SUM(#REF!,AC172)","v":{"$error":"#REF!"}},6,{"$f":"SUM(AS151,AW151)","v":6},{"$f":"SUM(BA162,BE165)","v":0},{"$f":"SUM(BI171,BM171)","v":0},0,0,0,0,0,0,0]
[4,"2026-01-22",null,null,null,null,null,null,null,null,24,"mp",6,null,null,null,null,null,20,"rg",6,null,null,null,null,null,22,"sb",6,null,null,null,null,null,13,"cg",6,null,null,null,null,null,8,"jr",6,null,null,null,null,null,3,"mc",6,null,null,null,null,null,null,null,null,null,null,null,null,null,null,null,null,null,null,null,null,null,null,null,null,null,null,null,null,null,null,null,null,null,null,null,null,null,null,null,null,null,null,null,null,null,null,null,null,null,null,null,null,null,null,null,null,null,null,null,null,null,null,null,null,null,null,null,null,null,null,null,1,1,1,1,0,1,1,0,0,0,0,0,0,0,0,null,0,{"$f":"SUM(#REF!,$M165)","v":{"$error":"#REF!"}},{"$f":"SUM(#REF!,$U165)","v":{"$error":"#REF!"}},{"$f":"SUM(#REF!,AC159)","v":{"$error":"#REF!"}},6,{"$f":"SUM(AS152,#REF!)","v":{"$error":"#REF!"}},{"$f":"SUM(BA165,BE163)","v":6},{"$f":"SUM(BI172,BM172)","v":0},0,0,0,0,0,0,0]
[5,"2026-01-23",null,null,null,null,null,null,null,null,95,null,6,null,null,null,null,null,90,"mp",6,"R19",null,null,null,null,22,"sb",6,null,null,null,null,null,13,"yc",6,null,null,null,null,null,"Congé",null,null,null,null,null,null,null,3,"mc",6,"EX",null,null,null,null,null,null,null,null,null,null,null,null,null,null,null,null,null,null,null,null,null,null,null,null,null,null,null,null,null,null,null,null,null,null,null,null,null,null,null,null,null,null,null,null,null,null,null,null,null,null,null,null,null,null,null,null,null,null,null,null,null,null,null,null,null,null,null,null,null,null,1,1,0,0,1,1,0,0,0,0,0,0,0,0,0,null,0,6,6,{"$f":"SUM(AC160,AG160)","v":0},6,{"$f":"SUM(AS130,AW130)","v":6},{"$f":"SUM(BA163,BE164)","v":6},{"$f":"SUM(#REF!,BM176)","v":{"$error":"#REF!"}},0,0,0,0,0,0,0]
[6,"2026-01-24","                                   WEEK-END                       ",null,null,null,null,null,null,null,"                                   WEEK-END                       ",null,null,null,null,null,null,null,"                                   WEEK-END                       ",null,null,null,null,null,null,null,"                                   WEEK-END                       ",null,null,null,null,null,null,null,"                                   WEEK-END                       ",null,null,null,null,null,null,null,"                                   WEEK-END                       ",null,null,null,null,null,null,null,"                                   WEEK-END                       ",null,null,null,null,null,null,null,"                                   WEEK-END                       ",null,null,null,null,null,null,null,"                                   WEEK-END                       ",null,null,null,null,null,null,null,null,null,null,null,null,null,null,null,null,null,null,null,null,null,null,null,null,null,null,null,null,null,null,null,null,null,null,null,null,null,null,null,null,null,null,null,null,null,null,null,null,null,null,null,null,null,null,null,null,null,0,0,0,0,0,0,0,0,0,0,0,0,0,0,0,null,0,0,0,0,0,0,0,{"$f":"SUM(BI167,BM167)","v":0},0,0,0,0,0,0,0]
[7,"2026-01-25","                                   WEEK-END                       ",null,null,null,null,null,null,null,"                                   WEEK-END                       ",null,null,null,null,null,null,null,"                                   WEEK-END                       ",null,null,null,null,null,null,null,"                                   WEEK-END                       ",null,null,null,null,null,null,null,"                                   WEEK-END                       ",null,null,null,null,null,null,null,"                                   WEEK-END                       ",null,null,null,null,null,null,null,"                                   WEEK-END                       ",null,null,null,null,null,null,null,"                                   WEEK-END                       ",null,null,null,null,null,null,null,"                                   WEEK-END                       ",null,null,null,null,null,null,null,null,null,null,null,null,null,null,null,null,null,null,null,null,null,null,null,null,null,null,null,null,null,null,null,null,null,null,null,null,null,null,null,null,null,null,null,null,null,null,null,null,null,null,null,null,null,null,null,null,null,0,0,0,0,0,0,0,0,0,0,0,0,0,0,0,null,0,0,0,0,0,0,0,{"$f":"SUM(BI168,BM168)","v":0},0,0,0,0,0,0,0]
[1,"2026-01-26",null,null,null,null,null,null,null,null,95,null,6,null,null,null,null,null,20,"rg",6,null,null,null,null,null,22,"sb",6,null,null,null,null,null,13,"cg",6,null,null,null,null,null,8,"jr",6,null,null,null,null,null,90,"yc",3,"R3",90,"yc",3,"R2",null,null,null,null,null,null,null,null,null,null,null,null,null,null,null,null,null,null,null,null,null,null,null,null,null,null,null,null,null,null,null,null,null,null,null,null,null,null,null,null,null,null,null,null,null,null,null,null,null,null,null,null,null,null,null,null,null,null,null,null,null,null,null,null,null,null,1,0,1,1,2,0,1,0,0,0,0,0,0,0,0,null,0,{"$f":"SUM(#REF!,$M169)","v":{"$error":"#REF!"}},{"$f":"SUM(#REF!,$U169)","v":{"$error":"#REF!"}},{"$f":"SUM(#REF!,AC169)","v":{"$error":"#REF!"}},6,{"$f":"SUM(#REF!,#REF!)","v":{"$error":"#REF!"}},{"$f":"SUM(BA164,BE169)","v":9},{"$f":"SUM(#REF!,#REF!)","v":{"$error":"#REF!"}},0,0,0,0,0,0,0]
[2,"2026-01-27",null,null,null,null,null,null,null,null,24,"mp",6,null,null,null,null,null,20,"rg",6,null,null,null,null,null,22,"sb",6,null,null,null,null,null,13,"cg",6,null,null,null,null,null,8,"jr",6,null,null,null,null,null,33,"yc",3,"X3",33,"yc",3,"X2",null,null,null,null,null,null,null,null,null,null,null,null,null,null,null,null,null,null,null,null,null,null,null,null,null,null,null,null,null,null,null,null,null,null,null,null,null,null,null,null,null,null,null,null,null,null,null,null,null,null,null,null,null,null,null,null,null,null,null,null,null,null,null,null,null,null,1,1,1,1,2,0,1,0,0,0,0,0,0,0,0,null,0,{"$f":"SUM(#REF!,$M170)","v":{"$error":"#REF!"}},{"$f":"SUM(#REF!,$U170)","v":{"$error":"#REF!"}},6,6,{"$f":"SUM(AS120,AW120)","v":6},6,{"$f":"SUM(#REF!,#REF!)","v":{"$error":"#REF!"}},0,0,0,0,0,0,0]
[3,"2026-01-28",null,null,null,null,null,null,null,null,95,null,6,null,null,null,null,null,20,"rg",6,null,null,null,null,null,22,"mp",6,null,null,null,null,null,13,"cg",6,null,null,null,null,null,8,"jr",6,null,null,null,null,null,4,"mc",6,null,null,null,null,null,null,null,null,null,null,null,null,null,null,null,null,null,null,null,null,null,null,null,null,null,null,null,null,null,null,null,null,null,null,null,null,null,null,null,null,null,null,null,null,null,null,null,null,null,null,null,null,null,null,null,null,null,null,null,null,null,null,null,null,null,null,null,null,null,null,null,0,1,1,1,0,1,1,0,0,0,0,0,0,0,0,null,0,{"$f":"SUM(#REF!,$M171)","v":{"$error":"#REF!"}},{"$f":"SUM(#REF!,$U171)","v":{"$error":"#REF!"}},{"$f":"SUM(#REF!,AC171)","v":{"$error":"#REF!"}},6,{"$f":"SUM(#REF!,#REF!)","v":{"$error":"#REF!"}},6,{"$f":"SUM(#REF!,#REF!)","v":{"$error":"#REF!"}},0,0,0,0,0,0,0]
[4,"2026-01-29",null,null,null,null,null,null,null,null,24,"mp",6,null,null,null,null,null,20,"rg",6,null,null,null,null,null,22,"sb",6,null,null,null,null,null,13,"cg",6,null,null,null,null,null,8,"jr",6,null,null,null,null,null,4,"mc",6,null,null,null,null,null,null,null,null,null,null,null,null,null,null,null,null,null,null,null,null,null,null,null,null,null,null,null,null,null,null,null,null,null,null,null,null,null,null,null,null,null,null,null,null,null,null,null,null,null,null,null,null,null,null,null,null,null,null,null,null,null,null,null,null,null,null,null,null,null,null,null,1,1,1,1,0,1,1,0,0,0,0,0,0,0,0,null,0,{"$f":"SUM($M176,$Q176)","v":6},{"$f":"SUM(#REF!,$U172)","v":{"$error":"#REF!"}},{"$f":"SUM(#REF!,AC172)","v":{"$error":"#REF!"}},6,{"$f":"SUM(AS156,AW156)","v":6},6,{"$f":"SUM(#REF!,#REF!)","v":{"$error":"#REF!"}},0,0,0,0,0,0,0]
[5,"2026-01-30","     Pédagogique",null,null,null,null,null,null,null,"     Pédagogique",null,null,null,null,null,null,null,"     Pédagogique",null,null,null,null,null,null,null,"     Pédagogique",null,null,null,null,null,null,null,"     Pédagogique",null,null,null,null,null,null,null,"     Pédagogique",null,null,null,null,null,null,null,"     Pédagogique",null,null,null,null,null,null,null,"     Pédagogique",null,null,null,null,null,null,null,"     Pédagogique",null,null,null,null,null,null,null,null,null,null,null,null,null,null,null,null,null,null,null,null,null,null,null,null,null,null,null,null,null,null,null,null,null,null,null,null,null,null,null,null,null,null,null,null,null,null,null,null,null,null,null,null,null,null,null,null,null,0,0,0,0,0,0,0,0,0,0,0,0,0,0,0,null,0,{"$f":"SUM(#REF!,$M173)","v":{"$error":"#REF!"}},{"$f":"SUM(#REF!,$U173)","v":{"$error":"#REF!"}},{"$f":"SUM(#REF!,AC173)","v":{"$error":"#REF!"}},0,0,0,{"$f":"SUM(BI173,BM173)","v":0},0,0,0,0,0,0,0]
[6,"2026-01-31","                                   WEEK-END                       ",null,null,null,null,null,null,null,"                                   WEEK-END                       ",null,null,null,null,null,null,null,"                                   WEEK-END                       ",null,null,null,null,null,null,null,"                                   WEEK-END                       ",null,null,null,null,null,null,null,"                                   WEEK-END                       ",null,null,null,null,null,null,null,"                                   WEEK-END                       ",null,null,null,null,null,null,null,"                                   WEEK-END                       ",null,null,null,null,null,null,null,"                                   WEEK-END                       ",null,null,null,null,null,null,null,"                                   WEEK-END                       ",null,null,null,null,null,null,null,null,null,null,null,null,null,null,null,null,null,null,null,null,null,null,null,null,null,null,null,null,null,null,null,null,null,null,null,null,null,null,null,null,null,null,null,null,null,null,null,null,null,null,null,null,null,null,null,null,null,0,0,0,0,0,0,0,0,0,0,0,0,0,0,0,null,0,0,0,0,0,0,0,{"$f":"SUM(BI174,BM174)","v":0},0,0,0,0,0,0,0]
[7,"2026-02-01","                                   WEEK-END                       ",null,null,null,null,null,null,null,"                                   WEEK-END                       ",null,null,null,null,null,null,null,"                                   WEEK-END                       ",null,null,null,null,null,null,null,"                                   WEEK-END                       ",null,null,null,null,null,null,null,"                                   WEEK-END                       ",null,null,null,null,null,null,null,"                                   WEEK-END                       ",null,null,null,null,null,null,null,"                                   WEEK-END                       ",null,null,null,null,null,null,null,"                                   WEEK-END                       ",null,null,null,null,null,null,null,"                                   WEEK-END                       ",null,null,null,null,null,null,null,null,null,null,null,null,null,null,null,null,null,null,null,null,null,null,null,null,null,null,null,null,null,null,null,null,null,null,null,null,null,null,null,null,null,null,null,null,null,null,null,null,null,null,null,null,null,null,null,null,null,0,0,0,0,0,0,0,0,0,0,0,0,0,0,0,null,0,0,0,0,0,0,0,{"$f":"SUM(BI175,BM175)","v":0},0,0,0,0,0,0,0]
[1,"2026-02-02",null,null,null,null,null,null,null,null,95,null,6,null,null,null,null,null,20,"rg",6,"EX",33,"mp",3,"X19",22,"sb",6,null,null,null,null,null,90,"yc",6,"R15",null,null,null,null,8,"jr",6,null,null,null,null,null,"Congé",null,null,null,null,null,null,null,null,null,null,null,null,null,null,null,null,null,null,null,null,null,null,null,null,null,null,null,null,null,null,null,null,null,null,null,null,null,null,null,null,null,null,null,null,null,null,null,null,null,null,null,null,null,null,null,null,null,null,null,null,null,null,null,null,null,null,null,null,null,null,null,null,null,1,1,0,1,1,0,1,0,0,0,0,0,0,0,0,null,0,{"$f":"SUM(#REF!,$M177)","v":{"$error":"#REF!"}},{"$f":"SUM(#REF!,$U176)","v":{"$error":"#REF!"}},{"$f":"SUM(#REF!,AC176)","v":{"$error":"#REF!"}},6,{"$f":"SUM(AS157,AW157)","v":6},{"$f":"SUM(BA166,BE166)","v":6},{"$f":"SUM(BI197,BM197)","v":6},0,0,0,0,0,0,0]
[2,"2026-02-03",null,null,null,null,null,null,null,null,24,"mp",6,null,null,null,null,null,20,"rg",6,"EX",null,null,null,null,22,"sb",6,null,null,null,null,null,13,"cg",6,null,null,null,null,null,8,"jr",6,null,null,null,null,null,4,"mc",6,null,null,null,null,null,null,null,null,null,null,null,null,null,null,null,null,null,null,null,null,null,null,null,null,null,null,null,null,null,null,null,null,null,null,null,null,null,null,null,null,null,null,null,null,null,null,null,null,null,null,null,null,null,null,null,null,null,null,null,null,null,null,null,null,null,null,null,null,null,null,null,1,1,1,1,0,1,1,0,0,0,0,0,0,0,0,null,0,{"$f":"SUM(#REF!,$M178)","v":{"$error":"#REF!"}},{"$f":"SUM(#REF!,$U177)","v":{"$error":"#REF!"}},{"$f":"SUM(#REF!,AC177)","v":{"$error":"#REF!"}},6,{"$f":"SUM(AS158,AW158)","v":6},{"$f":"SUM(#REF!,#REF!)","v":{"$error":"#REF!"}},{"$f":"SUM(BI198,BM198)","v":6},0,0,0,0,0,0,0]
[3,"2026-02-04",null,null,null,null,null,null,null,null,95,null,6,null,null,null,null,null,21,"yc",6,null,null,null,null,null,22,"sb",6,null,null,null,null,null,13,"cg",6,null,null,null,null,null,8,"jr",6,null,null,null,null,null,4,"mc",6,null,null,null,null,null,null,null,null,null,null,null,null,null,null,null,null,null,null,null,null,null,null,null,null,null,null,null,null,null,null,null,null,null,null,null,null,null,null,null,null,null,null,null,null,null,null,null,null,null,null,null,null,null,null,null,null,null,null,null,null,null,null,null,null,null,null,null,null,null,null,null,1,0,1,1,1,1,0,0,0,0,0,0,0,0,0,null,0,{"$f":"SUM(#REF!,$M179)","v":{"$error":"#REF!"}},{"$f":"SUM(#REF!,$U178)","v":{"$error":"#REF!"}},{"$f":"SUM(#REF!,AC178)","v":{"$error":"#REF!"}},6,{"$f":"SUM(AS159,AW159)","v":9},{"$f":"SUM(BA177,BE177)","v":6},{"$f":"SUM(BI185,BM185)","v":0},0,0,0,0,0,0,0]
[4,"2026-02-05",null,null,null,null,null,null,null,null,24,"mp",6,null,null,null,null,null,21,"rg",6,null,null,null,null,null,22,"sb",6,null,null,null,null,null,13,"cg",6,null,null,null,null,null,90,"jr",6,"R10",null,null,null,null,4,"mc",6,null,null,null,null,null,null,null,null,null,null,null,null,null,null,null,null,null,null,null,null,null,null,null,null,null,null,null,null,null,null,null,null,null,null,null,null,null,null,null,null,null,null,null,null,null,null,null,null,null,null,null,null,null,null,null,null,null,null,null,null,null,null,null,null,null,null,null,null,null,null,null,1,1,1,1,0,1,1,0,0,0,0,0,0,0,0,null,0,{"$f":"SUM(#REF!,$M180)","v":{"$error":"#REF!"}},{"$f":"SUM(#REF!,$U179)","v":{"$error":"#REF!"}},{"$f":"SUM(#REF!,AC179)","v":{"$error":"#REF!"}},6,{"$f":"SUM(AS162,AW162)","v":6},{"$f":"SUM(BA176,BE176)","v":0},{"$f":"SUM(BI200,BM200)","v":6},0,0,0,0,0,0,0]
[5,"2026-02-06",null,null,null,null,null,null,null,null,95,null,6,null,null,null,null,null,21,"rg",6,null,null,null,null,null,90,"mp",6,"R14",null,null,null,null,13,"cg",6,null,null,null,null,null,"Congé",null,null,null,null,null,null,null,4,"mc",6,null,null,null,null,null,null,null,null,null,null,null,null,null,null,null,null,null,null,null,null,null,null,null,null,null,null,null,null,null,null,null,null,null,null,null,null,null,null,null,null,null,null,null,null,null,null,null,null,null,null,null,null,null,null,null,null,null,null,null,null,null,null,null,null,null,null,null,null,null,null,null,0,1,1,0,0,1,1,0,0,0,0,0,0,0,0,null,0,{"$f":"SUM(#REF!,$M183)","v":{"$error":"#REF!"}},{"$f":"SUM(#REF!,$U180)","v":{"$error":"#REF!"}},{"$f":"SUM(#REF!,AC180)","v":{"$error":"#REF!"}},6,{"$f":"SUM(AS163,AW163)","v":6},{"$f":"SUM(BA169,BE180)","v":3},{"$f":"SUM(BI201,BM201)","v":6},0,0,0,0,0,0,0]
[6,"2026-02-07","                                   WEEK-END                       ",null,null,null,null,null,null,null,"                                   WEEK-END                       ",null,null,null,null,null,null,null,"                                   WEEK-END                       ",null,null,null,null,null,null,null,"                                   WEEK-END                       ",null,null,null,null,null,null,null,"                                   WEEK-END                       ",null,null,null,null,null,null,null,"                                   WEEK-END                       ",null,null,null,null,null,null,null,"                                   WEEK-END                       ",null,null,null,null,null,null,null,"                                   WEEK-END                       ",null,null,null,null,null,null,null,"                                   WEEK-END                       ",null,null,null,null,null,null,null,null,null,null,null,null,null,null,null,null,null,null,null,null,null,null,null,null,null,null,null,null,null,null,null,null,null,null,null,null,null,null,null,null,null,null,null,null,null,null,null,null,null,null,null,null,null,null,null,null,null,0,0,0,0,0,0,0,0,0,0,0,0,0,0,0,null,0,0,0,0,0,0,0,{"$f":"SUM(BI181,BM181)","v":0},0,0,0,0,0,0,0]
[7,"2026-02-08","                                   WEEK-END                       ",null,null,null,null,null,null,null,"                                   WEEK-END                       ",null,null,null,null,null,null,null,"                                   WEEK-END                       ",null,null,null,null,null,null,null,"                                   WEEK-END                       ",null,null,null,null,null,null,null,"                                   WEEK-END                       ",null,null,null,null,null,null,null,"                                   WEEK-END                       ",null,null,null,null,null,null,null,"                                   WEEK-END                       ",null,null,null,null,null,null,null,"                                   WEEK-END                       ",null,null,null,null,null,null,null,"                                   WEEK-END                       ",null,null,null,null,null,null,null,null,null,null,null,null,null,null,null,null,null,null,null,null,null,null,null,null,null,null,null,null,null,null,null,null,null,null,null,null,null,null,null,null,null,null,null,null,null,null,null,null,null,null,null,null,null,null,null,null,null,0,0,0,0,0,0,0,0,0,0,0,0,0,0,0,null,0,0,0,0,0,0,0,{"$f":"SUM(BI182,BM182)","v":0},0,0,0,0,0,0,0]
[1,"2026-02-09",null,null,null,null,null,null,null,null,24,"mp",6,null,null,null,null,null,21,"yc",6,null,null,null,null,null,22,"mc",6,null,null,null,null,null,13,"cg",6,"EX",null,null,null,null,8,"jr",6,"EX",null,null,null,null,5,null,6,"SO",null,null,null,null,null,null,null,null,null,null,null,null,null,null,null,null,null,null,null,null,null,null,null,null,null,null,null,null,null,null,null,null,null,null,null,null,null,null,null,null,null,null,null,null,null,null,null,null,null,null,null,null,null,null,null,null,null,null,null,null,null,null,null,null,null,null,null,null,null,null,0,1,1,1,1,1,0,0,0,0,0,0,0,0,0,null,0,{"$f":"SUM($M185,#REF!)","v":{"$error":"#REF!"}},6,6,6,{"$f":"SUM(AS164,AW164)","v":6},{"$f":"SUM(BA179,BE179)","v":6},{"$f":"SUM(BI204,BM204)","v":6},0,0,0,0,0,0,0]
[2,"2026-02-10",null,null,null,null,null,null,null,null,24,"mp",6,"RT",null,null,null,null,21,"yc",6,null,null,null,null,null,22,"sb",6,null,null,null,null,null,13,"cg",6,"EX",33,"mc",3,"X15",8,"jr",6,"EX",33,"mc",3,"X10",5,null,6,"SO",null,null,null,null,null,null,null,null,null,null,null,null,null,null,null,null,null,null,null,null,null,null,null,null,null,null,null,null,null,null,null,null,null,null,null,null,null,null,null,null,null,null,null,null,null,null,null,null,null,null,null,null,null,null,null,null,null,null,null,null,null,null,null,null,null,null,null,null,null,null,1,1,1,1,1,2,0,0,0,0,0,0,0,0,0,null,0,{"$f":"SUM($M186,$Q184)","v":3},6,6,9,{"$f":"SUM(AS165,AW165)","v":6},{"$f":"SUM(BA180,BE183)","v":6},{"$f":"SUM(BI205,BM205)","v":6},0,0,0,0,0,0,0]
[3,"2026-02-11",null,null,null,null,null,null,null,null,90,"mp",6,"R23",null,null,null,null,90,"mc",6,"R20",null,null,null,null,22,"sb",6,null,null,null,null,null,14,"cg",6,null,null,null,null,null,12,"jr",6,null,null,null,null,null,5,null,6,"SO",null,null,null,null,null,null,null,null,null,null,null,null,null,null,null,null,null,null,null,null,null,null,null,null,null,null,null,null,null,null,null,null,null,null,null,null,null,null,null,null,null,null,null,null,null,null,null,null,null,null,null,null,null,null,null,null,null,null,null,null,null,null,null,null,null,null,null,null,null,null,1,1,1,1,0,1,0,0,0,0,0,0,0,0,0,null,0,{"$f":"SUM(#REF!,$Q185)","v":{"$error":"#REF!"}},6,6,6,{"$f":"SUM(AS166,AW166)","v":0},6,{"$f":"SUM(BI192,BM192)","v":0},0,0,0,0,0,0,0]
[4,"2026-02-12",null,null,null,null,null,null,null,null,33,"mp",3,"X23",null,null,null,null,21,"yc",6,null,null,null,null,null,22,"sb",6,"EX",33,"mc",3,"X14",14,"cg",6,null,null,null,null,null,12,"jr",6,null,null,null,null,null,5,null,6,"SO",null,null,null,null,null,null,null,null,null,null,null,null,null,null,null,null,null,null,null,null,null,null,null,null,null,null,null,null,null,null,null,null,null,null,null,null,null,null,null,null,null,null,null,null,null,null,null,null,null,null,null,null,null,null,null,null,null,null,null,null,null,null,null,null,null,null,null,null,null,null,1,1,1,1,1,1,0,0,0,0,0,0,0,0,0,null,0,{"$f":"SUM(#REF!,$Q186)","v":{"$error":"#REF!"}},6,9,6,{"$f":"SUM(AS169,AW169)","v":6},6,{"$f":"SUM(BI207,BM207)","v":6},0,0,0,0,0,0,0]
[5,"2026-02-13",null,null,null,null,null,null,null,null,null,null,null,null,null,null,null,null,21,"yc",6,null,null,null,null,null,22,"sb",6,"EX",null,null,null,null,14,"mc",6,null,null,null,null,null,"Congé",null,null,null,null,null,null,null,"     Pédagogique CEP",null,null,null,null,null,null,null,null,null,null,null,null,null,null,null,null,null,null,null,null,null,null,null,null,null,null,null,null,null,null,null,null,null,null,null,null,null,null,null,null,null,null,null,null,null,null,null,null,null,null,null,null,null,null,null,null,null,null,null,null,null,null,null,null,null,null,null,null,null,null,null,null,null,1,0,0,0,1,1,0,0,0,0,0,0,0,0,0,null,0,0,6,6,6,{"$f":"SUM(AS170,AW170)","v":6},0,{"$f":"SUM(#REF!,BM208)","v":{"$error":"#REF!"}},0,0,0,0,0,0,0]
[6,"2026-02-14","                                   WEEK-END                       ",null,null,null,null,null,null,null,"                                   WEEK-END                       ",null,null,null,null,null,null,null,"                                   WEEK-END                       ",null,null,null,null,null,null,null,"                                   WEEK-END                       ",null,null,null,null,null,null,null,"                                   WEEK-END                       ",null,null,null,null,null,null,null,"                                   WEEK-END                       ",null,null,null,null,null,null,null,"                                   WEEK-END                       ",null,null,null,null,null,null,null,"                                   WEEK-END                       ",null,null,null,null,null,null,null,"                                   WEEK-END                       ",null,null,null,null,null,null,null,null,null,null,null,null,null,null,null,null,null,null,null,null,null,null,null,null,null,null,null,null,null,null,null,null,null,null,null,null,null,null,null,null,null,null,null,null,null,null,null,null,null,null,null,null,null,null,null,null,null,0,0,0,0,0,0,0,0,0,0,0,0,0,0,0,null,0,0,0,0,0,0,0,{"$f":"SUM(BI188,BM188)","v":0},0,0,0,0,0,0,0]
[7,"2026-02-15","                                   WEEK-END                       ",null,null,null,null,null,null,null,"                                   WEEK-END                       ",null,null,null,null,null,null,null,"                                   WEEK-END                       ",null,null,null,null,null,null,null,"                                   WEEK-END                       ",null,null,null,null,null,null,null,"                                   WEEK-END                       ",null,null,null,null,null,null,null,"                                   WEEK-END                       ",null,null,null,null,null,null,null,"                                   WEEK-END                       ",null,null,null,null,null,null,null,"                                   WEEK-END                       ",null,null,null,null,null,null,null,"                                   WEEK-END                       ",null,null,null,null,null,null,null,null,null,null,null,null,null,null,null,null,null,null,null,null,null,null,null,null,null,null,null,null,null,null,null,null,null,null,null,null,null,null,null,null,null,null,null,null,null,null,null,null,null,null,null,null,null,null,null,null,null,0,0,0,0,0,0,0,0,0,0,0,0,0,0,0,null,0,0,0,0,0,0,0,{"$f":"SUM(BI189,BM189)","v":0},0,0,0,0,0,0,0]
[1,"2026-02-16",null,null,null,null,null,null,null,null,null,null,null,null,null,null,null,null,21,"mc",6,"EX",null,null,null,null,19,"yc",6,null,null,null,null,null,14,"cg",6,null,null,null,null,null,12,"jr",6,null,null,null,null,null,5,null,6,"SO",null,null,null,null,null,null,null,null,null,null,null,null,null,null,null,null,null,null,null,null,null,null,null,null,null,null,null,null,null,null,null,null,null,null,null,null,null,null,null,null,null,null,null,null,null,null,null,null,null,null,null,null,null,null,null,null,null,null,null,null,null,null,null,null,null,null,null,null,null,null,0,0,1,1,1,1,0,0,0,0,0,0,0,0,0,null,0,0,6,6,6,{"$f":"SUM(AS171,AW171)","v":6},6,{"$f":"SUM(BI211,BM211)","v":6},0,0,0,0,0,0,0]
[2,"2026-02-17",null,null,null,null,null,null,null,null,null,null,null,null,null,null,null,null,21,"mc",6,"EX",33,"sb",3,"X20",19,"yc",6,null,null,null,null,null,14,"cg",6,null,null,null,null,null,12,"mp",6,null,null,null,null,null,5,null,6,"SO",null,null,null,null,null,null,null,null,null,null,null,null,null,null,null,null,null,null,null,null,null,null,null,null,null,null,null,null,null,null,null,null,null,null,null,null,null,null,null,null,null,null,null,null,null,null,null,null,null,null,null,null,null,null,null,null,null,null,null,null,null,null,null,null,null,null,null,null,null,null,1,1,1,0,1,1,0,0,0,0,0,0,0,0,0,null,0,0,9,6,6,{"$f":"SUM(AS172,AW172)","v":6},6,{"$f":"SUM(BI208,BM214)","v":6},0,0,0,0,0,0,0]
[3,"2026-02-18",null,null,null,null,null,null,null,null,null,null,null,null,null,null,null,null,95,null,6,null,null,null,null,null,19,"yc",6,null,null,null,null,null,14,"cg",6,null,null,null,null,null,12,"mp",6,null,null,null,null,null,5,null,6,"SO",null,null,null,null,null,null,null,null,null,null,null,null,null,null,null,null,null,null,null,null,null,null,null,null,null,null,null,null,null,null,null,null,null,null,null,null,null,null,null,null,null,null,null,null,null,null,null,null,null,null,null,null,null,null,null,null,null,null,null,null,null,null,null,null,null,null,null,null,null,null,0,1,1,0,1,0,0,0,0,0,0,0,0,0,0,null,0,0,6,6,6,{"$f":"SUM(AS177,AW177)","v":6},6,{"$f":"SUM(BI212,BM212)","v":6},0,0,0,0,0,0,0]
[4,"2026-02-19",null,null,null,null,null,null,null,null,null,null,null,null,null,null,null,null,24,"sb",6,null,null,null,null,null,19,"mc",6,null,null,null,null,null,14,"cg",6,null,null,null,null,null,12,"mp",6,null,null,null,null,null,"     Pédagogique CEP",null,null,null,null,null,null,null,null,null,null,null,null,null,null,null,null,null,null,null,null,null,null,null,null,null,null,null,null,null,null,null,null,null,null,null,null,null,null,null,null,null,null,null,null,null,null,null,null,null,null,null,null,null,null,null,null,null,null,null,null,null,null,null,null,null,null,null,null,null,null,null,null,null,1,1,1,0,0,1,0,0,0,0,0,0,0,0,0,null,0,0,6,6,6,{"$f":"SUM(AS176,AW176)","v":6},0,{"$f":"SUM(BM218,#REF!)","v":{"$error":"#REF!"}},0,0,0,0,0,0,0]
[5,"2026-02-20",null,null,null,null,null,null,null,null,null,null,null,null,null,null,null,null,24,"sb",6,null,null,null,null,null,19,"yc",6,null,null,null,null,null,90,"mc",6,"R13",null,null,null,null,"Congé",null,null,null,null,null,null,null,5,null,6,"SO",null,null,null,null,null,null,null,null,null,null,null,null,null,null,null,null,null,null,null,null,null,null,null,null,null,null,null,null,null,null,null,null,null,null,null,null,null,null,null,null,null,null,null,null,null,null,null,null,null,null,null,null,null,null,null,null,null,null,null,null,null,null,null,null,null,null,null,null,null,null,1,0,0,0,1,1,0,0,0,0,0,0,0,0,0,null,0,0,6,6,6,{"$f":"SUM(AS178,AW178)","v":6},6,{"$f":"SUM(BI214,#REF!)","v":{"$error":"#REF!"}},0,0,0,0,0,0,0]
[6,"2026-02-21","                                   WEEK-END                       ",null,null,null,null,null,null,null,"                                   WEEK-END                       ",null,null,null,null,null,null,null,"                                   WEEK-END                       ",null,null,null,null,null,null,null,"                                   WEEK-END                       ",null,null,null,null,null,null,null,"                                   WEEK-END                       ",null,null,null,null,null,null,null,"                                   WEEK-END                       ",null,null,null,null,null,null,null,"                                   WEEK-END                       ",null,null,null,null,null,null,null,"                                   WEEK-END                       ",null,null,null,null,null,null,null,"                                   WEEK-END                       ",null,null,null,null,null,null,null,null,null,null,null,null,null,null,null,null,null,null,null,null,null,null,null,null,null,null,null,null,null,null,null,null,null,null,null,null,null,null,null,null,null,null,null,null,null,null,null,null,null,null,null,null,null,null,null,null,null,0,0,0,0,0,0,0,0,0,0,0,0,0,0,0,null,0,0,0,0,0,0,0,{"$f":"SUM(BI195,BM195)","v":0},0,0,0,0,0,0,0]
[7,"2026-02-22","                                   WEEK-END                       ",null,null,null,null,null,null,null,"                                   WEEK-END                       ",null,null,null,null,null,null,null,"                                   WEEK-END                       ",null,null,null,null,null,null,null,"                                   WEEK-END                       ",null,null,null,null,null,null,null,"                                   WEEK-END                       ",null,null,null,null,null,null,null,"                                   WEEK-END                       ",null,null,null,null,null,null,null,"                                   WEEK-END                       ",null,null,null,null,null,null,null,"                                   WEEK-END                       ",null,null,null,null,null,null,null,"                                   WEEK-END                       ",null,null,null,null,null,null,null,null,null,null,null,null,null,null,null,null,null,null,null,null,null,null,null,null,null,null,null,null,null,null,null,null,null,null,null,null,null,null,null,null,null,null,null,null,null,null,null,null,null,null,null,null,null,null,null,null,null,0,0,0,0,0,0,0,0,0,0,0,0,0,0,0,null,0,0,0,0,0,0,0,{"$f":"SUM(BI196,BM196)","v":0},0,0,0,0,0,0,0]
[1,"2026-02-23",null,null,null,null,null,null,null,null,null,null,null,null,null,null,null,null,24,"sb",6,null,null,null,null,null,19,"yc",6,null,null,null,null,null,14,"cg",6,null,null,null,null,null,12,"jr",6,null,null,null,null,null,5,null,6,"SO",null,null,null,null,1,"rg",6,null,null,null,null,null,null,null,null,null,null,null,null,null,null,null,null,null,null,null,null,null,null,null,null,null,null,null,null,null,null,null,null,null,null,null,null,null,null,null,null,null,null,null,null,null,null,null,null,null,null,null,null,null,null,null,null,null,null,null,null,null,null,null,1,0,1,1,1,0,1,0,0,0,0,0,0,0,0,null,0,0,6,6,6,{"$f":"SUM(AS180,AW180)","v":0},6,{"$f":"SUM(#REF!,#REF!)","v":{"$error":"#REF!"}},0,0,0,0,0,0,0]
[2,"2026-02-24",null,null,null,null,null,null,null,null,null,null,null,null,null,null,null,null,95,null,6,null,null,null,null,null,19,"yc",6,null,null,null,null,null,14,"cg",6,"EX",33,"mc",3,"X13",12,"jr",6,null,null,null,null,null,5,null,6,"SO",null,null,null,null,1,"rg",6,null,null,null,null,null,null,null,null,null,null,null,null,null,null,null,null,null,null,null,null,null,null,null,null,null,null,null,null,null,null,null,null,null,null,null,null,null,null,null,null,null,null,null,null,null,null,null,null,null,null,null,null,null,null,null,null,null,null,null,null,null,null,null,0,0,1,1,1,1,1,0,0,0,0,0,0,0,0,null,0,{"$f":"SUM(#REF!,$M198)","v":{"$error":"#REF!"}},{"$f":"SUM(#REF!,$U198)","v":{"$error":"#REF!"}},{"$f":"SUM(#REF!,AC198)","v":{"$error":"#REF!"}},9,{"$f":"SUM(AS179,AW179)","v":6},6,{"$f":"SUM(BI219,#REF!)","v":{"$error":"#REF!"}},0,0,0,0,0,0,0]
[3,"2026-02-25","     Pédagogique",null,null,null,null,null,null,null,"     Pédagogique",null,null,null,null,null,null,null,"     Pédagogique",null,null,null,null,null,null,null,"     Pédagogique",null,null,null,null,null,null,null,"     Pédagogique",null,null,null,null,null,null,null,"     Pédagogique",null,null,null,null,null,null,null,5,null,6,"SO",null,null,null,null,"     Pédagogique",null,null,null,null,null,null,null,"     Pédagogique",null,null,null,null,null,null,null,null,null,null,null,null,null,null,null,null,null,null,null,null,null,null,null,null,null,null,null,null,null,null,null,null,null,null,null,null,null,null,null,null,null,null,null,null,null,null,null,null,null,null,null,null,null,null,null,null,null,0,0,0,0,0,0,0,0,0,0,0,0,0,0,0,null,0,0,{"$f":"SUM(#REF!,$U199)","v":{"$error":"#REF!"}},{"$f":"SUM(#REF!,AC199)","v":{"$error":"#REF!"}},0,{"$f":"SUM(AS190,AW190)","v":6},6,{"$f":"SUM(BI199,BM199)","v":0},0,0,0,0,0,0,0]
[4,"2026-02-26",null,null,null,null,null,null,null,null,null,null,null,null,null,null,null,null,95,null,6,null,null,null,null,null,19,"yc",6,null,null,null,null,null,14,"cg",6,"EX",null,null,null,null,12,"jr",6,null,null,null,null,null,5,null,6,"SO",null,null,null,null,2,"rg",6,null,null,null,null,null,null,null,null,null,null,null,null,null,null,null,null,null,null,null,null,null,null,null,null,null,null,null,null,null,null,null,null,null,null,null,null,null,null,null,null,null,null,null,null,null,null,null,null,null,null,null,null,null,null,null,null,null,null,null,null,null,null,null,0,0,1,1,1,0,1,0,0,0,0,0,0,0,0,null,0,{"$f":"SUM(#REF!,$M200)","v":{"$error":"#REF!"}},{"$f":"SUM(#REF!,$U200)","v":{"$error":"#REF!"}},{"$f":"SUM(#REF!,AC200)","v":{"$error":"#REF!"}},6,{"$f":"SUM(AS218,AW214)","v":6},6,{"$f":"SUM(#REF!,#REF!)","v":{"$error":"#REF!"}},0,0,0,0,0,0,0]
[5,"2026-02-27",null,null,null,null,null,null,null,null,null,null,null,null,null,null,null,null,24,"sb",6,"sb",null,null,null,null,19,"yc",6,null,null,null,null,null,22,"mp",6,null,null,null,null,null,12,"jr",6,null,null,null,null,null,"Congé",null,null,null,null,null,null,null,2,"rg",6,null,null,null,null,null,null,null,null,null,null,null,null,null,null,null,null,null,null,null,null,null,null,null,null,null,null,null,null,null,null,null,null,null,null,null,null,null,null,null,null,null,null,null,null,null,null,null,null,null,null,null,null,null,null,null,null,null,null,null,null,null,null,null,{"$f":"COUNTIF($C201:$DR201,$A$459)","v":2},{"$f":"COUNTIF($C201:$DR201,$A$460)","v":1},{"$f":"COUNTIF($C201:$DR201,$A$461)","v":0},{"$f":"COUNTIF($C201:$DR201,$A$462)","v":1},{"$f":"COUNTIF($C201:$DR201,$A$463)","v":1},{"$f":"COUNTIF($C201:$DR201,$A$464)","v":0},{"$f":"COUNTIF($C201:$DR201,$A$465)","v":1},{"$f":"COUNTIF($C201:$DR201,$A$466)","v":0},{"$f":"COUNTIF($C201:$DR201,$A$467)","v":0},{"$f":"COUNTIF($C201:$DR201,$A$468)","v":0},{"$f":"COUNTIF($C201:$DR201,$A$469)","v":0},{"$f":"COUNTIF($C201:$DR201,$A$470)","v":0},{"$f":"COUNTIF($C201:$DR201,$A$471)","v":0},{"$f":"COUNTIF($C201:$DR201,$A$472)","v":0},{"$f":"COUNTIF($C201:$DR201,$A$473)","v":0},null,{"$f":"SUM($E201,$I201)","v":0},{"$f":"SUM($M201,$Q201)","v":0},{"$f":"SUM(#REF!,$U201)","v":{"$error":"#REF!"}},{"$f":"SUM(#REF!,AC201)","v":{"$error":"#REF!"}},6,{"$f":"SUM(AS201,AW201)","v":6},0,{"$f":"SUM(BI234,#REF!)","v":{"$error":"#REF!"}},0,0,0,0,0,0,0]
[{"$f":"WEEKDAY(B202,2)","v":6},"2026-02-28","                                   WEEK-END                       ",null,null,null,null,null,null,null,"                                   WEEK-END                       ",null,null,null,null,null,null,null,"                                   WEEK-END                       ",null,null,null,null,null,null,null,"                                   WEEK-END                       ",null,null,null,null,null,null,null,"                                   WEEK-END                       ",null,null,null,null,null,null,null,"                                   WEEK-END                       ",null,null,null,null,null,null,null,"                                   WEEK-END                       ",null,null,null,null,null,null,null,"                                   WEEK-END                       ",null,null,null,null,null,null,null,"                                   WEEK-END                       ",null,null,null,null,null,null,null,null,null,null,null,null,null,null,null,null,null,null,null,null,null,null,null,null,null,null,null,null,null,null,null,null,null,null,null,null,null,null,null,null,null,null,null,null,null,null,null,null,null,null,null,null,null,null,null,null,null,0,0,0,0,0,0,0,0,0,0,0,0,0,0,0,null,0,{"$f":"SUM($M202,$Q202)","v":0},{"$f":"SUM($U202,$Y202)","v":0},{"$f":"SUM(AC202,AG202)","v":0},{"$f":"SUM(AK202,AO202)","v":0},{"$f":"SUM(AS202,AW202)","v":0},{"$f":"SUM(BA202,BE202)","v":0},{"$f":"SUM(BI202,BM202)","v":0},{"$f":"SUM(BQ202,BU202)","v":0},{"$f":"SUM(BY202,CC202)","v":0},{"$f":"SUM(CG202,CK202)","v":0},{"$f":"SUM(CO202,CS202)","v":0},{"$f":"SUM(CW202,DA202)","v":0},{"$f":"SUM(DE202,DI202)","v":0},{"$f":"SUM(DM202,DQ202)","v":0}]
[7,{"$f":"B202+1","v":"2026-03-01"},"                                   WEEK-END                       ",null,null,null,null,null,null,null,"                                   WEEK-END                       ",null,null,null,null,null,null,null,"                                   WEEK-END                       ",null,null,null,null,null,null,null,"                                   WEEK-END                       ",null,null,null,null,null,null,null,"                                   WEEK-END                       ",null,null,null,null,null,null,null,"                                   WEEK-END                       ",null,null,null,null,null,null,null,"                                   WEEK-END                       ",null,null,null,null,null,null,null,"                                   WEEK-END                       ",null,null,null,null,null,null,null,"                                   WEEK-END                       ",null,null,null,null,null,null,null,null,null,null,null,null,null,null,null,null,null,null,null,null,null,null,null,null,null,null,null,null,null,null,null,null,null,null,null,null,null,null,null,null,null,null,null,null,null,null,null,null,null,null,null,null,null,null,null,null,null,0,0,0,0,0,0,0,0,0,0,0,0,0,0,0,null,0,{"$f":"SUM($M203,$Q203)","v":0},{"$f":"SUM($U203,$Y203)","v":0},{"$f":"SUM(AC203,AG203)","v":0},0,0,0,{"$f":"SUM(BI203,BM203)","v":0},0,0,0,0,0,0,0]
[1,"2026-03-02",null,null,null,null,null,null,null,null,null,null,null,null,null,null,null,null,24,"sb",6,null,null,null,null,null,19,"yc",6,null,null,null,null,null,22,"mp",6,null,null,null,null,null,12,"jr",6,null,null,null,null,null,"Congé",null,null,null,null,null,null,null,1,"rg",6,null,null,null,null,null,null,null,null,null,null,null,null,null,null,null,null,null,null,null,null,null,null,null,null,null,null,null,null,null,null,null,null,null,null,null,null,null,null,null,null,null,null,null,null,null,null,null,null,null,null,null,null,null,null,null,null,null,null,null,null,null,null,null,1,1,0,1,1,0,1,0,0,0,0,0,0,0,0,null,0,{"$f":"SUM(#REF!,$M204)","v":{"$error":"#REF!"}},{"$f":"SUM(#REF!,$U204)","v":{"$error":"#REF!"}},{"$f":"SUM(#REF!,AC204)","v":{"$error":"#REF!"}},6,6,{"$f":"SUM(BA184,BE184)","v":6},{"$f":"SUM(#REF!,#REF!)","v":{"$error":"#REF!"}},0,0,0,0,0,0,0]
[2,"2026-03-03",null,null,null,null,null,null,null,null,null,null,null,null,null,null,null,null,95,null,6,null,null,null,null,null,19,"yc",6,null,null,null,null,null,22,"mp",6,null,null,null,null,null,12,"jr",6,null,null,null,null,null,4,"cg",6,null,null,null,null,null,2,"rg",6,null,null,null,null,null,null,null,null,null,null,null,null,null,null,null,null,null,null,null,null,null,null,null,null,null,null,null,null,null,null,null,null,null,null,null,null,null,null,null,null,null,null,null,null,null,null,null,null,null,null,null,null,null,null,null,null,null,null,null,null,null,null,null,0,1,1,1,1,0,1,0,0,0,0,0,0,0,0,null,0,{"$f":"SUM(#REF!,$M205)","v":{"$error":"#REF!"}},{"$f":"SUM(#REF!,$U205)","v":{"$error":"#REF!"}},{"$f":"SUM(#REF!,AC205)","v":{"$error":"#REF!"}},6,6,{"$f":"SUM(BA183,BE204)","v":6},{"$f":"SUM(#REF!,#REF!)","v":{"$error":"#REF!"}},0,0,0,0,0,0,0]
[3,"2026-03-04",null,null,null,null,null,null,null,null,null,null,null,null,null,null,null,null,95,null,6,null,null,null,null,null,90,"sb",6,"R22",null,null,null,null,22,"mp",6,null,null,null,null,null,12,"jr",6,null,null,null,null,null,4,"cg",6,null,null,null,null,null,"Congé",null,null,null,null,null,null,null,null,null,null,null,null,null,null,null,null,null,null,null,null,null,null,null,null,null,null,null,null,null,null,null,null,null,null,null,null,null,null,null,null,null,null,null,null,null,null,null,null,null,null,null,null,null,null,null,null,null,null,null,null,null,null,null,null,null,1,1,1,1,0,0,0,0,0,0,0,0,0,0,0,null,0,{"$f":"SUM(#REF!,$M206)","v":{"$error":"#REF!"}},{"$f":"SUM(#REF!,$U206)","v":{"$error":"#REF!"}},{"$f":"SUM(#REF!,AC206)","v":{"$error":"#REF!"}},6,6,{"$f":"SUM(BA205,BE205)","v":6},{"$f":"SUM(#REF!,#REF!)","v":{"$error":"#REF!"}},0,0,0,0,0,0,0]
[4,"2026-03-05",null,null,null,null,null,null,null,null,null,null,null,null,null,null,null,null,24,"sb",6,null,null,null,null,null,19,"yc",6,null,null,null,null,null,22,"mp",6,null,null,null,null,null,12,"jr",6,null,null,null,null,null,4,"cg",6,null,null,null,null,null,2,"rg",6,null,null,null,null,null,null,null,null,null,null,null,null,null,null,null,null,null,null,null,null,null,null,null,null,null,null,null,null,null,null,null,null,null,null,null,null,null,null,null,null,null,null,null,null,null,null,null,null,null,null,null,null,null,null,null,null,null,null,null,null,null,null,null,1,1,1,1,1,0,1,0,0,0,0,0,0,0,0,null,0,{"$f":"SUM(#REF!,$M207)","v":{"$error":"#REF!"}},{"$f":"SUM(#REF!,$U207)","v":{"$error":"#REF!"}},{"$f":"SUM(#REF!,AC207)","v":{"$error":"#REF!"}},6,6,{"$f":"SUM(BA204,BE206)","v":0},{"$f":"SUM(#REF!,#REF!)","v":{"$error":"#REF!"}},0,0,0,0,0,0,0]
[5,"2026-03-06",null,null,null,null,null,null,null,null,null,null,null,null,null,null,null,null,95,null,6,null,null,null,null,null,19,"yc",6,null,null,null,null,null,22,"sb",6,null,null,null,null,null,"Congé",null,null,null,null,null,null,null,4,"cg",6,null,null,null,null,null,2,"rg",6,"EX",null,null,null,null,null,null,null,null,null,null,null,null,null,null,null,null,null,null,null,null,null,null,null,null,null,null,null,null,null,null,null,null,null,null,null,null,null,null,null,null,null,null,null,null,null,null,null,null,null,null,null,null,null,null,null,null,null,null,null,null,null,null,1,0,1,0,1,0,1,0,0,0,0,0,0,0,0,null,0,{"$f":"SUM(#REF!,$M208)","v":{"$error":"#REF!"}},{"$f":"SUM(#REF!,$U208)","v":{"$error":"#REF!"}},{"$f":"SUM(#REF!,AC208)","v":{"$error":"#REF!"}},6,0,6,{"$f":"SUM(BI215,BM215)","v":0},0,0,0,0,0,0,0]
[6,"2026-03-07","                                   WEEK-END                       ",null,null,null,null,null,null,null,"                                   WEEK-END                       ",null,null,null,null,null,null,null,"                                   WEEK-END                       ",null,null,null,null,null,null,null,"                                   WEEK-END                       ",null,null,null,null,null,null,null,"                                   WEEK-END                       ",null,null,null,null,null,null,null,"                                   WEEK-END                       ",null,null,null,null,null,null,null,"                                   WEEK-END                       ",null,null,null,null,null,null,null,"                                   WEEK-END                       ",null,null,null,null,null,null,null,"                                   WEEK-END                       ",null,null,null,null,null,null,null,null,null,null,null,null,null,null,null,null,null,null,null,null,null,null,null,null,null,null,null,null,null,null,null,null,null,null,null,null,null,null,null,null,null,null,null,null,null,null,null,null,null,null,null,null,null,null,null,null,null,0,0,0,0,0,0,0,0,0,0,0,0,0,0,0,null,0,{"$f":"SUM($M209,$Q209)","v":0},{"$f":"SUM($U209,$Y209)","v":0},{"$f":"SUM(AC209,AG209)","v":0},0,0,0,{"$f":"SUM(BI209,BM209)","v":0},0,0,0,0,0,0,0]
[7,"2026-03-08","                                   WEEK-END                       ",null,null,null,null,null,null,null,"                                   WEEK-END                       ",null,null,null,null,null,null,null,"                                   WEEK-END                       ",null,null,null,null,null,null,null,"                                   WEEK-END                       ",null,null,null,null,null,null,null,"                                   WEEK-END                       ",null,null,null,null,null,null,null,"                                   WEEK-END                       ",null,null,null,null,null,null,null,"                                   WEEK-END                       ",null,null,null,null,null,null,null,"                                   WEEK-END                       ",null,null,null,null,null,null,null,"                                   WEEK-END                       ",null,null,null,null,null,null,null,null,null,null,null,null,null,null,null,null,null,null,null,null,null,null,null,null,null,null,null,null,null,null,null,null,null,null,null,null,null,null,null,null,null,null,null,null,null,null,null,null,null,null,null,null,null,null,null,null,null,0,0,0,0,0,0,0,0,0,0,0,0,0,0,0,null,0,{"$f":"SUM($M210,$Q210)","v":0},{"$f":"SUM($U210,$Y210)","v":0},{"$f":"SUM(AC210,AG210)","v":0},0,0,0,{"$f":"SUM(BI210,BM210)","v":0},0,0,0,0,0,0,0]
[1,"2026-03-09",null,null,null,null,null,null,null,null,null,null,null,null,null,null,null,null,95,null,6,null,null,null,null,null,19,"yc",6,null,null,null,null,null,22,"mp",6,null,null,null,null,null,90,"rg",6,"R8",null,null,null,null,4,"cg",6,"EX",null,null,null,null,3,"mc",6,null,null,null,null,null,null,null,null,null,null,null,null,null,null,null,null,null,null,null,null,null,null,null,null,null,null,null,null,null,null,null,null,null,null,null,null,null,null,null,null,null,null,null,null,null,null,null,null,null,null,null,null,null,null,null,null,null,null,null,null,null,null,null,0,1,1,0,1,1,1,0,0,0,0,0,0,0,0,null,0,{"$f":"SUM(#REF!,$M211)","v":{"$error":"#REF!"}},{"$f":"SUM(#REF!,$U211)","v":{"$error":"#REF!"}},{"$f":"SUM(#REF!,AC211)","v":{"$error":"#REF!"}},6,6,6,{"$f":"SUM(#REF!,#REF!)","v":{"$error":"#REF!"}},0,0,0,0,0,0,0]
[2,"2026-03-10",null,null,null,null,null,null,null,null,null,null,null,null,null,null,null,null,24,"sb",6,null,null,null,null,null,19,"yc",6,null,null,null,null,null,22,"mp",6,null,null,null,null,null,12,"jr",6,null,null,null,null,null,4,"cg",6,"EX",null,null,null,null,90,"rg",3,"R2",33,"rg",3,"X2",null,null,null,null,null,null,null,null,null,null,null,null,null,null,null,null,null,null,null,null,null,null,null,null,null,null,null,null,null,null,null,null,null,null,null,null,null,null,null,null,null,null,null,null,null,null,null,null,null,null,null,null,null,null,null,null,null,null,{"$f":"COUNTIF($C212:$DR212,$A$459)","v":1},{"$f":"COUNTIF($C212:$DR212,$A$460)","v":1},{"$f":"COUNTIF($C212:$DR212,$A$461)","v":1},{"$f":"COUNTIF($C212:$DR212,$A$462)","v":1},{"$f":"COUNTIF($C212:$DR212,$A$463)","v":1},{"$f":"COUNTIF($C212:$DR212,$A$464)","v":0},{"$f":"COUNTIF($C212:$DR212,$A$465)","v":2},{"$f":"COUNTIF($C212:$DR212,$A$466)","v":0},{"$f":"COUNTIF($C212:$DR212,$A$467)","v":0},{"$f":"COUNTIF($C212:$DR212,$A$468)","v":0},{"$f":"COUNTIF($C212:$DR212,$A$469)","v":0},{"$f":"COUNTIF($C212:$DR212,$A$470)","v":0},{"$f":"COUNTIF($C212:$DR212,$A$471)","v":0},{"$f":"COUNTIF($C212:$DR212,$A$472)","v":0},{"$f":"COUNTIF($C212:$DR212,$A$473)","v":0},null,{"$f":"SUM(#REF!,#REF!)","v":{"$error":"#REF!"}},{"$f":"SUM(#REF!,#REF!)","v":{"$error":"#REF!"}},{"$f":"SUM(#REF!,#REF!)","v":{"$error":"#REF!"}},{"$f":"SUM(#REF!,#REF!)","v":{"$error":"#REF!"}},{"$f":"SUM(#REF!,#REF!)","v":{"$error":"#REF!"}},{"$f":"SUM(#REF!,#REF!)","v":{"$error":"#REF!"}},{"$f":"SUM(#REF!,#REF!)","v":{"$error":"#REF!"}},{"$f":"SUM(#REF!,#REF!)","v":{"$error":"#REF!"}},{"$f":"SUM(#REF!,#REF!)","v":{"$error":"#REF!"}},0,0,0,0,0,0]
[3,"2026-03-11",null,null,null,null,null,null,null,null,null,null,null,null,null,null,null,null,24,"sb",6,"RT",null,null,null,null,19,"yc",6,"EX",33,"rg",3,"X22",22,"mp",6,null,null,null,null,null,12,"jr",6,"EX",33,"rg",3,"X8",6,"cg",6,null,null,null,null,null,"Congé",null,null,null,null,null,null,null,null,null,null,null,null,null,null,null,null,null,null,null,null,null,null,null,null,null,null,null,null,null,null,null,null,null,null,null,null,null,null,null,null,null,null,null,null,null,null,null,null,null,null,null,null,null,null,null,null,null,null,null,null,null,null,null,null,null,1,1,1,1,1,0,2,0,0,0,0,0,0,0,0,null,0,{"$f":"SUM(#REF!,$M213)","v":{"$error":"#REF!"}},{"$f":"SUM(#REF!,$U213)","v":{"$error":"#REF!"}},{"$f":"SUM(#REF!,AC213)","v":{"$error":"#REF!"}},6,{"$f":"SUM(AS213,AW213)","v":9},6,{"$f":"SUM(#REF!,#REF!)","v":{"$error":"#REF!"}},0,0,0,0,0,0,0]
[4,"2026-03-12",null,null,null,null,null,null,null,null,null,null,null,null,null,null,null,null,90,"mc",6,"R21",null,null,null,null,19,"yc",6,"EX",null,null,null,null,22,"mp",6,null,null,null,null,null,12,"jr",6,"EX",null,null,null,null,6,"cg",6,null,null,null,null,null,3,"rg",6,null,null,null,null,null,null,null,null,null,null,null,null,null,null,null,null,null,null,null,null,null,null,null,null,null,null,null,null,null,null,null,null,null,null,null,null,null,null,null,null,null,null,null,null,null,null,null,null,null,null,null,null,null,null,null,null,null,null,null,null,null,null,null,0,1,1,1,1,1,1,0,0,0,0,0,0,0,0,null,0,{"$f":"SUM(#REF!,$M214)","v":{"$error":"#REF!"}},{"$f":"SUM(#REF!,$U214)","v":{"$error":"#REF!"}},{"$f":"SUM(#REF!,AC214)","v":{"$error":"#REF!"}},6,{"$f":"SUM(#REF!,#REF!)","v":{"$error":"#REF!"}},6,{"$f":"SUM(#REF!,#REF!)","v":{"$error":"#REF!"}},0,0,0,0,0,0,0]
[5,"2026-03-13","     Pédagogique",null,null,null,null,null,null,null,"     Pédagogique",null,null,null,null,null,null,null,"     Pédagogique",null,null,null,null,null,null,null,"     Pédagogique",null,null,null,null,null,null,null,"     Pédagogique",null,null,null,null,null,null,null,"     Pédagogique",null,null,null,null,null,null,null,"     Pédagogique",null,null,null,null,null,null,null,"     Pédagogique",null,null,null,null,null,null,null,"     Pédagogique",null,null,null,null,null,null,null,null,null,null,null,null,null,null,null,null,null,null,null,null,null,null,null,null,null,null,null,null,null,null,null,null,null,null,null,null,null,null,null,null,null,null,null,null,null,null,null,null,null,null,null,null,null,null,null,null,null,0,0,0,0,0,0,0,0,0,0,0,0,0,0,0,null,0,{"$f":"SUM(#REF!,$M215)","v":{"$error":"#REF!"}},{"$f":"SUM(#REF!,$U215)","v":{"$error":"#REF!"}},{"$f":"SUM(#REF!,AC215)","v":{"$error":"#REF!"}},0,0,0,{"$f":"SUM(#REF!,#REF!)","v":{"$error":"#REF!"}},0,0,0,0,0,0,0]
[6,"2026-03-14","                                   WEEK-END                       ",null,null,null,null,null,null,null,"                                   WEEK-END                       ",null,null,null,null,null,null,null,"                                   WEEK-END                       ",null,null,null,null,null,null,null,"                                   WEEK-END                       ",null,null,null,null,null,null,null,"                                   WEEK-END                       ",null,null,null,null,null,null,null,"                                   WEEK-END                       ",null,null,null,null,null,null,null,"                                   WEEK-END                       ",null,null,null,null,null,null,null,"                                   WEEK-END                       ",null,null,null,null,null,null,null,"                                   WEEK-END                       ",null,null,null,null,null,null,null,null,null,null,null,null,null,null,null,null,null,null,null,null,null,null,null,null,null,null,null,null,null,null,null,null,null,null,null,null,null,null,null,null,null,null,null,null,null,null,null,null,null,null,null,null,null,null,null,null,null,0,0,0,0,0,0,0,0,0,0,0,0,0,0,0,null,0,{"$f":"SUM($M216,$Q216)","v":0},{"$f":"SUM($U216,$Y216)","v":0},{"$f":"SUM(AC216,AG216)","v":0},0,0,0,{"$f":"SUM(BI216,BM216)","v":0},0,0,0,0,0,0,0]
[7,"2026-03-15","                                   WEEK-END                       ",null,null,null,null,null,null,null,"                                   WEEK-END                       ",null,null,null,null,null,null,null,"                                   WEEK-END                       ",null,null,null,null,null,null,null,"                                   WEEK-END                       ",null,null,null,null,null,null,null,"                                   WEEK-END                       ",null,null,null,null,null,null,null,"                                   WEEK-END                       ",null,null,null,null,null,null,null,"                                   WEEK-END                       ",null,null,null,null,null,null,null,"                                   WEEK-END                       ",null,null,null,null,null,null,null,"                                   WEEK-END                       ",null,null,null,null,null,null,null,null,null,null,null,null,null,null,null,null,null,null,null,null,null,null,null,null,null,null,null,null,null,null,null,null,null,null,null,null,null,null,null,null,null,null,null,null,null,null,null,null,null,null,null,null,null,null,null,null,null,0,0,0,0,0,0,0,0,0,0,0,0,0,0,0,null,0,{"$f":"SUM($M217,$Q217)","v":0},{"$f":"SUM($U217,$Y217)","v":0},{"$f":"SUM(AC217,AG217)","v":0},0,0,0,{"$f":"SUM(BI217,BM217)","v":0},0,0,0,0,0,0,0]
[1,"2026-03-16",null,null,null,null,null,null,null,null,null,null,null,null,null,null,null,null,33,"mc",3,"X21",null,null,null,null,20,"sb",6,null,null,null,null,null,22,"mp",6,null,null,null,null,null,11,"yc",6,null,null,null,null,null,"Congé",null,null,null,null,null,null,null,3,"rg",6,null,null,null,null,null,null,null,null,null,null,null,null,null,null,null,null,null,null,null,null,null,null,null,null,null,null,null,null,null,null,null,null,null,null,null,null,null,null,null,null,null,null,null,null,null,null,null,null,null,null,null,null,null,null,null,null,null,null,null,null,null,null,null,1,1,0,0,1,1,1,0,0,0,0,0,0,0,0,null,0,{"$f":"SUM(#REF!,$M218)","v":{"$error":"#REF!"}},{"$f":"SUM(#REF!,$U218)","v":{"$error":"#REF!"}},{"$f":"SUM(#REF!,AC218)","v":{"$error":"#REF!"}},6,{"$f":"SUM(AS221,#REF!)","v":{"$error":"#REF!"}},0,{"$f":"SUM(#REF!,BM234)","v":{"$error":"#REF!"}},0,0,0,0,0,0,0]
[2,"2026-03-17",null,null,null,null,null,null,null,null,null,null,null,null,null,null,null,null,null,null,null,null,null,null,null,null,20,"sb",6,null,null,null,null,null,22,"mp",6,null,null,null,null,null,11,"yc",6,null,null,null,null,null,6,"cg",6,"EX",null,null,null,null,3,"rg",6,"EX",null,null,null,null,null,null,null,null,null,null,null,null,null,null,null,null,null,null,null,null,null,null,null,null,null,null,null,null,null,null,null,null,null,null,null,null,null,null,null,null,null,null,null,null,null,null,null,null,null,null,null,null,null,null,null,null,null,null,null,null,null,null,1,1,1,0,1,0,1,0,0,0,0,0,0,0,0,null,{"$f":"SUM($E212,$I212)","v":0},{"$f":"SUM($M212,$Q212)","v":0},{"$f":"SUM($U212,$Y212)","v":6},{"$f":"SUM(AC212,AG212)","v":6},{"$f":"SUM(AK212,AO212)","v":6},{"$f":"SUM(#REF!,AW212)","v":{"$error":"#REF!"}},{"$f":"SUM(BA212,BE212)","v":6},{"$f":"SUM(#REF!,#REF!)","v":{"$error":"#REF!"}},{"$f":"SUM(BQ212,BU212)","v":0},0,0,0,0,0,0]
[3,"2026-03-18",null,null,null,null,null,null,null,null,null,null,null,null,null,null,null,null,null,null,null,null,null,null,null,null,20,"sb",6,null,null,null,null,null,22,"mp",6,null,null,null,null,null,11,"yc",6,null,null,null,null,null,90,"cg",6,"R4",null,null,null,null,"Congé",null,null,null,null,null,null,null,null,null,null,null,null,null,null,null,null,null,null,null,null,null,null,null,null,null,null,null,null,null,null,null,null,null,null,null,null,null,null,null,null,null,null,null,null,null,null,null,null,null,null,null,null,null,null,null,null,null,null,null,null,null,null,null,null,null,{"$f":"COUNTIF($D220:$DR220,$A$459)","v":1},{"$f":"COUNTIF($D220:$DR220,$A$460)","v":1},{"$f":"COUNTIF($D220:$DR220,$A$461)","v":1},{"$f":"COUNTIF($D220:$DR220,$A$462)","v":0},{"$f":"COUNTIF($D220:$DR220,$A$463)","v":1},{"$f":"COUNTIF($D220:$DR220,$A$464)","v":0},{"$f":"COUNTIF($D220:$DR220,$A$465)","v":0},{"$f":"COUNTIF($D220:$DR220,$A$466)","v":0},{"$f":"COUNTIF($D220:$DR220,$A$467)","v":0},{"$f":"COUNTIF($D220:$DR220,$A$468)","v":0},{"$f":"COUNTIF($D220:$DR220,$A$469)","v":0},{"$f":"COUNTIF($D220:$DR220,$A$470)","v":0},{"$f":"COUNTIF($D220:$DR220,$A$471)","v":0},{"$f":"COUNTIF($D220:$DR220,$A$472)","v":0},{"$f":"COUNTIF($D220:$DR220,$A$473)","v":0},null,0,{"$f":"SUM(#REF!,$M220)","v":{"$error":"#REF!"}},{"$f":"SUM(#REF!,$U220)","v":{"$error":"#REF!"}},{"$f":"SUM(#REF!,AC220)","v":{"$error":"#REF!"}},6,{"$f":"SUM(AS232,AW232)","v":6},6,{"$f":"SUM(BI228,#REF!)","v":{"$error":"#REF!"}},0,0,0,0,0,0,0]
[4,"2026-03-19",null,null,null,null,null,null,null,null,null,null,null,null,null,null,null,null,null,null,null,null,null,null,null,null,20,"sb",6,null,null,null,null,null,22,"mp",6,null,null,null,null,null,11,"yc",6,null,null,null,null,null,33,"cg",3,"X4",null,null,null,null,4,"rg",6,null,null,null,null,null,null,null,null,null,null,null,null,null,null,null,null,null,null,null,null,null,null,null,null,null,null,null,null,null,null,null,null,null,null,null,null,null,null,null,null,null,null,null,null,null,null,null,null,null,null,null,null,null,null,null,null,null,null,null,null,null,null,null,1,1,1,0,1,0,1,0,0,0,0,0,0,0,0,null,0,{"$f":"SUM(#REF!,$M221)","v":{"$error":"#REF!"}},{"$f":"SUM(#REF!,$U221)","v":{"$error":"#REF!"}},{"$f":"SUM(#REF!,AC221)","v":{"$error":"#REF!"}},6,{"$f":"SUM(#REF!,#REF!)","v":{"$error":"#REF!"}},3,{"$f":"SUM(#REF!,#REF!)","v":{"$error":"#REF!"}},0,0,0,0,0,0,0]
[5,"2026-03-20",null,null,null,null,null,null,null,null,null,null,null,null,null,null,null,null,null,null,null,null,null,null,null,null,20,"jr",6,null,null,null,null,null,90,"cg",6,"R14",null,null,null,null,"Congé",null,null,null,null,null,null,null,7,"mc",6,null,null,null,null,null,4,"rg",6,null,null,null,null,null,null,null,null,null,null,null,null,null,null,null,null,null,null,null,null,null,null,null,null,null,null,null,null,null,null,null,null,null,null,null,null,null,null,null,null,null,null,null,null,null,null,null,null,null,null,null,null,null,null,null,null,null,null,null,null,null,null,null,0,0,1,1,0,1,1,0,0,0,0,0,0,0,0,null,0,{"$f":"SUM(#REF!,$M222)","v":{"$error":"#REF!"}},{"$f":"SUM(#REF!,$U222)","v":{"$error":"#REF!"}},{"$f":"SUM(AC222,AG222)","v":6},6,0,6,{"$f":"SUM(BI226,BM226)","v":6},0,0,0,0,0,0,0]
[6,"2026-03-21","                                   WEEK-END                       ",null,null,null,null,null,null,null,"                                   WEEK-END                       ",null,null,null,null,null,null,null,"                                   WEEK-END                       ",null,null,null,null,null,null,null,"                                   WEEK-END                       ",null,null,null,null,null,null,null,"                                   WEEK-END                       ",null,null,null,null,null,null,null,"                                   WEEK-END                       ",null,null,null,null,null,null,null,"                                   WEEK-END                       ",null,null,null,null,null,null,null,"                                   WEEK-END                       ",null,null,null,null,null,null,null,"                                   WEEK-END                       ",null,null,null,null,null,null,null,null,null,null,null,null,null,null,null,null,null,null,null,null,null,null,null,null,null,null,null,null,null,null,null,null,null,null,null,null,null,null,null,null,null,null,null,null,null,null,null,null,null,null,null,null,null,null,null,null,null,0,0,0,0,0,0,0,0,0,0,0,0,0,0,0,null,0,{"$f":"SUM($M223,$Q223)","v":0},{"$f":"SUM($U223,$Y223)","v":0},{"$f":"SUM(AC223,AG223)","v":0},0,0,0,{"$f":"SUM(BI223,BM223)","v":0},0,0,0,0,0,0,0]
[7,"2026-03-22","                                   WEEK-END                       ",null,null,null,null,null,null,null,"                                   WEEK-END                       ",null,null,null,null,null,null,null,"                                   WEEK-END                       ",null,null,null,null,null,null,null,"                                   WEEK-END                       ",null,null,null,null,null,null,null,"                                   WEEK-END                       ",null,null,null,null,null,null,null,"                                   WEEK-END                       ",null,null,null,null,null,null,null,"                                   WEEK-END                       ",null,null,null,null,null,null,null,"                                   WEEK-END                       ",null,null,null,null,null,null,null,"                                   WEEK-END                       ",null,null,null,null,null,null,null,null,null,null,null,null,null,null,null,null,null,null,null,null,null,null,null,null,null,null,null,null,null,null,null,null,null,null,null,null,null,null,null,null,null,null,null,null,null,null,null,null,null,null,null,null,null,null,null,null,null,0,0,0,0,0,0,0,0,0,0,0,0,0,0,0,null,0,{"$f":"SUM($M224,$Q224)","v":0},{"$f":"SUM($U224,$Y224)","v":0},{"$f":"SUM(AC224,AG224)","v":0},0,0,0,{"$f":"SUM(BI224,BM224)","v":0},0,0,0,0,0,0,0]
[1,"2026-03-23",null,null,null,null,null,null,null,null,null,null,null,null,null,null,null,null,null,null,null,null,null,null,null,null,20,"sb",6,null,null,null,null,null,22,"mp",6,null,null,null,null,null,11,"yc",6,null,null,null,null,null,"Congé",null,null,null,null,null,null,null,4,"rg",6,null,null,null,null,null,null,null,null,null,null,null,null,null,null,null,null,null,null,null,null,null,null,null,null,null,null,null,null,null,null,null,null,null,null,null,null,null,null,null,null,null,null,null,null,null,null,null,null,null,null,null,null,null,null,null,null,null,null,null,null,null,null,null,1,1,0,0,1,0,1,0,0,0,0,0,0,0,0,null,0,{"$f":"SUM(#REF!,$M225)","v":{"$error":"#REF!"}},{"$f":"SUM(#REF!,$U225)","v":{"$error":"#REF!"}},{"$f":"SUM(#REF!,AC225)","v":{"$error":"#REF!"}},6,6,{"$f":"SUM(BB225,BE207)","v":0},{"$f":"SUM(BI232,BM232)","v":6},0,0,0,0,0,0,0]
[2,"2026-03-24",null,null,null,null,null,null,null,null,null,null,null,null,null,null,null,null,null,null,null,null,null,null,null,null,20,"sb",6,null,null,null,null,null,22,"mp",6,null,null,null,null,null,11,"yc",6,null,null,null,null,null,7,"mc",6,null,null,null,null,null,4,"rg",6,null,null,null,null,null,null,null,null,null,null,null,null,null,null,null,null,null,null,null,null,null,null,null,null,null,null,null,null,null,null,null,null,null,null,null,null,null,null,null,null,null,null,null,null,null,null,null,null,null,null,null,null,null,null,null,null,null,null,null,null,null,null,null,1,1,0,0,1,1,1,0,0,0,0,0,0,0,0,null,0,{"$f":"SUM(#REF!,$M226)","v":{"$error":"#REF!"}},{"$f":"SUM(#REF!,$U226)","v":{"$error":"#REF!"}},{"$f":"SUM(#REF!,AC226)","v":{"$error":"#REF!"}},6,6,{"$f":"SUM(BA206,BE225)","v":6},{"$f":"SUM(BI233,BM233)","v":6},0,0,0,0,0,0,0]
[3,"2026-03-25",null,null,null,null,null,null,null,null,null,null,null,null,null,null,null,null,null,null,null,null,null,null,null,null,20,"sb",6,null,null,null,null,null,22,"mp",6,"EX",null,null,null,null,11,"yc",6,null,null,null,null,null,7,"mc",6,null,null,null,null,null,"Congé",null,null,null,null,null,null,null,null,null,null,null,null,null,null,null,null,null,null,null,null,null,null,null,null,null,null,null,null,null,null,null,null,null,null,null,null,null,null,null,null,null,null,null,null,null,null,null,null,null,null,null,null,null,null,null,null,null,null,null,null,null,null,null,null,null,1,1,0,0,1,1,0,0,0,0,0,0,0,0,0,null,0,{"$f":"SUM(#REF!,$M227)","v":{"$error":"#REF!"}},{"$f":"SUM(#REF!,$U227)","v":{"$error":"#REF!"}},{"$f":"SUM(#REF!,AC227)","v":{"$error":"#REF!"}},{"$f":"SUM(AK227,AO228)","v":9},6,{"$f":"SUM(BA226,BE226)","v":6},{"$f":"SUM(BI225,BM225)","v":6},0,0,0,0,0,0,0]
[4,"2026-03-26",null,null,null,null,null,null,null,null,null,null,null,null,null,null,null,null,null,null,null,null,null,null,null,null,20,"sb",6,null,null,null,null,null,22,"mp",6,"EX",33,"cg",3,"X14",11,"yc",6,null,null,null,null,null,7,"mc",6,null,null,null,null,null,4,"rg",6,null,null,null,null,null,null,null,null,null,null,null,null,null,null,null,null,null,null,null,null,null,null,null,null,null,null,null,null,null,null,null,null,null,null,null,null,null,null,null,null,null,null,null,null,null,null,null,null,null,null,null,null,null,null,null,null,null,null,null,null,null,null,null,1,1,1,0,1,1,1,0,0,0,0,0,0,0,0,null,0,{"$f":"SUM(#REF!,$M228)","v":{"$error":"#REF!"}},{"$f":"SUM(#REF!,$U228)","v":{"$error":"#REF!"}},{"$f":"SUM(#REF!,AC228)","v":{"$error":"#REF!"}},{"$f":"SUM(AK228,#REF!)","v":{"$error":"#REF!"}},{"$f":"SUM(AS229,AW229)","v":0},{"$f":"SUM(#REF!,BE227)","v":{"$error":"#REF!"}},{"$f":"SUM(BI222,BM222)","v":6},0,0,0,0,0,0,0]
[5,"2026-03-27",null,null,null,null,null,null,null,null,null,null,null,null,null,null,null,null,null,null,null,null,null,null,null,null,90,"cg",6,"R19",null,null,null,null,34,"AC",6,null,null,null,null,null,"Congé",null,null,null,null,null,null,null,7,"mc",6,null,null,null,null,null,4,"rg",6,null,null,null,null,null,null,null,null,null,null,null,null,null,null,null,null,null,null,null,null,null,null,null,null,null,null,null,null,null,null,null,null,null,null,null,null,null,null,null,null,null,null,null,null,null,null,null,null,null,null,null,null,null,null,null,null,null,null,null,null,null,null,null,0,0,1,0,0,1,1,0,0,0,0,0,0,0,0,null,0,{"$f":"SUM(#REF!,$M229)","v":{"$error":"#REF!"}},{"$f":"SUM(#REF!,$U229)","v":{"$error":"#REF!"}},{"$f":"SUM(#REF!,AC229)","v":{"$error":"#REF!"}},6,{"$f":"SUM(AS228,AW228)","v":6},6,{"$f":"SUM(BI229,BM229)","v":6},0,0,0,0,0,0,0]
[6,"2026-03-28","                       WEEK-END                       ",null,null,null,null,null,null,null,"                       WEEK-END                       ",null,null,null,null,null,null,null,"                       WEEK-END                       ",null,null,null,null,null,null,null,"                       WEEK-END                       ",null,null,null,null,null,null,null,"                       WEEK-END                       ",null,null,null,null,null,null,null,"                       WEEK-END                       ",null,null,null,null,null,null,null,"                       WEEK-END                       ",null,null,null,null,null,null,null,"                       WEEK-END                       ",null,null,null,null,null,null,null,"                       WEEK-END                       ",null,null,null,null,null,null,null,null,null,null,null,null,null,null,null,null,null,null,null,null,null,null,null,null,null,null,null,null,null,null,null,null,null,null,null,null,null,null,null,null,null,null,null,null,null,null,null,null,null,null,null,null,null,null,null,null,null,0,0,0,0,0,0,0,0,0,0,0,0,0,0,0,null,0,{"$f":"SUM($M230,$Q230)","v":0},{"$f":"SUM($U230,$Y230)","v":0},{"$f":"SUM(AC230,AG230)","v":0},0,0,0,{"$f":"SUM(BI230,BM230)","v":0},0,0,0,0,0,0,0]
[7,"2026-03-29","                       WEEK-END                       ",null,null,null,null,null,null,null,"                       WEEK-END                       ",null,null,null,null,null,null,null,"                       WEEK-END                       ",null,null,null,null,null,null,null,"                       WEEK-END                       ",null,null,null,null,null,null,null,"                       WEEK-END                       ",null,null,null,null,null,null,null,"                       WEEK-END                       ",null,null,null,null,null,null,null,"                       WEEK-END                       ",null,null,null,null,null,null,null,"                       WEEK-END                       ",null,null,null,null,null,null,null,"                       WEEK-END                       ",null,null,null,null,null,null,null,null,null,null,null,null,null,null,null,null,null,null,null,null,null,null,null,null,null,null,null,null,null,null,null,null,null,null,null,null,null,null,null,null,null,null,null,null,null,null,null,null,null,null,null,null,null,null,null,null,null,0,0,0,0,0,0,0,0,0,0,0,0,0,0,0,null,0,{"$f":"SUM($M231,$Q231)","v":0},{"$f":"SUM($U231,$Y231)","v":0},{"$f":"SUM(AC231,AG231)","v":0},0,0,0,{"$f":"SUM(BI231,BM231)","v":0},0,0,0,0,0,0,0]
[1,"2026-03-30",null,null,null,null,null,null,null,null,null,null,null,null,null,null,null,null,null,null,null,null,null,null,null,null,20,"sb",6,null,null,null,null,null,34,"AC",6,null,null,null,null,null,11,"yc",6,null,null,null,null,null,7,"mc",6,null,null,null,null,null,4,"rg",6,null,null,null,null,null,null,null,null,null,null,null,null,null,null,null,null,null,null,null,null,null,null,null,null,null,null,null,null,null,null,null,null,null,null,null,null,null,null,null,null,null,null,null,null,null,null,null,null,null,null,null,null,null,null,null,null,null,null,null,null,null,null,null,1,0,0,0,1,1,1,0,0,0,0,0,0,0,0,null,0,{"$f":"SUM(#REF!,$M232)","v":{"$error":"#REF!"}},{"$f":"SUM(#REF!,$U232)","v":{"$error":"#REF!"}},{"$f":"SUM(#REF!,AC232)","v":{"$error":"#REF!"}},6,{"$f":"SUM(AS234,AW234)","v":6},6,{"$f":"SUM(BI235,BM235)","v":9},0,0,0,0,0,0,0]
[2,"2026-03-31",null,null,null,null,null,null,null,null,null,null,null,null,null,null,null,null,null,null,null,null,null,null,null,null,20,"sb",6,null,null,null,null,null,34,"AC",6,null,null,null,null,null,90,"jr",6,"R12",null,null,null,null,7,"mc",6,null,null,null,null,null,4,"rg",6,null,null,null,null,null,null,null,null,null,null,null,null,null,null,null,null,null,null,null,null,null,null,null,null,null,null,null,null,null,null,null,null,null,null,null,null,null,null,null,null,null,null,null,null,null,null,null,null,null,null,null,null,null,null,null,null,null,null,null,null,null,null,null,1,0,0,1,0,1,1,0,0,0,0,0,0,0,0,null,0,{"$f":"SUM(#REF!,$M233)","v":{"$error":"#REF!"}},{"$f":"SUM(#REF!,$U233)","v":{"$error":"#REF!"}},{"$f":"SUM(#REF!,AC233)","v":{"$error":"#REF!"}},6,{"$f":"SUM(AS233,AW233)","v":6},6,{"$f":"SUM(BI221,BM221)","v":6},0,0,0,0,0,0,0]
[3,"2026-04-01",null,null,null,null,null,null,null,null,null,null,null,null,null,null,null,null,null,null,null,null,null,null,null,null,20,"sb",6,"EX",33,"cg",3,"X19",34,"AC",6,null,null,null,null,null,11,"yc",6,null,null,null,null,null,7,"mc",6,"EX",null,null,null,null,4,"rg",6,null,null,null,null,null,null,null,null,null,null,null,null,null,null,null,null,null,null,null,null,null,null,null,null,null,null,null,null,null,null,null,null,null,null,null,null,null,null,null,null,null,null,null,null,null,null,null,null,null,null,null,null,null,null,null,null,null,null,null,null,null,null,null,1,0,1,0,1,1,1,0,0,0,0,0,0,0,0,null,0,{"$f":"SUM(#REF!,$M234)","v":{"$error":"#REF!"}},{"$f":"SUM(#REF!,$U234)","v":{"$error":"#REF!"}},{"$f":"SUM(#REF!,AC234)","v":{"$error":"#REF!"}},6,{"$f":"SUM(AS253,AW253)","v":6},6,{"$f":"SUM(BI241,BM241)","v":9},0,0,0,0,0,0,0]
[4,"2026-04-02",null,null,null,null,null,null,null,null,null,null,null,null,null,null,null,null,null,null,null,null,null,null,null,null,20,"sb",6,"EX",null,null,null,null,34,"AC",6,null,null,null,null,null,11,"yc",6,"EX",33,"jr",3,"X12",7,"mc",6,"EX",null,null,null,null,4,"rg",6,null,90,"cg",3,"R3",null,null,null,null,null,null,null,null,null,null,null,null,null,null,null,null,null,null,null,null,null,null,null,null,null,null,null,null,null,null,null,null,null,null,null,null,null,null,null,null,null,null,null,null,null,null,null,null,null,null,null,null,null,null,null,null,null,null,1,0,1,1,1,1,1,0,0,0,0,0,0,0,0,null,0,{"$f":"SUM(#REF!,$M235)","v":{"$error":"#REF!"}},{"$f":"SUM(#REF!,$U235)","v":{"$error":"#REF!"}},{"$f":"SUM(#REF!,AC235)","v":{"$error":"#REF!"}},6,{"$f":"SUM(#REF!,AW254)","v":{"$error":"#REF!"}},6,{"$f":"SUM(BI240,BM240)","v":6},0,0,0,0,0,0,0]
[5,"2026-04-03","Congé",null,null,null,null,null,null,null,"Congé",null,null,null,null,null,null,null,"Congé",null,null,null,null,null,null,null,"Congé",null,null,null,null,null,null,null,"Congé",null,null,null,null,null,null,null,"Congé",null,null,null,null,null,null,null,"Congé",null,null,null,null,null,null,null,"Congé",null,null,null,null,null,null,null,"Congé",null,null,null,null,null,null,null,null,null,null,null,null,null,null,null,null,null,null,null,null,null,null,null,null,null,null,null,null,null,null,null,null,null,null,null,null,null,null,null,null,null,null,null,null,null,null,null,null,null,null,null,null,null,null,null,null,null,0,0,0,0,0,0,0,0,0,0,0,0,0,0,0,null,0,{"$f":"SUM($M236,$Q236)","v":0},{"$f":"SUM($U236,$Y236)","v":0},{"$f":"SUM(AC236,AG236)","v":0},0,0,0,{"$f":"SUM(BI236,BM236)","v":0},0,0,0,0,0,0,0]
[6,"2026-04-04","                                   WEEK-END                       ",null,null,null,null,null,null,null,"                                   WEEK-END                       ",null,null,null,null,null,null,null,"                                   WEEK-END                       ",null,null,null,null,null,null,null,"                                   WEEK-END                       ",null,null,null,null,null,null,null,"                                   WEEK-END                       ",null,null,null,null,null,null,null,"                                   WEEK-END                       ",null,null,null,null,null,null,null,"                                   WEEK-END                       ",null,null,null,null,null,null,null,"                                   WEEK-END                       ",null,null,null,null,null,null,null,"                                   WEEK-END                       ",null,null,null,null,null,null,null,null,null,null,null,null,null,null,null,null,null,null,null,null,null,null,null,null,null,null,null,null,null,null,null,null,null,null,null,null,null,null,null,null,null,null,null,null,null,null,null,null,null,null,null,null,null,null,null,null,null,0,0,0,0,0,0,0,0,0,0,0,0,0,0,0,null,0,{"$f":"SUM($M237,$Q237)","v":0},{"$f":"SUM($U237,$Y237)","v":0},{"$f":"SUM(AC237,AG237)","v":0},0,0,0,{"$f":"SUM(BI237,BM237)","v":0},0,0,0,0,0,0,0]
[7,"2026-04-05","                                   WEEK-END                       ",null,null,null,null,null,null,null,"                                   WEEK-END                       ",null,null,null,null,null,null,null,"                                   WEEK-END                       ",null,null,null,null,null,null,null,"                                   WEEK-END                       ",null,null,null,null,null,null,null,"                                   WEEK-END                       ",null,null,null,null,null,null,null,"                                   WEEK-END                       ",null,null,null,null,null,null,null,"                                   WEEK-END                       ",null,null,null,null,null,null,null,"                                   WEEK-END                       ",null,null,null,null,null,null,null,"                                   WEEK-END                       ",null,null,null,null,null,null,null,null,null,null,null,null,null,null,null,null,null,null,null,null,null,null,null,null,null,null,null,null,null,null,null,null,null,null,null,null,null,null,null,null,null,null,null,null,null,null,null,null,null,null,null,null,null,null,null,null,null,0,0,0,0,0,0,0,0,0,0,0,0,0,0,0,null,0,{"$f":"SUM($M238,$Q238)","v":0},{"$f":"SUM($U238,$Y238)","v":0},{"$f":"SUM(AC238,AG238)","v":0},0,0,0,{"$f":"SUM(BI238,BM238)","v":0},0,0,0,0,0,0,0]
[1,"2026-04-06","Congé",null,null,null,null,null,null,null,"Congé",null,null,null,null,null,null,null,"Congé",null,null,null,null,null,null,null,"Congé",null,null,null,null,null,null,null,"Congé",null,null,null,null,null,null,null,"Congé",null,null,null,null,null,null,null,"Congé",null,null,null,null,null,null,null,"Congé",null,null,null,null,null,null,null,"Congé",null,null,null,null,null,null,null,null,null,null,null,null,null,null,null,null,null,null,null,null,null,null,null,null,null,null,null,null,null,null,null,null,null,null,null,null,null,null,null,null,null,null,null,null,null,null,null,null,null,null,null,null,null,null,null,null,null,0,0,0,0,0,0,0,0,0,0,0,0,0,0,0,null,0,{"$f":"SUM(#REF!,$M239)","v":{"$error":"#REF!"}},{"$f":"SUM(#REF!,$U239)","v":{"$error":"#REF!"}},{"$f":"SUM(#REF!,AC239)","v":{"$error":"#REF!"}},0,0,0,{"$f":"SUM(BI239,BM239)","v":0},0,0,0,0,0,0,0]
[2,"2026-04-07",null,null,null,null,null,null,null,null,null,null,null,null,null,null,null,null,null,null,null,null,null,null,null,null,34,"AC",6,null,null,null,null,null,19,"mp",6,null,null,null,null,null,11,"yc",6,"EX",null,null,null,null,9,"mc",6,null,null,null,null,null,4,"rg",6,"EX",null,null,null,null,null,null,null,null,null,null,null,null,null,null,null,null,null,null,null,null,null,null,null,null,null,null,null,null,null,null,null,null,null,null,null,null,null,null,null,null,null,null,null,null,null,null,null,null,null,null,null,null,null,null,null,null,null,null,null,null,null,null,0,1,0,0,1,1,1,0,0,0,0,0,0,0,0,null,0,{"$f":"SUM(#REF!,$M240)","v":{"$error":"#REF!"}},{"$f":"SUM(#REF!,$U240)","v":{"$error":"#REF!"}},{"$f":"SUM(#REF!,AC240)","v":{"$error":"#REF!"}},6,{"$f":"SUM(#REF!,#REF!)","v":{"$error":"#REF!"}},6,{"$f":"SUM(BI246,BM242)","v":6},0,0,0,0,0,0,0]
[3,"2026-04-08",null,null,null,null,null,null,null,null,null,null,null,null,null,null,null,null,null,null,null,null,null,null,null,null,34,"AC",6,null,null,null,null,null,19,"mp",6,null,null,null,null,null,16,"jr",6,null,null,null,null,null,9,"mc",6,null,null,null,null,null,4,"rg",6,"EX",33,"cg",3,"X3",null,null,null,null,null,null,null,null,null,null,null,null,null,null,null,null,null,null,null,null,null,null,null,null,null,null,null,null,null,null,null,null,null,null,null,null,null,null,null,null,null,null,null,null,null,null,null,null,null,null,null,null,null,null,null,null,null,null,0,1,1,1,0,1,1,0,0,0,0,0,0,0,0,null,0,{"$f":"SUM(#REF!,$M241)","v":{"$error":"#REF!"}},{"$f":"SUM(#REF!,$U241)","v":{"$error":"#REF!"}},{"$f":"SUM(#REF!,AC241)","v":{"$error":"#REF!"}},6,{"$f":"SUM(AS235,AW240)","v":6},6,{"$f":"SUM(BI248,BM248)","v":6},0,0,0,0,0,0,0]
[4,"2026-04-09",null,null,null,null,null,null,null,null,null,null,null,null,null,null,null,null,null,null,null,null,null,null,null,null,34,"AC",6,null,null,null,null,null,19,"mp",6,null,null,null,null,null,16,"jr",6,null,null,null,null,null,9,"mc",6,null,null,null,null,null,6,"rg",6,null,null,null,null,null,null,null,null,null,null,null,null,null,null,null,null,null,null,null,null,null,null,null,null,null,null,null,null,null,null,null,null,null,null,null,null,null,null,null,null,null,null,null,null,null,null,null,null,null,null,null,null,null,null,null,null,null,null,null,null,null,null,null,0,1,0,1,0,1,1,0,0,0,0,0,0,0,0,null,0,{"$f":"SUM($M242,$Q242)","v":0},{"$f":"SUM(#REF!,$U242)","v":{"$error":"#REF!"}},{"$f":"SUM(AC242,AG242)","v":6},6,{"$f":"SUM(AS240,#REF!)","v":{"$error":"#REF!"}},6,{"$f":"SUM(#REF!,BM246)","v":{"$error":"#REF!"}},0,0,0,0,0,0,0]
[5,"2026-04-10",null,null,null,null,null,null,null,null,null,null,null,null,null,null,null,null,null,null,null,null,null,null,null,null,34,"AC",6,null,null,null,null,null,19,"mp",6,null,null,null,null,null,16,"jr",6,null,null,null,null,null,9,"mc",6,null,null,null,null,null,6,"rg",6,null,null,null,null,null,null,null,null,null,null,null,null,null,null,null,null,null,null,null,null,null,null,null,null,null,null,null,null,null,null,null,null,null,null,null,null,null,null,null,null,null,null,null,null,null,null,null,null,null,null,null,null,null,null,null,null,null,null,null,null,null,null,null,0,1,0,1,0,1,1,0,0,0,0,0,0,0,0,null,0,{"$f":"SUM(#REF!,$M243)","v":{"$error":"#REF!"}},{"$f":"SUM(#REF!,$U243)","v":{"$error":"#REF!"}},{"$f":"SUM(#REF!,AC243)","v":{"$error":"#REF!"}},6,{"$f":"SUM(AS242,#REF!)","v":{"$error":"#REF!"}},6,{"$f":"SUM(BI270,BM270)","v":6},0,0,0,0,0,0,0]
[6,"2026-04-11","                                   WEEK-END                       ",null,null,null,null,null,null,null,"                                   WEEK-END                       ",null,null,null,null,null,null,null,"                                   WEEK-END                       ",null,null,null,null,null,null,null,"                                   WEEK-END                       ",null,null,null,null,null,null,null,"                                   WEEK-END                       ",null,null,null,null,null,null,null,"                                   WEEK-END                       ",null,null,null,null,null,null,null,"                                   WEEK-END                       ",null,null,null,null,null,null,null,"                                   WEEK-END                       ",null,null,null,null,null,null,null,"                                   WEEK-END                       ",null,null,null,null,null,null,null,null,null,null,null,null,null,null,null,null,null,null,null,null,null,null,null,null,null,null,null,null,null,null,null,null,null,null,null,null,null,null,null,null,null,null,null,null,null,null,null,null,null,null,null,null,null,null,null,null,null,0,0,0,0,0,0,0,0,0,0,0,0,0,0,0,null,0,{"$f":"SUM($M244,$Q244)","v":0},{"$f":"SUM($U244,$Y244)","v":0},{"$f":"SUM(AC244,AG244)","v":0},0,0,0,{"$f":"SUM(BI244,BM244)","v":0},0,0,0,0,0,0,0]
[7,"2026-04-12","                                   WEEK-END                       ",null,null,null,null,null,null,null,"                                   WEEK-END                       ",null,null,null,null,null,null,null,"                                   WEEK-END                       ",null,null,null,null,null,null,null,"                                   WEEK-END                       ",null,null,null,null,null,null,null,"                                   WEEK-END                       ",null,null,null,null,null,null,null,"                                   WEEK-END                       ",null,null,null,null,null,null,null,"                                   WEEK-END                       ",null,null,null,null,null,null,null,"                                   WEEK-END                       ",null,null,null,null,null,null,null,"                                   WEEK-END                       ",null,null,null,null,null,null,null,null,null,null,null,null,null,null,null,null,null,null,null,null,null,null,null,null,null,null,null,null,null,null,null,null,null,null,null,null,null,null,null,null,null,null,null,null,null,null,null,null,null,null,null,null,null,null,null,null,null,0,0,0,0,0,0,0,0,0,0,0,0,0,0,0,null,0,{"$f":"SUM($M245,$Q245)","v":0},{"$f":"SUM($U245,$Y245)","v":0},{"$f":"SUM(AC245,AG245)","v":0},0,0,0,{"$f":"SUM(BI245,BM245)","v":0},0,0,0,0,0,0,0]
[1,"2026-04-13",null,null,null,null,null,null,null,null,null,null,null,null,null,null,null,null,null,null,null,null,null,null,null,null,34,"AC",6,null,null,null,null,null,19,"mp",6,null,null,null,null,null,16,"jr",6,null,null,null,null,null,"Congé",null,null,null,null,null,null,null,6,"rg",6,"EX",null,null,null,null,null,null,null,null,null,null,null,null,null,null,null,null,null,null,null,null,null,null,null,null,null,null,null,null,null,null,null,null,null,null,null,null,null,null,null,null,null,null,null,null,null,null,null,null,null,null,null,null,null,null,null,null,null,null,null,null,null,null,0,1,0,1,0,0,1,0,0,0,0,0,0,0,0,null,0,{"$f":"SUM(#REF!,$M246)","v":{"$error":"#REF!"}},{"$f":"SUM(#REF!,$U246)","v":{"$error":"#REF!"}},{"$f":"SUM(#REF!,#REF!)","v":{"$error":"#REF!"}},{"$f":"SUM(#REF!,#REF!)","v":{"$error":"#REF!"}},{"$f":"SUM(#REF!,#REF!)","v":{"$error":"#REF!"}},0,{"$f":"SUM(#REF!,#REF!)","v":{"$error":"#REF!"}},0,0,0,0,0,0,0]
[2,"2026-04-14",null,null,null,null,null,null,null,null,null,null,null,null,null,null,null,null,null,null,null,null,null,null,null,null,21,"sb",6,null,null,null,null,null,19,"mp",6,null,null,null,null,null,90,"cg",6,"R11",null,null,null,null,9,"mc",6,null,null,null,null,null,5,null,6,"SO",null,null,null,null,null,null,null,null,null,null,null,null,null,null,null,null,null,null,null,null,null,null,null,null,null,null,null,null,null,null,null,null,null,null,null,null,null,null,null,null,null,null,null,null,null,null,null,null,null,null,null,null,null,null,null,null,null,null,null,null,null,null,1,1,1,0,0,1,0,0,0,0,0,0,0,0,0,null,0,{"$f":"SUM(#REF!,$M247)","v":{"$error":"#REF!"}},{"$f":"SUM(#REF!,$U247)","v":{"$error":"#REF!"}},{"$f":"SUM(#REF!,AC246)","v":{"$error":"#REF!"}},{"$f":"SUM(AK246,AO246)","v":6},{"$f":"SUM(#REF!,AW246)","v":{"$error":"#REF!"}},6,{"$f":"SUM(BI263,BM263)","v":6},0,0,0,0,0,0,0]
[3,"2026-04-15",null,null,null,null,null,null,null,null,null,null,null,null,null,null,null,null,null,null,null,null,null,null,null,null,21,"sb",6,null,null,null,null,null,19,"cg",6,null,null,null,null,null,16,"jr",6,null,null,null,null,null,9,"mc",6,null,null,null,null,null,5,null,6,"SO",null,null,null,null,null,null,null,null,null,null,null,null,null,null,null,null,null,null,null,null,null,null,null,null,null,null,null,null,null,null,null,null,null,null,null,null,null,null,null,null,null,null,null,null,null,null,null,null,null,null,null,null,null,null,null,null,null,null,null,null,null,null,1,0,1,1,0,1,0,0,0,0,0,0,0,0,0,null,0,{"$f":"SUM(#REF!,$M248)","v":{"$error":"#REF!"}},{"$f":"SUM(#REF!,$U248)","v":{"$error":"#REF!"}},{"$f":"SUM(#REF!,AC247)","v":{"$error":"#REF!"}},{"$f":"SUM(AK247,AO247)","v":6},{"$f":"SUM(AS247,AW247)","v":6},6,{"$f":"SUM(BI264,BM264)","v":6},0,0,0,0,0,0,0]
[4,"2026-04-16",null,null,null,null,null,null,null,null,null,null,null,null,null,null,null,null,null,null,null,null,null,null,null,null,21,"sb",6,null,null,null,null,null,19,"mp",6,null,null,null,null,null,16,"jr",6,null,null,null,null,null,9,"mc",6,null,null,null,null,null,5,null,6,"SO",null,null,null,null,null,null,null,null,null,null,null,null,null,null,null,null,null,null,null,null,null,null,null,null,null,null,null,null,null,null,null,null,null,null,null,null,null,null,null,null,null,null,null,null,null,null,null,null,null,null,null,null,null,null,null,null,null,null,null,null,null,null,1,1,0,1,0,1,0,0,0,0,0,0,0,0,0,null,0,{"$f":"SUM(#REF!,$M249)","v":{"$error":"#REF!"}},{"$f":"SUM(#REF!,$U249)","v":{"$error":"#REF!"}},{"$f":"SUM(#REF!,AC248)","v":{"$error":"#REF!"}},{"$f":"SUM(AK248,AO248)","v":6},{"$f":"SUM(AS248,AW248)","v":6},6,{"$f":"SUM(BI255,BM255)","v":6},0,0,0,0,0,0,0]
[5,"2026-04-17",null,null,null,null,null,null,null,null,null,null,null,null,null,null,null,null,null,null,null,null,null,null,null,null,21,"sb",3,null,24,"cg",3,"ST",19,"mp",6,null,null,null,null,null,"Congé",null,null,null,null,null,null,null,9,"mc",6,null,null,null,null,null,5,null,6,"SO",null,null,null,null,null,null,null,null,null,null,null,null,null,null,null,null,null,null,null,null,null,null,null,null,null,null,null,null,null,null,null,null,null,null,null,null,null,null,null,null,null,null,null,null,null,null,null,null,null,null,null,null,null,null,null,null,null,null,null,null,null,null,1,1,1,0,0,1,0,0,0,0,0,0,0,0,0,null,0,{"$f":"SUM(#REF!,$M250)","v":{"$error":"#REF!"}},{"$f":"SUM(#REF!,$U250)","v":{"$error":"#REF!"}},{"$f":"SUM(#REF!,AC250)","v":{"$error":"#REF!"}},6,0,6,{"$f":"SUM(BI274,BM274)","v":6},0,0,0,0,0,0,0]
[6,"2026-04-18","                                   WEEK-END                       ",null,null,null,null,null,null,null,"                                   WEEK-END                       ",null,null,null,null,null,null,null,"                                   WEEK-END                       ",null,null,null,null,null,null,null,"                                   WEEK-END                       ",null,null,null,null,null,null,null,"                                   WEEK-END                       ",null,null,null,null,null,null,null,"                                   WEEK-END                       ",null,null,null,null,null,null,null,"                                   WEEK-END                       ",null,null,null,null,null,null,null,"                                   WEEK-END                       ",null,null,null,null,null,null,null,"                                   WEEK-END                       ",null,null,null,null,null,null,null,null,null,null,null,null,null,null,null,null,null,null,null,null,null,null,null,null,null,null,null,null,null,null,null,null,null,null,null,null,null,null,null,null,null,null,null,null,null,null,null,null,null,null,null,null,null,null,null,null,null,0,0,0,0,0,0,0,0,0,0,0,0,0,0,0,null,0,{"$f":"SUM($M251,$Q251)","v":0},{"$f":"SUM($U251,$Y251)","v":0},{"$f":"SUM(AC251,AG251)","v":0},0,{"$f":"SUM(#REF!,AW251)","v":{"$error":"#REF!"}},0,{"$f":"SUM(BI251,BM251)","v":0},0,0,0,0,0,0,0]
[7,"2026-04-19","                                   WEEK-END                       ",null,null,null,null,null,null,null,"                                   WEEK-END                       ",null,null,null,null,null,null,null,"                                   WEEK-END                       ",null,null,null,null,null,null,null,"                                   WEEK-END                       ",null,null,null,null,null,null,null,"                                   WEEK-END                       ",null,null,null,null,null,null,null,"                                   WEEK-END                       ",null,null,null,null,null,null,null,"                                   WEEK-END                       ",null,null,null,null,null,null,null,"                                   WEEK-END                       ",null,null,null,null,null,null,null,"                                   WEEK-END                       ",null,null,null,null,null,null,null,null,null,null,null,null,null,null,null,null,null,null,null,null,null,null,null,null,null,null,null,null,null,null,null,null,null,null,null,null,null,null,null,null,null,null,null,null,null,null,null,null,null,null,null,null,null,null,null,null,null,0,0,0,0,0,0,0,0,0,0,0,0,0,0,0,null,0,{"$f":"SUM($M252,$Q252)","v":0},{"$f":"SUM($U252,$Y252)","v":0},{"$f":"SUM(AC252,AG252)","v":0},0,{"$f":"SUM(AS267,AW252)","v":6},0,{"$f":"SUM(BI252,BM252)","v":0},0,0,0,0,0,0,0]
[1,"2026-04-20",null,null,null,null,null,null,null,null,null,null,null,null,null,null,null,null,null,null,null,null,null,null,null,null,90,"yc",6,"R20",null,null,null,null,19,"mp",6,null,null,null,null,null,16,"jr",6,null,null,null,null,null,"Congé",null,null,null,null,null,null,null,5,null,6,"SO",null,null,null,null,null,null,null,null,null,null,null,null,null,null,null,null,null,null,null,null,null,null,null,null,null,null,null,null,null,null,null,null,null,null,null,null,null,null,null,null,null,null,null,null,null,null,null,null,null,null,null,null,null,null,null,null,null,null,null,null,null,null,0,1,0,1,1,0,0,0,0,0,0,0,0,0,0,null,0,{"$f":"SUM(#REF!,$M253)","v":{"$error":"#REF!"}},{"$f":"SUM(#REF!,$U253)","v":{"$error":"#REF!"}},{"$f":"SUM(#REF!,AC253)","v":{"$error":"#REF!"}},6,{"$f":"SUM(#REF!,AW235)","v":{"$error":"#REF!"}},{"$f":"SUM(BA228,BE228)","v":6},{"$f":"SUM(BI275,BM269)","v":6},0,0,0,0,0,0,0]
[2,"2026-04-21",null,null,null,null,null,null,null,null,null,null,null,null,null,null,null,null,null,null,null,null,null,null,null,null,21,"sb",6,null,null,null,null,null,19,"mp",6,null,null,null,null,null,16,"jr",6,"EX",null,null,null,null,9,"mc",6,null,null,null,null,null,5,null,6,"SO",null,null,null,null,null,null,null,null,null,null,null,null,null,null,null,null,null,null,null,null,null,null,null,null,null,null,null,null,null,null,null,null,null,null,null,null,null,null,null,null,null,null,null,null,null,null,null,null,null,null,null,null,null,null,null,null,null,null,null,null,null,null,1,1,0,1,0,1,0,0,0,0,0,0,0,0,0,null,0,{"$f":"SUM(#REF!,$M254)","v":{"$error":"#REF!"}},{"$f":"SUM(#REF!,$U254)","v":{"$error":"#REF!"}},{"$f":"SUM(#REF!,AC254)","v":{"$error":"#REF!"}},6,{"$f":"SUM(#REF!,#REF!)","v":{"$error":"#REF!"}},{"$f":"SUM(BA227,BE253)","v":6},{"$f":"SUM(BI243,BM243)","v":6},0,0,0,0,0,0,0]
[3,"2026-04-22",null,null,null,null,null,null,null,null,null,null,null,null,null,null,null,null,null,null,null,null,null,null,null,null,21,"sb",6,null,null,null,null,null,19,"mp",6,null,null,null,null,null,16,"jr",6,"EX",33,"cg",3,"X11",9,"mc",6,null,null,null,null,null,5,null,6,"SO",null,null,null,null,null,null,null,null,null,null,null,null,null,null,null,null,null,null,null,null,null,null,null,null,null,null,null,null,null,null,null,null,null,null,null,null,null,null,null,null,null,null,null,null,null,null,null,null,null,null,null,null,null,null,null,null,null,null,null,null,null,null,1,1,1,1,0,1,0,0,0,0,0,0,0,0,0,null,0,{"$f":"SUM(#REF!,$M255)","v":{"$error":"#REF!"}},{"$f":"SUM(#REF!,$U255)","v":{"$error":"#REF!"}},{"$f":"SUM(#REF!,AC255)","v":{"$error":"#REF!"}},{"$f":"SUM(AK255,AO255)","v":6},{"$f":"SUM(BA254,#REF!)","v":{"$error":"#REF!"}},{"$f":"SUM(BA254,BE254)","v":6},{"$f":"SUM(BI277,BM277)","v":9},0,0,0,0,0,0,0]
[4,"2026-04-23",null,null,null,null,null,null,null,null,null,null,null,null,null,null,null,null,null,null,null,null,null,null,null,null,21,"sb",6,null,null,null,null,null,19,"mp",6,null,null,null,null,null,18,"yc",6,null,null,null,null,null,90,"cg",6,"R7",null,null,null,null,5,null,6,"SO",null,null,null,null,null,null,null,null,null,null,null,null,null,null,null,null,null,null,null,null,null,null,null,null,null,null,null,null,null,null,null,null,null,null,null,null,null,null,null,null,null,null,null,null,null,null,null,null,null,null,null,null,null,null,null,null,null,null,null,null,null,null,1,1,1,0,1,0,0,0,0,0,0,0,0,0,0,null,0,{"$f":"SUM(#REF!,$M256)","v":{"$error":"#REF!"}},{"$f":"SUM(#REF!,$U256)","v":{"$error":"#REF!"}},{"$f":"SUM(#REF!,AC256)","v":{"$error":"#REF!"}},6,{"$f":"SUM(BA253,AW267)","v":0},{"$f":"SUM(BA253,BE269)","v":0},{"$f":"SUM(BI262,BM262)","v":6},0,0,0,0,0,0,0]
[5,"2026-04-24",null,null,null,null,null,null,null,null,null,null,null,null,null,null,null,null,null,null,null,null,null,null,null,null,21,"sb",6,null,null,null,null,null,90,"yc",6,"R22",null,null,null,null,"Congé",null,null,null,null,null,null,null,9,"mc",6,"EX",33,"jr",3,"X7",5,null,6,"SO",null,null,null,null,null,null,null,null,null,null,null,null,null,null,null,null,null,null,null,null,null,null,null,null,null,null,null,null,null,null,null,null,null,null,null,null,null,null,null,null,null,null,null,null,null,null,null,null,null,null,null,null,null,null,null,null,null,null,null,null,null,null,1,0,0,1,1,1,0,0,0,0,0,0,0,0,0,null,0,{"$f":"SUM(#REF!,$M257)","v":{"$error":"#REF!"}},{"$f":"SUM(#REF!,$U257)","v":{"$error":"#REF!"}},{"$f":"SUM(#REF!,AC257)","v":{"$error":"#REF!"}},6,{"$f":"SUM(AS268,AW268)","v":6},{"$f":"SUM(BA255,BE255)","v":6},{"$f":"SUM(#REF!,#REF!)","v":{"$error":"#REF!"}},0,0,0,0,0,0,0]
[6,"2026-04-25","                                   WEEK-END                       ",null,null,null,null,null,null,null,"                                   WEEK-END                       ",null,null,null,null,null,null,null,"                                   WEEK-END                       ",null,null,null,null,null,null,null,"                                   WEEK-END                       ",null,null,null,null,null,null,null,"                                   WEEK-END                       ",null,null,null,null,null,null,null,"                                   WEEK-END                       ",null,null,null,null,null,null,null,"                                   WEEK-END                       ",null,null,null,null,null,null,null,"                                   WEEK-END                       ",null,null,null,null,null,null,null,"                                   WEEK-END                       ",null,null,null,null,null,null,null,null,null,null,null,null,null,null,null,null,null,null,null,null,null,null,null,null,null,null,null,null,null,null,null,null,null,null,null,null,null,null,null,null,null,null,null,null,null,null,null,null,null,null,null,null,null,null,null,null,null,0,0,0,0,0,0,0,0,0,0,0,0,0,0,0,null,0,{"$f":"SUM($M258,$Q258)","v":0},{"$f":"SUM($U258,$Y258)","v":0},{"$f":"SUM(AC258,AG258)","v":0},0,0,0,{"$f":"SUM(BI258,BM258)","v":0},0,0,0,0,0,0,0]
[7,"2026-04-26","                                   WEEK-END                       ",null,null,null,null,null,null,null,"                                   WEEK-END                       ",null,null,null,null,null,null,null,"                                   WEEK-END                       ",null,null,null,null,null,null,null,"                                   WEEK-END                       ",null,null,null,null,null,null,null,"                                   WEEK-END                       ",null,null,null,null,null,null,null,"                                   WEEK-END                       ",null,null,null,null,null,null,null,"                                   WEEK-END                       ",null,null,null,null,null,null,null,"                                   WEEK-END                       ",null,null,null,null,null,null,null,"                                   WEEK-END                       ",null,null,null,null,null,null,null,null,null,null,null,null,null,null,null,null,null,null,null,null,null,null,null,null,null,null,null,null,null,null,null,null,null,null,null,null,null,null,null,null,null,null,null,null,null,null,null,null,null,null,null,null,null,null,null,null,null,0,0,0,0,0,0,0,0,0,0,0,0,0,0,0,null,0,{"$f":"SUM($M259,$Q259)","v":0},{"$f":"SUM($U259,$Y259)","v":0},{"$f":"SUM(AC259,AG259)","v":0},0,0,0,{"$f":"SUM(BI259,BM259)","v":0},0,0,0,0,0,0,0]
[1,"2026-04-27",null,null,null,null,null,null,null,null,null,null,null,null,null,null,null,null,null,null,null,null,null,null,null,null,21,"sb",6,"EX",33,"jr",3,"X20",19,"mp",6,null,null,null,null,null,18,"yc",6,null,null,null,null,null,9,"mc",6,"EX",null,null,null,null,5,null,6,"SO",null,null,null,null,null,null,null,null,null,null,null,null,null,null,null,null,null,null,null,null,null,null,null,null,null,null,null,null,null,null,null,null,null,null,null,null,null,null,null,null,null,null,null,null,null,null,null,null,null,null,null,null,null,null,null,null,null,null,null,null,null,null,1,1,0,1,1,1,0,0,0,0,0,0,0,0,0,null,0,{"$f":"SUM($M260,$Q260)","v":0},{"$f":"SUM($U260,$Y260)","v":0},{"$f":"SUM(#REF!,AC260)","v":{"$error":"#REF!"}},6,{"$f":"SUM(AS254,AW260)","v":6},6,{"$f":"SUM(#REF!,#REF!)","v":{"$error":"#REF!"}},0,0,0,0,0,0,0]
[2,"2026-04-28",null,null,null,null,null,null,null,null,null,null,null,null,null,null,null,null,null,null,null,null,null,null,null,null,21,"sb",6,"EX",null,null,null,null,19,"mp",6,null,null,null,null,null,18,"yc",6,null,null,null,null,null,"Congé",null,null,null,null,null,null,null,5,null,6,"SO",null,null,null,null,null,null,null,null,null,null,null,null,null,null,null,null,null,null,null,null,null,null,null,null,null,null,null,null,null,null,null,null,null,null,null,null,null,null,null,null,null,null,null,null,null,null,null,null,null,null,null,null,null,null,null,null,null,null,null,null,null,null,1,1,0,0,1,0,0,0,0,0,0,0,0,0,0,null,0,{"$f":"SUM($M261,$Q261)","v":0},{"$f":"SUM(#REF!,$U261)","v":{"$error":"#REF!"}},{"$f":"SUM(#REF!,AC261)","v":{"$error":"#REF!"}},6,{"$f":"SUM(AS255,AW255)","v":9},{"$f":"SUM(BA257,BE257)","v":9},{"$f":"SUM(#REF!,BM288)","v":{"$error":"#REF!"}},0,0,0,0,0,0,0]
[3,"2026-04-29",null,null,null,null,null,null,null,null,null,null,null,null,null,null,null,null,null,null,null,null,null,null,null,null,23,"mc",6,null,null,null,null,null,19,"mp",6,"EX",33,"rg",3,"X22",18,"yc",6,null,null,null,null,null,10,"jr",6,null,null,null,null,null,5,null,6,"SO",null,null,null,null,null,null,null,null,null,null,null,null,null,null,null,null,null,null,null,null,null,null,null,null,null,null,null,null,null,null,null,null,null,null,null,null,null,null,null,null,null,null,null,null,null,null,null,null,null,null,null,null,null,null,null,null,null,null,null,null,null,null,0,1,0,1,1,1,1,0,0,0,0,0,0,0,0,null,0,{"$f":"SUM(#REF!,$M262)","v":{"$error":"#REF!"}},{"$f":"SUM(#REF!,$U262)","v":{"$error":"#REF!"}},{"$f":"SUM(#REF!,AC262)","v":{"$error":"#REF!"}},9,{"$f":"SUM(AS256,AW256)","v":6},{"$f":"SUM(BA261,BE262)","v":0},{"$f":"SUM(BI289,BM289)","v":6},0,0,0,0,0,0,0]
[4,"2026-04-30",null,null,null,null,null,null,null,null,null,null,null,null,null,null,null,null,null,null,null,null,null,null,null,null,23,"mc",6,null,null,null,null,null,19,"mp",6,"EX",null,null,null,null,18,"yc",6,null,null,null,null,null,10,"jr",6,null,null,null,null,null,7,"rg",6,null,null,null,null,null,null,null,null,null,null,null,null,null,null,null,null,null,null,null,null,null,null,null,null,null,null,null,null,null,null,null,null,null,null,null,null,null,null,null,null,null,null,null,null,null,null,null,null,null,null,null,null,null,null,null,null,null,null,null,null,null,null,null,0,1,0,1,1,1,1,0,0,0,0,0,0,0,0,null,0,{"$f":"SUM(#REF!,$M263)","v":{"$error":"#REF!"}},{"$f":"SUM(#REF!,$U263)","v":{"$error":"#REF!"}},{"$f":"SUM(#REF!,AC263)","v":{"$error":"#REF!"}},6,6,6,{"$f":"SUM(BI291,BM291)","v":6},0,0,0,0,0,0,0]
[5,"2026-05-01",null,null,null,null,null,null,null,null,null,null,null,null,null,null,null,null,null,null,null,null,null,null,null,null,23,"mc",6,null,null,null,null,null,20,"sb",6,null,null,null,null,null,"Congé",null,null,null,null,null,null,null,10,"jr",6,null,null,null,null,null,7,"rg",6,null,null,null,null,null,null,null,null,null,null,null,null,null,null,null,null,null,null,null,null,null,null,null,null,null,null,null,null,null,null,null,null,null,null,null,null,null,null,null,null,null,null,null,null,null,null,null,null,null,null,null,null,null,null,null,null,null,null,null,null,null,null,null,1,0,0,1,0,1,1,0,0,0,0,0,0,0,0,null,0,{"$f":"SUM(#REF!,$M264)","v":{"$error":"#REF!"}},{"$f":"SUM(#REF!,$U264)","v":{"$error":"#REF!"}},{"$f":"SUM(#REF!,AC264)","v":{"$error":"#REF!"}},6,0,6,{"$f":"SUM(#REF!,#REF!)","v":{"$error":"#REF!"}},0,0,0,0,0,0,0]
[6,"2026-05-02","                                   WEEK-END                       ",null,null,null,null,null,null,null,"                                   WEEK-END                       ",null,null,null,null,null,null,null,"                                   WEEK-END                       ",null,null,null,null,null,null,null,"                                   WEEK-END                       ",null,null,null,null,null,null,null,"                                   WEEK-END                       ",null,null,null,null,null,null,null,"                                   WEEK-END                       ",null,null,null,null,null,null,null,"                                   WEEK-END                       ",null,null,null,null,null,null,null,"                                   WEEK-END                       ",null,null,null,null,null,null,null,"                                   WEEK-END                       ",null,null,null,null,null,null,null,null,null,null,null,null,null,null,null,null,null,null,null,null,null,null,null,null,null,null,null,null,null,null,null,null,null,null,null,null,null,null,null,null,null,null,null,null,null,null,null,null,null,null,null,null,null,null,null,null,null,{"$f":"COUNTIF($C265:$DR265,$A$459)","v":0},{"$f":"COUNTIF($C265:$DR265,$A$460)","v":0},{"$f":"COUNTIF($C265:$DR265,$A$461)","v":0},{"$f":"COUNTIF($C265:$DR265,$A$462)","v":0},{"$f":"COUNTIF($C265:$DR265,$A$463)","v":0},{"$f":"COUNTIF($C265:$DR265,$A$464)","v":0},{"$f":"COUNTIF($C265:$DR265,$A$465)","v":0},{"$f":"COUNTIF($C265:$DR265,$A$466)","v":0},{"$f":"COUNTIF($C265:$DR265,$A$467)","v":0},{"$f":"COUNTIF($C265:$DR265,$A$468)","v":0},{"$f":"COUNTIF($C265:$DR265,$A$469)","v":0},{"$f":"COUNTIF($C265:$DR265,$A$470)","v":0},{"$f":"COUNTIF($C265:$DR265,$A$471)","v":0},{"$f":"COUNTIF($C265:$DR265,$A$472)","v":0},{"$f":"COUNTIF($C265:$DR265,$A$473)","v":0},null,{"$f":"SUM($E265,$I265)","v":0},{"$f":"SUM($M265,$Q265)","v":0},{"$f":"SUM($U265,$Y265)","v":0},{"$f":"SUM(AC265,AG265)","v":0},0,0,0,{"$f":"SUM(BI265,BM265)","v":0},0,0,0,0,0,0,0]
[{"$f":"WEEKDAY(B266,2)","v":7},"2026-05-03","                                   WEEK-END                       ",null,null,null,null,null,null,null,"                                   WEEK-END                       ",null,null,null,null,null,null,null,"                                   WEEK-END                       ",null,null,null,null,null,null,null,"                                   WEEK-END                       ",null,null,null,null,null,null,null,"                                   WEEK-END                       ",null,null,null,null,null,null,null,"                                   WEEK-END                       ",null,null,null,null,null,null,null,"                                   WEEK-END                       ",null,null,null,null,null,null,null,"                                   WEEK-END                       ",null,null,null,null,null,null,null,"                                   WEEK-END                       ",null,null,null,null,null,null,null,null,null,null,null,null,null,null,null,null,null,null,null,null,null,null,null,null,null,null,null,null,null,null,null,null,null,null,null,null,null,null,null,null,null,null,null,null,null,null,null,null,null,null,null,null,null,null,null,null,null,0,0,0,0,0,0,0,0,0,0,0,0,0,0,0,null,0,0,{"$f":"SUM($U266,$Y266)","v":0},{"$f":"SUM(AC266,AG266)","v":0},{"$f":"SUM(AK266,AO266)","v":0},{"$f":"SUM(AS266,AW266)","v":0},{"$f":"SUM(BA266,BE266)","v":0},{"$f":"SUM(BI266,BM266)","v":0},{"$f":"SUM(BQ266,BU266)","v":0},{"$f":"SUM(BY266,CC266)","v":0},{"$f":"SUM(CG266,CK266)","v":0},{"$f":"SUM(CO266,CS266)","v":0},{"$f":"SUM(CW266,DA266)","v":0},{"$f":"SUM(DE266,DI266)","v":0},{"$f":"SUM(DM266,DQ266)","v":0}]
[1,{"$f":"B266+1","v":"2026-05-04"},null,null,null,null,null,null,null,null,null,null,null,null,null,null,null,null,null,null,null,null,null,null,null,null,23,"mc",6,null,null,null,null,null,20,"sb",6,null,null,null,null,null,18,"yc",6,null,null,null,null,null,10,"jr",6,null,null,null,null,null,7,"rg",6,null,null,null,null,null,null,null,null,null,null,null,null,null,null,null,null,null,null,null,null,null,null,null,null,null,null,null,null,null,null,null,null,null,null,null,null,null,null,null,null,null,null,null,null,null,null,null,null,null,null,null,null,null,null,null,null,null,null,null,null,null,null,null,1,0,0,1,1,1,1,0,0,0,0,0,0,0,0,null,0,{"$f":"SUM(#REF!,$M267)","v":{"$error":"#REF!"}},{"$f":"SUM(#REF!,$U267)","v":{"$error":"#REF!"}},{"$f":"SUM(#REF!,#REF!)","v":{"$error":"#REF!"}},{"$f":"SUM(#REF!,#REF!)","v":{"$error":"#REF!"}},{"$f":"SUM(#REF!,#REF!)","v":{"$error":"#REF!"}},{"$f":"SUM(#REF!,#REF!)","v":{"$error":"#REF!"}},{"$f":"SUM(BI296,BM296)","v":6},0,0,0,0,0,0,0]
[2,"2026-05-05",null,null,null,null,null,null,null,null,null,null,null,null,null,null,null,null,null,null,null,null,null,null,null,null,23,"mc",6,null,null,null,null,null,20,"sb",6,null,null,null,null,null,18,"yc",6,null,null,null,null,null,10,"jr",6,null,null,null,null,null,7,"rg",6,null,null,null,null,null,null,null,null,null,null,null,null,null,null,null,null,null,null,null,null,null,null,null,null,null,null,null,null,null,null,null,null,null,null,null,null,null,null,null,null,null,null,null,null,null,null,null,null,null,null,null,null,null,null,null,null,null,null,null,null,null,null,null,1,0,0,1,1,1,1,0,0,0,0,0,0,0,0,null,0,{"$f":"SUM(#REF!,$M268)","v":{"$error":"#REF!"}},{"$f":"SUM(#REF!,$U268)","v":{"$error":"#REF!"}},{"$f":"SUM(#REF!,AC267)","v":{"$error":"#REF!"}},{"$f":"SUM(AK267,AO267)","v":6},{"$f":"SUM(AS257,AW257)","v":0},{"$f":"SUM(BA267,BE267)","v":6},{"$f":"SUM(BI282,BM282)","v":6},0,0,0,0,0,0,0]
[3,"2026-05-06",null,null,null,null,null,null,null,null,null,null,null,null,null,null,null,null,null,null,null,null,null,null,null,null,23,"mc",6,null,null,null,null,null,20,"sb",6,null,null,null,null,null,18,"yc",6,null,null,null,null,null,10,"jr",6,null,null,null,null,null,7,"rg",6,null,null,null,null,null,null,null,null,null,null,null,null,null,null,null,null,null,null,null,null,null,null,null,null,null,null,null,null,null,null,null,null,null,null,null,null,null,null,null,null,null,null,null,null,null,null,null,null,null,null,null,null,null,null,null,null,null,null,null,null,null,null,null,1,0,0,1,1,1,1,0,0,0,0,0,0,0,0,null,0,0,{"$f":"SUM(#REF!,$U269)","v":{"$error":"#REF!"}},{"$f":"SUM(#REF!,AC268)","v":{"$error":"#REF!"}},{"$f":"SUM(AK268,AO268)","v":6},{"$f":"SUM(AS270,AW270)","v":6},{"$f":"SUM(#REF!,BE268)","v":{"$error":"#REF!"}},{"$f":"SUM(BI276,BM276)","v":0},0,0,0,0,0,0,0]
[4,"2026-05-07",null,null,null,null,null,null,null,null,null,null,null,null,null,null,null,null,null,null,null,null,null,null,null,null,90,"mp",6,"R21",null,null,null,null,20,"sb",6,null,null,null,null,null,18,"yc",6,null,null,null,null,null,10,"jr",6,null,null,null,null,null,7,"rg",6,null,null,null,null,null,null,null,null,null,null,null,null,null,null,null,null,null,null,null,null,null,null,null,null,null,null,null,null,null,null,null,null,null,null,null,null,null,null,null,null,null,null,null,null,null,null,null,null,null,null,null,null,null,null,null,null,null,null,null,null,null,null,null,1,1,0,1,1,0,1,0,0,0,0,0,0,0,0,null,0,{"$f":"SUM(#REF!,$M270)","v":{"$error":"#REF!"}},{"$f":"SUM(#REF!,$U270)","v":{"$error":"#REF!"}},{"$f":"SUM(#REF!,AC269)","v":{"$error":"#REF!"}},{"$f":"SUM(AK269,AO269)","v":6},{"$f":"SUM(AS269,AW269)","v":6},{"$f":"SUM(#REF!,BE256)","v":{"$error":"#REF!"}},{"$f":"SUM(BI283,BM283)","v":6},0,0,0,0,0,0,0]
[5,"2026-05-08","     Pédagogique Commune",null,null,null,null,null,null,null,"     Pédagogique Commune",null,null,null,null,null,null,null,"     Pédagogique Commune",null,null,null,null,null,null,null,"     Pédagogique Commune",null,null,null,null,null,null,null,"     Pédagogique Commune",null,null,null,null,null,null,null,"     Pédagogique Commune",null,null,null,null,null,null,null,"     Pédagogique Commune",null,null,null,null,null,null,null,"     Pédagogique Commune",null,null,null,null,null,null,null,"     Pédagogique Commune",null,null,null,null,null,null,null,null,null,null,null,null,null,null,null,null,null,null,null,null,null,null,null,null,null,null,null,null,null,null,null,null,null,null,null,null,null,null,null,null,null,null,null,null,null,null,null,null,null,null,null,null,null,null,null,null,null,0,0,0,0,0,0,0,0,0,0,0,0,0,0,0,null,0,{"$f":"SUM(#REF!,$M271)","v":{"$error":"#REF!"}},{"$f":"SUM(#REF!,$U271)","v":{"$error":"#REF!"}},{"$f":"SUM(AC270,AG270)","v":6},{"$f":"SUM(AK270,AO270)","v":6},{"$f":"SUM(AS283,AW283)","v":6},{"$f":"SUM(BA268,#REF!)","v":{"$error":"#REF!"}},{"$f":"SUM(BI284,BM284)","v":6},0,0,0,0,0,0,0]
[6,"2026-05-09","                                   WEEK-END                       ",null,null,null,null,null,null,null,"                                   WEEK-END                       ",null,null,null,null,null,null,null,"                                   WEEK-END                       ",null,null,null,null,null,null,null,"                                   WEEK-END                       ",null,null,null,null,null,null,null,"                                   WEEK-END                       ",null,null,null,null,null,null,null,"                                   WEEK-END                       ",null,null,null,null,null,null,null,"                                   WEEK-END                       ",null,null,null,null,null,null,null,"                                   WEEK-END                       ",null,null,null,null,null,null,null,"                                   WEEK-END                       ",null,null,null,null,null,null,null,null,null,null,null,null,null,null,null,null,null,null,null,null,null,null,null,null,null,null,null,null,null,null,null,null,null,null,null,null,null,null,null,null,null,null,null,null,null,null,null,null,null,null,null,null,null,null,null,null,null,0,0,0,0,0,0,0,0,0,0,0,0,0,0,0,null,0,0,{"$f":"SUM($U272,$Y272)","v":0},{"$f":"SUM(AC272,AG272)","v":0},0,0,0,0,0,0,0,0,0,0,0]
[7,"2026-05-10","                                   WEEK-END                       ",null,null,null,null,null,null,null,"                                   WEEK-END                       ",null,null,null,null,null,null,null,"                                   WEEK-END                       ",null,null,null,null,null,null,null,"                                   WEEK-END                       ",null,null,null,null,null,null,null,"                                   WEEK-END                       ",null,null,null,null,null,null,null,"                                   WEEK-END                       ",null,null,null,null,null,null,null,"                                   WEEK-END                       ",null,null,null,null,null,null,null,"                                   WEEK-END                       ",null,null,null,null,null,null,null,"                                   WEEK-END                       ",null,null,null,null,null,null,null,null,null,null,null,null,null,null,null,null,null,null,null,null,null,null,null,null,null,null,null,null,null,null,null,null,null,null,null,null,null,null,null,null,null,null,null,null,null,null,null,null,null,null,null,null,null,null,null,null,null,0,0,0,0,0,0,0,0,0,0,0,0,0,0,0,null,0,0,{"$f":"SUM($U273,$Y273)","v":0},{"$f":"SUM(AC273,AG273)","v":0},0,0,0,0,0,0,0,0,0,0,0]
[1,"2026-05-11",null,null,null,null,null,null,null,null,null,null,null,null,null,null,null,null,null,null,null,null,null,null,null,null,23,"mc",6,null,null,null,null,null,20,"sb",6,null,null,null,null,null,18,"yc",6,null,null,null,null,null,"Congé",null,null,null,null,null,null,null,7,"rg",6,null,null,null,null,null,null,null,null,null,null,null,null,null,null,null,null,null,null,null,null,null,null,null,null,null,null,null,null,null,null,null,null,null,null,null,null,null,null,null,null,null,null,null,null,null,null,null,null,null,null,null,null,null,null,null,null,null,null,null,null,null,null,null,1,0,0,0,1,1,1,0,0,0,0,0,0,0,0,null,0,{"$f":"SUM(#REF!,$M274)","v":{"$error":"#REF!"}},{"$f":"SUM(#REF!,$U274)","v":{"$error":"#REF!"}},{"$f":"SUM(#REF!,AC274)","v":{"$error":"#REF!"}},{"$f":"SUM(AK274,AO274)","v":6},{"$f":"SUM(#REF!,AW282)","v":{"$error":"#REF!"}},{"$f":"SUM(BA269,#REF!)","v":{"$error":"#REF!"}},{"$f":"SUM(BI285,BM285)","v":6},0,0,0,0,0,0,0]
[2,"2026-05-12",null,null,null,null,null,null,null,null,null,null,null,null,null,null,null,null,null,null,null,null,null,null,null,null,23,"mc",6,"EX",33,"mp",3,"X21",20,"sb",6,null,null,null,null,null,18,"yc",6,null,null,null,null,null,10,"jr",6,null,null,null,null,null,90,"cg",6,"R4",null,null,null,null,null,null,null,null,null,null,null,null,null,null,null,null,null,null,null,null,null,null,null,null,null,null,null,null,null,null,null,null,null,null,null,null,null,null,null,null,null,null,null,null,null,null,null,null,null,null,null,null,null,null,null,null,null,null,null,null,null,null,1,1,1,1,1,1,0,0,0,0,0,0,0,0,0,null,0,{"$f":"SUM(#REF!,$M275)","v":{"$error":"#REF!"}},{"$f":"SUM(#REF!,$U275)","v":{"$error":"#REF!"}},{"$f":"SUM(#REF!,AC275)","v":{"$error":"#REF!"}},{"$f":"SUM(AK275,AO275)","v":6},6,{"$f":"SUM(BA274,BE274)","v":0},{"$f":"SUM(BI297,BM295)","v":6},0,0,0,0,0,0,0]
[3,"2026-05-13",null,null,null,null,null,null,null,null,null,null,null,null,null,null,null,null,null,null,null,null,null,null,null,null,23,"mc",6,"EX",null,null,null,null,20,"sb",6,null,null,null,null,null,90,"cg",6,"R16",null,null,null,null,10,"jr",6,null,null,null,null,null,"Congé",null,null,null,null,null,null,null,null,null,null,null,null,null,null,null,null,null,null,null,null,null,null,null,null,null,null,null,null,null,null,null,null,null,null,null,null,null,null,null,null,null,null,null,null,null,null,null,null,null,null,null,null,null,null,null,null,null,null,null,null,null,null,null,null,null,1,0,1,1,0,1,0,0,0,0,0,0,0,0,0,null,0,{"$f":"SUM(#REF!,$M276)","v":{"$error":"#REF!"}},{"$f":"SUM(#REF!,$U276)","v":{"$error":"#REF!"}},{"$f":"SUM(#REF!,AC276)","v":{"$error":"#REF!"}},6,6,{"$f":"SUM(BA270,BE270)","v":6},{"$f":"SUM(BI298,BM297)","v":6},0,0,0,0,0,0,0]
[4,"2026-05-14",null,null,null,null,null,null,null,null,null,null,null,null,null,null,null,null,null,null,null,null,null,null,null,null,95,null,6,null,null,null,null,null,20,"sb",6,null,null,null,null,null,18,"yc",6,"EX",33,"cg",3,"X16",10,"jr",6,null,null,null,null,null,7,"rg",6,"EX",33,"cg",3,"X4",null,null,null,null,null,null,null,null,null,null,null,null,null,null,null,null,null,null,null,null,null,null,null,null,null,null,null,null,null,null,null,null,null,null,null,null,null,null,null,null,null,null,null,null,null,null,null,null,null,null,null,null,null,null,null,null,null,null,1,0,2,1,1,0,1,0,0,0,0,0,0,0,0,null,0,{"$f":"SUM(#REF!,$M277)","v":{"$error":"#REF!"}},{"$f":"SUM(#REF!,$U277)","v":{"$error":"#REF!"}},{"$f":"SUM(AC277,AG277)","v":6},6,{"$f":"SUM(#REF!,AW277)","v":{"$error":"#REF!"}},{"$f":"SUM(BA275,BE275)","v":6},{"$f":"SUM(BI278,BM275)","v":6},0,0,0,0,0,0,0]
[5,"2026-05-15",null,null,null,null,null,null,null,null,null,null,null,null,null,null,null,null,null,null,null,null,null,null,null,null,24,"cg",6,null,null,null,null,null,90,"mp",6,"R19",null,null,null,null,18,"yc",6,"EX",null,null,null,null,10,"jr",6,null,null,null,null,null,7,"rg",6,"EX",null,null,null,null,null,null,null,null,null,null,null,null,null,null,null,null,null,null,null,null,null,null,null,null,null,null,null,null,null,null,null,null,null,null,null,null,null,null,null,null,null,null,null,null,null,null,null,null,null,null,null,null,null,null,null,null,null,null,null,null,null,null,0,1,1,1,1,0,1,0,0,0,0,0,0,0,0,null,0,0,{"$f":"SUM($U278,$Y278)","v":0},{"$f":"SUM(AC278,AG278)","v":6},6,6,{"$f":"SUM(BA277,BE277)","v":6},{"$f":"SUM(BI302,BM302)","v":6},0,0,0,0,0,0,0]
[6,"2026-05-16","                                   WEEK-END                       ",null,null,null,null,null,null,null,"                                   WEEK-END                       ",null,null,null,null,null,null,null,"                                   WEEK-END                       ",null,null,null,null,null,null,null,"                                   WEEK-END                       ",null,null,null,null,null,null,null,"                                   WEEK-END                       ",null,null,null,null,null,null,null,"                                   WEEK-END                       ",null,null,null,null,null,null,null,"                                   WEEK-END                       ",null,null,null,null,null,null,null,"                                   WEEK-END                       ",null,null,null,null,null,null,null,"                                   WEEK-END                       ",null,null,null,null,null,null,null,null,null,null,null,null,null,null,null,null,null,null,null,null,null,null,null,null,null,null,null,null,null,null,null,null,null,null,null,null,null,null,null,null,null,null,null,null,null,null,null,null,null,null,null,null,null,null,null,null,null,0,0,0,0,0,0,0,0,0,0,0,0,0,0,0,null,0,0,{"$f":"SUM($U279,$Y279)","v":0},{"$f":"SUM(AC279,AG279)","v":0},0,0,0,0,0,0,0,0,0,0,0]
[7,"2026-05-17","                                   WEEK-END                       ",null,null,null,null,null,null,null,"                                   WEEK-END                       ",null,null,null,null,null,null,null,"                                   WEEK-END                       ",null,null,null,null,null,null,null,"                                   WEEK-END                       ",null,null,null,null,null,null,null,"                                   WEEK-END                       ",null,null,null,null,null,null,null,"                                   WEEK-END                       ",null,null,null,null,null,null,null,"                                   WEEK-END                       ",null,null,null,null,null,null,null,"                                   WEEK-END                       ",null,null,null,null,null,null,null,"                                   WEEK-END                       ",null,null,null,null,null,null,null,null,null,null,null,null,null,null,null,null,null,null,null,null,null,null,null,null,null,null,null,null,null,null,null,null,null,null,null,null,null,null,null,null,null,null,null,null,null,null,null,null," ",null,null,null,null,null,null,null,null,0,0,0,0,0,0,0,0,0,0,0,0,0,0,0,null,0,0,{"$f":"SUM($U280,$Y280)","v":0},{"$f":"SUM(AC280,AG280)","v":0},0,0,0,0,0,0,0,0,0,0,0]
[1,"2026-05-18","Congé",null,null,null,null,null,null,null,"Congé",null,null,null,null,null,null,null,"Congé",null,null,null,null,null,null,null,"Congé",null,null,null,null,null,null,null,"Congé",null,null,null,null,null,null,null,"Congé",null,null,null,null,null,null,null,"Congé",null,null,null,null,null,null,null,"Congé",null,null,null,null,null,null,null,"Congé",null,null,null,null,null,null,null,null,null,null,null,null,null,null,null,null,null,null,null,null,null,null,null,null,null,null,null,null,null,null,null,null,null,null,null,null,null,null,null,null,null,null,null,null,null,null,null,null," ",null,null,null,null,null,null,null,null,0,0,0,0,0,0,0,0,0,0,0,0,0,0,0,null,0,0,{"$f":"SUM(#REF!,$U281)","v":{"$error":"#REF!"}},{"$f":"SUM(#REF!,AC281)","v":{"$error":"#REF!"}},0,0,0,0,0,0,0,0,0,0,0]
[2,"2026-05-19",null,null,null,null,null,null,null,null,null,null,null,null,null,null,null,null,null,null,null,null,null,null,null,null,95,null,6,null,null,null,null,null,20,"sb",6,null,null,null,null,null,17,"rg",6,null,null,null,null,null,10,"jr",6,null,null,null,null,null,9,"mc",6,null,null,null,null,null,null,null,null,null,null,null,null,null,null,null,null,null,null,null,null,null,null,null,null,null,null,null,null,null,null,null,null,null,null,null,null,null,null,null,null,null,null,null,null,null,null,null,null,null,null,null,null,null,null," ",null,null,null,null,null,null,null,null,1,0,0,1,0,1,1,0,0,0,0,0,0,0,0,null,0,{"$f":"SUM(#REF!,$M282)","v":{"$error":"#REF!"}},{"$f":"SUM($U282,$Y282)","v":0},{"$f":"SUM(#REF!,AC282)","v":{"$error":"#REF!"}},6,{"$f":"SUM(AS274,AW274)","v":6},6,{"$f":"SUM(#REF!,BM298)","v":{"$error":"#REF!"}},0,0,0,0,0,0,0]
[3,"2026-05-20",null,null,null,null,null,null,null,null,null,null,null,null,null,null,null,null,null,null,null,null,null,null,null,null,95,null,6,null,null,null,null,null,20,"sb",6,null,null,null,null,null,17,"rg",6,null,null,null,null,null,90,"mp",6,"R9",null,null,null,null,9,"mc",6,null,null,null,null,null,null,null,null,null,null,null,null,null,null,null,null,null,null,null,null,null,null,null,null,null,null,null,null,null,null,null,null,null,null,null,null,null,null,null,null,null,null,null,null,null,null,null,null,null,null,null,null,null,null,null,null,null,null,null,null,null,null,null,1,1,0,0,0,1,1,0,0,0,0,0,0,0,0,null,0,{"$f":"SUM(#REF!,$M283)","v":{"$error":"#REF!"}},{"$f":"SUM(#REF!,$U283)","v":{"$error":"#REF!"}},{"$f":"SUM(#REF!,AC283)","v":{"$error":"#REF!"}},6,{"$f":"SUM(AS282,AW285)","v":6},{"$f":"SUM(#REF!,BE283)","v":{"$error":"#REF!"}},{"$f":"SUM(BI290,BM290)","v":0},0,0,0,0,0,0,0]
[4,"2026-05-21",null,null,null,null,null,null,null,null,null,null,null,null,null,null,null,null,null,null,null,null,null,null,null,null,24,"cg",6,null,null,null,null,null,20,"sb",6,"EX",null,null,null,null,17,"rg",6,null,null,null,null,null,10,"jr",6,null,null,null,null,null,9,"mc",6,null,null,null,null,null,null,null,null,null,null,null,null,null,null,null,null,null,null,null,null,null,null,null,null,null,null,null,null,null,null,null,null,null,null,null,null,null,null,null,null,null,null,null,null,null,null,null,null,null,null,null,null,null,null,null,null,null,null,null,null,null,null,null,1,0,1,1,0,1,1,0,0,0,0,0,0,0,0,null,0,{"$f":"SUM(#REF!,$M284)","v":{"$error":"#REF!"}},{"$f":"SUM(#REF!,$U284)","v":{"$error":"#REF!"}},{"$f":"SUM(#REF!,AC284)","v":{"$error":"#REF!"}},{"$f":"SUM(AK284,AO285)","v":9},{"$f":"SUM(AS277,AW284)","v":6},{"$f":"SUM(BA283,BE284)","v":6},{"$f":"SUM(#REF!,#REF!)","v":{"$error":"#REF!"}},0,0,0,0,0,0,0]
[5,"2026-05-22",null,null,null,null,null,null,null,null,null,null,null,null,null,null,null,null,null,null,null,null,null,null,null,null,24,"cg",6,null,null,null,null,null,20,"sb",6,"EX",33,"mp",3,"X19",17,"rg",6,null,null,null,null,null,10,"jr",6,"EX",33,"mp",3,"X9",9,"mc",6,null,null,null,null,null,null,null,null,null,null,null,null,null,null,null,null,null,null,null,null,null,null,null,null,null,null,null,null,null,null,null,null,null,null,null,null,null,null,null,null,null,null,null,null,null,null,null,null,null,null,null,null,null,null,null,null,null,null,null,null,null,null,null,1,2,1,1,0,1,1,0,0,0,0,0,0,0,0,null,0,0,{"$f":"SUM($U285,$Y285)","v":0},{"$f":"SUM(AC285,AG285)","v":6},{"$f":"SUM(AK285,#REF!)","v":{"$error":"#REF!"}},{"$f":"SUM(AS289,AW289)","v":6},{"$f":"SUM(BA262,#REF!)","v":{"$error":"#REF!"}},{"$f":"SUM(#REF!,#REF!)","v":{"$error":"#REF!"}},0,0,0,0,0,0,0]
[6,"2026-05-23","                                   WEEK-END                       ",null,null,null,null,null,null,null,"                                   WEEK-END                       ",null,null,null,null,null,null,null,"                                   WEEK-END                       ",null,null,null,null,null,null,null,"                                   WEEK-END                       ",null,null,null,null,null,null,null,"                                   WEEK-END                       ",null,null,null,null,null,null,null,"                                   WEEK-END                       ",null,null,null,null,null,null,null,"                                   WEEK-END                       ",null,null,null,null,null,null,null,"                                   WEEK-END                       ",null,null,null,null,null,null,null,"                                   WEEK-END                       ",null,null,null,null,null,null,null,null,null,null,null,null,null,null,null,null,null,null,null,null,null,null,null,null,null,null,null,null,null,null,null,null,null,null,null,null,null,null,null,null,null,null,null,null,null,null,null,null,null,null,null,null,null,null,null,null,null,0,0,0,0,0,0,0,0,0,0,0,0,0,0,0,null,0,0,{"$f":"SUM($U286,$Y286)","v":0},{"$f":"SUM(AC286,AG286)","v":0},0,0,0,0,0,0,0,0,0,0,0]
[7,"2026-05-24","                                   WEEK-END                       ",null,null,null,null,null,null,null,"                                   WEEK-END                       ",null,null,null,null,null,null,null,"                                   WEEK-END                       ",null,null,null,null,null,null,null,"                                   WEEK-END                       ",null,null,null,null,null,null,null,"                                   WEEK-END                       ",null,null,null,null,null,null,null,"                                   WEEK-END                       ",null,null,null,null,null,null,null,"                                   WEEK-END                       ",null,null,null,null,null,null,null,"                                   WEEK-END                       ",null,null,null,null,null,null,null,"                                   WEEK-END                       ",null,null,null,null,null,null,null,null,null,null,null,null,null,null,null,null,null,null,null,null,null,null,null,null,null,null,null,null,null,null,null,null,null,null,null,null,null,null,null,null,null,null,null,null,null,null,null,null,null,null,null,null,null,null,null,null,null,0,0,0,0,0,0,0,0,0,0,0,0,0,0,0,null,0,0,{"$f":"SUM($U287,$Y287)","v":0},{"$f":"SUM(AC287,AG287)","v":0},0,0,0,0,0,0,0,0,0,0,0]
[1,"2026-05-25",null,null,null,null,null,null,null,null,null,null,null,null,null,null,null,null,null,null,null,null,null,null,null,null,95,null,6,null,null,null,null,null,21,"sb",6,null,null,null,null,null,17,"rg",6,null,null,null,null,null,"Congé",null,null,null,null,null,null,null,9,"mc",6,null,null,null,null,null,null,null,null,null,null,null,null,null,null,null,null,null,null,null,null,null,null,null,null,null,null,null,null,null,null,null,null,null,null,null,null,null,null,null,null,null,null,null,null,null,null,null,null,null,null,null,null,null,null,null,null,null,null,null,null,null,null,null,1,0,0,0,0,1,1,0,0,0,0,0,0,0,0,null,0,0,{"$f":"SUM($U288,$Y288)","v":0},{"$f":"SUM(AC288,AG288)","v":6},6,{"$f":"SUM(AS317,AW312)","v":6},{"$f":"SUM(BA276,BE276)","v":6},{"$f":"SUM(BI309,BM309)","v":6},0,0,0,0,0,0,0]
[2,"2026-05-26",null,null,null,null,null,null,null,null,null,null,null,null,null,null,null,null,null,null,null,null,null,null,null,null,24,"cg",6,null,null,null,null,null,21,"sb",6,null,null,null,null,null,17,"rg",6,null,null,null,null,null,10,"jr",6,"EX",null,null,null,null,9,"mc",6,null,null,null,null,null,null,null,null,null,null,null,null,null,null,null,null,null,null,null,null,null,null,null,null,null,null,null,null,null,null,null,null,null,null,null,null,null,null,null,null,null,null,null,null,null,null,null,null,null,null,null,null,null,null,null,null,null,null,null,null,null,null,null,1,0,1,1,0,1,1,0,0,0,0,0,0,0,0,null,0,0,{"$f":"SUM(#REF!,$U289)","v":{"$error":"#REF!"}},{"$f":"SUM(#REF!,AC289)","v":{"$error":"#REF!"}},6,{"$f":"SUM(AS288,AW288)","v":6},{"$f":"SUM(BA278,BE278)","v":6},{"$f":"SUM(#REF!,#REF!)","v":{"$error":"#REF!"}},0,0,0,0,0,0,0]
[3,"2026-05-27",null,null,null,null,null,null,null,null,null,null,null,null,null,null,null,null,null,null,null,null,null,null,null,null,24,"cg",6,null,null,null,null,null,21,"sb",6,null,null,null,null,null,17,"rg",6,null,null,null,null,null,8,"jr",6,null,null,null,null,null,"Congé",null,null,null,null,null,null,null,null,null,null,null,null,null,null,null,null,null,null,null,null,null,null,null,null,null,null,null,null,null,null,null,null,null,null,null,null,null,null,null,null,null,null,null,null,null,null,null,null,null,null,null,null,null,null,null,null,null,null,null,null,null,null,null,null,null,1,0,1,1,0,0,1,0,0,0,0,0,0,0,0,null,0,0,{"$f":"SUM(#REF!,$U290)","v":{"$error":"#REF!"}},{"$f":"SUM(#REF!,AC290)","v":{"$error":"#REF!"}},6,6,{"$f":"SUM(BA288,BE288)","v":0},{"$f":"SUM(#REF!,#REF!)","v":{"$error":"#REF!"}},0,0,0,0,0,0,0]
[4,"2026-05-28",null,null,null,null,null,null,null,null,null,null,null,null,null,null,null,null,null,null,null,null,null,null,null,null,95,null,6,null,null,null,null,null,21,"sb",6,null,null,null,null,null,90,"mp",6,"R18",null,null,null,null,8,"jr",6,null,null,null,null,null,9,"mc",6,null,null,null,null,null,null,null,null,null,null,null,null,null,null,null,null,null,null,null,null,null,null,null,null,null,null,null,null,null,null,null,null,null,null,null,null,null,null,null,null,null,null,null,null,null,null,null,null,null,null,null,null,null,null,null,null,null,null,null,null,null,null,null,1,1,0,1,0,1,0,0,0,0,0,0,0,0,0,null,0,0,{"$f":"SUM(#REF!,$U291)","v":{"$error":"#REF!"}},{"$f":"SUM(#REF!,AC291)","v":{"$error":"#REF!"}},6,6,{"$f":"SUM(BA285,BE285)","v":9},{"$f":"SUM(#REF!,#REF!)","v":{"$error":"#REF!"}},0,0,0,0,0,0,0]
[5,"2026-05-29",null,null,null,null,null,null,null,null,null,null,null,null,null,null,null,null,null,null,null,null,null,null,null,null,95,null,6,null,null,null,null,null,21,"mp",3,null,24,"mp",3,"ST","Congé",null,null,null,null,null,null,null,8,"rg",6,null,null,null,null,null,9,"mc",6,null,null,null,null,null,null,null,null,null,null,null,null,null,null,null,null,null,null,null,null,null,null,null,null,null,null,null,null,null,null,null,null,null,null,null,null,null,null,null,null,null,null,null,null,null,null,null,null,null,null,null,null,null,null,null,null,null,null,null,null,null,null,null,0,2,0,0,0,1,1,0,0,0,0,0,0,0,0,null,0,0,{"$f":"SUM($U292,$Y292)","v":0},{"$f":"SUM(#REF!,AC292)","v":{"$error":"#REF!"}},6,0,{"$f":"SUM(BA305,BE305)","v":6},{"$f":"SUM(BI305,BM305)","v":6},0,0,0,0,0,0,0]
[6,"2026-05-30","                                   WEEK-END                       ",null,null,null,null,null,null,null,"                                   WEEK-END                       ",null,null,null,null,null,null,null,"                                   WEEK-END                       ",null,null,null,null,null,null,null,"                                   WEEK-END                       ",null,null,null,null,null,null,null,"                                   WEEK-END                       ",null,null,null,null,null,null,null,"                                   WEEK-END                       ",null,null,null,null,null,null,null,"                                   WEEK-END                       ",null,null,null,null,null,null,null,"                                   WEEK-END                       ",null,null,null,null,null,null,null,"                                   WEEK-END                       ",null,null,null,null,null,null,null,null,null,null,null,null,null,null,null,null,null,null,null,null,null,null,null,null,null,null,null,null,null,null,null,null,null,null,null,null,null,null,null,null,null,null,null,null,null,null,null,null,null,null,null,null,null,null,null,null,null,0,0,0,0,0,0,0,0,0,0,0,0,0,0,0,null,0,0,{"$f":"SUM($U293,$Y293)","v":0},{"$f":"SUM(AC293,AG293)","v":0},0,0,0,0,0,0,0,0,0,0,0]
[7,"2026-05-31","                                   WEEK-END                       ",null,null,null,null,null,null,null,"                                   WEEK-END                       ",null,null,null,null,null,null,null,"                                   WEEK-END                       ",null,null,null,null,null,null,null,"                                   WEEK-END                       ",null,null,null,null,null,null,null,"                                   WEEK-END                       ",null,null,null,null,null,null,null,"                                   WEEK-END                       ",null,null,null,null,null,null,null,"                                   WEEK-END                       ",null,null,null,null,null,null,null,"                                   WEEK-END                       ",null,null,null,null,null,null,null,"                                   WEEK-END                       ",null,null,null,null,null,null,null,null,null,null,null,null,null,null,null,null,null,null,null,null,null,null,null,null,null,null,null,null,null,null,null,null,null,null,null,null,null,null,null,null,null,null,null,null,null,null,null,null,null,null,null,null,null,null,null,null,null,0,0,0,0,0,0,0,0,0,0,0,0,0,0,0,null,0,0,{"$f":"SUM($U294,$Y294)","v":0},{"$f":"SUM(AC294,AG294)","v":0},0,0,0,0,0,0,0,0,0,0,0]
[1,"2026-06-01",null,null,null,null,null,null,null,null,null,null,null,null,null,null,null,null,null,null,null,null,null,null,null,null,24,"cg",6,null,null,null,null,null,90,"sb",6,"R20",null,null,null,null,17,"rg",6,"EX",33,"mp",3,"X18",8,"yc",6,null,null,null,null,null,9,"mc",6,null,null,null,null,null,null,null,null,null,null,null,null,null,null,null,null,null,null,null,null,null,null,null,null,null,null,null,null,null,null,null,null,null,null,null,null,null,null,null,null,null,null,null,null,null,null,null,null,null,null,null,null,null,null,null,null,null,null,null,null,null,null,null,1,1,1,0,1,1,1,0,0,0,0,0,0,0,0,null,0,0,{"$f":"SUM(#REF!,$U295)","v":{"$error":"#REF!"}},{"$f":"SUM(#REF!,AC295)","v":{"$error":"#REF!"}},6,9,6,{"$f":"SUM(BI306,BM306)","v":6},0,0,0,0,0,0,0]
[2,"2026-06-02",null,null,null,null,null,null,null,null,null,null,null,null,null,null,null,null,null,null,null,null,null,null,null,null,95,null,6,null,null,null,null,null,21,"sb",6,null,null,null,null,null,17,"rg",6,"EX",null,null,null,null,8,"yc",6,null,null,null,null,null,90,"mp",6,"R7",null,null,null,null,null,null,null,null,null,null,null,null,null,null,null,null,null,null,null,null,null,null,null,null,null,null,null,null,null,null,null,null,null,null,null,null,null,null,null,null,null,null,null,null,null,null,null,null,null,null,null,null,null,null,null,null,null,null,null,null,null,null,1,1,0,0,1,0,1,0,0,0,0,0,0,0,0,null,0,0,{"$f":"SUM(#REF!,$U296)","v":{"$error":"#REF!"}},{"$f":"SUM(#REF!,AC296)","v":{"$error":"#REF!"}},6,{"$f":"SUM(#REF!,AW296)","v":{"$error":"#REF!"}},6,{"$f":"SUM(BI304,BM304)","v":0},0,0,0,0,0,0,0]
[3,"2026-06-03",null,null,null,null,null,null,null,null,null,null,null,null,null,null,null,null,null,null,null,null,null,null,null,null,24,"cg",6,null,null,null,null,null,21,"sb",6,null,null,null,null,null,15,"yc",6,null,null,null,null,null,8,"rg",6,null,null,null,null,null,9,"mc",6,null,null,null,null,null,null,null,null,null,null,null,null,null,null,null,null,null,null,null,null,null,null,null,null,null,null,null,null,null,null,null,null,null,null,null,null,null,null,null,null,null,null,null,null,null,null,null,null,null,null,null,null,null,null,null,null,null,null,null,null,null,null,null,1,0,1,0,1,1,1,0,0,0,0,0,0,0,0,null,0,0,{"$f":"SUM(#REF!,$U297)","v":{"$error":"#REF!"}},{"$f":"SUM(#REF!,AC297)","v":{"$error":"#REF!"}},6,{"$f":"SUM(#REF!,#REF!)","v":{"$error":"#REF!"}},6,{"$f":"SUM(BI316,BM316)","v":6},0,0,0,0,0,0,0]
[4,"2026-06-04",null,null,null,null,null,null,null,null,null,null,null,null,null,null,null,null,null,null,null,null,null,null,null,null,24,"cg",6,"RT",null,null,null,null,21,"sb",6,null,null,null,null,null,15,"yc",6,null,null,null,null,null,8,"rg",6,null,null,null,null,null,9,"mc",6,"EX",33,"mp",3,"X7",null,null,null,null,null,null,null,null,null,null,null,null,null,null,null,null,null,null,null,null,null,null,null,null,null,null,null,null,null,null,null,null,null,null,null,null,null,null,null,null,null,null,null,null,null,null,null,null,null,null,null,null,null,null,null,null,null,null,1,1,1,0,1,1,1,0,0,0,0,0,0,0,0,null,0,0,{"$f":"SUM(#REF!,$U298)","v":{"$error":"#REF!"}},{"$f":"SUM(#REF!,AC298)","v":{"$error":"#REF!"}},6,{"$f":"SUM(#REF!,AW298)","v":{"$error":"#REF!"}},6,{"$f":"SUM(#REF!,#REF!)","v":{"$error":"#REF!"}},0,0,0,0,0,0,0]
[5,"2026-06-05","     Pédagogique",null,null,null,null,null,null,null,"     Pédagogique",null,null,null,null,null,null,null,"     Pédagogique",null,null,null,null,null,null,null,"     Pédagogique",null,null,null,null,null,null,null,"     Pédagogique",null,null,null,null,null,null,null,"     Pédagogique",null,null,null,null,null,null,null,"     Pédagogique",null,null,null,null,null,null,null,"     Pédagogique",null,null,null,null,null,null,null,"     Pédagogique",null,null,null,null,null,null,null,null,null,null,null,null,null,null,null,null,null,null,null,null,null,null,null,null,null,null,null,null,null,null,null,null,null,null,null,null,null,null,null,null,null,null,null,null,null,null,null,null,null,null,null,null,null,null,null,null,null,0,0,0,0,0,0,0,0,0,0,0,0,0,0,0,null,0,0,{"$f":"SUM(#REF!,$U299)","v":{"$error":"#REF!"}},{"$f":"SUM(#REF!,AC299)","v":{"$error":"#REF!"}},0,0,0,0,0,0,0,0,0,0,0]
[6,"2026-06-06","                                   WEEK-END                       ",null,null,null,null,null,null,null,"                                   WEEK-END                       ",null,null,null,null,null,null,null,"                                   WEEK-END                       ",null,null,null,null,null,null,null,"                                   WEEK-END                       ",null,null,null,null,null,null,null,"                                   WEEK-END                       ",null,null,null,null,null,null,null,"                                   WEEK-END                       ",null,null,null,null,null,null,null,"                                   WEEK-END                       ",null,null,null,null,null,null,null,"                                   WEEK-END                       ",null,null,null,null,null,null,null,"                                   WEEK-END                       ",null,null,null,null,null,null,null,null,null,null,null,null,null,null,null,null,null,null,null,null,null,null,null,null,null,null,null,null,null,null,null,null,null,null,null,null,null,null,null,null,null,null,null,null,null,null,null,null,null,null,null,null,null,null,null,null,null,0,0,0,0,0,0,0,0,0,0,0,0,0,0,0,null,0,0,{"$f":"SUM($U300,$Y300)","v":0},{"$f":"SUM(AC300,AG300)","v":0},0,0,0,0,0,0,0,0,0,0,0]
[7,"2026-06-07","                                   WEEK-END                       ",null,null,null,null,null,null,null,"                                   WEEK-END                       ",null,null,null,null,null,null,null,"                                   WEEK-END                       ",null,null,null,null,null,null,null,"                                   WEEK-END                       ",null,null,null,null,null,null,null,"                                   WEEK-END                       ",null,null,null,null,null,null,null,"                                   WEEK-END                       ",null,null,null,null,null,null,null,"                                   WEEK-END                       ",null,null,null,null,null,null,null,"                                   WEEK-END                       ",null,null,null,null,null,null,null,"                                   WEEK-END                       ",null,null,null,null,null,null,null,null,null,null,null,null,null,null,null,null,null,null,null,null,null,null,null,null,null,null,null,null,null,null,null,null,null,null,null,null,null,null,null,null,null,null,null,null,null,null,null,null,null,null,null,null,null,null,null,null,null,0,0,0,0,0,0,0,0,0,0,0,0,0,0,0,null,0,0,{"$f":"SUM($U301,$Y301)","v":0},{"$f":"SUM(AC301,AG301)","v":0},0,0,0,0,0,0,0,0,0,0,0]
[1,"2026-06-08",null,null,null,null,null,null,null,null,null,null,null,null,null,null,null,null,null,null,null,null,null,null,null,null,90,"cg",6,"R23",null,null,null,null,21,"sb",6,"EX",null,null,null,null,15,"jr",6,null,null,null,null,null,"Congé",null,null,null,null,null,null,null,9,"mc",6,"EX",null,null,null,null,null,null,null,null,null,null,null,null,null,null,null,null,null,null,null,null,null,null,null,null,null,null,null,null,null,null,null,null,null,null,null,null,null,null,null,null,null,null,null,null,null,null,null,null,null,null,null,null,null,null,null,null,null,null,null,null,null,null,1,0,1,1,0,1,0,0,0,0,0,0,0,0,0,null,0,0,{"$f":"SUM(#REF!,$U302)","v":{"$error":"#REF!"}},{"$f":"SUM(#REF!,AC302)","v":{"$error":"#REF!"}},6,{"$f":"SUM(AS296,AW302)","v":6},0,{"$f":"SUM(BI313,BM313)","v":6},0,0,0,0,0,0,0]
[2,"2026-06-09",null,null,null,null,null,null,null,null,null,null,null,null,null,null,null,null,null,null,null,null,null,null,null,null,33,"cg",3,"X23",null,null,null,null,21,"sb",6,"EX",33,"mp",3,"X20",15,"jr",6,null,null,null,null,null,8,"rg",6,null,null,null,null,null,10,"yc",6,null,null,null,null,null,null,null,null,null,null,null,null,null,null,null,null,null,null,null,null,null,null,null,null,null,null,null,null,null,null,null,null,null,null,null,null,null,null,null,null,null,null,null,null,null,null,null,null,null,null,null,null,null,null,null,null,null,null,null,null,null,null,null,1,1,1,1,1,0,1,0,0,0,0,0,0,0,0,null,0,0,{"$f":"SUM($U303,$Y303)","v":0},{"$f":"SUM(#REF!,AC303)","v":{"$error":"#REF!"}},9,{"$f":"SUM(AS297,AW297)","v":6},6,{"$f":"SUM(BI303,BM303)","v":6},0,0,0,0,0,0,0]
[3,"2026-06-10",null,null,null,null,null,null,null,null,null,null,null,null,null,null,null,null,null,null,null,null,null,null,null,null,null,null,null,null,null,null,null,null,23,"mp",6,null,null,null,null,null,15,"jr",6,null,null,null,null,null,8,"rg",6,null,null,null,null,null,"Congé",null,null,null,null,null,null,null,null,null,null,null,null,null,null,null,null,null,null,null,null,null,null,null,null,null,null,null,null,null,null,null,null,null,null,null,null,null,null,null,null,null,null,null,null,null,null,null,null,null,null,null,null,null,null,null,null,null,null,null,null,null,null,null,null,null,0,1,0,1,0,0,1,0,0,0,0,0,0,0,0,null,0,0,{"$f":"SUM(#REF!,$U304)","v":{"$error":"#REF!"}},{"$f":"SUM(#REF!,AC304)","v":{"$error":"#REF!"}},6,{"$f":"SUM(AS298,AW304)","v":6},{"$f":"SUM(BA290,BE304)","v":6},{"$f":"SUM(#REF!,#REF!)","v":{"$error":"#REF!"}},0,0,0,0,0,0,0]
[4,"2026-06-11",null,null,null,null,null,null,null,null,null,null,null,null,null,null,null,null,null,null,null,null,null,null,null,null,null,null,null,null,null,null,null,null,23,"mp",6,null,null,null,null,null,15,"jr",6,null,null,null,null,null,8,"rg",6,null,null,null,null,null,10,"yc",6,null,null,null,null,null,null,null,null,null,null,null,null,null,null,null,null,null,null,null,null,null,null,null,null,null,null,null,null,null,null,null,null,null,null,null,null,null,null,null,null,null,null,null,null,null,null,null,null,null,null,null,null,null,null,null,null,null,null,null,null,null,null,null,0,1,0,1,1,0,1,0,0,0,0,0,0,0,0,null,0,0,{"$f":"SUM(#REF!,$U305)","v":{"$error":"#REF!"}},{"$f":"SUM(#REF!,AC305)","v":{"$error":"#REF!"}},6,6,{"$f":"SUM(BA291,BE291)","v":6},{"$f":"SUM(#REF!,#REF!)","v":{"$error":"#REF!"}},0,0,0,0,0,0,0]
[5,"2026-06-12",null,null,null,null,null,null,null,null,null,null,null,null,null,null,null,null,null,null,null,null,null,null,null,null,null,null,null,null,null,null,null,null,23,"mp",6,null,null,null,null,null,"Congé",null,null,null,null,null,null,null,8,"rg",6,null,null,null,null,null,10,"yc",6,null,null,null,null,null,null,null,null,null,null,null,null,null,null,null,null,null,null,null,null,null,null,null,null,null,null,null,null,null,null,null,null,null,null,null,null,null,null,null,null,null,null,null,null,null,null,null,null,null,null,null,null,null,null,null,null,null,null,null,null,null,null,null,0,1,0,0,1,0,1,0,0,0,0,0,0,0,0,null,0,0,{"$f":"SUM(#REF!,$U306)","v":{"$error":"#REF!"}},{"$f":"SUM(#REF!,AC306)","v":{"$error":"#REF!"}},6,0,6,{"$f":"SUM(#REF!,#REF!)","v":{"$error":"#REF!"}},0,0,0,0,0,0,0]
[6,"2026-06-13","                                   WEEK-END                       ",null,null,null,null,null,null,null,"                                   WEEK-END                       ",null,null,null,null,null,null,null,"                                   WEEK-END                       ",null,null,null,null,null,null,null,"                                   WEEK-END                       ",null,null,null,null,null,null,null,"                                   WEEK-END                       ",null,null,null,null,null,null,null,"                                   WEEK-END                       ",null,null,null,null,null,null,null,"                                   WEEK-END                       ",null,null,null,null,null,null,null,"                                   WEEK-END                       ",null,null,null,null,null,null,null,"                                   WEEK-END                       ",null,null,null,null,null,null,null,null,null,null,null,null,null,null,null,null,null,null,null,null,null,null,null,null,null,null,null,null,null,null,null,null,null,null,null,null,null,null,null,null,null,null,null,null,null,null,null,null,null,null,null,null,null,null,null,null,null,0,0,0,0,0,0,0,0,0,0,0,0,0,0,0,null,0,0,{"$f":"SUM($U307,$Y307)","v":0},{"$f":"SUM(AC307,AG307)","v":0},0,0,0,0,0,0,0,0,0,0,0]
[7,"2026-06-14","                                   WEEK-END                       ",null,null,null,null,null,null,null,"                                   WEEK-END                       ",null,null,null,null,null,null,null,"                                   WEEK-END                       ",null,null,null,null,null,null,null,"                                   WEEK-END                       ",null,null,null,null,null,null,null,"                                   WEEK-END                       ",null,null,null,null,null,null,null,"                                   WEEK-END                       ",null,null,null,null,null,null,null,"                                   WEEK-END                       ",null,null,null,null,null,null,null,"                                   WEEK-END                       ",null,null,null,null,null,null,null,"                                   WEEK-END                       ",null,null,null,null,null,null,null,null,null,null,null,null,null,null,null,null,null,null,null,null,null,null,null,null,null,null,null,null,null,null,null,null,null,null,null,null,null,null,null,null,null,null,null,null,null,null,null,null,null,null,null,null,null,null,null,null,null,0,0,0,0,0,0,0,0,0,0,0,0,0,0,0,null,0,0,{"$f":"SUM($U308,$Y308)","v":0},{"$f":"SUM(AC308,AG308)","v":0},0,0,0,0,0,0,0,0,0,0,0]
[1,"2026-06-15",null,null,null,null,null,null,null,null,null,null,null,null,null,null,null,null,null,null,null,null,null,null,null,null,null,null,null,null,null,null,null,null,23,"mp",6,null,null,null,null,null,90,"cg",6,"R17",null,null,null,null,"Congé",null,null,null,null,null,null,null,10,"yc",6,null,null,null,null,null,null,null,null,null,null,null,null,null,null,null,null,null,null,null,null,null,null,null,null,null,null,null,null,null,null,null,null,null,null,null,null,null,null,null,null,null,null,null,null,null,null,null,null,null,null,null,null,null,null,null,null,null,null,null,null,null,null,null,0,1,1,0,1,0,0,0,0,0,0,0,0,0,0,null,0,0,{"$f":"SUM($U309,$Y309)","v":0},{"$f":"SUM(AC309,AG309)","v":0},6,{"$f":"SUM(AS310,AW310)","v":9},{"$f":"SUM(BA292,BE292)","v":6},{"$f":"SUM(#REF!,#REF!)","v":{"$error":"#REF!"}},0,0,0,0,0,0,0]
[2,"2026-06-16",null,null,null,null,null,null,null,null,null,null,null,null,null,null,null,null,null,null,null,null,null,null,null,null,null,null,null,null,null,null,null,null,23,"mp",6,null,null,null,null,null,15,"jr",6,"EX",33,"cg",3,"X17",8,"rg",6,"EX",null,null,null,null,10,"yc",6,null,null,null,null,null,null,null,null,null,null,null,null,null,null,null,null,null,null,null,null,null,null,null,null,null,null,null,null,null,null,null,null,null,null,null,null,null,null,null,null,null,null,null,null,null,null,null,null,null,null,null,null,null,null,null,null,null,null,null,null,null,null,null,0,1,1,1,1,0,1,0,0,0,0,0,0,0,0,null,0,0,{"$f":"SUM(#REF!,$U310)","v":{"$error":"#REF!"}},{"$f":"SUM(#REF!,AC310)","v":{"$error":"#REF!"}},6,{"$f":"SUM(AS311,AW311)","v":6},{"$f":"SUM(#REF!,BE290)","v":{"$error":"#REF!"}},{"$f":"SUM(BI319,BM310)","v":6},0,0,0,0,0,0,0]
[3,"2026-06-17",null,null,null,null,null,null,null,null,null,null,null,null,null,null,null,null,null,null,null,null,null,null,null,null,null,null,null,null,null,null,null,null,23,"mp",6,null,null,null,null,null,15,"jr",6,"EX",null,null,null,null,8,"rg",6,"EX",null,null,null,null,"Congé",null,null,null,null,null,null,null,null,null,null,null,null,null,null,null,null,null,null,null,null,null,null,null,null,null,null,null,null,null,null,null,null,null,null,null,null,null,null,null,null,null,null,null,null,null,null,null,null,null,null,null,null,null,null,null,null,null,null,null,null,null,null,null,null,null,0,1,0,1,0,0,1,0,0,0,0,0,0,0,0,null,0,0,{"$f":"SUM(#REF!,$U311)","v":{"$error":"#REF!"}},{"$f":"SUM(#REF!,AC311)","v":{"$error":"#REF!"}},6,{"$f":"SUM(AS309,AW309)","v":6},{"$f":"SUM(BA312,BE309)","v":6},0,0,0,0,0,0,0,0]
[4,"2026-06-18",null,null,null,null,null,null,null,null,null,null,null,null,null,null,null,null,null,null,null,null,null,null,null,null,null,null,null,null,null,null,null,null,23,"sb",6,null,null,null,null,null,13,"mc",6,null,null,null,null,null,33,"mp",6,"R10",null,null,null,null,10,"yc",6,null,null,null,null,null,null,null,null,null,null,null,null,null,null,null,null,null,null,null,null,null,null,null,null,null,null,null,null,null,null,null,null,null,null,null,null,null,null,null,null,null,null,null,null,null,null,null,null,null,null,null,null,null,null,null,null,null,null,null,null,null,null,null,1,1,0,0,1,1,0,0,0,0,0,0,0,0,0,null,0,0,{"$f":"SUM(#REF!,$U312)","v":{"$error":"#REF!"}},{"$f":"SUM(#REF!,AC312)","v":{"$error":"#REF!"}},6,{"$f":"SUM(AS313,AW313)","v":0},{"$f":"SUM(BA304,#REF!)","v":{"$error":"#REF!"}},{"$f":"SUM(#REF!,BI320)","v":{"$error":"#REF!"}},0,0,0,0,0,0,0]
[5,"2026-06-19",null,null,null,null,null,null,null,null,null,null,null,null,null,null,null,null,null,null,null,null,null,null,null,null,null,null,null,null,null,null,null,null,90,"cg",6,"R21",null,null,null,null,"Congé",null,null,null,null,null,null,null,33,"mp",3,"X10",null,null,null,null,10,"yc",6,null,null,null,null,null,null,null,null,null,null,null,null,null,null,null,null,null,null,null,null,null,null,null,null,null,null,null,null,null,null,null,null,null,null,null,null,null,null,null,null,null,null,null,null,null,null,null,null,null,null,null,null,null,null,null,null,null,null,null,null,null,null,null,0,1,1,0,1,0,0,0,0,0,0,0,0,0,0,null,0,0,{"$f":"SUM(#REF!,$U313)","v":{"$error":"#REF!"}},{"$f":"SUM(#REF!,AC313)","v":{"$error":"#REF!"}},6,{"$f":"SUM(AS319,AW319)","v":6},{"$f":"SUM(#REF!,#REF!)","v":{"$error":"#REF!"}},{"$f":"SUM(#REF!,BM319)","v":{"$error":"#REF!"}},0,0,0,0,0,0,0]
[6,"2026-06-20","                                   WEEK-END                       ",null,null,null,null,null,null,null,"                                   WEEK-END                       ",null,null,null,null,null,null,null,"                                   WEEK-END                       ",null,null,null,null,null,null,null,"                                   WEEK-END                       ",null,null,null,null,null,null,null,"                                   WEEK-END                       ",null,null,null,null,null,null,null,"                                   WEEK-END                       ",null,null,null,null,null,null,null,"                                   WEEK-END                       ",null,null,null,null,null,null,null,"                                   WEEK-END                       ",null,null,null,null,null,null,null,"                                   WEEK-END                       ",null,null,null,null,null,null,null,null,null,null,null,null,null,null,null,null,null,null,null,null,null,null,null,null,null,null,null,null,null,null,null,null,null,null,null,null,null,null,null,null,null,null,null,null,null,null,null,null,null,null,null,null,null,null,null,null,null,0,0,0,0,0,0,0,0,0,0,0,0,0,0,0,null,0,0,{"$f":"SUM($U314,$Y314)","v":0},{"$f":"SUM(AC314,AG314)","v":0},0,0,0,0,0,0,0,0,0,0,0]
[7,"2026-06-21","                                   WEEK-END                       ",null,null,null,null,null,null,null,"                                   WEEK-END                       ",null,null,null,null,null,null,null,"                                   WEEK-END                       ",null,null,null,null,null,null,null,"                                   WEEK-END                       ",null,null,null,null,null,null,null,"                                   WEEK-END                       ",null,null,null,null,null,null,null,"                                   WEEK-END                       ",null,null,null,null,null,null,null,"                                   WEEK-END                       ",null,null,null,null,null,null,null,"                                   WEEK-END                       ",null,null,null,null,null,null,null,"                                   WEEK-END                       ",null,null,null,null,null,null,null,null,null,null,null,null,null,null,null,null,null,null,null,null,null,null,null,null,null,null,null,null,null,null,null,null,null,null,null,null,null,null,null,null,null,null,null,null,null,null,null,null,null,null,null,null,null,null,null,null,null,0,0,0,0,0,0,0,0,0,0,0,0,0,0,0,null,0,0,{"$f":"SUM($U315,$Y315)","v":0},{"$f":"SUM(AC315,AG315)","v":0},0,0,0,0,0,0,0,0,0,0,0]
[1,"2026-06-22",null,null,null,null,null,null,null,null,null,null,null,null,null,null,null,null,null,null,null,null,null,null,null,null,null,null,null,null,null,null,null,null,23,"mp",6,"EX",33,"jr",3,"X21",13,"mc",6,null,null,null,null,null,12,"rg",6,null,null,null,null,null,10,"yc",6,null,null,null,null,null,null,null,null,null,null,null,null,null,null,null,null,null,null,null,null,null,null,null,null,null,null,null,null,null,null,null,null,null,null,null,null,null,null,null,null,null,null,null,null,null,null,null,null,null,null,null,null,null,null,null,null,null,null,null,null,null,null,null,0,1,0,1,1,1,1,0,0,0,0,0,0,0,0,null,0,0,{"$f":"SUM(#REF!,$U316)","v":{"$error":"#REF!"}},{"$f":"SUM(#REF!,AC316)","v":{"$error":"#REF!"}},{"$f":"SUM(AK316,#REF!)","v":{"$error":"#REF!"}},{"$f":"SUM(#REF!,#REF!)","v":{"$error":"#REF!"}},{"$f":"SUM(BA313,#REF!)","v":{"$error":"#REF!"}},{"$f":"SUM(#REF!,#REF!)","v":{"$error":"#REF!"}},0,0,0,0,0,0,0]
[2,"2026-06-23",null,null,null,null,null,null,null,null,null,null,null,null,null,null,null,null,null,null,null,null,null,null,null,null,null,null,null,null,null,null,null,null,23,"mp",6,"EX",null,null,null,null,13,"mc",6,null,null,null,null,null,12,"rg",6,null,null,null,null,null,10,"yc",6,null,null,null,null,null,null,null,null,null,null,null,null,null,null,null,null,null,null,null,null,null,null,null,null,null,null,null,null,null,null,null,null,null,null,null,null,null,null,null,null,null,null,null,null,null,null,null,null,null,null,null,null,null,null,null,null,null,null,null,null,null,null,null,0,1,0,0,1,1,1,0,0,0,0,0,0,0,0,null,0,0,{"$f":"SUM(#REF!,$U317)","v":{"$error":"#REF!"}},{"$f":"SUM(#REF!,AC317)","v":{"$error":"#REF!"}},{"$f":"SUM(AK317,AO316)","v":9},{"$f":"SUM(#REF!,AW320)","v":{"$error":"#REF!"}},{"$f":"SUM(#REF!,#REF!)","v":{"$error":"#REF!"}},{"$f":"SUM(#REF!,BM320)","v":{"$error":"#REF!"}},0,0,0,0,0,0,0]
[3,"2026-06-24","Congé",null,null,null,null,null,null,null,"Congé",null,null,null,null,null,null,null,"Congé",null,null,null,null,null,null,null,"Congé",null,null,null,null,null,null,null,"Congé",null,null,null,null,null,null,null,"Congé",null,null,null,null,null,null,null,"Congé",null,null,null,null,null,null,null,"Congé",null,null,null,null,null,null,null,"Congé",null,null,null,null,null,null,null,null,null,null,null,null,null,null,null,null,null,null,null,null,null,null,null,null,null,null,null,null,null,null,null,null,null,null,null,null,null,null,null,null,null,null,null,null,null,null,null,null,null,null,null,null,null,null,null,null,null,0,0,0,0,0,0,0,0,0,0,0,0,0,0,0,null,0,0,{"$f":"SUM(#REF!,$U318)","v":{"$error":"#REF!"}},{"$f":"SUM(#REF!,AC318)","v":{"$error":"#REF!"}},0,0,0,0,0,0,0,0,0,0,0]
[4,"2026-06-25",null,null,null,null,null,null,null,null,null,null,null,null,null,null,null,null,null,null,null,null,null,null,null,null,null,null,null,null,null,null,null,null,90,"mp",6,"R23",null,null,null,null,13,"mc",6,null,null,null,null,null,12,"rg",6,null,null,null,null,null,90,"jr",6,"R9",null,null,null,null,null,null,null,null,null,null,null,null,null,null,null,null,null,null,null,null,null,null,null,null,null,null,null,null,null,null,null,null,null,null,null,null,null,null,null,null,null,null,null,null,null,null,null,null,null,null,null,null,null,null,null,null,null,null,null,null,null,null,0,1,0,1,0,1,1,0,0,0,0,0,0,0,0,null,0,0,{"$f":"SUM(#REF!,$U319)","v":{"$error":"#REF!"}},{"$f":"SUM(#REF!,AC319)","v":{"$error":"#REF!"}},6,{"$f":"SUM(#REF!,#REF!)","v":{"$error":"#REF!"}},{"$f":"SUM(BA319,BE319)","v":6},{"$f":"SUM(#REF!,#REF!)","v":{"$error":"#REF!"}},0,0,0,0,0,0,0]
[5,"2026-06-26",null,null,null,null,null,null,null,null,null,null,null,null,null,null,null,null,null,null,null,null,null,null,null,null,null,null,null,null,null,null,null,null,33,"sb",3,"X23",null,null,null,null,13,"mc",6,null,null,null,null,null,12,"rg",6,null,null,null,null,null,33,"jr",3,"X9",null,null,null,null,null,null,null,null,null,null,null,null,null,null,null,null,null,null,null,null,null,null,null,null,null,null,null,null,null,null,null,null,null,null,null,null,null,null,null,null,null,null,null,null,null,null,null,null,null,null,null,null,null,null,null,null,null,null,null,null,null,null,1,0,0,1,0,1,1,0,0,0,0,0,0,0,0,null,0,0,{"$f":"SUM(#REF!,$U320)","v":{"$error":"#REF!"}},{"$f":"SUM(#REF!,AC320)","v":{"$error":"#REF!"}},3,{"$f":"SUM(#REF!,#REF!)","v":{"$error":"#REF!"}},{"$f":"SUM(BA320,BE320)","v":6},{"$f":"SUM(#REF!,#REF!)","v":{"$error":"#REF!"}},0,0,0,0,0,0,0]
[6,"2026-06-27","                                   WEEK-END                       ",null,null,null,null,null,null,null,"                                   WEEK-END                       ",null,null,null,null,null,null,null,"                                   WEEK-END                       ",null,null,null,null,null,null,null,"                                   WEEK-END                       ",null,null,null,null,null,null,null,"                                   WEEK-END                       ",null,null,null,null,null,null,null,"                                   WEEK-END                       ",null,null,null,null,null,null,null,"                                   WEEK-END                       ",null,null,null,null,null,null,null,"                                   WEEK-END                       ",null,null,null,null,null,null,null,"                                   WEEK-END                       ",null,null,null,null,null,null,null,null,null,null,null,null,null,null,null,null,null,null,null,null,null,null,null,null,null,null,null,null,null,null,null,null,null,null,null,null,null,null,null,null,null,null,null,null,null,null,null,null,null,null,null,null,null,null,null,null,null,0,0,0,0,0,0,0,0,0,0,0,0,0,0,0,null,0,0,{"$f":"SUM($U321,$Y321)","v":0},{"$f":"SUM(AC321,AG321)","v":0},0,0,0,0,0,0,0,0,0,0,0]
[7,"2026-06-28","                                   WEEK-END                       ",null,null,null,null,null,null,null,"                                   WEEK-END                       ",null,null,null,null,null,null,null,"                                   WEEK-END                       ",null,null,null,null,null,null,null,"                                   WEEK-END                       ",null,null,null,null,null,null,null,"                                   WEEK-END                       ",null,null,null,null,null,null,null,"                                   WEEK-END                       ",null,null,null,null,null,null,null,"                                   WEEK-END                       ",null,null,null,null,null,null,null,"                                   WEEK-END                       ",null,null,null,null,null,null,null,"                                   WEEK-END                       ",null,null,null,null,null,null,null,null,null,null,null,null,null,null,null,null,null,null,null,null,null,null,null,null,null,null,null,null,null,null,null,null,null,null,null,null,null,null,null,null,null,null,null,null,null,null,null,null,null,null,null,null,null,null,null,null,null,0,0,0,0,0,0,0,0,0,0,0,0,0,0,0,null,0,0,{"$f":"SUM($U322,$Y322)","v":0},{"$f":"SUM(AC322,AG322)","v":0},0,0,0,0,0,0,0,0,0,0,0]
[1,"2026-06-29","                   Vacances          ",null,null,null,null,null,null,null,"                   Vacances          ",null,null,null,null,null,null,null,"                   Vacances          ",null,null,null,null,null,null,null,"                   Vacances          ",null,null,null,null,null,null,null,95,null,6,null,null,null,null,null,"                   Vacances          ",null,null,null,null,null,null,null,"                   Vacances          ",null,null,null,null,null,null,null,"                   Vacances          ",null,null,null,null,null,null,null,"                   Vacances          ",null,null,null,null,null,null,null,null,null,null,null,null,null,null,null,null,null,null,null,null,null,null,null,null,null,null,null,null,null,null,null,null,null,null,null,null,null,null,null,null,null,null,null,null,null,null,null,null,null,null,null,null,null,null,null,null,null,0,0,0,0,0,0,0,0,0,0,0,0,0,0,0,null,0,0,{"$f":"SUM($U323,$Y323)","v":0},{"$f":"SUM(#REF!,AC323)","v":{"$error":"#REF!"}},6,0,0,0,0,0,0,0,0,0,0]
[2,"2026-06-30","                   Vacances          ",null,null,null,null,null,null,null,"                   Vacances          ",null,null,null,null,null,null,null,"                   Vacances          ",null,null,null,null,null,null,null,"                   Vacances          ",null,null,null,null,null,null,null,24,null,6,null,null,null,null,null,"                   Vacances          ",null,null,null,null,null,null,null,"                   Vacances          ",null,null,null,null,null,null,null,"                   Vacances          ",null,null,null,null,null,null,null,"                   Vacances          ",null,null,null,null,null,null,null,null,null,null,null,null,null,null,null,null,null,null,null,null,null,null,null,null,null,null,null,null,null,null,null,null,null,null,null,null,null,null,null,null,null,null,null,null,null,null,null,null,null,null,null,null,null,null,null,null,null,0,0,0,0,0,0,0,0,0,0,0,0,0,0,0,null,0,0,{"$f":"SUM(#REF!,$U324)","v":{"$error":"#REF!"}},{"$f":"SUM(#REF!,AC324)","v":{"$error":"#REF!"}},6,0,0,0,0,0,0,0,0,0,0]
[3,"2026-07-01","                   Vacances          ",null,null,null,null,null,null,null,"                   Vacances          ",null,null,null,null,null,null,null,"                   Vacances          ",null,null,null,null,null,null,null,"                   Vacances          ",null,null,null,null,null,null,null,"Congé",null,null,null,null,null,null,null,"                   Vacances          ",null,null,null,null,null,null,null,"                   Vacances          ",null,null,null,null,null,null,null,"                   Vacances          ",null,null,null,null,null,null,null,"                   Vacances          ",null,null,null,null,null,null,null,null,null,null,null,null,null,null,null,null,null,null,null,null,null,null,null,null,null,null,null,null,null,null,null,null,null,null,null,null,null,null,null,null,null,null,null,null,null,null,null,null,null,null,null,null,null,null,null,null,null,0,0,0,0,0,0,0,0,0,0,0,0,0,0,0,null,0,0,{"$f":"SUM($U325,$Y325)","v":0},{"$f":"SUM(AC325,AG325)","v":0},0,0,0,0,0,0,0,0,0,0,0]
[4,"2026-07-02","                   Vacances          ",null,null,null,null,null,null,null,"                   Vacances          ",null,null,null,null,null,null,null,"                   Vacances          ",null,null,null,null,null,null,null,"                   Vacances          ",null,null,null,null,null,null,null,24,null,6,null,null,null,null,null,"                   Vacances          ",null,null,null,null,null,null,null,"                   Vacances          ",null,null,null,null,null,null,null,"                   Vacances          ",null,null,null,null,null,null,null,"                   Vacances          ",null,null,null,null,null,null,null,null,null,null,null,null,null,null,null,null,null,null,null,null,null,null,null,null,null,null,null,null,null,null,null,null,null,null,null,null,null,null,null,null,null,null,null,null,null,null,null,null,null,null,null,null,null,null,null,null,null,0,0,0,0,0,0,0,0,0,0,0,0,0,0,0,null,0,0,{"$f":"SUM(#REF!,$U326)","v":{"$error":"#REF!"}},{"$f":"SUM(#REF!,AC326)","v":{"$error":"#REF!"}},6,0,0,0,0,0,0,0,0,0,0]
[5,"2026-07-03","                   Vacances          ",null,null,null,null,null,null,null,"                   Vacances          ",null,null,null,null,null,null,null,"                   Vacances          ",null,null,null,null,null,null,null,"                   Vacances          ",null,null,null,null,null,null,null,95,null,6,null,null,null,null,null,"                   Vacances          ",null,null,null,null,null,null,null,"                   Vacances          ",null,null,null,null,null,null,null,"                   Vacances          ",null,null,null,null,null,null,null,"                   Vacances          ",null,null,null,null,null,null,null,null,null,null,null,null,null,null,null,null,null,null,null,null,null,null,null,null,null,null,null,null,null,null,null,null,null,null,null,null,null,null,null,null,null,null,null,null,null,null,null,null,null,null,null,null,null,null,null,null,null,0,0,0,0,0,0,0,0,0,0,0,0,0,0,0,null,0,0,{"$f":"SUM(#REF!,$U327)","v":{"$error":"#REF!"}},{"$f":"SUM(AC327,AG327)","v":0},6,0,0,0,0,0,0,0,0,0,0]
[6,"2026-07-04","                                   WEEK-END                       ",null,null,null,null,null,null,null,"                                   WEEK-END                       ",null,null,null,null,null,null,null,"                                   WEEK-END                       ",null,null,null,null,null,null,null,"                                   WEEK-END                       ",null,null,null,null,null,null,null,"                                   WEEK-END                       ",null,null,null,null,null,null,null,"                                   WEEK-END                       ",null,null,null,null,null,null,null,"                                   WEEK-END                       ",null,null,null,null,null,null,null,"                                   WEEK-END                       ",null,null,null,null,null,null,null,"                                   WEEK-END                       ",null,null,null,null,null,null,null,null,null,null,null,null,null,null,null,null,null,null,null,null,null,null,null,null,null,null,null,null,null,null,null,null,null,null,null,null,null,null,null,null,null,null,null,null,null,null,null,null,null,null,null,null,null,null,null,null,null,0,0,0,0,0,0,0,0,0,0,0,0,0,0,0,null,0,0,{"$f":"SUM($U328,$Y328)","v":0},{"$f":"SUM(AC328,AG328)","v":0},0,0,0,0,0,0,0,0,0,0,0]
[7,"2026-07-05","                                   WEEK-END                       ",null,null,null,null,null,null,null,"                                   WEEK-END                       ",null,null,null,null,null,null,null,"                                   WEEK-END                       ",null,null,null,null,null,null,null,"                                   WEEK-END                       ",null,null,null,null,null,null,null,"                                   WEEK-END                       ",null,null,null,null,null,null,null,"                                   WEEK-END                       ",null,null,null,null,null,null,null,"                                   WEEK-END                       ",null,null,null,null,null,null,null,"                                   WEEK-END                       ",null,null,null,null,null,null,null,"                                   WEEK-END                       ",null,null,null,null,null,null,null,null,null,null,null,null,null,null,null,null,null,null,null,null,null,null,null,null,null,null,null,null,null,null,null,null,null,null,null,null,null,null,null,null,null,null,null,null,null,null,null,null,null,null,null,null,null,null,null,null,null,{"$f":"COUNTIF($C329:$DR329,$A$459)","v":0},{"$f":"COUNTIF($C329:$DR329,$A$460)","v":0},{"$f":"COUNTIF($C329:$DR329,$A$461)","v":0},{"$f":"COUNTIF($C329:$DR329,$A$462)","v":0},{"$f":"COUNTIF($C329:$DR329,$A$463)","v":0},{"$f":"COUNTIF($C329:$DR329,$A$464)","v":0},{"$f":"COUNTIF($C329:$DR329,$A$465)","v":0},{"$f":"COUNTIF($C329:$DR329,$A$466)","v":0},{"$f":"COUNTIF($C329:$DR329,$A$467)","v":0},{"$f":"COUNTIF($C329:$DR329,$A$468)","v":0},{"$f":"COUNTIF($C329:$DR329,$A$469)","v":0},{"$f":"COUNTIF($C329:$DR329,$A$470)","v":0},{"$f":"COUNTIF($C329:$DR329,$A$471)","v":0},{"$f":"COUNTIF($C329:$DR329,$A$472)","v":0},{"$f":"COUNTIF($C329:$DR329,$A$473)","v":0},null,{"$f":"SUM($E329,$I329)","v":0},{"$f":"SUM($M329,$Q329)","v":0},{"$f":"SUM($U329,$Y329)","v":0},{"$f":"SUM(AC329,AG329)","v":0},0,0,0,0,0,0,0,0,0,0,0]
[{"$f":"WEEKDAY(B330,2)","v":1},"2026-07-06","                   Vacances          ",null,null,null,null,null,null,null,"                   Vacances          ",null,null,null,null,null,null,null,"                   Vacances          ",null,null,null,null,null,null,null,"                   Vacances          ",null,null,null,null,null,null,null,95,null,6,null,null,null,null,null,"                   Vacances          ",null,null,null,null,null,null,null,"                   Vacances          ",null,null,null,null,null,null,null,"                   Vacances          ",null,null,null,null,null,null,null,"                   Vacances          ",null,null,null,null,null,null,null,null,null,null,null,null,null,null,null,null,null,null,null,null,null,null,null,null,null,null,null,null,null,null,null,null,null,null,null,null,null,null,null,null,null,null,null,null,null,null,null,null,null,null,null,null,null,null,null,null,null,0,0,0,0,0,0,0,0,0,0,0,0,0,0,0,null,0,0,{"$f":"SUM($U330,$Y330)","v":0},{"$f":"SUM(AC330,AG330)","v":0},{"$f":"SUM(AK330,AO330)","v":6},{"$f":"SUM(AS330,AW330)","v":0},{"$f":"SUM(BA330,BE330)","v":0},{"$f":"SUM(BI330,BM330)","v":0},{"$f":"SUM(BQ330,BU330)","v":0},{"$f":"SUM(BY330,CC330)","v":0},{"$f":"SUM(CG330,CK330)","v":0},{"$f":"SUM(CO330,CS330)","v":0},{"$f":"SUM(CW330,DA330)","v":0},{"$f":"SUM(DE330,DI330)","v":0},{"$f":"SUM(DM330,DQ330)","v":0}]
[2,{"$f":"B330+1","v":"2026-07-07"},"                   Vacances          ",null,null,null,null,null,null,null,"                   Vacances          ",null,null,null,null,null,null,null,"                   Vacances          ",null,null,null,null,null,null,null,"                   Vacances          ",null,null,null,null,null,null,null,24,null,6,null,null,null,null,null,"                   Vacances          ",null,null,null,null,null,null,null,"                   Vacances          ",null,null,null,null,null,null,null,"                   Vacances          ",null,null,null,null,null,null,null,"                   Vacances          ",null,null,null,null,null,null,null,null,null,null,null,null,null,null,null,null,null,null,null,null,null,null,null,null,null,null,null,null,null,null,null,null,null,null,null,null,null,null,null,null,null,null,null,null,null,null,null,null,null,null,null,null,null,null,null,null,null,0,0,0,0,0,0,0,0,0,0,0,0,0,0,0,null,0,0,{"$f":"SUM(#REF!,$U331)","v":{"$error":"#REF!"}},{"$f":"SUM(#REF!,AC331)","v":{"$error":"#REF!"}},6,0,0,0,0,0,0,0,0,0,0]
[3,"2026-07-08","                   Vacances          ",null,null,null,null,null,null,null,"                   Vacances          ",null,null,null,null,null,null,null,"                   Vacances          ",null,null,null,null,null,null,null,"                   Vacances          ",null,null,null,null,null,null,null,24,null,6,null,null,null,null,null,"                   Vacances          ",null,null,null,null,null,null,null,"                   Vacances          ",null,null,null,null,null,null,null,"                   Vacances          ",null,null,null,null,null,null,null,"                   Vacances          ",null,null,null,null,null,null,null,null,null,null,null,null,null,null,null,null,null,null,null,null,null,null,null,null,null,null,null,null,null,null,null,null,null,null,null,null,null,null,null,null,null,null,null,null,null,null,null,null,null,null,null,null,null,null,null,null,null,0,0,0,0,0,0,0,0,0,0,0,0,0,0,0,null,0,0,{"$f":"SUM(#REF!,$U332)","v":{"$error":"#REF!"}},{"$f":"SUM(#REF!,AC332)","v":{"$error":"#REF!"}},6,0,0,0,0,0,0,0,0,0,0]
[4,"2026-07-09","                   Vacances          ",null,null,null,null,null,null,null,"                   Vacances          ",null,null,null,null,null,null,null,"                   Vacances          ",null,null,null,null,null,null,null,"                   Vacances          ",null,null,null,null,null,null,null,24,null,6,null,null,null,null,null,"                   Vacances          ",null,null,null,null,null,null,null,"                   Vacances          ",null,null,null,null,null,null,null,"                   Vacances          ",null,null,null,null,null,null,null,"                   Vacances          ",null,null,null,null,null,null,null,null,null,null,null,null,null,null,null,null,null,null,null,null,null,null,null,null,null,null,null,null,null,null,null,null,null,null,null,null,null,null,null,null,null,null,null,null,null,null,null,null,null,null,null,null,null,null,null,null,null,0,0,0,0,0,0,0,0,0,0,0,0,0,0,0,null,0,0,0,{"$f":"SUM(#REF!,AC333)","v":{"$error":"#REF!"}},6,0,0,0,0,0,0,0,0,0,0]
[5,"2026-07-10","                   Vacances          ",null,null,null,null,null,null,null,"                   Vacances          ",null,null,null,null,null,null,null,"                   Vacances          ",null,null,null,null,null,null,null,"                   Vacances          ",null,null,null,null,null,null,null,95,null,6,null,null,null,null,null,"                   Vacances          ",null,null,null,null,null,null,null,"                   Vacances          ",null,null,null,null,null,null,null,"                   Vacances          ",null,null,null,null,null,null,null,"                   Vacances          ",null,null,null,null,null,null,null,null,null,null,null,null,null,null,null,null,null,null,null,null,null,null,null,null,null,null,null,null,null,null,null,null,null,null,null,null,null,null,null,null,null,null,null,null,null,null,null,null,null,null,null,null,null,null,null,null,null,0,0,0,0,0,0,0,0,0,0,0,0,0,0,0,null,0,0,{"$f":"SUM(#REF!,$U334)","v":{"$error":"#REF!"}},{"$f":"SUM(AC334,AG334)","v":0},6,0,0,0,0,0,0,0,0,0,0]
[6,"2026-07-11","                                   WEEK-END                       ",null,null,null,null,null,null,null,"                                   WEEK-END                       ",null,null,null,null,null,null,null,"                                   WEEK-END                       ",null,null,null,null,null,null,null,"                                   WEEK-END                       ",null,null,null,null,null,null,null,"                                   WEEK-END                       ",null,null,null,null,null,null,null,"                                   WEEK-END                       ",null,null,null,null,null,null,null,"                                   WEEK-END                       ",null,null,null,null,null,null,null,"                                   WEEK-END                       ",null,null,null,null,null,null,null,"                                   WEEK-END                       ",null,null,null,null,null,null,null,null,null,null,null,null,null,null,null,null,null,null,null,null,null,null,null,null,null,null,null,null,null,null,null,null,null,null,null,null,null,null,null,null,null,null,null,null,null,null,null,null,null,null,null,null,null,null,null,null,null,0,0,0,0,0,0,0,0,0,0,0,0,0,0,0,null,0,0,0,{"$f":"SUM(AC335,AG335)","v":0},0,0,0,0,0,0,0,0,0,0,0]
[7,"2026-07-12","                                   WEEK-END                       ",null,null,null,null,null,null,null,"                                   WEEK-END                       ",null,null,null,null,null,null,null,"                                   WEEK-END                       ",null,null,null,null,null,null,null,"                                   WEEK-END                       ",null,null,null,null,null,null,null,"                                   WEEK-END                       ",null,null,null,null,null,null,null,"                                   WEEK-END                       ",null,null,null,null,null,null,null,"                                   WEEK-END                       ",null,null,null,null,null,null,null,"                                   WEEK-END                       ",null,null,null,null,null,null,null,"                                   WEEK-END                       ",null,null,null,null,null,null,null,null,null,null,null,null,null,null,null,null,null,null,null,null,null,null,null,null,null,null,null,null,null,null,null,null,null,null,null,null,null,null,null,null,null,null,null,null,null,null,null,null,null,null,null,null,null,null,null,null,null,0,0,0,0,0,0,0,0,0,0,0,0,0,0,0,null,0,0,0,{"$f":"SUM(AC336,AG336)","v":0},0,0,0,0,0,0,0,0,0,0,0]
[1,"2026-07-13","                   Vacances          ",null,null,null,null,null,null,null,"                   Vacances          ",null,null,null,null,null,null,null,"                   Vacances          ",null,null,null,null,null,null,null,"                   Vacances          ",null,null,null,null,null,null,null,95,null,6,null,null,null,null,null,"                   Vacances          ",null,null,null,null,null,null,null,"                   Vacances          ",null,null,null,null,null,null,null,"                   Vacances          ",null,null,null,null,null,null,null,"                   Vacances          ",null,null,null,null,null,null,null,null,null,null,null,null,null,null,null,null,null,null,null,null,null,null,null,null,null,null,null,null,null,null,null,null,null,null,null,null,null,null,null,null,null,null,null,null,null,null,null,null,null,null,null,null,null,null,null,null,null,0,0,0,0,0,0,0,0,0,0,0,0,0,0,0,null,0,0,{"$f":"SUM(#REF!,$U337)","v":{"$error":"#REF!"}},{"$f":"SUM(#REF!,AC337)","v":{"$error":"#REF!"}},6,0,0,0,0,0,0,0,0,0,0]
[2,"2026-07-14","                   Vacances          ",null,null,null,null,null,null,null,"                   Vacances          ",null,null,null,null,null,null,null,"                   Vacances          ",null,null,null,null,null,null,null,"                   Vacances          ",null,null,null,null,null,null,null,95,null,6,null,null,null,null,null,"                   Vacances          ",null,null,null,null,null,null,null,"                   Vacances          ",null,null,null,null,null,null,null,"                   Vacances          ",null,null,null,null,null,null,null,"                   Vacances          ",null,null,null,null,null,null,null,null,null,null,null,null,null,null,null,null,null,null,null,null,null,null,null,null,null,null,null,null,null,null,null,null,null,null,null,null,null,null,null,null,null,null,null,null,null,null,null,null,null,null,null,null,null,null,null,null,null,0,0,0,0,0,0,0,0,0,0,0,0,0,0,0,null,0,0,{"$f":"SUM(#REF!,$U338)","v":{"$error":"#REF!"}},{"$f":"SUM(#REF!,AC338)","v":{"$error":"#REF!"}},6,0,0,0,0,0,0,0,0,0,0]
[3,"2026-07-15","                   Vacances          ",null,null,null,null,null,null,null,"                   Vacances          ",null,null,null,null,null,null,null,"                   Vacances          ",null,null,null,null,null,null,null,"                   Vacances          ",null,null,null,null,null,null,null,24,null,6,null,null,null,null,null,"                   Vacances          ",null,null,null,null,null,null,null,"                   Vacances          ",null,null,null,null,null,null,null,"                   Vacances          ",null,null,null,null,null,null,null,"                   Vacances          ",null,null,null,null,null,null,null,null,null,null,null,null,null,null,null,null,null,null,null,null,null,null,null,null,null,null,null,null,null,null,null,null,null,null,null,null,null,null,null,null,null,null,null,null,null,null,null,null,null,null,null,null,null,null,null,null,null,0,0,0,0,0,0,0,0,0,0,0,0,0,0,0,null,0,0,{"$f":"SUM(#REF!,$U339)","v":{"$error":"#REF!"}},{"$f":"SUM(#REF!,AC339)","v":{"$error":"#REF!"}},6,0,0,0,0,0,0,0,0,0,0]
[4,"2026-07-16","                   Vacances          ",null,null,null,null,null,null,null,"                   Vacances          ",null,null,null,null,null,null,null,"                   Vacances          ",null,null,null,null,null,null,null,"                   Vacances          ",null,null,null,null,null,null,null,24,null,6,null,null,null,null,null,"                   Vacances          ",null,null,null,null,null,null,null,"                   Vacances          ",null,null,null,null,null,null,null,"                   Vacances          ",null,null,null,null,null,null,null,"                   Vacances          ",null,null,null,null,null,null,null,null,null,null,null,null,null,null,null,null,null,null,null,null,null,null,null,null,null,null,null,null,null,null,null,null,null,null,null,null,null,null,null,null,null,null,null,null,null,null,null,null,null,null,null,null,null,null,null,null,null,0,0,0,0,0,0,0,0,0,0,0,0,0,0,0,null,0,0,{"$f":"SUM(#REF!,$U340)","v":{"$error":"#REF!"}},{"$f":"SUM(#REF!,AC340)","v":{"$error":"#REF!"}},6,0,0,0,0,0,0,0,0,0,0]
[5,"2026-07-17","                   Vacances          ",null,null,null,null,null,null,null,"                   Vacances          ",null,null,null,null,null,null,null,"                   Vacances          ",null,null,null,null,null,null,null,"                   Vacances          ",null,null,null,null,null,null,null,24,null,6,"RT",null,null,null,null,"                   Vacances          ",null,null,null,null,null,null,null,"                   Vacances          ",null,null,null,null,null,null,null,"                   Vacances          ",null,null,null,null,null,null,null,"                   Vacances          ",null,null,null,null,null,null,null,null,null,null,null,null,null,null,null,null,null,null,null,null,null,null,null,null,null,null,null,null,null,null,null,null,null,null,null,null,null,null,null,null,null,null,null,null,null,null,null,null,null,null,null,null,null,null,null,null,null,0,0,0,0,0,0,0,0,0,0,0,0,0,0,0,null,0,0,0,{"$f":"SUM(#REF!,AC341)","v":{"$error":"#REF!"}},6,0,0,0,0,0,0,0,0,0,0]
[6,"2026-07-18","                                   WEEK-END                       ",null,null,null,null,null,null,null,"                                   WEEK-END                       ",null,null,null,null,null,null,null,"                                   WEEK-END                       ",null,null,null,null,null,null,null,"                                   WEEK-END                       ",null,null,null,null,null,null,null,"                                   WEEK-END                       ",null,null,null,null,null,null,null,"                                   WEEK-END                       ",null,null,null,null,null,null,null,"                                   WEEK-END                       ",null,null,null,null,null,null,null,"                                   WEEK-END                       ",null,null,null,null,null,null,null,"                                   WEEK-END                       ",null,null,null,null,null,null,null,null,null,null,null,null,null,null,null,null,null,null,null,null,null,null,null,null,null,null,null,null,null,null,null,null,null,null,null,null,null,null,null,null,null,null,null,null,null,null,null,null,null,null,null,null,null,null,null,null,null,0,0,0,0,0,0,0,0,0,0,0,0,0,0,0,null,0,0,0,{"$f":"SUM(AC342,AG342)","v":0},0,0,0,0,0,0,0,0,0,0,0]
[7,"2026-07-19","                                   WEEK-END                       ",null,null,null,null,null,null,null,"                                   WEEK-END                       ",null,null,null,null,null,null,null,"                                   WEEK-END                       ",null,null,null,null,null,null,null,"                                   WEEK-END                       ",null,null,null,null,null,null,null,"                                   WEEK-END                       ",null,null,null,null,null,null,null,"                                   WEEK-END                       ",null,null,null,null,null,null,null,"                                   WEEK-END                       ",null,null,null,null,null,null,null,"                                   WEEK-END                       ",null,null,null,null,null,null,null,"                                   WEEK-END                       ",null,null,null,null,null,null,null,null,null,null,null,null,null,null,null,null,null,null,null,null,null,null,null,null,null,null,null,null,null,null,null,null,null,null,null,null,null,null,null,null,null,null,null,null,null,null,null,null,null,null,null,null,null,null,null,null,null,0,0,0,0,0,0,0,0,0,0,0,0,0,0,0,null,0,0,0,{"$f":"SUM(AC343,AG343)","v":0},0,0,0,0,0,0,0,0,0,0,0]
[1,"2026-07-20","                   Vacances          ",null,null,null,null,null,null,null,"                   Vacances          ",null,null,null,null,null,null,null,"                   Vacances          ",null,null,null,null,null,null,null,"                   Vacances          ",null,null,null,null,null,null,null,"                   Vacances          ",null,null,null,null,null,null,null,"                   Vacances          ",null,null,null,null,null,null,null,"                   Vacances          ",null,null,null,null,null,null,null,"                   Vacances          ",null,null,null,null,null,null,null,"                   Vacances          ",null,null,null,null,null,null,null,null,null,null,null,null,null,null,null,null,null,null,null,null,null,null,null,null,null,null,null,null,null,null,null,null,null,null,null,null,null,null,null,null,null,null,null,null,null,null,null,null,null,null,null,null,null,null,null,null,null,0,0,0,0,0,0,0,0,0,0,0,0,0,0,0,null,0,0,{"$f":"SUM(#REF!,$U344)","v":{"$error":"#REF!"}},{"$f":"SUM(#REF!,AC344)","v":{"$error":"#REF!"}},0,0,0,0,0,0,0,0,0,0,0]
[2,"2026-07-21","                   Vacances          ",null,null,null,null,null,null,null,"                   Vacances          ",null,null,null,null,null,null,null,"                   Vacances          ",null,null,null,null,null,null,null,"                   Vacances          ",null,null,null,null,null,null,null,"                   Vacances          ",null,null,null,null,null,null,null,"                   Vacances          ",null,null,null,null,null,null,null,"                   Vacances          ",null,null,null,null,null,null,null,"                   Vacances          ",null,null,null,null,null,null,null,"                   Vacances          ",null,null,null,null,null,null,null,null,null,null,null,null,null,null,null,null,null,null,null,null,null,null,null,null,null,null,null,null,null,null,null,null,null,null,null,null,null,null,null,null,null,null,null,null,null,null,null,null,null,null,null,null,null,null,null,null,null,0,0,0,0,0,0,0,0,0,0,0,0,0,0,0,null,0,0,{"$f":"SUM(#REF!,$U345)","v":{"$error":"#REF!"}},{"$f":"SUM(#REF!,AC345)","v":{"$error":"#REF!"}},0,0,0,0,0,0,0,0,0,0,0]
[3,"2026-07-22","                   Vacances          ",null,null,null,null,null,null,null,"                   Vacances          ",null,null,null,null,null,null,null,"                   Vacances          ",null,null,null,null,null,null,null,"                   Vacances          ",null,null,null,null,null,null,null,"                   Vacances          ",null,null,null,null,null,null,null,"                   Vacances          ",null,null,null,null,null,null,null,"                   Vacances          ",null,null,null,null,null,null,null,"                   Vacances          ",null,null,null,null,null,null,null,"                   Vacances          ",null,null,null,null,null,null,null,null,null,null,null,null,null,null,null,null,null,null,null,null,null,null,null,null,null,null,null,null,null,null,null,null,null,null,null,null,null,null,null,null,null,null,null,null,null,null,null,null,null,null,null,null,null,null,null,null,null,0,0,0,0,0,0,0,0,0,0,0,0,0,0,0,null,0,0,0,{"$f":"SUM(#REF!,AC346)","v":{"$error":"#REF!"}},0,0,0,0,0,0,0,0,0,0,0]
[4,"2026-07-23","                   Vacances          ",null,null,null,null,null,null,null,"                   Vacances          ",null,null,null,null,null,null,null,"                   Vacances          ",null,null,null,null,null,null,null,"                   Vacances          ",null,null,null,null,null,null,null,"                   Vacances          ",null,null,null,null,null,null,null,"                   Vacances          ",null,null,null,null,null,null,null,"                   Vacances          ",null,null,null,null,null,null,null,"                   Vacances          ",null,null,null,null,null,null,null,"                   Vacances          ",null,null,null,null,null,null,null,null,null,null,null,null,null,null,null,null,null,null,null,null,null,null,null,null,null,null,null,null,null,null,null,null,null,null,null,null,null,null,null,null,null,null,null,null,null,null,null,null,null,null,null,null,null,null,null,null,null,0,0,0,0,0,0,0,0,0,0,0,0,0,0,0,null,0,0,0,{"$f":"SUM(#REF!,AC347)","v":{"$error":"#REF!"}},0,0,0,0,0,0,0,0,0,0,0]
[5,"2026-07-24","                   Vacances          ",null,null,null,null,null,null,null,"                   Vacances          ",null,null,null,null,null,null,null,"                   Vacances          ",null,null,null,null,null,null,null,"                   Vacances          ",null,null,null,null,null,null,null,"                   Vacances          ",null,null,null,null,null,null,null,"                   Vacances          ",null,null,null,null,null,null,null,"                   Vacances          ",null,null,null,null,null,null,null,"                   Vacances          ",null,null,null,null,null,null,null,"                   Vacances          ",null,null,null,null,null,null,null,null,null,null,null,null,null,null,null,null,null,null,null,null,null,null,null,null,null,null,null,null,null,null,null,null,null,null,null,null,null,null,null,null,null,null,null,null,null,null,null,null,null,null,null,null,null,null,null,null,null,0,0,0,0,0,0,0,0,0,0,0,0,0,0,0,null,0,0,0,{"$f":"SUM(AC348,AG348)","v":0},0,0,0,0,0,0,0,0,0,0,0]
[6,"2026-07-25","                                   WEEK-END                       ",null,null,null,null,null,null,null,"                                   WEEK-END                       ",null,null,null,null,null,null,null,"                                   WEEK-END                       ",null,null,null,null,null,null,null,"                                   WEEK-END                       ",null,null,null,null,null,null,null,"                                   WEEK-END                       ",null,null,null,null,null,null,null,"                                   WEEK-END                       ",null,null,null,null,null,null,null,"                                   WEEK-END                       ",null,null,null,null,null,null,null,"                                   WEEK-END                       ",null,null,null,null,null,null,null,"                                   WEEK-END                       ",null,null,null,null,null,null,null,null,null,null,null,null,null,null,null,null,null,null,null,null,null,null,null,null,null,null,null,null,null,null,null,null,null,null,null,null,null,null,null,null,null,null,null,null,null,null,null,null,null,null,null,null,null,null,null,null,null,0,0,0,0,0,0,0,0,0,0,0,0,0,0,0,null,0,0,0,{"$f":"SUM(AC349,AG349)","v":0},0,0,0,0,0,0,0,0,0,0,0]
[7,"2026-07-26","                                   WEEK-END                       ",null,null,null,null,null,null,null,"                                   WEEK-END                       ",null,null,null,null,null,null,null,"                                   WEEK-END                       ",null,null,null,null,null,null,null,"                                   WEEK-END                       ",null,null,null,null,null,null,null,"                                   WEEK-END                       ",null,null,null,null,null,null,null,"                                   WEEK-END                       ",null,null,null,null,null,null,null,"                                   WEEK-END                       ",null,null,null,null,null,null,null,"                                   WEEK-END                       ",null,null,null,null,null,null,null,"                                   WEEK-END                       ",null,null,null,null,null,null,null,null,null,null,null,null,null,null,null,null,null,null,null,null,null,null,null,null,null,null,null,null,null,null,null,null,null,null,null,null,null,null,null,null,null,null,null,null,null,null,null,null,null,null,null,null,null,null,null,null,null,0,0,0,0,0,0,0,0,0,0,0,0,0,0,0,null,0,0,0,{"$f":"SUM(AC350,AG350)","v":0},0,0,0,0,0,0,0,0,0,0,0]
[1,"2026-07-27","                   Vacances          ",null,null,null,null,null,null,null,"                   Vacances          ",null,null,null,null,null,null,null,"                   Vacances          ",null,null,null,null,null,null,null,"                   Vacances          ",null,null,null,null,null,null,null,"                   Vacances          ",null,null,null,null,null,null,null,"                   Vacances          ",null,null,null,null,null,null,null,"                   Vacances          ",null,null,null,null,null,null,null,"                   Vacances          ",null,null,null,null,null,null,null,"                   Vacances          ",null,null,null,null,null,null,null,null,null,null,null,null,null,null,null,null,null,null,null,null,null,null,null,null,null,null,null,null,null,null,null,null,null,null,null,null,null,null,null,null,null,null,null,null,null,null,null,null,null,null,null,null,null,null,null,null,null,0,0,0,0,0,0,0,0,0,0,0,0,0,0,0,null,0,0,0,{"$f":"SUM(#REF!,AC351)","v":{"$error":"#REF!"}},0,0,0,0,0,0,0,0,0,0,0]
[2,"2026-07-28","                   Vacances          ",null,null,null,null,null,null,null,"                   Vacances          ",null,null,null,null,null,null,null,"                   Vacances          ",null,null,null,null,null,null,null,"                   Vacances          ",null,null,null,null,null,null,null,"                   Vacances          ",null,null,null,null,null,null,null,"                   Vacances          ",null,null,null,null,null,null,null,"                   Vacances          ",null,null,null,null,null,null,null,"                   Vacances          ",null,null,null,null,null,null,null,"                   Vacances          ",null,null,null,null,null,null,null,null,null,null,null,null,null,null,null,null,null,null,null,null,null,null,null,null,null,null,null,null,null,null,null,null,null,null,null,null,null,null,null,null,null,null,null,null,null,null,null,null,null,null,null,null,null,null,null,null,null,0,0,0,0,0,0,0,0,0,0,0,0,0,0,0,null,0,0,0,{"$f":"SUM(#REF!,AC352)","v":{"$error":"#REF!"}},0,0,0,0,0,0,0,0,0,0,0]
[3,"2026-07-29","                   Vacances          ",null,null,null,null,null,null,null,"                   Vacances          ",null,null,null,null,null,null,null,"                   Vacances          ",null,null,null,null,null,null,null,"                   Vacances          ",null,null,null,null,null,null,null,"                   Vacances          ",null,null,null,null,null,null,null,"                   Vacances          ",null,null,null,null,null,null,null,"                   Vacances          ",null,null,null,null,null,null,null,"                   Vacances          ",null,null,null,null,null,null,null,"                   Vacances          ",null,null,null,null,null,null,null,null,null,null,null,null,null,null,null,null,null,null,null,null,null,null,null,null,null,null,null,null,null,null,null,null,null,null,null,null,null,null,null,null,null,null,null,null,null,null,null,null,null,null,null,null,null,null,null,null,null,0,0,0,0,0,0,0,0,0,0,0,0,0,0,0,null,0,0,0,{"$f":"SUM(#REF!,AC353)","v":{"$error":"#REF!"}},0,0,0,0,0,0,0,0,0,0,0]
[4,"2026-07-30","                   Vacances          ",null,null,null,null,null,null,null,"                   Vacances          ",null,null,null,null,null,null,null,"                   Vacances          ",null,null,null,null,null,null,null,"                   Vacances          ",null,null,null,null,null,null,null,"                   Vacances          ",null,null,null,null,null,null,null,"                   Vacances          ",null,null,null,null,null,null,null,"                   Vacances          ",null,null,null,null,null,null,null,"                   Vacances          ",null,null,null,null,null,null,null,"                   Vacances          ",null,null,null,null,null,null,null,null,null,null,null,null,null,null,null,null,null,null,null,null,null,null,null,null,null,null,null,null,null,null,null,null,null,null,null,null,null,null,null,null,null,null,null,null,null,null,null,null,null,null,null,null,null,null,null,null,null,0,0,0,0,0,0,0,0,0,0,0,0,0,0,0,null,0,0,0,{"$f":"SUM(#REF!,AC354)","v":{"$error":"#REF!"}},0,0,0,0,0,0,0,0,0,0,0]
[5,"2026-07-31","                   Vacances          ",null,null,null,null,null,null,null,"                   Vacances          ",null,null,null,null,null,null,null,"                   Vacances          ",null,null,null,null,null,null,null,"                   Vacances          ",null,null,null,null,null,null,null,"                   Vacances          ",null,null,null,null,null,null,null,"                   Vacances          ",null,null,null,null,null,null,null,"                   Vacances          ",null,null,null,null,null,null,null,"                   Vacances          ",null,null,null,null,null,null,null,"                   Vacances          ",null,null,null,null,null,null,null,null,null,null,null,null,null,null,null,null,null,null,null,null,null,null,null,null,null,null,null,null,null,null,null,null,null,null,null,null,null,null,null,null,null,null,null,null,null,null,null,null,null,null,null,null,null,null,null,null,null,0,0,0,0,0,0,0,0,0,0,0,0,0,0,0,null,0,0,0,{"$f":"SUM(#REF!,AC355)","v":{"$error":"#REF!"}},0,0,0,0,0,0,0,0,0,0,0]
[6,"2026-08-01","                                   WEEK-END                       ",null,null,null,null,null,null,null,"                                   WEEK-END                       ",null,null,null,null,null,null,null,"                                   WEEK-END                       ",null,null,null,null,null,null,null,"                                   WEEK-END                       ",null,null,null,null,null,null,null,"                                   WEEK-END                       ",null,null,null,null,null,null,null,"                                   WEEK-END                       ",null,null,null,null,null,null,null,"                                   WEEK-END                       ",null,null,null,null,null,null,null,"                                   WEEK-END                       ",null,null,null,null,null,null,null,"                                   WEEK-END                       ",null,null,null,null,null,null,null,null,null,null,null,null,null,null,null,null,null,null,null,null,null,null,null,null,null,null,null,null,null,null,null,null,null,null,null,null,null,null,null,null,null,null,null,null,null,null,null,null,null,null,null,null,null,null,null,null,null,0,0,0,0,0,0,0,0,0,0,0,0,0,0,0,null,0,0,0,{"$f":"SUM(AC356,AG356)","v":0},0,0,0,0,0,0,0,0,0,0,0]
[7,"2026-08-02","                                   WEEK-END                       ",null,null,null,null,null,null,null,"                                   WEEK-END                       ",null,null,null,null,null,null,null,"                                   WEEK-END                       ",null,null,null,null,null,null,null,"                                   WEEK-END                       ",null,null,null,null,null,null,null,"                                   WEEK-END                       ",null,null,null,null,null,null,null,"                                   WEEK-END                       ",null,null,null,null,null,null,null,"                                   WEEK-END                       ",null,null,null,null,null,null,null,"                                   WEEK-END                       ",null,null,null,null,null,null,null,"                                   WEEK-END                       ",null,null,null,null,null,null,null,null,null,null,null,null,null,null,null,null,null,null,null,null,null,null,null,null,null,null,null,null,null,null,null,null,null,null,null,null,null,null,null,null,null,null,null,null,null,null,null,null,null,null,null,null,null,null,null,null,null,0,0,0,0,0,0,0,0,0,0,0,0,0,0,0,null,0,0,0,{"$f":"SUM(AC357,AG357)","v":0},0,0,0,0,0,0,0,0,0,0,0]
[1,"2026-08-03","                   Vacances          ",null,null,null,null,null,null,null,"                   Vacances          ",null,null,null,null,null,null,null,"                   Vacances          ",null,null,null,null,null,null,null,"                   Vacances          ",null,null,null,null,null,null,null,"                   Vacances          ",null,null,null,null,null,null,null,"                   Vacances          ",null,null,null,null,null,null,null,"                   Vacances          ",null,null,null,null,null,null,null,"                   Vacances          ",null,null,null,null,null,null,null,"                   Vacances          ",null,null,null,null,null,null,null,null,null,null,null,null,null,null,null,null,null,null,null,null,null,null,null,null,null,null,null,null,null,null,null,null,null,null,null,null,null,null,null,null,null,null,null,null,null,null,null,null,null,null,null,null,null,null,null,null,null,0,0,0,0,0,0,0,0,0,0,0,0,0,0,0,null,0,0,0,{"$f":"SUM(#REF!,AC358)","v":{"$error":"#REF!"}},0,0,0,0,0,0,0,0,0,0,0]
[2,"2026-08-04","                   Vacances          ",null,null,null,null,null,null,null,"                   Vacances          ",null,null,null,null,null,null,null,"                   Vacances          ",null,null,null,null,null,null,null,"                   Vacances          ",null,null,null,null,null,null,null,"                   Vacances          ",null,null,null,null,null,null,null,"                   Vacances          ",null,null,null,null,null,null,null,"                   Vacances          ",null,null,null,null,null,null,null,"                   Vacances          ",null,null,null,null,null,null,null,"                   Vacances          ",null,null,null,null,null,null,null,null,null,null,null,null,null,null,null,null,null,null,null,null,null,null,null,null,null,null,null,null,null,null,null,null,null,null,null,null,null,null,null,null,null,null,null,null,null,null,null,null,null,null,null,null,null,null,null,null,null,0,0,0,0,0,0,0,0,0,0,0,0,0,0,0,null,0,0,0,{"$f":"SUM(#REF!,AC359)","v":{"$error":"#REF!"}},0,0,0,0,0,0,0,0,0,0,0]
[3,"2026-08-05","                   Vacances          ",null,null,null,null,null,null,null,"                   Vacances          ",null,null,null,null,null,null,null,"                   Vacances          ",null,null,null,null,null,null,null,"                   Vacances          ",null,null,null,null,null,null,null,"                   Vacances          ",null,null,null,null,null,null,null,"                   Vacances          ",null,null,null,null,null,null,null,"                   Vacances          ",null,null,null,null,null,null,null,"                   Vacances          ",null,null,null,null,null,null,null,"                   Vacances          ",null,null,null,null,null,null,null,null,null,null,null,null,null,null,null,null,null,null,null,null,null,null,null,null,null,null,null,null,null,null,null,null,null,null,null,null,null,null,null,null,null,null,null,null,null,null,null,null,null,null,null,null,null,null,null,null,null,0,0,0,0,0,0,0,0,0,0,0,0,0,0,0,null,0,0,0,{"$f":"SUM(#REF!,AC360)","v":{"$error":"#REF!"}},0,0,0,0,0,0,0,0,0,0,0]
[4,"2026-08-06","                   Vacances          ",null,null,null,null,null,null,null,"                   Vacances          ",null,null,null,null,null,null,null,"                   Vacances          ",null,null,null,null,null,null,null,"                   Vacances          ",null,null,null,null,null,null,null,"                   Vacances          ",null,null,null,null,null,null,null,"                   Vacances          ",null,null,null,null,null,null,null,"                   Vacances          ",null,null,null,null,null,null,null,"                   Vacances          ",null,null,null,null,null,null,null,"                   Vacances          ",null,null,null,null,null,null,null,null,null,null,null,null,null,null,null,null,null,null,null,null,null,null,null,null,null,null,null,null,null,null,null,null,null,null,null,null,null,null,null,null,null,null,null,null,null,null,null,null,null,null,null,null,null,null,null,null,null,0,0,0,0,0,0,0,0,0,0,0,0,0,0,0,null,0,0,0,{"$f":"SUM(#REF!,AC361)","v":{"$error":"#REF!"}},0,0,0,0,0,0,0,0,0,0,0]
[5,"2026-08-07","                   Vacances          ",null,null,null,null,null,null,null,"                   Vacances          ",null,null,null,null,null,null,null,"                   Vacances          ",null,null,null,null,null,null,null,"                   Vacances          ",null,null,null,null,null,null,null,"                   Vacances          ",null,null,null,null,null,null,null,"                   Vacances          ",null,null,null,null,null,null,null,"                   Vacances          ",null,null,null,null,null,null,null,"                   Vacances          ",null,null,null,null,null,null,null,"                   Vacances          ",null,null,null,null,null,null,null,null,null,null,null,null,null,null,null,null,null,null,null,null,null,null,null,null,null,null,null,null,null,null,null,null,null,null,null,null,null,null,null,null,null,null,null,null,null,null,null,null,null,null,null,null,null,null,null,null,null,0,0,0,0,0,0,0,0,0,0,0,0,0,0,0,null,0,0,0,{"$f":"SUM(#REF!,AC362)","v":{"$error":"#REF!"}},0,0,0,0,0,0,0,0,0,0,0]
[6,"2026-08-08","                                   WEEK-END                       ",null,null,null,null,null,null,null,"                                   WEEK-END                       ",null,null,null,null,null,null,null,"                                   WEEK-END                       ",null,null,null,null,null,null,null,"                                   WEEK-END                       ",null,null,null,null,null,null,null,"                                   WEEK-END                       ",null,null,null,null,null,null,null,"                                   WEEK-END                       ",null,null,null,null,null,null,null,"                                   WEEK-END                       ",null,null,null,null,null,null,null,"                                   WEEK-END                       ",null,null,null,null,null,null,null,"                                   WEEK-END                       ",null,null,null,null,null,null,null,null,null,null,null,null,null,null,null,null,null,null,null,null,null,null,null,null,null,null,null,null,null,null,null,null,null,null,null,null,null,null,null,null,null,null,null,null,null,null,null,null,null,null,null,null,null,null,null,null,null,0,0,0,0,0,0,0,0,0,0,0,0,0,0,0,null,0,0,0,{"$f":"SUM(AC363,AG363)","v":0},0,0,0,0,0,0,0,0,0,0,0]
[7,"2026-08-09","                                   WEEK-END                       ",null,null,null,null,null,null,null,"                                   WEEK-END                       ",null,null,null,null,null,null,null,"                                   WEEK-END                       ",null,null,null,null,null,null,null,"                                   WEEK-END                       ",null,null,null,null,null,null,null,"                                   WEEK-END                       ",null,null,null,null,null,null,null,"                                   WEEK-END                       ",null,null,null,null,null,null,null,"                                   WEEK-END                       ",null,null,null,null,null,null,null,"                                   WEEK-END                       ",null,null,null,null,null,null,null,"                                   WEEK-END                       ",null,null,null,null,null,null,null,null,null,null,null,null,null,null,null,null,null,null,null,null,null,null,null,null,null,null,null,null,null,null,null,null,null,null,null,null,null,null,null,null,null,null,null,null,null,null,null,null,null,null,null,null,null,null,null,null,null,0,0,0,0,0,0,0,0,0,0,0,0,0,0,0,null,0,0,0,{"$f":"SUM(AC364,AG364)","v":0},0,0,0,0,0,0,0,0,0,0,0]
[1,"2026-08-10","                   Vacances          ",null,null,null,null,null,null,null,"                   Vacances          ",null,null,null,null,null,null,null,"                   Vacances          ",null,null,null,null,null,null,null,"                   Vacances          ",null,null,null,null,null,null,null,"                   Vacances          ",null,null,null,null,null,null,null,"                   Vacances          ",null,null,null,null,null,null,null,"                   Vacances          ",null,null,null,null,null,null,null,"                   Vacances          ",null,null,null,null,null,null,null,"                   Vacances          ",null,null,null,null,null,null,null,null,null,null,null,null,null,null,null,null,null,null,null,null,null,null,null,null,null,null,null,null,null,null,null,null,null,null,null,null,null,null,null,null,null,null,null,null,null,null,null,null,null,null,null,null,null,null,null,null,null,0,0,0,0,0,0,0,0,0,0,0,0,0,0,0,null,0,0,0,{"$f":"SUM(#REF!,AC365)","v":{"$error":"#REF!"}},0,0,0,0,0,0,0,0,0,0,0]
[2,"2026-08-11","                   Vacances          ",null,null,null,null,null,null,null,"                   Vacances          ",null,null,null,null,null,null,null,"                   Vacances          ",null,null,null,null,null,null,null,"                   Vacances          ",null,null,null,null,null,null,null,"                   Vacances          ",null,null,null,null,null,null,null,"                   Vacances          ",null,null,null,null,null,null,null,"                   Vacances          ",null,null,null,null,null,null,null,"                   Vacances          ",null,null,null,null,null,null,null,"                   Vacances          ",null,null,null,null,null,null,null,null,null,null,null,null,null,null,null,null,null,null,null,null,null,null,null,null,null,null,null,null,null,null,null,null,null,null,null,null,null,null,null,null,null,null,null,null,null,null,null,null,null,null,null,null,null,null,null,null,null,0,0,0,0,0,0,0,0,0,0,0,0,0,0,0,null,0,0,0,{"$f":"SUM(#REF!,AC366)","v":{"$error":"#REF!"}},0,0,0,0,0,0,0,0,0,0,0]
[3,"2026-08-12","                   Vacances          ",null,null,null,null,null,null,null,"                   Vacances          ",null,null,null,null,null,null,null,"                   Vacances          ",null,null,null,null,null,null,null,"                   Vacances          ",null,null,null,null,null,null,null,"                   Vacances          ",null,null,null,null,null,null,null,"                   Vacances          ",null,null,null,null,null,null,null,"                   Vacances          ",null,null,null,null,null,null,null,"                   Vacances          ",null,null,null,null,null,null,null,"                   Vacances          ",null,null,null,null,null,null,null,null,null,null,null,null,null,null,null,null,null,null,null,null,null,null,null,null,null,null,null,null,null,null,null,null,null,null,null,null,null,null,null,null,null,null,null,null,null,null,null,null,null,null,null,null,null,null,null,null,null,0,0,0,0,0,0,0,0,0,0,0,0,0,0,0,null,0,0,0,{"$f":"SUM(AC367,AG367)","v":0},0,0,0,0,0,0,0,0,0,0,0]
[4,"2026-08-13","                   Vacances          ",null,null,null,null,null,null,null,"                   Vacances          ",null,null,null,null,null,null,null,"                   Vacances          ",null,null,null,null,null,null,null,"                   Vacances          ",null,null,null,null,null,null,null,"                   Vacances          ",null,null,null,null,null,null,null,"                   Vacances          ",null,null,null,null,null,null,null,"                   Vacances          ",null,null,null,null,null,null,null,"                   Vacances          ",null,null,null,null,null,null,null,"                   Vacances          ",null,null,null,null,null,null,null,null,null,null,null,null,null,null,null,null,null,null,null,null,null,null,null,null,null,null,null,null,null,null,null,null,null,null,null,null,null,null,null,null,null,null,null,null,null,null,null,null,null,null,null,null,null,null,null,null,null,0,0,0,0,0,0,0,0,0,0,0,0,0,0,0,null,0,0,0,{"$f":"SUM(#REF!,AC368)","v":{"$error":"#REF!"}},0,0,0,0,0,0,0,0,0,0,0]
[5,"2026-08-14","                   Vacances          ",null,null,null,null,null,null,null,"                   Vacances          ",null,null,null,null,null,null,null,"                   Vacances          ",null,null,null,null,null,null,null,"                   Vacances          ",null,null,null,null,null,null,null,"                   Vacances          ",null,null,null,null,null,null,null,"                   Vacances          ",null,null,null,null,null,null,null,"                   Vacances          ",null,null,null,null,null,null,null,"                   Vacances          ",null,null,null,null,null,null,null,"                   Vacances          ",null,null,null,null,null,null,null,null,null,null,null,null,null,null,null,null,null,null,null,null,null,null,null,null,null,null,null,null,null,null,null,null,null,null,null,null,null,null,null,null,null,null,null,null,null,null,null,null,null,null,null,null,null,null,null,null,null,0,0,0,0,0,0,0,0,0,0,0,0,0,0,0,null,0,0,0,{"$f":"SUM(AC369,AG369)","v":0},0,0,0,0,0,0,0,0,0,0,0]
[6,"2026-08-15","                                   WEEK-END                       ",null,null,null,null,null,null,null,"                                   WEEK-END                       ",null,null,null,null,null,null,null,"                                   WEEK-END                       ",null,null,null,null,null,null,null,"                                   WEEK-END                       ",null,null,null,null,null,null,null,"                                   WEEK-END                       ",null,null,null,null,null,null,null,"                                   WEEK-END                       ",null,null,null,null,null,null,null,"                                   WEEK-END                       ",null,null,null,null,null,null,null,"                                   WEEK-END                       ",null,null,null,null,null,null,null,"                                   WEEK-END                       ",null,null,null,null,null,null,null,null,null,null,null,null,null,null,null,null,null,null,null,null,null,null,null,null,null,null,null,null,null,null,null,null,null,null,null,null,null,null,null,null,null,null,null,null,null,null,null,null,null,null,null,null,null,null,null,null,null,0,0,0,0,0,0,0,0,0,0,0,0,0,0,0,null,0,0,0,{"$f":"SUM(AC370,AG370)","v":0},0,0,0,0,0,0,0,0,0,0,0]
[7,"2026-08-16","                                   WEEK-END                       ",null,null,null,null,null,null,null,"                                   WEEK-END                       ",null,null,null,null,null,null,null,"                                   WEEK-END                       ",null,null,null,null,null,null,null,"                                   WEEK-END                       ",null,null,null,null,null,null,null,"                                   WEEK-END                       ",null,null,null,null,null,null,null,"                                   WEEK-END                       ",null,null,null,null,null,null,null,"                                   WEEK-END                       ",null,null,null,null,null,null,null,"                                   WEEK-END                       ",null,null,null,null,null,null,null,"                                   WEEK-END                       ",null,null,null,null,null,null,null,null,null,null,null,null,null,null,null,null,null,null,null,null,null,null,null,null,null,null,null,null,null,null,null,null,null,null,null,null,null,null,null,null,null,null,null,null,null,null,null,null,null,null,null,null,null,null,null,null,null,0,0,0,0,0,0,0,0,0,0,0,0,0,0,0,null,0,0,0,{"$f":"SUM(AC371,AG371)","v":0},0,0,0,0,0,0,0,0,0,0,0]
[1,"2026-08-17","                   Vacances          ",null,null,null,null,null,null,null,"                   Vacances          ",null,null,null,null,null,null,null,"                   Vacances          ",null,null,null,null,null,null,null,"                   Vacances          ",null,null,null,null,null,null,null,"                   Vacances          ",null,null,null,null,null,null,null,"                   Vacances          ",null,null,null,null,null,null,null,"                   Vacances          ",null,null,null,null,null,null,null,"                   Vacances          ",null,null,null,null,null,null,null,"                   Vacances          ",null,null,null,null,null,null,null,null,null,null,null,null,null,null,null,null,null,null,null,null,null,null,null,null,null,null,null,null,null,null,null,null,null,null,null,null,null,null,null,null,null,null,null,null,null,null,null,null,null,null,null,null,null,null,null,null,null,0,0,0,0,0,0,0,0,0,0,0,0,0,0,0,null,0,0,0,{"$f":"SUM(#REF!,AC372)","v":{"$error":"#REF!"}},0,0,0,0,0,0,0,0,0,0,0]
[2,"2026-08-18","                   Vacances          ",null,null,null,null,null,null,null,"                   Vacances          ",null,null,null,null,null,null,null,"                   Vacances          ",null,null,null,null,null,null,null,"                   Vacances          ",null,null,null,null,null,null,null,"                   Vacances          ",null,null,null,null,null,null,null,"                   Vacances          ",null,null,null,null,null,null,null,"                   Vacances          ",null,null,null,null,null,null,null,"                   Vacances          ",null,null,null,null,null,null,null,"                   Vacances          ",null,null,null,null,null,null,null,null,null,null,null,null,null,null,null,null,null,null,null,null,null,null,null,null,null,null,null,null,null,null,null,null,null,null,null,null,null,null,null,null,null,null,null,null,null,null,null,null,null,null,null,null,null,null,null,null,null,0,0,0,0,0,0,0,0,0,0,0,0,0,0,0,null,0,0,0,{"$f":"SUM(AC373,AG373)","v":0},0,0,0,0,0,0,0,0,0,0,0]
[3,"2026-08-19","                   Vacances          ",null,null,null,null,null,null,null,"                   Vacances          ",null,null,null,null,null,null,null,"                   Vacances          ",null,null,null,null,null,null,null,"                   Vacances          ",null,null,null,null,null,null,null,"                   Vacances          ",null,null,null,null,null,null,null,"                   Vacances          ",null,null,null,null,null,null,null,"                   Vacances          ",null,null,null,null,null,null,null,"                   Vacances          ",null,null,null,null,null,null,null,"                   Vacances          ",null,null,null,null,null,null,null,null,null,null,null,null,null,null,null,null,null,null,null,null,null,null,null,null,null,null,null,null,null,null,null,null,null,null,null,null,null,null,null,null,null,null,null,null,null,null,null,null,null,null,null,null,null,null,null,null,null,0,0,0,0,0,0,0,0,0,0,0,0,0,0,0]
[]
[]
["Calculateur de période par module"]
["Modules",null,{"$f":"C4","v":"Groupe 27"},null,null,null,null,null,null,null,{"$f":"K4","v":"Groupe 28"},null,null,null,null,null,null,null,{"$f":"S4","v":"Groupe 29"},null,null,null,null,null,null,null,{"$f":"AA4","v":"Groupe 30"},null,null,null,null,null,null,null,{"$f":"AI4","v":"Groupe 31"},null,null,null,null,null,null,null,{"$f":"AQ4","v":"Groupe 32"},null,null,null,null,null,null,null,{"$f":"AY4","v":"Groupe 33"},null,null,null,null,null,null,null,{"$f":"BG4","v":"Groupe 34"},null,null,null,null,null,null,null,{"$f":"BO4","v":"PréDEP"},null,null,null,null,null,null,null,{"$f":"BW4","v":"Groupe 10"},null,null,null,null,null,null,null,{"$f":"CE4","v":"Groupe 11"},null,null,null,null,null,null,null,{"$f":"CM4","v":"Groupe 12"},null,null,null,null,null,null,null,{"$f":"CU4","v":"Groupe 13"},null,null,null,null,null,null,null,{"$f":"DC4","v":"Groupe 14"},null,null,null,null,null,null,null,{"$f":"DK4","v":"Groupe 15"}]
[null,null,"à prog.",null,"entrées",null,"diff  ",null,"à faire",null,"à prog.",null,"entrées",null,"diff  ",null,"à faire",null,"à prog.",null,"entrées",null,"diff  ",null,"à faire",null,"à prog.",null,"entrées",null,"diff  ",null,"à faire",null,"à prog.",null,"entrées",null,"diff  ",null,"à faire",null,"à prog.",null,"entrées",null,"diff  ",null,"à faire",null,"à prog.",null,"entrées",null,"diff  ",null,"à faire",null,"à prog.",null,"entrées",null,"diff  ",null,"à faire",null,"à prog.",null,"entrées",null,"diff  ",null,"à faire",null,"à prog.",null,"entrées",null,"diff  ",null,"à faire",null,"à prog.",null,"entrées",null,"diff  ",null,"à faire",null,"à prog.",null,"entrées",null,"diff  ",null,"à faire",null,"à prog.",null,"entrées",null,"diff  ",null,"à faire",null,"à prog.",null,"entrées",null,"diff  ",null,"à faire",null,"à prog.",null,"entrées",null,"diff  ",null,"à faire"]
["module 1",null,{"$f":"IF(E380=(I380),\"ok\",($A380))","v":"module 1"},null,{"$f":"SUMIF(C$9:C$374,1,E$9:E$374)+SUMIF(G$9:G$374,1,I$9:I$374)","v":0},null,{"$f":"IF((C380=(\"ok\")),0,(I380-E380))","v":12},null,12,null,{"$f":"IF(M380=(Q380),\"ok\",($A380))","v":"module 1"},null,{"$f":"SUMIF(K$9:K$374,1,M$9:M$374)+SUMIF(O$9:O$374,1,Q$9:Q$374)","v":0},null,{"$f":"IF((K380=(\"ok\")),0,(Q380-M380))","v":12},null,12,null,{"$f":"IF(U380=(Y380),\"ok\",($A380))","v":"module 1"},null,{"$f":"SUMIF(S$9:S$374,1,U$9:U$374)+SUMIF(W$9:W$374,1,Y$9:Y$374)","v":0},null,{"$f":"IF((S380=(\"ok\")),0,(Y380-U380))","v":12},null,12,null,{"$f":"IF(AC380=(AG380),\"ok\",($A380))","v":"module 1"},null,{"$f":"SUMIF(AA$9:AA$374,1,AC$9:AC$374)+SUMIF(AE$9:AE$374,1,AG$9:AG$374)","v":0},null,{"$f":"IF((AA380=(\"ok\")),0,(AG380-AC380))","v":12},null,12,null,{"$f":"IF(AK380=(AO380),\"ok\",($A380))","v":"module 1"},null,{"$f":"SUMIF(AI$9:AI$374,1,AK$9:AK$374)+SUMIF(AM$9:AM$374,1,AO$9:AO$374)","v":0},null,{"$f":"IF((AI380=(\"ok\")),0,(AO380-AK380))","v":12},null,12,null,{"$f":"IF(AS380=(AW380),\"ok\",($A380))","v":"ok"},null,{"$f":"SUMIF(AQ$9:AQ$374,1,AS$9:AS$374)+SUMIF(AU$9:AU$374,1,AW$9:AW$374)","v":18},null,{"$f":"IF((AQ380=(\"ok\")),0,(AW380-AS380))","v":0},null,18,null,{"$f":"IF(BA380=(BE380),\"ok\",($A380))","v":"ok"},null,{"$f":"SUMIF(AY$9:AY$374,1,BA$9:BA$374)+SUMIF(BC$9:BC$374,1,BE$9:BE$374)","v":18},null,{"$f":"IF((AY380=(\"ok\")),0,(BE380-BA380))","v":0},null,18,null,{"$f":"IF(BI380=(BM380),\"ok\",($A380))","v":"ok"},null,{"$f":"SUMIF(BG$9:BG$374,1,BI$9:BI$374)+SUMIF(BK$9:BK$374,1,BM$9:BM$374)","v":18},null,{"$f":"IF((BG380=(\"ok\")),0,(BM380-BI380))","v":0},null,18,null,{"$f":"IF(BQ380=(BU380),\"ok\",($A380))","v":"module 1"},null,{"$f":"SUMIF(BO$9:BO$374,1,BQ$9:BQ$374)+SUMIF(BS$9:BS$374,1,BU$9:BU$374)","v":18},null,{"$f":"IF((BO380=(\"ok\")),0,(BU380-BQ380))","v":-6},null,12,null,{"$f":"IF(BY380=(CC380),\"ok\",($A380))","v":{"$error":"#REF!"}},null,{"$f":"SUMIF(BW$9:BW$374,1,BY$9:BY$374)+SUMIF(CA$9:CA$374,1,CC$9:CC$374)","v":0},null,{"$f":"IF((BW380=(\"ok\")),0,(CC380-BY380))","v":{"$error":"#REF!"}},null,{"$error":"#REF!"},null,{"$f":"IF(CG380=(CK380),\"ok\",($A380))","v":{"$error":"#REF!"}},null,{"$f":"SUMIF(CE$9:CE$374,1,CG$9:CG$374)+SUMIF(CI$9:CI$374,1,CK$9:CK$374)","v":0},null,{"$f":"IF((CE380=(\"ok\")),0,(CK380-CG380))","v":{"$error":"#REF!"}},null,{"$error":"#REF!"},null,{"$f":"IF(CO380=(CS380),\"ok\",($A380))","v":{"$error":"#REF!"}},null,{"$f":"SUMIF(CM$9:CM$374,1,CO$9:CO$374)+SUMIF(CQ$9:CQ$374,1,CS$9:CS$374)","v":0},null,{"$f":"IF((CM380=(\"ok\")),0,(CS380-CO380))","v":{"$error":"#REF!"}},null,{"$error":"#REF!"},null,{"$f":"IF(CW380=(DA380),\"ok\",($A380))","v":{"$error":"#REF!"}},null,{"$f":"SUMIF(CU$9:CU$374,1,CW$9:CW$374)+SUMIF(CY$9:CY$374,1,DA$9:DA$374)","v":0},null,{"$f":"IF((CU380=(\"ok\")),0,(DA380-CW380))","v":{"$error":"#REF!"}},null,{"$error":"#REF!"},null,{"$f":"IF(DE380=(DI380),\"ok\",($A380))","v":"ok"},null,{"$f":"SUMIF(DC$9:DC$374,1,DE$9:DE$374)+SUMIF(DG$9:DG$374,1,DI$9:DI$374)","v":0},null,{"$f":"IF((DC380=(\"ok\")),0,(DI380-DE380))","v":0},null,0,null,{"$f":"IF(DM380=(DQ380),\"ok\",($A380))","v":"ok"},null,{"$f":"SUMIF(DK$9:DK$374,1,DM$9:DM$374)+SUMIF(DO$9:DO$374,1,DQ$9:DQ$374)","v":0},null,{"$f":"IF((DK380=(\"ok\")),0,(DQ380-DM380))","v":0},null,0]
["module 2",null,"module 2",null,{"$f":"SUMIF(C$9:C$374,2,E$9:E$374)+SUMIF(G$9:G$374,2,I$9:I$374)","v":0},null,30,null,30,null,{"$f":"IF(M381=(Q381),\"ok\",($A381))","v":"module 2"},null,{"$f":"SUMIF(K$9:K$374,2,M$9:M$374)+SUMIF(O$9:O$374,2,Q$9:Q$374)","v":0},null,30,null,30,null,{"$f":"IF(U381=(Y381),\"ok\",($A381))","v":"module 2"},null,{"$f":"SUMIF(S$9:S$374,2,U$9:U$374)+SUMIF(W$9:W$374,2,Y$9:Y$374)","v":0},null,30,null,30,null,{"$f":"IF(AC381=(AG381),\"ok\",($A381))","v":"module 2"},null,{"$f":"SUMIF(AA$9:AA$374,2,AC$9:AC$374)+SUMIF(AE$9:AE$374,2,AG$9:AG$374)","v":0},null,30,null,30,null,{"$f":"IF(AK381=(AO381),\"ok\",($A381))","v":"module 2"},null,{"$f":"SUMIF(AI$9:AI$374,2,AK$9:AK$374)+SUMIF(AM$9:AM$374,2,AO$9:AO$374)","v":0},null,30,null,30,null,{"$f":"IF(AS381=(AW381),\"ok\",($A381))","v":"ok"},null,{"$f":"SUMIF(AQ$9:AQ$374,2,AS$9:AS$374)+SUMIF(AU$9:AU$374,2,AW$9:AW$374)","v":30},null,0,null,30,null,{"$f":"IF(BA381=(BE381),\"ok\",($A381))","v":"ok"},null,{"$f":"SUMIF(AY$9:AY$374,2,BA$9:BA$374)+SUMIF(BC$9:BC$374,2,BE$9:BE$374)","v":30},null,0,null,30,null,"ok",null,{"$f":"SUMIF(BG$9:BG$374,2,BI$9:BI$374)+SUMIF(BK$9:BK$374,2,BM$9:BM$374)","v":30},null,0,null,30,null,"module 2",null,{"$f":"SUMIF(BO$9:BO$374,2,BQ$9:BQ$374)+SUMIF(BS$9:BS$374,2,BU$9:BU$374)","v":36},null,-9,null,27,null,{"$error":"#REF!"},null,{"$f":"SUMIF(BW$9:BW$374,2,BY$9:BY$374)+SUMIF(CA$9:CA$374,2,CC$9:CC$374)","v":0},null,{"$error":"#REF!"},null,{"$error":"#REF!"},null,{"$f":"IF(CG381=(CK381),\"ok\",($A381))","v":{"$error":"#REF!"}},null,{"$f":"SUMIF(CE$9:CE$374,2,CG$9:CG$374)+SUMIF(CI$9:CI$374,2,CK$9:CK$374)","v":0},null,{"$error":"#REF!"},null,{"$error":"#REF!"},null,{"$error":"#REF!"},null,{"$f":"SUMIF(CM$9:CM$374,2,CO$9:CO$374)+SUMIF(CQ$9:CQ$374,2,CS$9:CS$374)","v":0},null,{"$error":"#REF!"},null,{"$error":"#REF!"},null,{"$error":"#REF!"},null,{"$f":"SUMIF(CU$9:CU$374,2,CW$9:CW$374)+SUMIF(CY$9:CY$374,2,DA$9:DA$374)","v":0},null,{"$error":"#REF!"},null,{"$error":"#REF!"},null,"ok",null,{"$f":"SUMIF(DC$9:DC$374,2,DE$9:DE$374)+SUMIF(DG$9:DG$374,2,DI$9:DI$374)","v":0},null,0,null,0,null,{"$f":"IF(DM381=(DQ381),\"ok\",($A381))","v":"ok"},null,{"$f":"SUMIF(DK$9:DK$374,2,DM$9:DM$374)+SUMIF(DO$9:DO$374,2,DQ$9:DQ$374)","v":0},null,0,null,0]
["module 3",null,"module 3",null,{"$f":"SUMIF(C$9:C$374,3,E$9:E$374)+SUMIF(G$9:G$374,3,I$9:I$374)","v":0},null,24,null,24,null,{"$f":"IF(M382=(Q382),\"ok\",($A382))","v":"module 3"},null,{"$f":"SUMIF(K$9:K$374,3,M$9:M$374)+SUMIF(O$9:O$374,3,Q$9:Q$374)","v":0},null,24,null,24,null,{"$f":"IF(U382=(Y382),\"ok\",($A382))","v":"module 3"},null,{"$f":"SUMIF(S$9:S$374,3,U$9:U$374)+SUMIF(W$9:W$374,3,Y$9:Y$374)","v":0},null,24,null,24,null,{"$f":"IF(AC382=(AG382),\"ok\",($A382))","v":"module 3"},null,{"$f":"SUMIF(AA$9:AA$374,3,AC$9:AC$374)+SUMIF(AE$9:AE$374,3,AG$9:AG$374)","v":0},null,24,null,24,null,{"$f":"IF(AK382=(AO382),\"ok\",($A382))","v":"module 3"},null,{"$f":"SUMIF(AI$9:AI$374,3,AK$9:AK$374)+SUMIF(AM$9:AM$374,3,AO$9:AO$374)","v":0},null,24,null,24,null,{"$f":"IF(AS382=(AW382),\"ok\",($A382))","v":"ok"},null,{"$f":"SUMIF(AQ$9:AQ$374,3,AS$9:AS$374)+SUMIF(AU$9:AU$374,3,AW$9:AW$374)","v":24},null,0,null,24,null,{"$f":"IF(BA382=(BE382),\"ok\",($A382))","v":"ok"},null,{"$f":"SUMIF(AY$9:AY$374,3,BA$9:BA$374)+SUMIF(BC$9:BC$374,3,BE$9:BE$374)","v":24},null,0,null,24,null,"ok",null,{"$f":"SUMIF(BG$9:BG$374,3,BI$9:BI$374)+SUMIF(BK$9:BK$374,3,BM$9:BM$374)","v":24},null,0,null,24,null,"module 3",null,{"$f":"SUMIF(BO$9:BO$374,3,BQ$9:BQ$374)+SUMIF(BS$9:BS$374,3,BU$9:BU$374)","v":0},null,24,null,24,null,"ok",null,{"$f":"SUMIF(BW$9:BW$374,3,BY$9:BY$374)+SUMIF(CA$9:CA$374,3,CC$9:CC$374)","v":0},null,0,null,0,null,{"$f":"IF(CG382=(CK382),\"ok\",($A382))","v":"ok"},null,{"$f":"SUMIF(CE$9:CE$374,3,CG$9:CG$374)+SUMIF(CI$9:CI$374,3,CK$9:CK$374)","v":0},null,0,null,0,null,"ok",null,{"$f":"SUMIF(CM$9:CM$374,3,CO$9:CO$374)+SUMIF(CQ$9:CQ$374,3,CS$9:CS$374)","v":0},null,0,null,0,null,"ok",null,{"$f":"SUMIF(CU$9:CU$374,3,CW$9:CW$374)+SUMIF(CY$9:CY$374,3,DA$9:DA$374)","v":0},null,0,null,0,null,"ok",null,{"$f":"SUMIF(DC$9:DC$374,3,DE$9:DE$374)+SUMIF(DG$9:DG$374,3,DI$9:DI$374)","v":0},null,0,null,0,null,{"$f":"IF(DM382=(DQ382),\"ok\",($A382))","v":"ok"},null,{"$f":"SUMIF(DK$9:DK$374,3,DM$9:DM$374)+SUMIF(DO$9:DO$374,3,DQ$9:DQ$374)","v":0},null,0,null,0]
["module 4",null,"module 4",null,{"$f":"SUMIF(C$9:C$374,4,E$9:E$374)+SUMIF(G$9:G$374,4,I$9:I$374)","v":0},null,72,null,72,null,"module 4",null,{"$f":"SUMIF(K$9:K$374,4,M$9:M$374)+SUMIF(O$9:O$374,4,Q$9:Q$374)","v":0},null,72,null,72,null,"module 4",null,{"$f":"SUMIF(S$9:S$374,4,U$9:U$374)+SUMIF(W$9:W$374,4,Y$9:Y$374)","v":0},null,72,null,72,null,"module 4",null,{"$f":"SUMIF(AA$9:AA$374,4,AC$9:AC$374)+SUMIF(AE$9:AE$374,4,AG$9:AG$374)","v":0},null,72,null,72,null,"module 4",null,{"$f":"SUMIF(AI$9:AI$374,4,AK$9:AK$374)+SUMIF(AM$9:AM$374,4,AO$9:AO$374)","v":0},null,72,null,72,null,"ok",null,{"$f":"SUMIF(AQ$9:AQ$374,4,AS$9:AS$374)+SUMIF(AU$9:AU$374,4,AW$9:AW$374)","v":72},null,0,null,72,null,"ok",null,{"$f":"SUMIF(AY$9:AY$374,4,BA$9:BA$374)+SUMIF(BC$9:BC$374,4,BE$9:BE$374)","v":72},null,0,null,72,null,"ok",null,{"$f":"SUMIF(BG$9:BG$374,4,BI$9:BI$374)+SUMIF(BK$9:BK$374,4,BM$9:BM$374)","v":72},null,0,null,72,null,"module 4",null,{"$f":"SUMIF(BO$9:BO$374,4,BQ$9:BQ$374)+SUMIF(BS$9:BS$374,4,BU$9:BU$374)","v":114},null,-42,null,72,null,"ok",null,{"$f":"SUMIF(BW$9:BW$374,4,BY$9:BY$374)+SUMIF(CA$9:CA$374,4,CC$9:CC$374)","v":0},null,0,null,0,null,"ok",null,{"$f":"SUMIF(CE$9:CE$374,4,CG$9:CG$374)+SUMIF(CI$9:CI$374,4,CK$9:CK$374)","v":0},null,0,null,0,null,"ok",null,{"$f":"SUMIF(CM$9:CM$374,4,CO$9:CO$374)+SUMIF(CQ$9:CQ$374,4,CS$9:CS$374)","v":0},null,0,null,0,null,"ok",null,{"$f":"SUMIF(CU$9:CU$374,4,CW$9:CW$374)+SUMIF(CY$9:CY$374,4,DA$9:DA$374)","v":0},null,0,null,0,null,"ok",null,{"$f":"SUMIF(DC$9:DC$374,4,DE$9:DE$374)+SUMIF(DG$9:DG$374,4,DI$9:DI$374)","v":0},null,0,null,0,null,"ok",null,{"$f":"SUMIF(DK$9:DK$374,4,DM$9:DM$374)+SUMIF(DO$9:DO$374,4,DQ$9:DQ$374)","v":0},null,0,null,0]
["module 5",null,"module 5",null,{"$f":"SUMIF(C$9:C$374,5,E$9:E$374)+SUMIF(G$9:G$374,5,I$9:I$374)","v":0},null,72,null,72,null,"module 5",null,{"$f":"SUMIF(K$9:K$374,5,M$9:M$374)+SUMIF(O$9:O$374,5,Q$9:Q$374)","v":0},null,72,null,72,null,"module 5",null,{"$f":"SUMIF(S$9:S$374,5,U$9:U$374)+SUMIF(W$9:W$374,5,Y$9:Y$374)","v":0},null,72,null,72,null,"module 5",null,{"$f":"SUMIF(AA$9:AA$374,5,AC$9:AC$374)+SUMIF(AE$9:AE$374,5,AG$9:AG$374)","v":0},null,72,null,72,null,"module 5",null,{"$f":"SUMIF(AI$9:AI$374,5,AK$9:AK$374)+SUMIF(AM$9:AM$374,5,AO$9:AO$374)","v":0},null,72,null,72,null,"ok",null,{"$f":"SUMIF(AQ$9:AQ$374,5,AS$9:AS$374)+SUMIF(AU$9:AU$374,5,AW$9:AW$374)","v":72},null,0,null,72,null,"ok",null,{"$f":"SUMIF(AY$9:AY$374,5,BA$9:BA$374)+SUMIF(BC$9:BC$374,5,BE$9:BE$374)","v":72},null,0,null,72,null,"ok",null,{"$f":"SUMIF(BG$9:BG$374,5,BI$9:BI$374)+SUMIF(BK$9:BK$374,5,BM$9:BM$374)","v":72},null,0,null,72,null,"module 5",null,{"$f":"SUMIF(BO$9:BO$374,5,BQ$9:BQ$374)+SUMIF(BS$9:BS$374,5,BU$9:BU$374)","v":0},null,72,null,72,null,"ok",null,{"$f":"SUMIF(BW$9:BW$374,5,BY$9:BY$374)+SUMIF(CA$9:CA$374,5,CC$9:CC$374)","v":0},null,0,null,0,null,"ok",null,{"$f":"SUMIF(CE$9:CE$374,5,CG$9:CG$374)+SUMIF(CI$9:CI$374,5,CK$9:CK$374)","v":0},null,0,null,0,null,"ok",null,{"$f":"SUMIF(CM$9:CM$374,5,CO$9:CO$374)+SUMIF(CQ$9:CQ$374,5,CS$9:CS$374)","v":0},null,0,null,0,null,"ok",null,{"$f":"SUMIF(CU$9:CU$374,5,CW$9:CW$374)+SUMIF(CY$9:CY$374,5,DA$9:DA$374)","v":0},null,0,null,0,null,"ok",null,{"$f":"SUMIF(DC$9:DC$374,5,DE$9:DE$374)+SUMIF(DG$9:DG$374,5,DI$9:DI$374)","v":0},null,0,null,0,null,"ok",null,{"$f":"SUMIF(DK$9:DK$374,5,DM$9:DM$374)+SUMIF(DO$9:DO$374,5,DQ$9:DQ$374)","v":0},null,0,null,0]
["module 6",null,"module 6",null,{"$f":"SUMIF(C$9:C$374,6,E$9:E$374)+SUMIF(G$9:G$374,6,I$9:I$374)","v":0},null,18,null,18,null,"module 6",null,{"$f":"SUMIF(K$9:K$374,6,M$9:M$374)+SUMIF(O$9:O$374,6,Q$9:Q$374)","v":0},null,18,null,18,null,"module 6",null,{"$f":"SUMIF(S$9:S$374,6,U$9:U$374)+SUMIF(W$9:W$374,6,Y$9:Y$374)","v":0},null,18,null,18,null,"module 6",null,{"$f":"SUMIF(AA$9:AA$374,6,AC$9:AC$374)+SUMIF(AE$9:AE$374,6,AG$9:AG$374)","v":0},null,18,null,18,null,"module 6",null,{"$f":"SUMIF(AI$9:AI$374,6,AK$9:AK$374)+SUMIF(AM$9:AM$374,6,AO$9:AO$374)","v":0},null,18,null,18,null,"ok",null,{"$f":"SUMIF(AQ$9:AQ$374,6,AS$9:AS$374)+SUMIF(AU$9:AU$374,6,AW$9:AW$374)","v":18},null,0,null,18,null,"ok",null,{"$f":"SUMIF(AY$9:AY$374,6,BA$9:BA$374)+SUMIF(BC$9:BC$374,6,BE$9:BE$374)","v":18},null,0,null,18,null,"ok",null,{"$f":"SUMIF(BG$9:BG$374,6,BI$9:BI$374)+SUMIF(BK$9:BK$374,6,BM$9:BM$374)","v":18},null,0,null,18,null,"module 6",null,{"$f":"SUMIF(BO$9:BO$374,6,BQ$9:BQ$374)+SUMIF(BS$9:BS$374,6,BU$9:BU$374)","v":0},null,18,null,18,null,"ok",null,{"$f":"SUMIF(BW$9:BW$374,6,BY$9:BY$374)+SUMIF(CA$9:CA$374,6,CC$9:CC$374)","v":0},null,0,null,0,null,"ok",null,{"$f":"SUMIF(CE$9:CE$374,6,CG$9:CG$374)+SUMIF(CI$9:CI$374,6,CK$9:CK$374)","v":0},null,0,null,0,null,"ok",null,{"$f":"SUMIF(CM$9:CM$374,6,CO$9:CO$374)+SUMIF(CQ$9:CQ$374,6,CS$9:CS$374)","v":0},null,0,null,0,null,"ok",null,{"$f":"SUMIF(CU$9:CU$374,6,CW$9:CW$374)+SUMIF(CY$9:CY$374,6,DA$9:DA$374)","v":0},null,0,null,0,null,"ok",null,{"$f":"SUMIF(DC$9:DC$374,6,DE$9:DE$374)+SUMIF(DG$9:DG$374,6,DI$9:DI$374)","v":0},null,0,null,0,null,"ok",null,{"$f":"SUMIF(DK$9:DK$374,6,DM$9:DM$374)+SUMIF(DO$9:DO$374,6,DQ$9:DQ$374)","v":0},null,0,null,0]
["module 7",null,"module 7",null,{"$f":"SUMIF(C$9:C$374,7,E$9:E$374)+SUMIF(G$9:G$374,7,I$9:I$374)","v":0},null,54,null,54,null,"module 7",null,{"$f":"SUMIF(K$9:K$374,7,M$9:M$374)+SUMIF(O$9:O$374,7,Q$9:Q$374)","v":0},null,54,null,54,null,"module 7",null,{"$f":"SUMIF(S$9:S$374,7,U$9:U$374)+SUMIF(W$9:W$374,7,Y$9:Y$374)","v":0},null,54,null,54,null,"module 7",null,{"$f":"SUMIF(AA$9:AA$374,7,AC$9:AC$374)+SUMIF(AE$9:AE$374,7,AG$9:AG$374)","v":0},null,54,null,54,null,"module 7",null,{"$f":"SUMIF(AI$9:AI$374,7,AK$9:AK$374)+SUMIF(AM$9:AM$374,7,AO$9:AO$374)","v":0},null,54,null,54,null,"ok",null,{"$f":"SUMIF(AQ$9:AQ$374,7,AS$9:AS$374)+SUMIF(AU$9:AU$374,7,AW$9:AW$374)","v":54},null,0,null,54,null,"ok",null,{"$f":"SUMIF(AY$9:AY$374,7,BA$9:BA$374)+SUMIF(BC$9:BC$374,7,BE$9:BE$374)","v":54},null,0,null,54,null,"ok",null,{"$f":"SUMIF(BG$9:BG$374,7,BI$9:BI$374)+SUMIF(BK$9:BK$374,7,BM$9:BM$374)","v":54},null,0,null,54,null,"module 7",null,{"$f":"SUMIF(BO$9:BO$374,7,BQ$9:BQ$374)+SUMIF(BS$9:BS$374,7,BU$9:BU$374)","v":0},null,54,null,54,null,"ok",null,{"$f":"SUMIF(BW$9:BW$374,7,BY$9:BY$374)+SUMIF(CA$9:CA$374,7,CC$9:CC$374)","v":0},null,0,null,0,null,"ok",null,{"$f":"SUMIF(CE$9:CE$374,7,CG$9:CG$374)+SUMIF(CI$9:CI$374,7,CK$9:CK$374)","v":0},null,0,null,0,null,"ok",null,{"$f":"SUMIF(CM$9:CM$374,7,CO$9:CO$374)+SUMIF(CQ$9:CQ$374,7,CS$9:CS$374)","v":0},null,0,null,0,null,"ok",null,{"$f":"SUMIF(CU$9:CU$374,7,CW$9:CW$374)+SUMIF(CY$9:CY$374,7,DA$9:DA$374)","v":0},null,0,null,0,null,"ok",null,{"$f":"SUMIF(DC$9:DC$374,7,DE$9:DE$374)+SUMIF(DG$9:DG$374,7,DI$9:DI$374)","v":0},null,0,null,0,null,"ok",null,{"$f":"SUMIF(DK$9:DK$374,7,DM$9:DM$374)+SUMIF(DO$9:DO$374,7,DQ$9:DQ$374)","v":0},null,0,null,0]
["module 8",null,"module 8",null,{"$f":"SUMIF(C$9:C$374,8,E$9:E$374)+SUMIF(G$9:G$374,8,I$9:I$374)","v":0},null,78,null,78,null,"module 8",null,{"$f":"SUMIF(K$9:K$374,8,M$9:M$374)+SUMIF(O$9:O$374,8,Q$9:Q$374)","v":0},null,78,null,78,null,"module 8",null,{"$f":"SUMIF(S$9:S$374,8,U$9:U$374)+SUMIF(W$9:W$374,8,Y$9:Y$374)","v":0},null,78,null,78,null,"module 8",null,{"$f":"SUMIF(AA$9:AA$374,8,AC$9:AC$374)+SUMIF(AE$9:AE$374,8,AG$9:AG$374)","v":0},null,78,null,78,null,"module 8",null,{"$f":"SUMIF(AI$9:AI$374,8,AK$9:AK$374)+SUMIF(AM$9:AM$374,8,AO$9:AO$374)","v":0},null,78,null,78,null,"ok",null,{"$f":"SUMIF(AQ$9:AQ$374,8,AS$9:AS$374)+SUMIF(AU$9:AU$374,8,AW$9:AW$374)","v":78},null,0,null,78,null,"ok",null,{"$f":"SUMIF(AY$9:AY$374,8,BA$9:BA$374)+SUMIF(BC$9:BC$374,8,BE$9:BE$374)","v":78},null,0,null,78,null,"module 8",null,{"$f":"SUMIF(BG$9:BG$374,8,BI$9:BI$374)+SUMIF(BK$9:BK$374,8,BM$9:BM$374)","v":0},null,78,null,78,null,"module 8",null,{"$f":"SUMIF(BO$9:BO$374,8,BQ$9:BQ$374)+SUMIF(BS$9:BS$374,8,BU$9:BU$374)","v":0},null,78,null,78,null,"ok",null,{"$f":"SUMIF(BW$9:BW$374,8,BY$9:BY$374)+SUMIF(CA$9:CA$374,8,CC$9:CC$374)","v":0},null,0,null,0,null,"ok",null,{"$f":"SUMIF(CE$9:CE$374,8,CG$9:CG$374)+SUMIF(CI$9:CI$374,8,CK$9:CK$374)","v":0},null,0,null,0,null,"ok",null,{"$f":"SUMIF(CM$9:CM$374,8,CO$9:CO$374)+SUMIF(CQ$9:CQ$374,8,CS$9:CS$374)","v":0},null,0,null,0,null,"ok",null,{"$f":"SUMIF(CU$9:CU$374,8,CW$9:CW$374)+SUMIF(CY$9:CY$374,8,DA$9:DA$374)","v":0},null,0,null,0,null,"ok",null,{"$f":"SUMIF(DC$9:DC$374,8,DE$9:DE$374)+SUMIF(DG$9:DG$374,8,DI$9:DI$374)","v":0},null,0,null,0,null,"ok",null,{"$f":"SUMIF(DK$9:DK$374,8,DM$9:DM$374)+SUMIF(DO$9:DO$374,8,DQ$9:DQ$374)","v":0},null,0,null,0]
["module 9",null,"module 9",null,{"$f":"SUMIF(C$9:C$374,9,E$9:E$374)+SUMIF(G$9:G$374,9,I$9:I$374)","v":0},null,72,null,72,null,"module 9",null,{"$f":"SUMIF(K$9:K$374,9,M$9:M$374)+SUMIF(O$9:O$374,9,Q$9:Q$374)","v":0},null,72,null,72,null,"module 9",null,{"$f":"SUMIF(S$9:S$374,9,U$9:U$374)+SUMIF(W$9:W$374,9,Y$9:Y$374)","v":0},null,72,null,72,null,"module 9",null,{"$f":"SUMIF(AA$9:AA$374,9,AC$9:AC$374)+SUMIF(AE$9:AE$374,9,AG$9:AG$374)","v":0},null,72,null,72,null,"module 9",null,{"$f":"SUMIF(AI$9:AI$374,9,AK$9:AK$374)+SUMIF(AM$9:AM$374,9,AO$9:AO$374)","v":0},null,72,null,72,null,"ok",null,{"$f":"SUMIF(AQ$9:AQ$374,9,AS$9:AS$374)+SUMIF(AU$9:AU$374,9,AW$9:AW$374)","v":72},null,0,null,72,null,"ok",null,{"$f":"SUMIF(AY$9:AY$374,9,BA$9:BA$374)+SUMIF(BC$9:BC$374,9,BE$9:BE$374)","v":72},null,0,null,72,null,"ok",null,{"$f":"SUMIF(BG$9:BG$374,9,BI$9:BI$374)+SUMIF(BK$9:BK$374,9,BM$9:BM$374)","v":72},null,0,null,72,null,"module 9",null,{"$f":"SUMIF(BO$9:BO$374,9,BQ$9:BQ$374)+SUMIF(BS$9:BS$374,9,BU$9:BU$374)","v":0},null,72,null,72,null,"ok",null,{"$f":"SUMIF(BW$9:BW$374,9,BY$9:BY$374)+SUMIF(CA$9:CA$374,9,CC$9:CC$374)","v":0},null,0,null,0,null,"ok",null,{"$f":"SUMIF(CE$9:CE$374,9,CG$9:CG$374)+SUMIF(CI$9:CI$374,9,CK$9:CK$374)","v":0},null,0,null,0,null,"ok",null,{"$f":"SUMIF(CM$9:CM$374,9,CO$9:CO$374)+SUMIF(CQ$9:CQ$374,9,CS$9:CS$374)","v":0},null,0,null,0,null,"ok",null,{"$f":"SUMIF(CU$9:CU$374,9,CW$9:CW$374)+SUMIF(CY$9:CY$374,9,DA$9:DA$374)","v":0},null,0,null,0,null,"ok",null,{"$f":"SUMIF(DC$9:DC$374,9,DE$9:DE$374)+SUMIF(DG$9:DG$374,9,DI$9:DI$374)","v":0},null,0,null,0,null,"ok",null,{"$f":"SUMIF(DK$9:DK$374,9,DM$9:DM$374)+SUMIF(DO$9:DO$374,9,DQ$9:DQ$374)","v":0},null,0,null,0]
["module 10",null,"module 10",null,{"$f":"SUMIF(C$9:C$374,10,E$9:E$374)+SUMIF(G$9:G$374,10,I$9:I$374)","v":0},null,90,null,90,null,"module 10",null,{"$f":"SUMIF(K$9:K$374,10,M$9:M$374)+SUMIF(O$9:O$374,10,Q$9:Q$374)","v":0},null,90,null,90,null,"module 10",null,{"$f":"SUMIF(S$9:S$374,10,U$9:U$374)+SUMIF(W$9:W$374,10,Y$9:Y$374)","v":0},null,90,null,90,null,"module 10",null,{"$f":"SUMIF(AA$9:AA$374,10,AC$9:AC$374)+SUMIF(AE$9:AE$374,10,AG$9:AG$374)","v":0},null,90,null,90,null,"module 10",null,{"$f":"SUMIF(AI$9:AI$374,10,AK$9:AK$374)+SUMIF(AM$9:AM$374,10,AO$9:AO$374)","v":60},null,30,null,90,null,"ok",null,{"$f":"SUMIF(AQ$9:AQ$374,10,AS$9:AS$374)+SUMIF(AU$9:AU$374,10,AW$9:AW$374)","v":90},null,0,null,90,null,"ok",null,{"$f":"SUMIF(AY$9:AY$374,10,BA$9:BA$374)+SUMIF(BC$9:BC$374,10,BE$9:BE$374)","v":90},null,0,null,90,null,"module 10",null,{"$f":"SUMIF(BG$9:BG$374,10,BI$9:BI$374)+SUMIF(BK$9:BK$374,10,BM$9:BM$374)","v":54},null,36,null,90,null,"module 10",null,{"$f":"SUMIF(BO$9:BO$374,10,BQ$9:BQ$374)+SUMIF(BS$9:BS$374,10,BU$9:BU$374)","v":0},null,90,null,90,null,"ok",null,{"$f":"SUMIF(BW$9:BW$374,10,BY$9:BY$374)+SUMIF(CA$9:CA$374,10,CC$9:CC$374)","v":0},null,0,null,0,null,"ok",null,{"$f":"SUMIF(CE$9:CE$374,10,CG$9:CG$374)+SUMIF(CI$9:CI$374,10,CK$9:CK$374)","v":0},null,0,null,0,null,"ok",null,{"$f":"SUMIF(CM$9:CM$374,10,CO$9:CO$374)+SUMIF(CQ$9:CQ$374,10,CS$9:CS$374)","v":0},null,0,null,0,null,"ok",null,{"$f":"SUMIF(CU$9:CU$374,10,CW$9:CW$374)+SUMIF(CY$9:CY$374,10,DA$9:DA$374)","v":0},null,0,null,0,null,"ok",null,{"$f":"SUMIF(DC$9:DC$374,10,DE$9:DE$374)+SUMIF(DG$9:DG$374,10,DI$9:DI$374)","v":0},null,0,null,0,null,"ok",null,{"$f":"SUMIF(DK$9:DK$374,10,DM$9:DM$374)+SUMIF(DO$9:DO$374,10,DQ$9:DQ$374)","v":0},null,0,null,0]
["module 11",null,"module 11",null,{"$f":"SUMIF(C$9:C$374,11,E$9:E$374)+SUMIF(G$9:G$374,11,I$9:I$374)","v":0},null,72,null,72,null,"module 11",null,{"$f":"SUMIF(K$9:K$374,11,M$9:M$374)+SUMIF(O$9:O$374,11,Q$9:Q$374)","v":0},null,72,null,72,null,"module 11",null,{"$f":"SUMIF(S$9:S$374,11,U$9:U$374)+SUMIF(W$9:W$374,11,Y$9:Y$374)","v":0},null,72,null,72,null,"ok",null,{"$f":"SUMIF(AA$9:AA$374,11,AC$9:AC$374)+SUMIF(AE$9:AE$374,11,AG$9:AG$374)","v":72},null,0,null,72,null,"ok",null,{"$f":"SUMIF(AI$9:AI$374,11,AK$9:AK$374)+SUMIF(AM$9:AM$374,11,AO$9:AO$374)","v":72},null,0,null,72,null,"ok",null,{"$f":"SUMIF(AQ$9:AQ$374,11,AS$9:AS$374)+SUMIF(AU$9:AU$374,11,AW$9:AW$374)","v":72},null,0,null,72,null,"module 11",null,{"$f":"SUMIF(AY$9:AY$374,11,BA$9:BA$374)+SUMIF(BC$9:BC$374,11,BE$9:BE$374)","v":0},null,72,null,72,null,"module 11",null,{"$f":"SUMIF(BG$9:BG$374,11,BI$9:BI$374)+SUMIF(BK$9:BK$374,11,BM$9:BM$374)","v":0},null,72,null,72,null,"module 11",null,{"$f":"SUMIF(BO$9:BO$374,11,BQ$9:BQ$374)+SUMIF(BS$9:BS$374,11,BU$9:BU$374)","v":0},null,72,null,72,null,"ok",null,{"$f":"SUMIF(BW$9:BW$374,11,BY$9:BY$374)+SUMIF(CA$9:CA$374,11,CC$9:CC$374)","v":0},null,0,null,0,null,"ok",null,{"$f":"SUMIF(CE$9:CE$374,11,CG$9:CG$374)+SUMIF(CI$9:CI$374,11,CK$9:CK$374)","v":0},null,0,null,0,null,"ok",null,{"$f":"SUMIF(CM$9:CM$374,11,CO$9:CO$374)+SUMIF(CQ$9:CQ$374,11,CS$9:CS$374)","v":0},null,0,null,0,null,"ok",null,{"$f":"SUMIF(CU$9:CU$374,11,CW$9:CW$374)+SUMIF(CY$9:CY$374,11,DA$9:DA$374)","v":0},null,0,null,0,null,"ok",null,{"$f":"SUMIF(DC$9:DC$374,11,DE$9:DE$374)+SUMIF(DG$9:DG$374,11,DI$9:DI$374)","v":0},null,0,null,0,null,"ok",null,{"$f":"SUMIF(DK$9:DK$374,11,DM$9:DM$374)+SUMIF(DO$9:DO$374,11,DQ$9:DQ$374)","v":0},null,0,null,0]
["module 12",null,"module 12",null,{"$f":"SUMIF(C$9:C$374,12,E$9:E$374)+SUMIF(G$9:G$374,12,I$9:I$374)","v":0},null,102,null,102,null,"module 12",null,{"$f":"SUMIF(K$9:K$374,12,M$9:M$374)+SUMIF(O$9:O$374,12,Q$9:Q$374)","v":0},null,102,null,102,null,"module 12",null,{"$f":"SUMIF(S$9:S$374,12,U$9:U$374)+SUMIF(W$9:W$374,12,Y$9:Y$374)","v":0},null,102,null,102,null,"module 12",null,{"$f":"SUMIF(AA$9:AA$374,12,AC$9:AC$374)+SUMIF(AE$9:AE$374,12,AG$9:AG$374)","v":0},null,102,null,102,null,"ok",null,{"$f":"SUMIF(AI$9:AI$374,12,AK$9:AK$374)+SUMIF(AM$9:AM$374,12,AO$9:AO$374)","v":102},null,0,null,102,null,"ok",null,{"$f":"SUMIF(AQ$9:AQ$374,12,AS$9:AS$374)+SUMIF(AU$9:AU$374,12,AW$9:AW$374)","v":102},null,0,null,102,null,"module 12",null,{"$f":"SUMIF(AY$9:AY$374,12,BA$9:BA$374)+SUMIF(BC$9:BC$374,12,BE$9:BE$374)","v":24},null,78,null,102,null,"module 12",null,{"$f":"SUMIF(BG$9:BG$374,12,BI$9:BI$374)+SUMIF(BK$9:BK$374,12,BM$9:BM$374)","v":0},null,102,null,102,null,"module 12",null,{"$f":"SUMIF(BO$9:BO$374,12,BQ$9:BQ$374)+SUMIF(BS$9:BS$374,12,BU$9:BU$374)","v":0},null,102,null,102,null,"ok",null,{"$f":"SUMIF(BW$9:BW$374,12,BY$9:BY$374)+SUMIF(CA$9:CA$374,12,CC$9:CC$374)","v":0},null,0,null,0,null,"ok",null,{"$f":"SUMIF(CE$9:CE$374,12,CG$9:CG$374)+SUMIF(CI$9:CI$374,12,CK$9:CK$374)","v":0},null,0,null,0,null,"ok",null,{"$f":"SUMIF(CM$9:CM$374,12,CO$9:CO$374)+SUMIF(CQ$9:CQ$374,12,CS$9:CS$374)","v":0},null,0,null,0,null,"ok",null,{"$f":"SUMIF(CU$9:CU$374,12,CW$9:CW$374)+SUMIF(CY$9:CY$374,12,DA$9:DA$374)","v":0},null,0,null,0,null,"ok",null,{"$f":"SUMIF(DC$9:DC$374,12,DE$9:DE$374)+SUMIF(DG$9:DG$374,12,DI$9:DI$374)","v":0},null,0,null,0,null,"ok",null,{"$f":"SUMIF(DK$9:DK$374,12,DM$9:DM$374)+SUMIF(DO$9:DO$374,12,DQ$9:DQ$374)","v":0},null,0,null,0]
["module 13",null,"module 13",null,{"$f":"SUMIF(C$9:C$374,13,E$9:E$374)+SUMIF(G$9:G$374,13,I$9:I$374)","v":0},null,114,null,114,null,"module 13",null,{"$f":"SUMIF(K$9:K$374,13,M$9:M$374)+SUMIF(O$9:O$374,13,Q$9:Q$374)","v":0},null,114,null,114,null,"ok",null,{"$f":"SUMIF(S$9:S$374,13,U$9:U$374)+SUMIF(W$9:W$374,13,Y$9:Y$374)","v":114},null,0,null,114,null,"ok",null,{"$f":"SUMIF(AA$9:AA$374,13,AC$9:AC$374)+SUMIF(AE$9:AE$374,13,AG$9:AG$374)","v":114},null,0,null,114,null,"module 13",null,{"$f":"SUMIF(AI$9:AI$374,13,AK$9:AK$374)+SUMIF(AM$9:AM$374,13,AO$9:AO$374)","v":108},null,6,null,114,null,"module 13",null,{"$f":"SUMIF(AQ$9:AQ$374,13,AS$9:AS$374)+SUMIF(AU$9:AU$374,13,AW$9:AW$374)","v":30},null,84,null,114,null,"module 13",null,{"$f":"SUMIF(AY$9:AY$374,13,BA$9:BA$374)+SUMIF(BC$9:BC$374,13,BE$9:BE$374)","v":0},null,114,null,114,null,"module 13",null,{"$f":"SUMIF(BG$9:BG$374,13,BI$9:BI$374)+SUMIF(BK$9:BK$374,13,BM$9:BM$374)","v":0},null,114,null,114,null,"module 13",null,{"$f":"SUMIF(BO$9:BO$374,13,BQ$9:BQ$374)+SUMIF(BS$9:BS$374,13,BU$9:BU$374)","v":0},null,114,null,114,null,"ok",null,{"$f":"SUMIF(BW$9:BW$374,13,BY$9:BY$374)+SUMIF(CA$9:CA$374,13,CC$9:CC$374)","v":0},null,0,null,0,null,"ok",null,{"$f":"SUMIF(CE$9:CE$374,13,CG$9:CG$374)+SUMIF(CI$9:CI$374,13,CK$9:CK$374)","v":0},null,0,null,0,null,"ok",null,{"$f":"SUMIF(CM$9:CM$374,13,CO$9:CO$374)+SUMIF(CQ$9:CQ$374,13,CS$9:CS$374)","v":0},null,0,null,0,null,"ok",null,{"$f":"SUMIF(CU$9:CU$374,13,CW$9:CW$374)+SUMIF(CY$9:CY$374,13,DA$9:DA$374)","v":0},null,0,null,0,null,"ok",null,{"$f":"SUMIF(DC$9:DC$374,13,DE$9:DE$374)+SUMIF(DG$9:DG$374,13,DI$9:DI$374)","v":0},null,0,null,0,null,"ok",null,{"$f":"SUMIF(DK$9:DK$374,13,DM$9:DM$374)+SUMIF(DO$9:DO$374,13,DQ$9:DQ$374)","v":0},null,0,null,0]
["module 14",null,"module 14",null,{"$f":"SUMIF(C$9:C$374,14,E$9:E$374)+SUMIF(G$9:G$374,14,I$9:I$374)","v":0},null,60,null,60,null,"ok",null,{"$f":"SUMIF(K$9:K$374,14,M$9:M$374)+SUMIF(O$9:O$374,14,Q$9:Q$374)","v":60},null,0,null,60,null,"ok",null,{"$f":"SUMIF(S$9:S$374,14,U$9:U$374)+SUMIF(W$9:W$374,14,Y$9:Y$374)","v":60},null,0,null,60,null,"ok",null,{"$f":"SUMIF(AA$9:AA$374,14,AC$9:AC$374)+SUMIF(AE$9:AE$374,14,AG$9:AG$374)","v":60},null,0,null,60,null,"ok",null,{"$f":"SUMIF(AI$9:AI$374,14,AK$9:AK$374)+SUMIF(AM$9:AM$374,14,AO$9:AO$374)","v":60},null,0,null,60,null,"module 14",null,{"$f":"SUMIF(AQ$9:AQ$374,14,AS$9:AS$374)+SUMIF(AU$9:AU$374,14,AW$9:AW$374)","v":0},null,60,null,60,null,"module 14",null,{"$f":"SUMIF(AY$9:AY$374,14,BA$9:BA$374)+SUMIF(BC$9:BC$374,14,BE$9:BE$374)","v":0},null,60,null,60,null,"module 14",null,{"$f":"SUMIF(BG$9:BG$374,14,BI$9:BI$374)+SUMIF(BK$9:BK$374,14,BM$9:BM$374)","v":0},null,60,null,60,null,"module 14",null,{"$f":"SUMIF(BO$9:BO$374,14,BQ$9:BQ$374)+SUMIF(BS$9:BS$374,14,BU$9:BU$374)","v":0},null,60,null,60,null,"ok",null,{"$f":"SUMIF(BW$9:BW$374,14,BY$9:BY$374)+SUMIF(CA$9:CA$374,14,CC$9:CC$374)","v":0},null,0,null,0,null,"ok",null,{"$f":"SUMIF(CE$9:CE$374,14,CG$9:CG$374)+SUMIF(CI$9:CI$374,14,CK$9:CK$374)","v":0},null,0,null,0,null,"ok",null,{"$f":"SUMIF(CM$9:CM$374,14,CO$9:CO$374)+SUMIF(CQ$9:CQ$374,14,CS$9:CS$374)","v":0},null,0,null,0,null,"ok",null,{"$f":"SUMIF(CU$9:CU$374,14,CW$9:CW$374)+SUMIF(CY$9:CY$374,14,DA$9:DA$374)","v":0},null,0,null,0,null,"ok",null,{"$f":"SUMIF(DC$9:DC$374,14,DE$9:DE$374)+SUMIF(DG$9:DG$374,14,DI$9:DI$374)","v":0},null,0,null,0,null,"ok",null,{"$f":"SUMIF(DK$9:DK$374,14,DM$9:DM$374)+SUMIF(DO$9:DO$374,14,DQ$9:DQ$374)","v":0},null,0,null,0]
["module 15",null,"module 15",null,{"$f":"SUMIF(C$9:C$374,15,E$9:E$374)+SUMIF(G$9:G$374,15,I$9:I$374)","v":0},null,48,null,48,null,"module 15",null,{"$f":"SUMIF(K$9:K$374,15,M$9:M$374)+SUMIF(O$9:O$374,15,Q$9:Q$374)","v":0},null,48,null,48,null,"module 15",null,{"$f":"SUMIF(S$9:S$374,15,U$9:U$374)+SUMIF(W$9:W$374,15,Y$9:Y$374)","v":0},null,48,null,48,null,"ok",null,{"$f":"SUMIF(AA$9:AA$374,15,AC$9:AC$374)+SUMIF(AE$9:AE$374,15,AG$9:AG$374)","v":48},null,0,null,48,null,"ok",null,{"$f":"SUMIF(AI$9:AI$374,15,AK$9:AK$374)+SUMIF(AM$9:AM$374,15,AO$9:AO$374)","v":48},null,0,null,48,null,"ok",null,{"$f":"SUMIF(AQ$9:AQ$374,15,AS$9:AS$374)+SUMIF(AU$9:AU$374,15,AW$9:AW$374)","v":48},null,0,null,48,null,"module 15",null,{"$f":"SUMIF(AY$9:AY$374,15,BA$9:BA$374)+SUMIF(BC$9:BC$374,15,BE$9:BE$374)","v":0},null,48,null,48,null,"module 15",null,{"$f":"SUMIF(BG$9:BG$374,15,BI$9:BI$374)+SUMIF(BK$9:BK$374,15,BM$9:BM$374)","v":0},null,48,null,48,null,"module 15",null,{"$f":"SUMIF(BO$9:BO$374,15,BQ$9:BQ$374)+SUMIF(BS$9:BS$374,15,BU$9:BU$374)","v":0},null,48,null,48,null,"ok",null,{"$f":"SUMIF(BW$9:BW$374,15,BY$9:BY$374)+SUMIF(CA$9:CA$374,15,CC$9:CC$374)","v":0},null,0,null,0,null,"ok",null,{"$f":"SUMIF(CE$9:CE$374,15,CG$9:CG$374)+SUMIF(CI$9:CI$374,15,CK$9:CK$374)","v":0},null,0,null,0,null,"ok",null,{"$f":"SUMIF(CM$9:CM$374,15,CO$9:CO$374)+SUMIF(CQ$9:CQ$374,15,CS$9:CS$374)","v":0},null,0,null,0,null,"ok",null,{"$f":"SUMIF(CU$9:CU$374,15,CW$9:CW$374)+SUMIF(CY$9:CY$374,15,DA$9:DA$374)","v":0},null,0,null,0,null,"ok",null,{"$f":"SUMIF(DC$9:DC$374,15,DE$9:DE$374)+SUMIF(DG$9:DG$374,15,DI$9:DI$374)","v":0},null,0,null,0,null,"ok",null,{"$f":"SUMIF(DK$9:DK$374,15,DM$9:DM$374)+SUMIF(DO$9:DO$374,15,DQ$9:DQ$374)","v":0},null,0,null,0]
["module 16",null,"module 16",null,{"$f":"SUMIF(C$9:C$374,16,E$9:E$374)+SUMIF(G$9:G$374,16,I$9:I$374)","v":0},null,54,null,54,null,"module 16",null,{"$f":"SUMIF(K$9:K$374,16,M$9:M$374)+SUMIF(O$9:O$374,16,Q$9:Q$374)","v":0},null,54,null,54,null,"module 16",null,{"$f":"SUMIF(S$9:S$374,16,U$9:U$374)+SUMIF(W$9:W$374,16,Y$9:Y$374)","v":0},null,54,null,54,null,"ok",null,{"$f":"SUMIF(AA$9:AA$374,16,AC$9:AC$374)+SUMIF(AE$9:AE$374,16,AG$9:AG$374)","v":54},null,0,null,54,null,"ok",null,{"$f":"SUMIF(AI$9:AI$374,16,AK$9:AK$374)+SUMIF(AM$9:AM$374,16,AO$9:AO$374)","v":54},null,0,null,54,null,"ok",null,{"$f":"SUMIF(AQ$9:AQ$374,16,AS$9:AS$374)+SUMIF(AU$9:AU$374,16,AW$9:AW$374)","v":54},null,0,null,54,null,"module 16",null,{"$f":"SUMIF(AY$9:AY$374,16,BA$9:BA$374)+SUMIF(BC$9:BC$374,16,BE$9:BE$374)","v":0},null,54,null,54,null,"module 16",null,{"$f":"SUMIF(BG$9:BG$374,16,BI$9:BI$374)+SUMIF(BK$9:BK$374,16,BM$9:BM$374)","v":0},null,54,null,54,null,"module 16",null,{"$f":"SUMIF(BO$9:BO$374,16,BQ$9:BQ$374)+SUMIF(BS$9:BS$374,16,BU$9:BU$374)","v":0},null,54,null,54,null,"ok",null,{"$f":"SUMIF(BW$9:BW$374,16,BY$9:BY$374)+SUMIF(CA$9:CA$374,16,CC$9:CC$374)","v":0},null,0,null,0,null,"ok",null,{"$f":"SUMIF(CE$9:CE$374,16,CG$9:CG$374)+SUMIF(CI$9:CI$374,16,CK$9:CK$374)","v":0},null,0,null,0,null,"ok",null,{"$f":"SUMIF(CM$9:CM$374,16,CO$9:CO$374)+SUMIF(CQ$9:CQ$374,16,CS$9:CS$374)","v":0},null,0,null,0,null,"ok",null,{"$f":"SUMIF(CU$9:CU$374,16,CW$9:CW$374)+SUMIF(CY$9:CY$374,16,DA$9:DA$374)","v":0},null,0,null,0,null,"ok",null,{"$f":"SUMIF(DC$9:DC$374,16,DE$9:DE$374)+SUMIF(DG$9:DG$374,16,DI$9:DI$374)","v":0},null,0,null,0,null,"ok",null,{"$f":"SUMIF(DK$9:DK$374,16,DM$9:DM$374)+SUMIF(DO$9:DO$374,16,DQ$9:DQ$374)","v":0},null,0,null,0]
["module 17",null,"module 17",null,{"$f":"SUMIF(C$9:C$374,17,E$9:E$374)+SUMIF(G$9:G$374,17,I$9:I$374)","v":0},null,54,null,54,null,"module 17",null,{"$f":"SUMIF(K$9:K$374,17,M$9:M$374)+SUMIF(O$9:O$374,17,Q$9:Q$374)","v":0},null,54,null,54,null,"module 17",null,{"$f":"SUMIF(S$9:S$374,17,U$9:U$374)+SUMIF(W$9:W$374,17,Y$9:Y$374)","v":0},null,54,null,54,null,"ok",null,{"$f":"SUMIF(AA$9:AA$374,17,AC$9:AC$374)+SUMIF(AE$9:AE$374,17,AG$9:AG$374)","v":54},null,0,null,54,null,"ok",null,{"$f":"SUMIF(AI$9:AI$374,17,AK$9:AK$374)+SUMIF(AM$9:AM$374,17,AO$9:AO$374)","v":54},null,0,null,54,null,"ok",null,{"$f":"SUMIF(AQ$9:AQ$374,17,AS$9:AS$374)+SUMIF(AU$9:AU$374,17,AW$9:AW$374)","v":54},null,0,null,54,null,"module 17",null,{"$f":"SUMIF(AY$9:AY$374,17,BA$9:BA$374)+SUMIF(BC$9:BC$374,17,BE$9:BE$374)","v":0},null,54,null,54,null,"module 17",null,{"$f":"SUMIF(BG$9:BG$374,17,BI$9:BI$374)+SUMIF(BK$9:BK$374,17,BM$9:BM$374)","v":0},null,54,null,54,null,"module 17",null,{"$f":"SUMIF(BO$9:BO$374,17,BQ$9:BQ$374)+SUMIF(BS$9:BS$374,17,BU$9:BU$374)","v":0},null,54,null,54,null,"ok",null,{"$f":"SUMIF(BW$9:BW$374,17,BY$9:BY$374)+SUMIF(CA$9:CA$374,17,CC$9:CC$374)","v":0},null,0,null,0,null,"ok",null,{"$f":"SUMIF(CE$9:CE$374,17,CG$9:CG$374)+SUMIF(CI$9:CI$374,17,CK$9:CK$374)","v":0},null,0,null,0,null,"ok",null,{"$f":"SUMIF(CM$9:CM$374,17,CO$9:CO$374)+SUMIF(CQ$9:CQ$374,17,CS$9:CS$374)","v":0},null,0,null,0,null,"ok",null,{"$f":"SUMIF(CU$9:CU$374,17,CW$9:CW$374)+SUMIF(CY$9:CY$374,17,DA$9:DA$374)","v":0},null,0,null,0,null,"ok",null,{"$f":"SUMIF(DC$9:DC$374,17,DE$9:DE$374)+SUMIF(DG$9:DG$374,17,DI$9:DI$374)","v":0},null,0,null,0,null,"ok",null,{"$f":"SUMIF(DK$9:DK$374,17,DM$9:DM$374)+SUMIF(DO$9:DO$374,17,DQ$9:DQ$374)","v":0},null,0,null,0]
["module 18",null,"module 18",null,{"$f":"SUMIF(C$9:C$374,18,E$9:E$374)+SUMIF(G$9:G$374,18,I$9:I$374)","v":0},null,{"$f":"IF((C397=(\"ok\")),0,(I397-E397))","v":78},null,78,null,"module 18",null,{"$f":"SUMIF(K$9:K$374,18,M$9:M$374)+SUMIF(O$9:O$374,18,Q$9:Q$374)","v":0},null,78,null,78,null,"module 18",null,{"$f":"SUMIF(S$9:S$374,18,U$9:U$374)+SUMIF(W$9:W$374,18,Y$9:Y$374)","v":0},null,78,null,78,null,"ok",null,{"$f":"SUMIF(AA$9:AA$374,18,AC$9:AC$374)+SUMIF(AE$9:AE$374,18,AG$9:AG$374)","v":78},null,0,null,78,null,"ok",null,{"$f":"SUMIF(AI$9:AI$374,18,AK$9:AK$374)+SUMIF(AM$9:AM$374,18,AO$9:AO$374)","v":78},null,0,null,78,null,"ok",null,{"$f":"SUMIF(AQ$9:AQ$374,18,AS$9:AS$374)+SUMIF(AU$9:AU$374,18,AW$9:AW$374)","v":78},null,0,null,78,null,"module 18",null,{"$f":"SUMIF(AY$9:AY$374,18,BA$9:BA$374)+SUMIF(BC$9:BC$374,18,BE$9:BE$374)","v":0},null,78,null,78,null,"module 18",null,{"$f":"SUMIF(BG$9:BG$374,18,BI$9:BI$374)+SUMIF(BK$9:BK$374,18,BM$9:BM$374)","v":0},null,78,null,78,null,"module 18",null,{"$f":"SUMIF(BO$9:BO$374,18,BQ$9:BQ$374)+SUMIF(BS$9:BS$374,18,BU$9:BU$374)","v":0},null,78,null,78,null,"ok",null,{"$f":"SUMIF(BW$9:BW$374,18,BY$9:BY$374)+SUMIF(CA$9:CA$374,18,CC$9:CC$374)","v":0},null,0,null,0,null,"ok",null,{"$f":"SUMIF(CE$9:CE$374,18,CG$9:CG$374)+SUMIF(CI$9:CI$374,18,CK$9:CK$374)","v":0},null,0,null,0,null,"ok",null,{"$f":"SUMIF(CM$9:CM$374,18,CO$9:CO$374)+SUMIF(CQ$9:CQ$374,18,CS$9:CS$374)","v":0},null,0,null,0,null,"ok",null,{"$f":"SUMIF(CU$9:CU$374,18,CW$9:CW$374)+SUMIF(CY$9:CY$374,18,DA$9:DA$374)","v":0},null,0,null,0,null,"ok",null,{"$f":"SUMIF(DC$9:DC$374,18,DE$9:DE$374)+SUMIF(DG$9:DG$374,18,DI$9:DI$374)","v":0},null,0,null,0,null,"ok",null,{"$f":"SUMIF(DK$9:DK$374,18,DM$9:DM$374)+SUMIF(DO$9:DO$374,18,DQ$9:DQ$374)","v":0},null,0,null,0]
["module 19",null,"module 19",null,{"$f":"SUMIF(C$9:C$374,19,E$9:E$374)+SUMIF(G$9:G$374,19,I$9:I$374)","v":0},null,102,null,102,null,"ok",null,{"$f":"SUMIF(K$9:K$374,19,M$9:M$374)+SUMIF(O$9:O$374,19,Q$9:Q$374)","v":102},null,0,null,102,null,"ok",null,{"$f":"SUMIF(S$9:S$374,19,U$9:U$374)+SUMIF(W$9:W$374,19,Y$9:Y$374)","v":102},null,0,null,102,null,"ok",null,{"$f":"SUMIF(AA$9:AA$374,19,AC$9:AC$374)+SUMIF(AE$9:AE$374,19,AG$9:AG$374)","v":102},null,0,null,102,null,"ok",null,{"$f":"SUMIF(AI$9:AI$374,19,AK$9:AK$374)+SUMIF(AM$9:AM$374,19,AO$9:AO$374)","v":102},null,0,null,102,null,"module 19",null,{"$f":"SUMIF(AQ$9:AQ$374,19,AS$9:AS$374)+SUMIF(AU$9:AU$374,19,AW$9:AW$374)","v":0},null,102,null,102,null,"module 19",null,{"$f":"SUMIF(AY$9:AY$374,19,BA$9:BA$374)+SUMIF(BC$9:BC$374,19,BE$9:BE$374)","v":0},null,102,null,102,null,"module 19",null,{"$f":"SUMIF(BG$9:BG$374,19,BI$9:BI$374)+SUMIF(BK$9:BK$374,19,BM$9:BM$374)","v":0},null,102,null,102,null,"module 19",null,{"$f":"SUMIF(BO$9:BO$374,19,BQ$9:BQ$374)+SUMIF(BS$9:BS$374,19,BU$9:BU$374)","v":0},null,102,null,102,null,"ok",null,{"$f":"SUMIF(BW$9:BW$374,19,BY$9:BY$374)+SUMIF(CA$9:CA$374,19,CC$9:CC$374)","v":0},null,0,null,0,null,"ok",null,{"$f":"SUMIF(CE$9:CE$374,19,CG$9:CG$374)+SUMIF(CI$9:CI$374,19,CK$9:CK$374)","v":0},null,0,null,0,null,"ok",null,{"$f":"SUMIF(CM$9:CM$374,19,CO$9:CO$374)+SUMIF(CQ$9:CQ$374,19,CS$9:CS$374)","v":0},null,0,null,0,null,"ok",null,{"$f":"SUMIF(CU$9:CU$374,19,CW$9:CW$374)+SUMIF(CY$9:CY$374,19,DA$9:DA$374)","v":0},null,0,null,0,null,"ok",null,{"$f":"SUMIF(DC$9:DC$374,19,DE$9:DE$374)+SUMIF(DG$9:DG$374,19,DI$9:DI$374)","v":0},null,0,null,0,null,"ok",null,{"$f":"SUMIF(DK$9:DK$374,19,DM$9:DM$374)+SUMIF(DO$9:DO$374,19,DQ$9:DQ$374)","v":0},null,0,null,0]
["module 20",null,"module 20",null,{"$f":"SUMIF(C$9:C$374,20,E$9:E$374)+SUMIF(G$9:G$374,20,I$9:I$374)","v":0},null,78,null,78,null,"ok",null,{"$f":"SUMIF(K$9:K$374,20,M$9:M$374)+SUMIF(O$9:O$374,20,Q$9:Q$374)","v":78},null,0,null,78,null,"module 20",null,{"$f":"SUMIF(S$9:S$374,20,U$9:U$374)+SUMIF(W$9:W$374,20,Y$9:Y$374)","v":75},null,3,null,78,null,"ok",null,{"$f":"SUMIF(AA$9:AA$374,20,AC$9:AC$374)+SUMIF(AE$9:AE$374,20,AG$9:AG$374)","v":78},null,0,null,78,null,"ok",null,{"$f":"SUMIF(AI$9:AI$374,20,AK$9:AK$374)+SUMIF(AM$9:AM$374,20,AO$9:AO$374)","v":78},null,0,null,78,null,"module 20",null,{"$f":"SUMIF(AQ$9:AQ$374,20,AS$9:AS$374)+SUMIF(AU$9:AU$374,20,AW$9:AW$374)","v":0},null,78,null,78,null,"module 20",null,{"$f":"SUMIF(AY$9:AY$374,20,BA$9:BA$374)+SUMIF(BC$9:BC$374,20,BE$9:BE$374)","v":0},null,78,null,78,null,"module 20",null,{"$f":"SUMIF(BG$9:BG$374,20,BI$9:BI$374)+SUMIF(BK$9:BK$374,20,BM$9:BM$374)","v":0},null,78,null,78,null,"module 20",null,{"$f":"SUMIF(BO$9:BO$374,20,BQ$9:BQ$374)+SUMIF(BS$9:BS$374,20,BU$9:BU$374)","v":0},null,78,null,78,null,"ok",null,{"$f":"SUMIF(BW$9:BW$374,20,BY$9:BY$374)+SUMIF(CA$9:CA$374,20,CC$9:CC$374)","v":0},null,0,null,0,null,"ok",null,{"$f":"SUMIF(CE$9:CE$374,20,CG$9:CG$374)+SUMIF(CI$9:CI$374,20,CK$9:CK$374)","v":0},null,0,null,0,null,"ok",null,{"$f":"SUMIF(CM$9:CM$374,20,CO$9:CO$374)+SUMIF(CQ$9:CQ$374,20,CS$9:CS$374)","v":0},null,0,null,0,null,"ok",null,{"$f":"SUMIF(CU$9:CU$374,20,CW$9:CW$374)+SUMIF(CY$9:CY$374,20,DA$9:DA$374)","v":0},null,0,null,0,null,"ok",null,{"$f":"SUMIF(DC$9:DC$374,20,DE$9:DE$374)+SUMIF(DG$9:DG$374,20,DI$9:DI$374)","v":0},null,0,null,0,null,"ok",null,{"$f":"SUMIF(DK$9:DK$374,20,DM$9:DM$374)+SUMIF(DO$9:DO$374,20,DQ$9:DQ$374)","v":0},null,0,null,0]
["module 21",null,"module 21",null,{"$f":"SUMIF(C$9:C$374,21,E$9:E$374)+SUMIF(G$9:G$374,21,I$9:I$374)","v":0},null,57,null,57,null,"ok",null,{"$f":"SUMIF(K$9:K$374,21,M$9:M$374)+SUMIF(O$9:O$374,21,Q$9:Q$374)","v":57},null,0,null,57,null,"module 21",null,{"$f":"SUMIF(S$9:S$374,21,U$9:U$374)+SUMIF(W$9:W$374,21,Y$9:Y$374)","v":54},null,3,null,57,null,"ok",null,{"$f":"SUMIF(AA$9:AA$374,21,AC$9:AC$374)+SUMIF(AE$9:AE$374,21,AG$9:AG$374)","v":57},null,0,null,57,null,"ok",null,{"$f":"SUMIF(AI$9:AI$374,21,AK$9:AK$374)+SUMIF(AM$9:AM$374,21,AO$9:AO$374)","v":57},null,0,null,57,null,"module 21",null,{"$f":"SUMIF(AQ$9:AQ$374,21,AS$9:AS$374)+SUMIF(AU$9:AU$374,21,AW$9:AW$374)","v":0},null,57,null,57,null,"module 21",null,{"$f":"SUMIF(AY$9:AY$374,21,BA$9:BA$374)+SUMIF(BC$9:BC$374,21,BE$9:BE$374)","v":0},null,57,null,57,null,"module 21",null,{"$f":"SUMIF(BG$9:BG$374,21,BI$9:BI$374)+SUMIF(BK$9:BK$374,21,BM$9:BM$374)","v":0},null,57,null,57,null,"module 21",null,{"$f":"SUMIF(BO$9:BO$374,21,BQ$9:BQ$374)+SUMIF(BS$9:BS$374,21,BU$9:BU$374)","v":0},null,57,null,57,null,"ok",null,{"$f":"SUMIF(BW$9:BW$374,21,BY$9:BY$374)+SUMIF(CA$9:CA$374,21,CC$9:CC$374)","v":0},null,0,null,0,null,"ok",null,{"$f":"SUMIF(CE$9:CE$374,21,CG$9:CG$374)+SUMIF(CI$9:CI$374,21,CK$9:CK$374)","v":0},null,0,null,0,null,"ok",null,{"$f":"SUMIF(CM$9:CM$374,21,CO$9:CO$374)+SUMIF(CQ$9:CQ$374,21,CS$9:CS$374)","v":0},null,0,null,0,null,"ok",null,{"$f":"SUMIF(CU$9:CU$374,21,CW$9:CW$374)+SUMIF(CY$9:CY$374,21,DA$9:DA$374)","v":0},null,0,null,0,null,"ok",null,{"$f":"SUMIF(DC$9:DC$374,21,DE$9:DE$374)+SUMIF(DG$9:DG$374,21,DI$9:DI$374)","v":0},null,0,null,0,null,"ok",null,{"$f":"SUMIF(DK$9:DK$374,21,DM$9:DM$374)+SUMIF(DO$9:DO$374,21,DQ$9:DQ$374)","v":0},null,0,null,0]
["module 22",null,"module 22",null,{"$f":"SUMIF(C$9:C$374,22,E$9:E$374)+SUMIF(G$9:G$374,22,I$9:I$374)","v":0},null,108,null,108,null,"ok",null,{"$f":"SUMIF(K$9:K$374,22,M$9:M$374)+SUMIF(O$9:O$374,22,Q$9:Q$374)","v":108},null,0,null,108,null,"ok",null,{"$f":"SUMIF(S$9:S$374,22,U$9:U$374)+SUMIF(W$9:W$374,22,Y$9:Y$374)","v":108},null,0,null,108,null,"ok",null,{"$f":"SUMIF(AA$9:AA$374,22,AC$9:AC$374)+SUMIF(AE$9:AE$374,22,AG$9:AG$374)","v":108},null,0,null,108,null,"ok",null,{"$f":"SUMIF(AI$9:AI$374,22,AK$9:AK$374)+SUMIF(AM$9:AM$374,22,AO$9:AO$374)","v":108},null,0,null,108,null,"module 22",null,{"$f":"SUMIF(AQ$9:AQ$374,22,AS$9:AS$374)+SUMIF(AU$9:AU$374,22,AW$9:AW$374)","v":0},null,108,null,108,null,"module 22",null,{"$f":"SUMIF(AY$9:AY$374,22,BA$9:BA$374)+SUMIF(BC$9:BC$374,22,BE$9:BE$374)","v":0},null,108,null,108,null,"module 22",null,{"$f":"SUMIF(BG$9:BG$374,22,BI$9:BI$374)+SUMIF(BK$9:BK$374,22,BM$9:BM$374)","v":0},null,108,null,108,null,"module 22",null,{"$f":"SUMIF(BO$9:BO$374,22,BQ$9:BQ$374)+SUMIF(BS$9:BS$374,22,BU$9:BU$374)","v":0},null,108,null,108,null,"ok",null,{"$f":"SUMIF(BW$9:BW$374,22,BY$9:BY$374)+SUMIF(CA$9:CA$374,22,CC$9:CC$374)","v":0},null,0,null,0,null,"ok",null,{"$f":"SUMIF(CE$9:CE$374,22,CG$9:CG$374)+SUMIF(CI$9:CI$374,22,CK$9:CK$374)","v":0},null,0,null,0,null,"ok",null,{"$f":"SUMIF(CM$9:CM$374,22,CO$9:CO$374)+SUMIF(CQ$9:CQ$374,22,CS$9:CS$374)","v":0},null,0,null,0,null,"ok",null,{"$f":"SUMIF(CU$9:CU$374,22,CW$9:CW$374)+SUMIF(CY$9:CY$374,22,DA$9:DA$374)","v":0},null,0,null,0,null,"ok",null,{"$f":"SUMIF(DC$9:DC$374,22,DE$9:DE$374)+SUMIF(DG$9:DG$374,22,DI$9:DI$374)","v":0},null,0,null,0,null,"ok",null,{"$f":"SUMIF(DK$9:DK$374,22,DM$9:DM$374)+SUMIF(DO$9:DO$374,22,DQ$9:DQ$374)","v":0},null,0,null,0]
["module 23",null,"module 23",null,{"$f":"SUMIF(C$9:C$374,23,E$9:E$374)+SUMIF(G$9:G$374,23,I$9:I$374)","v":51},null,3,null,54,null,"ok",null,{"$f":"SUMIF(K$9:K$374,23,M$9:M$374)+SUMIF(O$9:O$374,23,Q$9:Q$374)","v":54},null,0,null,54,null,"ok",null,{"$f":"SUMIF(S$9:S$374,23,U$9:U$374)+SUMIF(W$9:W$374,23,Y$9:Y$374)","v":54},null,0,null,54,null,"ok",null,{"$f":"SUMIF(AA$9:AA$374,23,AC$9:AC$374)+SUMIF(AE$9:AE$374,23,AG$9:AG$374)","v":54},null,0,null,54,null,"ok",null,{"$f":"SUMIF(AI$9:AI$374,23,AK$9:AK$374)+SUMIF(AM$9:AM$374,23,AO$9:AO$374)","v":54},null,0,null,54,null,"module 23",null,{"$f":"SUMIF(AQ$9:AQ$374,23,AS$9:AS$374)+SUMIF(AU$9:AU$374,23,AW$9:AW$374)","v":0},null,54,null,54,null,"module 23",null,{"$f":"SUMIF(AY$9:AY$374,23,BA$9:BA$374)+SUMIF(BC$9:BC$374,23,BE$9:BE$374)","v":0},null,54,null,54,null,"module 23",null,{"$f":"SUMIF(BG$9:BG$374,23,BI$9:BI$374)+SUMIF(BK$9:BK$374,23,BM$9:BM$374)","v":0},null,54,null,54,null,"module 23",null,{"$f":"SUMIF(BO$9:BO$374,23,BQ$9:BQ$374)+SUMIF(BS$9:BS$374,23,BU$9:BU$374)","v":0},null,54,null,54,null,"ok",null,{"$f":"SUMIF(BW$9:BW$374,23,BY$9:BY$374)+SUMIF(CA$9:CA$374,23,CC$9:CC$374)","v":0},null,0,null,0,null,"ok",null,{"$f":"SUMIF(CE$9:CE$374,23,CG$9:CG$374)+SUMIF(CI$9:CI$374,23,CK$9:CK$374)","v":0},null,0,null,0,null,"ok",null,{"$f":"SUMIF(CM$9:CM$374,23,CO$9:CO$374)+SUMIF(CQ$9:CQ$374,23,CS$9:CS$374)","v":0},null,0,null,0,null,"ok",null,{"$f":"SUMIF(CU$9:CU$374,23,CW$9:CW$374)+SUMIF(CY$9:CY$374,23,DA$9:DA$374)","v":0},null,0,null,0,null,"ok",null,{"$f":"SUMIF(DC$9:DC$374,23,DE$9:DE$374)+SUMIF(DG$9:DG$374,23,DI$9:DI$374)","v":0},null,0,null,0,null,"ok",null,{"$f":"SUMIF(DK$9:DK$374,23,DM$9:DM$374)+SUMIF(DO$9:DO$374,23,DQ$9:DQ$374)","v":0},null,0,null,0]
["module 24",null,"ok",null,{"$f":"SUMIF(C$9:C$374,24,E$9:E$374)+SUMIF(G$9:G$374,24,I$9:I$374)","v":51},null,0,null,51,null,"ok",null,{"$f":"SUMIF(K$9:K$374,24,M$9:M$374)+SUMIF(O$9:O$374,24,Q$9:Q$374)","v":51},null,0,null,51,null,"ok",null,{"$f":"SUMIF(S$9:S$374,24,U$9:U$374)+SUMIF(W$9:W$374,24,Y$9:Y$374)","v":51},null,0,null,51,null,"ok",null,{"$f":"SUMIF(AA$9:AA$374,24,AC$9:AC$374)+SUMIF(AE$9:AE$374,24,AG$9:AG$374)","v":51},null,0,null,51,null,"ok",null,{"$f":"SUMIF(AI$9:AI$374,24,AK$9:AK$374)+SUMIF(AM$9:AM$374,24,AO$9:AO$374)","v":51},null,0,null,51,null,"module 24",null,{"$f":"SUMIF(AQ$9:AQ$374,24,AS$9:AS$374)+SUMIF(AU$9:AU$374,24,AW$9:AW$374)","v":0},null,51,null,51,null,"module 24",null,{"$f":"SUMIF(AY$9:AY$374,24,BA$9:BA$374)+SUMIF(BC$9:BC$374,24,BE$9:BE$374)","v":0},null,51,null,51,null,"module 24",null,{"$f":"SUMIF(BG$9:BG$374,24,BI$9:BI$374)+SUMIF(BK$9:BK$374,24,BM$9:BM$374)","v":0},null,51,null,51,null,"module 24",null,{"$f":"SUMIF(BO$9:BO$374,24,BQ$9:BQ$374)+SUMIF(BS$9:BS$374,24,BU$9:BU$374)","v":0},null,51,null,51,null,"ok",null,{"$f":"SUMIF(BW$9:BW$374,24,BY$9:BY$374)+SUMIF(CA$9:CA$374,24,CC$9:CC$374)","v":0},null,0,null,0,null,"ok",null,{"$f":"SUMIF(CE$9:CE$374,24,CG$9:CG$374)+SUMIF(CI$9:CI$374,24,CK$9:CK$374)","v":0},null,0,null,0,null,"ok",null,{"$f":"SUMIF(CM$9:CM$374,24,CO$9:CO$374)+SUMIF(CQ$9:CQ$374,24,CS$9:CS$374)","v":0},null,0,null,0,null,"ok",null,{"$f":"SUMIF(CU$9:CU$374,24,CW$9:CW$374)+SUMIF(CY$9:CY$374,24,DA$9:DA$374)","v":0},null,0,null,0,null,"ok",null,{"$f":"SUMIF(DC$9:DC$374,24,DE$9:DE$374)+SUMIF(DG$9:DG$374,24,DI$9:DI$374)","v":0},null,0,null,0,null,"ok",null,{"$f":"SUMIF(DK$9:DK$374,24,DM$9:DM$374)+SUMIF(DO$9:DO$374,24,DQ$9:DQ$374)","v":0},null,0,null,0]
["module 25",null,"ok",null,{"$f":"SUMIF(C$9:C$374,25,E$9:E$374)+SUMIF(G$9:G$374,25,I$9:I$374)","v":0},null,0,null,0,null,"ok",null,{"$f":"SUMIF(K$9:K$374,25,M$9:M$374)+SUMIF(O$9:O$374,25,Q$9:Q$374)","v":0},null,0,null,0,null,"ok",null,{"$f":"SUMIF(S$9:S$374,25,U$9:U$374)+SUMIF(W$9:W$374,25,Y$9:Y$374)","v":0},null,0,null,0,null,"ok",null,{"$f":"SUMIF(AA$9:AA$374,25,AC$9:AC$374)+SUMIF(AE$9:AE$374,25,AG$9:AG$374)","v":0},null,0,null,0,null,"ok",null,{"$f":"SUMIF(AI$9:AI$374,25,AK$9:AK$374)+SUMIF(AM$9:AM$374,25,AO$9:AO$374)","v":0},null,0,null,0,null,"ok",null,{"$f":"SUMIF(AQ$9:AQ$374,25,AS$9:AS$374)+SUMIF(AU$9:AU$374,25,AW$9:AW$374)","v":0},null,0,null,0,null,"ok",null,{"$f":"SUMIF(AY$9:AY$374,25,BA$9:BA$374)+SUMIF(BC$9:BC$374,25,BE$9:BE$374)","v":0},null,0,null,0,null,"ok",null,{"$f":"SUMIF(BG$9:BG$374,25,BI$9:BI$374)+SUMIF(BK$9:BK$374,25,BM$9:BM$374)","v":0},null,0,null,0,null,"ok",null,{"$f":"SUMIF(BO$9:BO$374,25,BQ$9:BQ$374)+SUMIF(BS$9:BS$374,25,BU$9:BU$374)","v":0},null,0,null,0,null,"ok",null,{"$f":"SUMIF(BW$9:BW$374,25,BY$9:BY$374)+SUMIF(CA$9:CA$374,25,CC$9:CC$374)","v":0},null,0,null,0,null,"ok",null,{"$f":"SUMIF(CE$9:CE$374,25,CG$9:CG$374)+SUMIF(CI$9:CI$374,25,CK$9:CK$374)","v":0},null,0,null,0,null,"ok",null,{"$f":"SUMIF(CM$9:CM$374,25,CO$9:CO$374)+SUMIF(CQ$9:CQ$374,25,CS$9:CS$374)","v":0},null,0,null,0,null,"ok",null,{"$f":"SUMIF(CU$9:CU$374,25,CW$9:CW$374)+SUMIF(CY$9:CY$374,25,DA$9:DA$374)","v":0},null,0,null,0,null,"ok",null,{"$f":"SUMIF(DC$9:DC$374,25,DE$9:DE$374)+SUMIF(DG$9:DG$374,25,DI$9:DI$374)","v":0},null,0,null,0,null,"ok",null,{"$f":"SUMIF(DK$9:DK$374,25,DM$9:DM$374)+SUMIF(DO$9:DO$374,25,DQ$9:DQ$374)","v":0},null,0,null,0]
["module 26",null,"ok",null,{"$f":"SUMIF(C$9:C$374,26,E$9:E$374)+SUMIF(G$9:G$374,26,I$9:I$374)","v":0},null,0,null,0,null,"ok",null,{"$f":"SUMIF(K$9:K$374,26,M$9:M$374)+SUMIF(O$9:O$374,26,Q$9:Q$374)","v":0},null,0,null,0,null,"ok",null,{"$f":"SUMIF(S$9:S$374,26,U$9:U$374)+SUMIF(W$9:W$374,26,Y$9:Y$374)","v":0},null,0,null,0,null,"ok",null,{"$f":"SUMIF(AA$9:AA$374,26,AC$9:AC$374)+SUMIF(AE$9:AE$374,26,AG$9:AG$374)","v":0},null,0,null,0,null,"ok",null,{"$f":"SUMIF(AI$9:AI$374,26,AK$9:AK$374)+SUMIF(AM$9:AM$374,26,AO$9:AO$374)","v":0},null,0,null,0,null,"ok",null,{"$f":"SUMIF(AQ$9:AQ$374,26,AS$9:AS$374)+SUMIF(AU$9:AU$374,26,AW$9:AW$374)","v":0},null,0,null,0,null,"ok",null,{"$f":"SUMIF(AY$9:AY$374,26,BA$9:BA$374)+SUMIF(BC$9:BC$374,26,BE$9:BE$374)","v":0},null,0,null,0,null,"ok",null,{"$f":"SUMIF(BG$9:BG$374,26,BI$9:BI$374)+SUMIF(BK$9:BK$374,26,BM$9:BM$374)","v":0},null,0,null,0,null,"ok",null,{"$f":"SUMIF(BO$9:BO$374,26,BQ$9:BQ$374)+SUMIF(BS$9:BS$374,26,BU$9:BU$374)","v":0},null,0,null,0,null,"ok",null,{"$f":"SUMIF(BW$9:BW$374,26,BY$9:BY$374)+SUMIF(CA$9:CA$374,26,CC$9:CC$374)","v":0},null,0,null,0,null,"ok",null,{"$f":"SUMIF(CE$9:CE$374,26,CG$9:CG$374)+SUMIF(CI$9:CI$374,26,CK$9:CK$374)","v":0},null,0,null,0,null,"ok",null,{"$f":"SUMIF(CM$9:CM$374,26,CO$9:CO$374)+SUMIF(CQ$9:CQ$374,26,CS$9:CS$374)","v":0},null,0,null,0,null,"ok",null,{"$f":"SUMIF(CU$9:CU$374,26,CW$9:CW$374)+SUMIF(CY$9:CY$374,26,DA$9:DA$374)","v":0},null,0,null,0,null,"ok",null,{"$f":"SUMIF(DC$9:DC$374,26,DE$9:DE$374)+SUMIF(DG$9:DG$374,26,DI$9:DI$374)","v":0},null,0,null,0,null,"ok",null,{"$f":"SUMIF(DK$9:DK$374,26,DM$9:DM$374)+SUMIF(DO$9:DO$374,26,DQ$9:DQ$374)","v":0},null,0,null,0]
["module 27",null,"ok",null,{"$f":"SUMIF(C$9:C$374,27,E$9:E$374)+SUMIF(G$9:G$374,27,I$9:I$374)","v":0},null,0,null,0,null,"ok",null,{"$f":"SUMIF(K$9:K$374,27,M$9:M$374)+SUMIF(O$9:O$374,27,Q$9:Q$374)","v":0},null,0,null,0,null,"ok",null,{"$f":"SUMIF(S$9:S$374,27,U$9:U$374)+SUMIF(W$9:W$374,27,Y$9:Y$374)","v":0},null,0,null,0,null,"ok",null,{"$f":"SUMIF(AA$9:AA$374,27,AC$9:AC$374)+SUMIF(AE$9:AE$374,27,AG$9:AG$374)","v":0},null,0,null,0,null,"ok",null,{"$f":"SUMIF(AI$9:AI$374,27,AK$9:AK$374)+SUMIF(AM$9:AM$374,27,AO$9:AO$374)","v":0},null,0,null,0,null,"ok",null,{"$f":"SUMIF(AQ$9:AQ$374,27,AS$9:AS$374)+SUMIF(AU$9:AU$374,27,AW$9:AW$374)","v":0},null,0,null,0,null,"ok",null,{"$f":"SUMIF(AY$9:AY$374,27,BA$9:BA$374)+SUMIF(BC$9:BC$374,27,BE$9:BE$374)","v":0},null,0,null,0,null,"ok",null,{"$f":"SUMIF(BG$9:BG$374,27,BI$9:BI$374)+SUMIF(BK$9:BK$374,27,BM$9:BM$374)","v":0},null,0,null,0,null,"ok",null,{"$f":"SUMIF(BO$9:BO$374,27,BQ$9:BQ$374)+SUMIF(BS$9:BS$374,27,BU$9:BU$374)","v":0},null,0,null,0,null,"ok",null,{"$f":"SUMIF(BW$9:BW$374,27,BY$9:BY$374)+SUMIF(CA$9:CA$374,27,CC$9:CC$374)","v":0},null,0,null,0,null,"ok",null,{"$f":"SUMIF(CE$9:CE$374,27,CG$9:CG$374)+SUMIF(CI$9:CI$374,27,CK$9:CK$374)","v":0},null,0,null,0,null,"ok",null,{"$f":"SUMIF(CM$9:CM$374,27,CO$9:CO$374)+SUMIF(CQ$9:CQ$374,27,CS$9:CS$374)","v":0},null,0,null,0,null,"ok",null,{"$f":"SUMIF(CU$9:CU$374,27,CW$9:CW$374)+SUMIF(CY$9:CY$374,27,DA$9:DA$374)","v":0},null,0,null,0,null,"ok",null,{"$f":"SUMIF(DC$9:DC$374,27,DE$9:DE$374)+SUMIF(DG$9:DG$374,27,DI$9:DI$374)","v":0},null,0,null,0,null,"ok",null,{"$f":"SUMIF(DK$9:DK$374,27,DM$9:DM$374)+SUMIF(DO$9:DO$374,27,DQ$9:DQ$374)","v":0},null,0,null,0]
["module 28",null,"ok",null,{"$f":"SUMIF(C$9:C$374,28,E$9:E$374)+SUMIF(G$9:G$374,28,I$9:I$374)","v":0},null,0,null,0,null,"ok",null,{"$f":"SUMIF(K$9:K$374,28,M$9:M$374)+SUMIF(O$9:O$374,28,Q$9:Q$374)","v":0},null,0,null,0,null,"ok",null,{"$f":"SUMIF(S$9:S$374,28,U$9:U$374)+SUMIF(W$9:W$374,28,Y$9:Y$374)","v":0},null,0,null,0,null,"ok",null,{"$f":"SUMIF(AA$9:AA$374,28,AC$9:AC$374)+SUMIF(AE$9:AE$374,28,AG$9:AG$374)","v":0},null,0,null,0,null,"ok",null,{"$f":"SUMIF(AI$9:AI$374,28,AK$9:AK$374)+SUMIF(AM$9:AM$374,28,AO$9:AO$374)","v":0},null,0,null,0,null,"ok",null,{"$f":"SUMIF(AQ$9:AQ$374,28,AS$9:AS$374)+SUMIF(AU$9:AU$374,28,AW$9:AW$374)","v":0},null,0,null,0,null,"ok",null,{"$f":"SUMIF(AY$9:AY$374,28,BA$9:BA$374)+SUMIF(BC$9:BC$374,28,BE$9:BE$374)","v":0},null,0,null,0,null,"ok",null,{"$f":"SUMIF(BG$9:BG$374,28,BI$9:BI$374)+SUMIF(BK$9:BK$374,28,BM$9:BM$374)","v":0},null,0,null,0,null,"ok",null,{"$f":"SUMIF(BO$9:BO$374,28,BQ$9:BQ$374)+SUMIF(BS$9:BS$374,28,BU$9:BU$374)","v":0},null,0,null,0,null,"ok",null,{"$f":"SUMIF(BW$9:BW$374,28,BY$9:BY$374)+SUMIF(CA$9:CA$374,28,CC$9:CC$374)","v":0},null,0,null,0,null,"ok",null,{"$f":"SUMIF(CE$9:CE$374,28,CG$9:CG$374)+SUMIF(CI$9:CI$374,28,CK$9:CK$374)","v":0},null,0,null,0,null,"ok",null,{"$f":"SUMIF(CM$9:CM$374,28,CO$9:CO$374)+SUMIF(CQ$9:CQ$374,28,CS$9:CS$374)","v":0},null,0,null,0,null,"ok",null,{"$f":"SUMIF(CU$9:CU$374,28,CW$9:CW$374)+SUMIF(CY$9:CY$374,28,DA$9:DA$374)","v":0},null,0,null,0,null,"ok",null,{"$f":"SUMIF(DC$9:DC$374,28,DE$9:DE$374)+SUMIF(DG$9:DG$374,28,DI$9:DI$374)","v":0},null,0,null,0,null,"ok",null,{"$f":"SUMIF(DK$9:DK$374,28,DM$9:DM$374)+SUMIF(DO$9:DO$374,28,DQ$9:DQ$374)","v":0},null,0,null,0]
["module 29",null,"ok",null,{"$f":"SUMIF(C$9:C$374,29,E$9:E$374)+SUMIF(G$9:G$374,29,I$9:I$374)","v":0},null,0,null,0,null,"ok",null,{"$f":"SUMIF(K$9:K$374,29,M$9:M$374)+SUMIF(O$9:O$374,29,Q$9:Q$374)","v":0},null,0,null,0,null,"ok",null,{"$f":"SUMIF(S$9:S$374,29,U$9:U$374)+SUMIF(W$9:W$374,29,Y$9:Y$374)","v":0},null,0,null,0,null,"ok",null,{"$f":"SUMIF(AA$9:AA$374,29,AC$9:AC$374)+SUMIF(AE$9:AE$374,29,AG$9:AG$374)","v":0},null,0,null,0,null,"ok",null,{"$f":"SUMIF(AI$9:AI$374,29,AK$9:AK$374)+SUMIF(AM$9:AM$374,29,AO$9:AO$374)","v":0},null,0,null,0,null,"ok",null,{"$f":"SUMIF(AQ$9:AQ$374,29,AS$9:AS$374)+SUMIF(AU$9:AU$374,29,AW$9:AW$374)","v":0},null,0,null,0,null,"ok",null,{"$f":"SUMIF(AY$9:AY$374,29,BA$9:BA$374)+SUMIF(BC$9:BC$374,29,BE$9:BE$374)","v":0},null,0,null,0,null,"ok",null,{"$f":"SUMIF(BG$9:BG$374,29,BI$9:BI$374)+SUMIF(BK$9:BK$374,29,BM$9:BM$374)","v":0},null,0,null,0,null,"ok",null,{"$f":"SUMIF(BO$9:BO$374,29,BQ$9:BQ$374)+SUMIF(BS$9:BS$374,29,BU$9:BU$374)","v":0},null,0,null,0,null,"ok",null,{"$f":"SUMIF(BW$9:BW$374,29,BY$9:BY$374)+SUMIF(CA$9:CA$374,29,CC$9:CC$374)","v":0},null,0,null,0,null,"ok",null,{"$f":"SUMIF(CE$9:CE$374,29,CG$9:CG$374)+SUMIF(CI$9:CI$374,29,CK$9:CK$374)","v":0},null,0,null,0,null,"ok",null,{"$f":"SUMIF(CM$9:CM$374,29,CO$9:CO$374)+SUMIF(CQ$9:CQ$374,29,CS$9:CS$374)","v":0},null,0,null,0,null,"ok",null,{"$f":"SUMIF(CU$9:CU$374,29,CW$9:CW$374)+SUMIF(CY$9:CY$374,29,DA$9:DA$374)","v":0},null,0,null,0,null,"ok",null,{"$f":"SUMIF(DC$9:DC$374,29,DE$9:DE$374)+SUMIF(DG$9:DG$374,29,DI$9:DI$374)","v":0},null,0,null,0,null,"ok",null,{"$f":"SUMIF(DK$9:DK$374,29,DM$9:DM$374)+SUMIF(DO$9:DO$374,29,DQ$9:DQ$374)","v":0},null,0,null,0]
["module 30",null,"module 30",null,{"$f":"SUMIF(C$9:C$374,30,E$9:E$374)+SUMIF(G$9:G$374,30,I$9:I$374)","v":0},null,12,null,12,null,"module 30",null,{"$f":"SUMIF(K$9:K$374,30,M$9:M$374)+SUMIF(O$9:O$374,30,Q$9:Q$374)","v":0},null,12,null,12,null,"module 30",null,{"$f":"SUMIF(S$9:S$374,30,U$9:U$374)+SUMIF(W$9:W$374,30,Y$9:Y$374)","v":0},null,12,null,12,null,"module 30",null,{"$f":"SUMIF(AA$9:AA$374,30,AC$9:AC$374)+SUMIF(AE$9:AE$374,30,AG$9:AG$374)","v":0},null,12,null,12,null,"module 30",null,{"$f":"SUMIF(AI$9:AI$374,30,AK$9:AK$374)+SUMIF(AM$9:AM$374,30,AO$9:AO$374)","v":0},null,12,null,12,null,"module 30",null,{"$f":"SUMIF(AQ$9:AQ$374,30,AS$9:AS$374)+SUMIF(AU$9:AU$374,30,AW$9:AW$374)","v":0},null,12,null,12,null,"module 30",null,{"$f":"SUMIF(AY$9:AY$374,30,BA$9:BA$374)+SUMIF(BC$9:BC$374,30,BE$9:BE$374)","v":0},null,12,null,12,null,"module 30",null,{"$f":"SUMIF(BG$9:BG$374,30,BI$9:BI$374)+SUMIF(BK$9:BK$374,30,BM$9:BM$374)","v":0},null,12,null,12,null,"module 30",null,{"$f":"SUMIF(BO$9:BO$374,30,BQ$9:BQ$374)+SUMIF(BS$9:BS$374,30,BU$9:BU$374)","v":0},null,12,null,12,null,"ok",null,{"$f":"SUMIF(BW$9:BW$374,30,BY$9:BY$374)+SUMIF(CA$9:CA$374,30,CC$9:CC$374)","v":0},null,0,null,0,null,"ok",null,{"$f":"SUMIF(CE$9:CE$374,30,CG$9:CG$374)+SUMIF(CI$9:CI$374,30,CK$9:CK$374)","v":0},null,0,null,0,null,"ok",null,{"$f":"SUMIF(CM$9:CM$374,30,CO$9:CO$374)+SUMIF(CQ$9:CQ$374,30,CS$9:CS$374)","v":0},null,0,null,0,null,"ok",null,{"$f":"SUMIF(CU$9:CU$374,30,CW$9:CW$374)+SUMIF(CY$9:CY$374,30,DA$9:DA$374)","v":0},null,0,null,0,null,"ok",null,{"$f":"SUMIF(DC$9:DC$374,30,DE$9:DE$374)+SUMIF(DG$9:DG$374,30,DI$9:DI$374)","v":0},null,0,null,0,null,"ok",null,{"$f":"SUMIF(DK$9:DK$374,30,DM$9:DM$374)+SUMIF(DO$9:DO$374,30,DQ$9:DQ$374)","v":0},null,0,null,0]
["module 31",null,"ok",null,{"$f":"SUMIF(C$9:C$374,31,E$9:E$374)+SUMIF(G$9:G$374,31,I$9:I$374)","v":0},null,0,null,0,null,"ok",null,{"$f":"SUMIF(K$9:K$374,31,M$9:M$374)+SUMIF(O$9:O$374,31,Q$9:Q$374)","v":0},null,0,null,0,null,"ok",null,{"$f":"SUMIF(S$9:S$374,31,U$9:U$374)+SUMIF(W$9:W$374,31,Y$9:Y$374)","v":0},null,0,null,0,null,"ok",null,{"$f":"SUMIF(AA$9:AA$374,31,AC$9:AC$374)+SUMIF(AE$9:AE$374,31,AG$9:AG$374)","v":0},null,0,null,0,null,"ok",null,{"$f":"SUMIF(AI$9:AI$374,31,AK$9:AK$374)+SUMIF(AM$9:AM$374,31,AO$9:AO$374)","v":0},null,0,null,0,null,"ok",null,{"$f":"SUMIF(AQ$9:AQ$374,31,AS$9:AS$374)+SUMIF(AU$9:AU$374,31,AW$9:AW$374)","v":0},null,0,null,0,null,"ok",null,{"$f":"SUMIF(AY$9:AY$374,31,BA$9:BA$374)+SUMIF(BC$9:BC$374,31,BE$9:BE$374)","v":0},null,0,null,0,null,"ok",null,{"$f":"SUMIF(BG$9:BG$374,31,BI$9:BI$374)+SUMIF(BK$9:BK$374,31,BM$9:BM$374)","v":0},null,0,null,0,null,"ok",null,{"$f":"SUMIF(BO$9:BO$374,31,BQ$9:BQ$374)+SUMIF(BS$9:BS$374,31,BU$9:BU$374)","v":0},null,0,null,0,null,"ok",null,{"$f":"SUMIF(BW$9:BW$374,31,BY$9:BY$374)+SUMIF(CA$9:CA$374,31,CC$9:CC$374)","v":0},null,0,null,0,null,"ok",null,{"$f":"SUMIF(CE$9:CE$374,31,CG$9:CG$374)+SUMIF(CI$9:CI$374,31,CK$9:CK$374)","v":0},null,0,null,0,null,"ok",null,{"$f":"SUMIF(CM$9:CM$374,31,CO$9:CO$374)+SUMIF(CQ$9:CQ$374,31,CS$9:CS$374)","v":0},null,0,null,0,null,"ok",null,{"$f":"SUMIF(CU$9:CU$374,31,CW$9:CW$374)+SUMIF(CY$9:CY$374,31,DA$9:DA$374)","v":0},null,0,null,0,null,"ok",null,{"$f":"SUMIF(DC$9:DC$374,31,DE$9:DE$374)+SUMIF(DG$9:DG$374,31,DI$9:DI$374)","v":0},null,0,null,0,null,"ok",null,{"$f":"SUMIF(DK$9:DK$374,31,DM$9:DM$374)+SUMIF(DO$9:DO$374,31,DQ$9:DQ$374)","v":0},null,0,null,0]
["module 32",null,"ok",null,{"$f":"SUMIF(C$9:C$374,32,E$9:E$374)+SUMIF(G$9:G$374,32,I$9:I$374)","v":0},null,0,null,0,null,"ok",null,{"$f":"SUMIF(K$9:K$374,32,M$9:M$374)+SUMIF(O$9:O$374,32,Q$9:Q$374)","v":0},null,0,null,0,null,"ok",null,{"$f":"SUMIF(S$9:S$374,32,U$9:U$374)+SUMIF(W$9:W$374,32,Y$9:Y$374)","v":0},null,0,null,0,null,"ok",null,{"$f":"SUMIF(AA$9:AA$374,32,AC$9:AC$374)+SUMIF(AE$9:AE$374,32,AG$9:AG$374)","v":0},null,0,null,0,null,"ok",null,{"$f":"SUMIF(AI$9:AI$374,32,AK$9:AK$374)+SUMIF(AM$9:AM$374,32,AO$9:AO$374)","v":0},null,0,null,0,null,"ok",null,{"$f":"SUMIF(AQ$9:AQ$374,32,AS$9:AS$374)+SUMIF(AU$9:AU$374,32,AW$9:AW$374)","v":0},null,0,null,0,null,"ok",null,{"$f":"SUMIF(AY$9:AY$374,32,BA$9:BA$374)+SUMIF(BC$9:BC$374,32,BE$9:BE$374)","v":0},null,0,null,0,null,"ok",null,{"$f":"SUMIF(BG$9:BG$374,32,BI$9:BI$374)+SUMIF(BK$9:BK$374,32,BM$9:BM$374)","v":0},null,0,null,0,null,"ok",null,{"$f":"SUMIF(BO$9:BO$374,32,BQ$9:BQ$374)+SUMIF(BS$9:BS$374,32,BU$9:BU$374)","v":0},null,0,null,0,null,"ok",null,{"$f":"SUMIF(BW$9:BW$374,32,BY$9:BY$374)+SUMIF(CA$9:CA$374,32,CC$9:CC$374)","v":0},null,0,null,0,null,"ok",null,{"$f":"SUMIF(CE$9:CE$374,32,CG$9:CG$374)+SUMIF(CI$9:CI$374,32,CK$9:CK$374)","v":0},null,0,null,0,null,"ok",null,{"$f":"SUMIF(CM$9:CM$374,32,CO$9:CO$374)+SUMIF(CQ$9:CQ$374,32,CS$9:CS$374)","v":0},null,0,null,0,null,"ok",null,{"$f":"SUMIF(CU$9:CU$374,32,CW$9:CW$374)+SUMIF(CY$9:CY$374,32,DA$9:DA$374)","v":0},null,0,null,0,null,"ok",null,{"$f":"SUMIF(DC$9:DC$374,32,DE$9:DE$374)+SUMIF(DG$9:DG$374,32,DI$9:DI$374)","v":0},null,0,null,0,null,"ok",null,{"$f":"SUMIF(DK$9:DK$374,32,DM$9:DM$374)+SUMIF(DO$9:DO$374,32,DQ$9:DQ$374)","v":0},null,0,null,0]
["module 33",null,"module 33",null,{"$f":"SUMIF(C$9:C$374,33,E$9:E$374)+SUMIF(G$9:G$374,33,I$9:I$374)","v":6},null,54,null,60,null,"module 33",null,{"$f":"SUMIF(K$9:K$374,33,M$9:M$374)+SUMIF(O$9:O$374,33,Q$9:Q$374)","v":27},null,33,null,60,null,"module 33",null,{"$f":"SUMIF(S$9:S$374,33,U$9:U$374)+SUMIF(W$9:W$374,33,Y$9:Y$374)","v":21},null,39,null,60,null,"module 33",null,{"$f":"SUMIF(AA$9:AA$374,33,AC$9:AC$374)+SUMIF(AE$9:AE$374,33,AG$9:AG$374)","v":42},null,18,null,60,null,"module 33",null,{"$f":"SUMIF(AI$9:AI$374,33,AK$9:AK$374)+SUMIF(AM$9:AM$374,33,AO$9:AO$374)","v":42},null,18,null,60,null,"module 33",null,{"$f":"SUMIF(AQ$9:AQ$374,33,AS$9:AS$374)+SUMIF(AU$9:AU$374,33,AW$9:AW$374)","v":30},null,30,null,60,null,"module 33",null,{"$f":"SUMIF(AY$9:AY$374,33,BA$9:BA$374)+SUMIF(BC$9:BC$374,33,BE$9:BE$374)","v":24},null,36,null,60,null,"module 33",null,{"$f":"SUMIF(BG$9:BG$374,33,BI$9:BI$374)+SUMIF(BK$9:BK$374,33,BM$9:BM$374)","v":15},null,45,null,60,null,"module 33",null,{"$f":"SUMIF(BO$9:BO$374,33,BQ$9:BQ$374)+SUMIF(BS$9:BS$374,33,BU$9:BU$374)","v":0},null,60,null,60,null,"ok",null,{"$f":"SUMIF(BW$9:BW$374,33,BY$9:BY$374)+SUMIF(CA$9:CA$374,33,CC$9:CC$374)","v":0},null,0,null,0,null,"ok",null,{"$f":"SUMIF(CE$9:CE$374,33,CG$9:CG$374)+SUMIF(CI$9:CI$374,33,CK$9:CK$374)","v":0},null,0,null,0,null,"ok",null,{"$f":"SUMIF(CM$9:CM$374,33,CO$9:CO$374)+SUMIF(CQ$9:CQ$374,33,CS$9:CS$374)","v":0},null,0,null,0,null,"ok",null,{"$f":"SUMIF(CU$9:CU$374,33,CW$9:CW$374)+SUMIF(CY$9:CY$374,33,DA$9:DA$374)","v":0},null,0,null,0,null,"ok",null,{"$f":"SUMIF(DC$9:DC$374,33,DE$9:DE$374)+SUMIF(DG$9:DG$374,33,DI$9:DI$374)","v":0},null,0,null,0,null,"ok",null,{"$f":"SUMIF(DK$9:DK$374,33,DM$9:DM$374)+SUMIF(DO$9:DO$374,33,DQ$9:DQ$374)","v":0},null,0,null,0]
["module 34",null,"module 34",null,{"$f":"SUMIF(C$9:C$374,34,E$9:E$374)+SUMIF(G$9:G$374,34,I$9:I$374)","v":0},null,30,null,30,null,"ok",null,{"$f":"SUMIF(K$9:K$374,34,M$9:M$374)+SUMIF(O$9:O$374,34,Q$9:Q$374)","v":30},null,0,null,30,null,"ok",null,{"$f":"SUMIF(S$9:S$374,34,U$9:U$374)+SUMIF(W$9:W$374,34,Y$9:Y$374)","v":30},null,0,null,30,null,"ok",null,{"$f":"SUMIF(AA$9:AA$374,34,AC$9:AC$374)+SUMIF(AE$9:AE$374,34,AG$9:AG$374)","v":30},null,0,null,30,null,"ok",null,{"$f":"SUMIF(AI$9:AI$374,34,AK$9:AK$374)+SUMIF(AM$9:AM$374,34,AO$9:AO$374)","v":30},null,0,null,30,null,"module 34",null,{"$f":"SUMIF(AQ$9:AQ$374,34,AS$9:AS$374)+SUMIF(AU$9:AU$374,34,AW$9:AW$374)","v":0},null,30,null,30,null,"module 34",null,{"$f":"SUMIF(AY$9:AY$374,34,BA$9:BA$374)+SUMIF(BC$9:BC$374,34,BE$9:BE$374)","v":0},null,30,null,30,null,"module 34",null,{"$f":"SUMIF(BG$9:BG$374,34,BI$9:BI$374)+SUMIF(BK$9:BK$374,34,BM$9:BM$374)","v":0},null,30,null,30,null,"module 34",null,{"$f":"SUMIF(BO$9:BO$374,34,BQ$9:BQ$374)+SUMIF(BS$9:BS$374,34,BU$9:BU$374)","v":0},null,30,null,30,null,"ok",null,{"$f":"SUMIF(BW$9:BW$374,34,BY$9:BY$374)+SUMIF(CA$9:CA$374,34,CC$9:CC$374)","v":0},null,0,null,0,null,"ok",null,{"$f":"SUMIF(CE$9:CE$374,34,CG$9:CG$374)+SUMIF(CI$9:CI$374,34,CK$9:CK$374)","v":0},null,0,null,0,null,"ok",null,{"$f":"SUMIF(CM$9:CM$374,34,CO$9:CO$374)+SUMIF(CQ$9:CQ$374,34,CS$9:CS$374)","v":0},null,0,null,0,null,"ok",null,{"$f":"SUMIF(CU$9:CU$374,34,CW$9:CW$374)+SUMIF(CY$9:CY$374,34,DA$9:DA$374)","v":0},null,0,null,0,null,"ok",null,{"$f":"SUMIF(DC$9:DC$374,34,DE$9:DE$374)+SUMIF(DG$9:DG$374,34,DI$9:DI$374)","v":0},null,0,null,0,null,"ok",null,{"$f":"SUMIF(DK$9:DK$374,34,DM$9:DM$374)+SUMIF(DO$9:DO$374,34,DQ$9:DQ$374)","v":0},null,0,null,0]
["module 35",null,"ok",null,{"$f":"SUMIF(C$9:C$374,35,E$9:E$374)+SUMIF(G$9:G$374,35,I$9:I$374)","v":0},null,0,null,0,null,"ok",null,{"$f":"SUMIF(K$9:K$374,35,M$9:M$374)+SUMIF(O$9:O$374,35,Q$9:Q$374)","v":0},null,0,null,0,null,"ok",null,{"$f":"SUMIF(S$9:S$374,35,U$9:U$374)+SUMIF(W$9:W$374,35,Y$9:Y$374)","v":0},null,0,null,0,null,"ok",null,{"$f":"SUMIF(AA$9:AA$374,35,AC$9:AC$374)+SUMIF(AE$9:AE$374,35,AG$9:AG$374)","v":0},null,0,null,0,null,"ok",null,{"$f":"SUMIF(AI$9:AI$374,35,AK$9:AK$374)+SUMIF(AM$9:AM$374,35,AO$9:AO$374)","v":0},null,0,null,0,null,"ok",null,{"$f":"SUMIF(AQ$9:AQ$374,35,AS$9:AS$374)+SUMIF(AU$9:AU$374,35,AW$9:AW$374)","v":0},null,0,null,0,null,"ok",null,{"$f":"SUMIF(AY$9:AY$374,35,BA$9:BA$374)+SUMIF(BC$9:BC$374,35,BE$9:BE$374)","v":0},null,0,null,0,null,"ok",null,{"$f":"SUMIF(BG$9:BG$374,35,BI$9:BI$374)+SUMIF(BK$9:BK$374,35,BM$9:BM$374)","v":0},null,0,null,0,null,"ok",null,{"$f":"SUMIF(BO$9:BO$374,35,BQ$9:BQ$374)+SUMIF(BS$9:BS$374,35,BU$9:BU$374)","v":0},null,0,null,0,null,"ok",null,{"$f":"SUMIF(BW$9:BW$374,35,BY$9:BY$374)+SUMIF(CA$9:CA$374,35,CC$9:CC$374)","v":0},null,0,null,0,null,"ok",null,{"$f":"SUMIF(CE$9:CE$374,35,CG$9:CG$374)+SUMIF(CI$9:CI$374,35,CK$9:CK$374)","v":0},null,0,null,0,null,"ok",null,{"$f":"SUMIF(CM$9:CM$374,35,CO$9:CO$374)+SUMIF(CQ$9:CQ$374,35,CS$9:CS$374)","v":0},null,0,null,0,null,"ok",null,{"$f":"SUMIF(CU$9:CU$374,35,CW$9:CW$374)+SUMIF(CY$9:CY$374,35,DA$9:DA$374)","v":0},null,0,null,0,null,"ok",null,{"$f":"SUMIF(DC$9:DC$374,35,DE$9:DE$374)+SUMIF(DG$9:DG$374,35,DI$9:DI$374)","v":0},null,0,null,0,null,"ok",null,{"$f":"SUMIF(DK$9:DK$374,35,DM$9:DM$374)+SUMIF(DO$9:DO$374,35,DQ$9:DQ$374)","v":0},null,0,null,0]
["module 36",null,"ok",null,{"$f":"SUMIF(C$9:C$374,36,E$9:E$374)+SUMIF(G$9:G$374,36,I$9:I$374)","v":0},null,0,null,0,null,"ok",null,{"$f":"SUMIF(K$9:K$374,36,M$9:M$374)+SUMIF(O$9:O$374,36,Q$9:Q$374)","v":0},null,0,null,0,null,"ok",null,{"$f":"SUMIF(S$9:S$374,36,U$9:U$374)+SUMIF(W$9:W$374,36,Y$9:Y$374)","v":0},null,0,null,0,null,"ok",null,{"$f":"SUMIF(AA$9:AA$374,36,AC$9:AC$374)+SUMIF(AE$9:AE$374,36,AG$9:AG$374)","v":0},null,0,null,0,null,"ok",null,{"$f":"SUMIF(AI$9:AI$374,36,AK$9:AK$374)+SUMIF(AM$9:AM$374,36,AO$9:AO$374)","v":0},null,0,null,0,null,"ok",null,{"$f":"SUMIF(AQ$9:AQ$374,36,AS$9:AS$374)+SUMIF(AU$9:AU$374,36,AW$9:AW$374)","v":0},null,0,null,0,null,"ok",null,{"$f":"SUMIF(AY$9:AY$374,36,BA$9:BA$374)+SUMIF(BC$9:BC$374,36,BE$9:BE$374)","v":0},null,0,null,0,null,"ok",null,{"$f":"SUMIF(BG$9:BG$374,36,BI$9:BI$374)+SUMIF(BK$9:BK$374,36,BM$9:BM$374)","v":0},null,0,null,0,null,"ok",null,{"$f":"SUMIF(BO$9:BO$374,36,BQ$9:BQ$374)+SUMIF(BS$9:BS$374,36,BU$9:BU$374)","v":0},null,0,null,0,null,"ok",null,{"$f":"SUMIF(BW$9:BW$374,36,BY$9:BY$374)+SUMIF(CA$9:CA$374,36,CC$9:CC$374)","v":0},null,0,null,0,null,"ok",null,{"$f":"SUMIF(CE$9:CE$374,36,CG$9:CG$374)+SUMIF(CI$9:CI$374,36,CK$9:CK$374)","v":0},null,0,null,0,null,"ok",null,{"$f":"SUMIF(CM$9:CM$374,36,CO$9:CO$374)+SUMIF(CQ$9:CQ$374,36,CS$9:CS$374)","v":0},null,0,null,0,null,"ok",null,{"$f":"SUMIF(CU$9:CU$374,36,CW$9:CW$374)+SUMIF(CY$9:CY$374,36,DA$9:DA$374)","v":0},null,0,null,0,null,"ok",null,{"$f":"SUMIF(DC$9:DC$374,36,DE$9:DE$374)+SUMIF(DG$9:DG$374,36,DI$9:DI$374)","v":0},null,0,null,0,null,"ok",null,{"$f":"SUMIF(DK$9:DK$374,36,DM$9:DM$374)+SUMIF(DO$9:DO$374,36,DQ$9:DQ$374)","v":0},null,0,null,0]
["module 37",null,"ok",null,{"$f":"SUMIF(C$9:C$374,37,E$9:E$374)+SUMIF(G$9:G$374,37,I$9:I$374)","v":0},null,0,null,0,null,"ok",null,{"$f":"SUMIF(K$9:K$374,37,M$9:M$374)+SUMIF(O$9:O$374,37,Q$9:Q$374)","v":0},null,0,null,0,null,"ok",null,{"$f":"SUMIF(S$9:S$374,37,U$9:U$374)+SUMIF(W$9:W$374,37,Y$9:Y$374)","v":0},null,0,null,0,null,"ok",null,{"$f":"SUMIF(AA$9:AA$374,37,AC$9:AC$374)+SUMIF(AE$9:AE$374,37,AG$9:AG$374)","v":0},null,0,null,0,null,"ok",null,{"$f":"SUMIF(AI$9:AI$374,37,AK$9:AK$374)+SUMIF(AM$9:AM$374,37,AO$9:AO$374)","v":0},null,0,null,0,null,"ok",null,{"$f":"SUMIF(AQ$9:AQ$374,37,AS$9:AS$374)+SUMIF(AU$9:AU$374,37,AW$9:AW$374)","v":0},null,0,null,0,null,"ok",null,{"$f":"SUMIF(AY$9:AY$374,37,BA$9:BA$374)+SUMIF(BC$9:BC$374,37,BE$9:BE$374)","v":0},null,0,null,0,null,"ok",null,{"$f":"SUMIF(BG$9:BG$374,37,BI$9:BI$374)+SUMIF(BK$9:BK$374,37,BM$9:BM$374)","v":0},null,0,null,0,null,"ok",null,{"$f":"SUMIF(BO$9:BO$374,37,BQ$9:BQ$374)+SUMIF(BS$9:BS$374,37,BU$9:BU$374)","v":0},null,0,null,0,null,"ok",null,{"$f":"SUMIF(BW$9:BW$374,37,BY$9:BY$374)+SUMIF(CA$9:CA$374,37,CC$9:CC$374)","v":0},null,0,null,0,null,"ok",null,{"$f":"SUMIF(CE$9:CE$374,37,CG$9:CG$374)+SUMIF(CI$9:CI$374,37,CK$9:CK$374)","v":0},null,0,null,0,null,"ok",null,{"$f":"SUMIF(CM$9:CM$374,37,CO$9:CO$374)+SUMIF(CQ$9:CQ$374,37,CS$9:CS$374)","v":0},null,0,null,0,null,"ok",null,{"$f":"SUMIF(CU$9:CU$374,37,CW$9:CW$374)+SUMIF(CY$9:CY$374,37,DA$9:DA$374)","v":0},null,0,null,0,null,"ok",null,{"$f":"SUMIF(DC$9:DC$374,37,DE$9:DE$374)+SUMIF(DG$9:DG$374,37,DI$9:DI$374)","v":0},null,0,null,0,null,"ok",null,{"$f":"SUMIF(DK$9:DK$374,37,DM$9:DM$374)+SUMIF(DO$9:DO$374,37,DQ$9:DQ$374)","v":0},null,0,null,0]
["module 38",null,"ok",null,{"$f":"SUMIF(C$9:C$374,38,E$9:E$374)+SUMIF(G$9:G$374,38,I$9:I$374)","v":0},null,0,null,0,null,"ok",null,{"$f":"SUMIF(K$9:K$374,38,M$9:M$374)+SUMIF(O$9:O$374,38,Q$9:Q$374)","v":0},null,0,null,0,null,"ok",null,{"$f":"SUMIF(S$9:S$374,38,U$9:U$374)+SUMIF(W$9:W$374,38,Y$9:Y$374)","v":0},null,0,null,0,null,"ok",null,{"$f":"SUMIF(AA$9:AA$374,38,AC$9:AC$374)+SUMIF(AE$9:AE$374,38,AG$9:AG$374)","v":0},null,0,null,0,null,"ok",null,{"$f":"SUMIF(AI$9:AI$374,38,AK$9:AK$374)+SUMIF(AM$9:AM$374,38,AO$9:AO$374)","v":0},null,0,null,0,null,"ok",null,{"$f":"SUMIF(AQ$9:AQ$374,38,AS$9:AS$374)+SUMIF(AU$9:AU$374,38,AW$9:AW$374)","v":0},null,0,null,0,null,"ok",null,{"$f":"SUMIF(AY$9:AY$374,38,BA$9:BA$374)+SUMIF(BC$9:BC$374,38,BE$9:BE$374)","v":0},null,0,null,0,null,"ok",null,{"$f":"SUMIF(BG$9:BG$374,38,BI$9:BI$374)+SUMIF(BK$9:BK$374,38,BM$9:BM$374)","v":0},null,0,null,0,null,"ok",null,{"$f":"SUMIF(BO$9:BO$374,38,BQ$9:BQ$374)+SUMIF(BS$9:BS$374,38,BU$9:BU$374)","v":0},null,0,null,0,null,"ok",null,{"$f":"SUMIF(BW$9:BW$374,38,BY$9:BY$374)+SUMIF(CA$9:CA$374,38,CC$9:CC$374)","v":0},null,0,null,0,null,"ok",null,{"$f":"SUMIF(CE$9:CE$374,38,CG$9:CG$374)+SUMIF(CI$9:CI$374,38,CK$9:CK$374)","v":0},null,0,null,0,null,"ok",null,{"$f":"SUMIF(CM$9:CM$374,38,CO$9:CO$374)+SUMIF(CQ$9:CQ$374,38,CS$9:CS$374)","v":0},null,0,null,0,null,"ok",null,{"$f":"SUMIF(CU$9:CU$374,38,CW$9:CW$374)+SUMIF(CY$9:CY$374,38,DA$9:DA$374)","v":0},null,0,null,0,null,"ok",null,{"$f":"SUMIF(DC$9:DC$374,38,DE$9:DE$374)+SUMIF(DG$9:DG$374,38,DI$9:DI$374)","v":0},null,0,null,0,null,"ok",null,{"$f":"SUMIF(DK$9:DK$374,38,DM$9:DM$374)+SUMIF(DO$9:DO$374,38,DQ$9:DQ$374)","v":0},null,0,null,0]
["module 39",null,"ok",null,{"$f":"SUMIF(C$9:C$374,39,E$9:E$374)+SUMIF(G$9:G$374,39,I$9:I$374)","v":0},null,0,null,0,null,"ok",null,{"$f":"SUMIF(K$9:K$374,39,M$9:M$374)+SUMIF(O$9:O$374,39,Q$9:Q$374)","v":0},null,0,null,0,null,"ok",null,{"$f":"SUMIF(S$9:S$374,39,U$9:U$374)+SUMIF(W$9:W$374,39,Y$9:Y$374)","v":0},null,0,null,0,null,"ok",null,{"$f":"SUMIF(AA$9:AA$374,39,AC$9:AC$374)+SUMIF(AE$9:AE$374,39,AG$9:AG$374)","v":0},null,0,null,0,null,"ok",null,{"$f":"SUMIF(AI$9:AI$374,39,AK$9:AK$374)+SUMIF(AM$9:AM$374,39,AO$9:AO$374)","v":0},null,0,null,0,null,"ok",null,{"$f":"SUMIF(AQ$9:AQ$374,39,AS$9:AS$374)+SUMIF(AU$9:AU$374,39,AW$9:AW$374)","v":0},null,0,null,0,null,"ok",null,{"$f":"SUMIF(AY$9:AY$374,39,BA$9:BA$374)+SUMIF(BC$9:BC$374,39,BE$9:BE$374)","v":0},null,0,null,0,null,"ok",null,{"$f":"SUMIF(BG$9:BG$374,39,BI$9:BI$374)+SUMIF(BK$9:BK$374,39,BM$9:BM$374)","v":0},null,0,null,0,null,"ok",null,{"$f":"SUMIF(BO$9:BO$374,39,BQ$9:BQ$374)+SUMIF(BS$9:BS$374,39,BU$9:BU$374)","v":0},null,0,null,0,null,"ok",null,{"$f":"SUMIF(BW$9:BW$374,39,BY$9:BY$374)+SUMIF(CA$9:CA$374,39,CC$9:CC$374)","v":0},null,0,null,0,null,"ok",null,{"$f":"SUMIF(CE$9:CE$374,39,CG$9:CG$374)+SUMIF(CI$9:CI$374,39,CK$9:CK$374)","v":0},null,0,null,0,null,"ok",null,{"$f":"SUMIF(CM$9:CM$374,39,CO$9:CO$374)+SUMIF(CQ$9:CQ$374,39,CS$9:CS$374)","v":0},null,0,null,0,null,"ok",null,{"$f":"SUMIF(CU$9:CU$374,39,CW$9:CW$374)+SUMIF(CY$9:CY$374,39,DA$9:DA$374)","v":0},null,0,null,0,null,"ok",null,{"$f":"SUMIF(DC$9:DC$374,39,DE$9:DE$374)+SUMIF(DG$9:DG$374,39,DI$9:DI$374)","v":0},null,0,null,0,null,"ok",null,{"$f":"SUMIF(DK$9:DK$374,39,DM$9:DM$374)+SUMIF(DO$9:DO$374,39,DQ$9:DQ$374)","v":0},null,0,null,0]
["module 89",null,"ok",null,{"$f":"SUMIF(C$9:C$374,40,E$9:E$374)+SUMIF(G$9:G$374,40,I$9:I$374)","v":0},null,0,null,0,null,"ok",null,{"$f":"SUMIF(K$9:K$374,40,M$9:M$374)+SUMIF(O$9:O$374,40,Q$9:Q$374)","v":0},null,0,null,0,null,"ok",null,{"$f":"SUMIF(S$9:S$374,40,U$9:U$374)+SUMIF(W$9:W$374,40,Y$9:Y$374)","v":0},null,0,null,0,null,"ok",null,{"$f":"SUMIF(AA$9:AA$374,40,AC$9:AC$374)+SUMIF(AE$9:AE$374,40,AG$9:AG$374)","v":0},null,0,null,0,null,"ok",null,{"$f":"SUMIF(AI$9:AI$374,40,AK$9:AK$374)+SUMIF(AM$9:AM$374,40,AO$9:AO$374)","v":0},null,0,null,0,null,"ok",null,{"$f":"SUMIF(AQ$9:AQ$374,40,AS$9:AS$374)+SUMIF(AU$9:AU$374,40,AW$9:AW$374)","v":0},null,0,null,0,null,"ok",null,{"$f":"SUMIF(AY$9:AY$374,40,BA$9:BA$374)+SUMIF(BC$9:BC$374,40,BE$9:BE$374)","v":0},null,0,null,0,null,"ok",null,{"$f":"SUMIF(BG$9:BG$374,40,BI$9:BI$374)+SUMIF(BK$9:BK$374,40,BM$9:BM$374)","v":0},null,0,null,0,null,"ok",null,{"$f":"SUMIF(BO$9:BO$374,40,BQ$9:BQ$374)+SUMIF(BS$9:BS$374,40,BU$9:BU$374)","v":0},null,0,null,0,null,"ok",null,{"$f":"SUMIF(BW$9:BW$374,40,BY$9:BY$374)+SUMIF(CA$9:CA$374,40,CC$9:CC$374)","v":0},null,0,null,0,null,"ok",null,{"$f":"SUMIF(CE$9:CE$374,40,CG$9:CG$374)+SUMIF(CI$9:CI$374,40,CK$9:CK$374)","v":0},null,0,null,0,null,"ok",null,{"$f":"SUMIF(CM$9:CM$374,40,CO$9:CO$374)+SUMIF(CQ$9:CQ$374,40,CS$9:CS$374)","v":0},null,0,null,0,null,"ok",null,{"$f":"SUMIF(CU$9:CU$374,40,CW$9:CW$374)+SUMIF(CY$9:CY$374,40,DA$9:DA$374)","v":0},null,0,null,0,null,"ok",null,{"$f":"SUMIF(DC$9:DC$374,40,DE$9:DE$374)+SUMIF(DG$9:DG$374,40,DI$9:DI$374)","v":0},null,0,null,0,null,"ok",null,{"$f":"SUMIF(DK$9:DK$374,40,DM$9:DM$374)+SUMIF(DO$9:DO$374,40,DQ$9:DQ$374)","v":0},null,0,null,0]
["module 90",null,"module 90",null,{"$f":"SUMIF(C$9:C$374,90,E$9:E$374)+SUMIF(G$9:G$374,90,I$9:I$374)","v":12},null,105,null,117,null,"module 90",null,{"$f":"SUMIF(K$9:K$374,90,M$9:M$374)+SUMIF(O$9:O$374,90,Q$9:Q$374)","v":42},null,75,null,117,null,"module 90",null,{"$f":"SUMIF(S$9:S$374,90,U$9:U$374)+SUMIF(W$9:W$374,90,Y$9:Y$374)","v":48},null,69,null,117,null,"module 90",null,{"$f":"SUMIF(AA$9:AA$374,90,AC$9:AC$374)+SUMIF(AE$9:AE$374,90,AG$9:AG$374)","v":78},null,39,null,117,null,"module 90",null,{"$f":"SUMIF(AI$9:AI$374,90,AK$9:AK$374)+SUMIF(AM$9:AM$374,90,AO$9:AO$374)","v":84},null,33,null,117,null,"module 90",null,{"$f":"SUMIF(AQ$9:AQ$374,90,AS$9:AS$374)+SUMIF(AU$9:AU$374,90,AW$9:AW$374)","v":66},null,51,null,117,null,"module 90",null,{"$f":"SUMIF(AY$9:AY$374,90,BA$9:BA$374)+SUMIF(BC$9:BC$374,90,BE$9:BE$374)","v":24},null,93,null,117,null,"module 90",null,{"$f":"SUMIF(BG$9:BG$374,90,BI$9:BI$374)+SUMIF(BK$9:BK$374,90,BM$9:BM$374)","v":24},null,93,null,117,null,"module 90",null,{"$f":"SUMIF(BO$9:BO$374,90,BQ$9:BQ$374)+SUMIF(BS$9:BS$374,90,BU$9:BU$374)","v":0},null,117,null,117,null,"ok",null,{"$f":"SUMIF(BW$9:BW$374,90,BY$9:BY$374)+SUMIF(CA$9:CA$374,90,CC$9:CC$374)","v":0},null,0,null,0,null,"ok",null,{"$f":"SUMIF(CE$9:CE$374,90,CG$9:CG$374)+SUMIF(CI$9:CI$374,90,CK$9:CK$374)","v":0},null,0,null,0,null,"ok",null,{"$f":"SUMIF(CM$9:CM$374,90,CO$9:CO$374)+SUMIF(CQ$9:CQ$374,90,CS$9:CS$374)","v":0},null,0,null,0,null,"ok",null,{"$f":"SUMIF(CU$9:CU$374,90,CW$9:CW$374)+SUMIF(CY$9:CY$374,90,DA$9:DA$374)","v":0},null,0,null,0,null,"ok",null,{"$f":"SUMIF(DC$9:DC$374,90,DE$9:DE$374)+SUMIF(DG$9:DG$374,90,DI$9:DI$374)","v":0},null,0,null,0,null,"ok",null,{"$f":"SUMIF(DK$9:DK$374,90,DM$9:DM$374)+SUMIF(DO$9:DO$374,90,DQ$9:DQ$374)","v":0},null,0,null,0]
["module 91",null,"ok",null,{"$f":"SUMIF(C$9:C$374,91,E$9:E$374)+SUMIF(G$9:G$374,91,I$9:I$374)","v":0},null,0,null,0,null,"ok",null,{"$f":"SUMIF(K$9:K$374,91,M$9:M$374)+SUMIF(O$9:O$374,91,Q$9:Q$374)","v":0},null,0,null,0,null,"ok",null,{"$f":"SUMIF(S$9:S$374,91,U$9:U$374)+SUMIF(W$9:W$374,91,Y$9:Y$374)","v":0},null,0,null,0,null,"ok",null,{"$f":"SUMIF(AA$9:AA$374,91,AC$9:AC$374)+SUMIF(AE$9:AE$374,91,AG$9:AG$374)","v":0},null,0,null,0,null,"ok",null,{"$f":"SUMIF(AI$9:AI$374,91,AK$9:AK$374)+SUMIF(AM$9:AM$374,91,AO$9:AO$374)","v":0},null,0,null,0,null,"ok",null,{"$f":"SUMIF(AQ$9:AQ$374,91,AS$9:AS$374)+SUMIF(AU$9:AU$374,91,AW$9:AW$374)","v":0},null,0,null,0,null,"ok",null,{"$f":"SUMIF(AY$9:AY$374,91,BA$9:BA$374)+SUMIF(BC$9:BC$374,91,BE$9:BE$374)","v":0},null,0,null,0,null,"ok",null,{"$f":"SUMIF(BG$9:BG$374,91,BI$9:BI$374)+SUMIF(BK$9:BK$374,91,BM$9:BM$374)","v":0},null,0,null,0,null,"ok",null,{"$f":"SUMIF(BO$9:BO$374,91,BQ$9:BQ$374)+SUMIF(BS$9:BS$374,91,BU$9:BU$374)","v":0},null,0,null,0,null,"ok",null,{"$f":"SUMIF(BW$9:BW$374,91,BY$9:BY$374)+SUMIF(CA$9:CA$374,91,CC$9:CC$374)","v":0},null,0,null,0,null,"ok",null,{"$f":"SUMIF(CE$9:CE$374,91,CG$9:CG$374)+SUMIF(CI$9:CI$374,91,CK$9:CK$374)","v":0},null,0,null,0,null,"ok",null,{"$f":"SUMIF(CM$9:CM$374,91,CO$9:CO$374)+SUMIF(CQ$9:CQ$374,91,CS$9:CS$374)","v":0},null,0,null,0,null,"ok",null,{"$f":"SUMIF(CU$9:CU$374,91,CW$9:CW$374)+SUMIF(CY$9:CY$374,91,DA$9:DA$374)","v":0},null,0,null,0,null,"ok",null,{"$f":"SUMIF(DC$9:DC$374,91,DE$9:DE$374)+SUMIF(DG$9:DG$374,91,DI$9:DI$374)","v":0},null,0,null,0,null,"ok",null,{"$f":"SUMIF(DK$9:DK$374,91,DM$9:DM$374)+SUMIF(DO$9:DO$374,91,DQ$9:DQ$374)","v":0},null,0,null,0]
["module 92",null,"ok",null,{"$f":"SUMIF(C$9:C$374,92,E$9:E$374)+SUMIF(G$9:G$374,92,I$9:I$374)","v":0},null,0,null,0,null,"ok",null,{"$f":"SUMIF(K$9:K$374,92,M$9:M$374)+SUMIF(O$9:O$374,92,Q$9:Q$374)","v":0},null,0,null,0,null,"ok",null,{"$f":"SUMIF(S$9:S$374,92,U$9:U$374)+SUMIF(W$9:W$374,92,Y$9:Y$374)","v":0},null,0,null,0,null,"ok",null,{"$f":"SUMIF(AA$9:AA$374,92,AC$9:AC$374)+SUMIF(AE$9:AE$374,92,AG$9:AG$374)","v":0},null,0,null,0,null,"ok",null,{"$f":"SUMIF(AI$9:AI$374,92,AK$9:AK$374)+SUMIF(AM$9:AM$374,92,AO$9:AO$374)","v":0},null,0,null,0,null,"ok",null,{"$f":"SUMIF(AQ$9:AQ$374,92,AS$9:AS$374)+SUMIF(AU$9:AU$374,92,AW$9:AW$374)","v":0},null,0,null,0,null,"ok",null,{"$f":"SUMIF(AY$9:AY$374,92,BA$9:BA$374)+SUMIF(BC$9:BC$374,92,BE$9:BE$374)","v":0},null,0,null,0,null,"ok",null,{"$f":"SUMIF(BG$9:BG$374,92,BI$9:BI$374)+SUMIF(BK$9:BK$374,92,BM$9:BM$374)","v":0},null,0,null,0,null,"ok",null,{"$f":"SUMIF(BO$9:BO$374,92,BQ$9:BQ$374)+SUMIF(BS$9:BS$374,92,BU$9:BU$374)","v":0},null,0,null,0,null,"ok",null,{"$f":"SUMIF(BW$9:BW$374,92,BY$9:BY$374)+SUMIF(CA$9:CA$374,92,CC$9:CC$374)","v":0},null,0,null,0,null,"ok",null,{"$f":"SUMIF(CE$9:CE$374,92,CG$9:CG$374)+SUMIF(CI$9:CI$374,92,CK$9:CK$374)","v":0},null,0,null,0,null,"ok",null,{"$f":"SUMIF(CM$9:CM$374,92,CO$9:CO$374)+SUMIF(CQ$9:CQ$374,92,CS$9:CS$374)","v":0},null,0,null,0,null,"ok",null,{"$f":"SUMIF(CU$9:CU$374,92,CW$9:CW$374)+SUMIF(CY$9:CY$374,92,DA$9:DA$374)","v":0},null,0,null,0,null,"ok",null,{"$f":"SUMIF(DC$9:DC$374,92,DE$9:DE$374)+SUMIF(DG$9:DG$374,92,DI$9:DI$374)","v":0},null,0,null,0,null,"ok",null,{"$f":"SUMIF(DK$9:DK$374,92,DM$9:DM$374)+SUMIF(DO$9:DO$374,92,DQ$9:DQ$374)","v":0},null,0,null,0]
["module 93",null,"ok",null,{"$f":"SUMIF(C$9:C$374,93,E$9:E$374)+SUMIF(G$9:G$374,93,I$9:I$374)","v":0},null,0,null,0,null,"ok",null,{"$f":"SUMIF(K$9:K$374,93,M$9:M$374)+SUMIF(O$9:O$374,93,Q$9:Q$374)","v":0},null,0,null,0,null,"ok",null,{"$f":"SUMIF(S$9:S$374,93,U$9:U$374)+SUMIF(W$9:W$374,93,Y$9:Y$374)","v":0},null,0,null,0,null,"ok",null,{"$f":"SUMIF(AA$9:AA$374,93,AC$9:AC$374)+SUMIF(AE$9:AE$374,93,AG$9:AG$374)","v":0},null,0,null,0,null,"ok",null,{"$f":"SUMIF(AI$9:AI$374,93,AK$9:AK$374)+SUMIF(AM$9:AM$374,93,AO$9:AO$374)","v":0},null,0,null,0,null,"ok",null,{"$f":"SUMIF(AQ$9:AQ$374,93,AS$9:AS$374)+SUMIF(AU$9:AU$374,93,AW$9:AW$374)","v":0},null,0,null,0,null,"ok",null,{"$f":"SUMIF(AY$9:AY$374,93,BA$9:BA$374)+SUMIF(BC$9:BC$374,93,BE$9:BE$374)","v":0},null,0,null,0,null,"ok",null,{"$f":"SUMIF(BG$9:BG$374,93,BI$9:BI$374)+SUMIF(BK$9:BK$374,93,BM$9:BM$374)","v":0},null,0,null,0,null,"ok",null,{"$f":"SUMIF(BO$9:BO$374,93,BQ$9:BQ$374)+SUMIF(BS$9:BS$374,93,BU$9:BU$374)","v":0},null,0,null,0,null,"ok",null,{"$f":"SUMIF(BW$9:BW$374,93,BY$9:BY$374)+SUMIF(CA$9:CA$374,93,CC$9:CC$374)","v":0},null,0,null,0,null,"ok",null,{"$f":"SUMIF(CE$9:CE$374,93,CG$9:CG$374)+SUMIF(CI$9:CI$374,93,CK$9:CK$374)","v":0},null,0,null,0,null,"ok",null,{"$f":"SUMIF(CM$9:CM$374,93,CO$9:CO$374)+SUMIF(CQ$9:CQ$374,93,CS$9:CS$374)","v":0},null,0,null,0,null,"ok",null,{"$f":"SUMIF(CU$9:CU$374,93,CW$9:CW$374)+SUMIF(CY$9:CY$374,93,DA$9:DA$374)","v":0},null,0,null,0,null,"ok",null,{"$f":"SUMIF(DC$9:DC$374,93,DE$9:DE$374)+SUMIF(DG$9:DG$374,93,DI$9:DI$374)","v":0},null,0,null,0,null,"ok",null,{"$f":"SUMIF(DK$9:DK$374,93,DM$9:DM$374)+SUMIF(DO$9:DO$374,93,DQ$9:DQ$374)","v":0},null,0,null,0]
["module 94",null,"ok",null,{"$f":"SUMIF(C$9:C$374,94,E$9:E$374)+SUMIF(G$9:G$374,94,I$9:I$374)","v":0},null,0,null,0,null,"ok",null,{"$f":"SUMIF(K$9:K$374,94,M$9:M$374)+SUMIF(O$9:O$374,94,Q$9:Q$374)","v":0},null,0,null,0,null,"ok",null,{"$f":"SUMIF(S$9:S$374,94,U$9:U$374)+SUMIF(W$9:W$374,94,Y$9:Y$374)","v":0},null,0,null,0,null,"ok",null,{"$f":"SUMIF(AA$9:AA$374,94,AC$9:AC$374)+SUMIF(AE$9:AE$374,94,AG$9:AG$374)","v":0},null,0,null,0,null,"ok",null,{"$f":"SUMIF(AI$9:AI$374,94,AK$9:AK$374)+SUMIF(AM$9:AM$374,94,AO$9:AO$374)","v":0},null,0,null,0,null,"ok",null,{"$f":"SUMIF(AQ$9:AQ$374,94,AS$9:AS$374)+SUMIF(AU$9:AU$374,94,AW$9:AW$374)","v":0},null,0,null,0,null,"ok",null,{"$f":"SUMIF(AY$9:AY$374,94,BA$9:BA$374)+SUMIF(BC$9:BC$374,94,BE$9:BE$374)","v":0},null,0,null,0,null,"ok",null,{"$f":"SUMIF(BG$9:BG$374,94,BI$9:BI$374)+SUMIF(BK$9:BK$374,94,BM$9:BM$374)","v":0},null,0,null,0,null,"ok",null,{"$f":"SUMIF(BO$9:BO$374,94,BQ$9:BQ$374)+SUMIF(BS$9:BS$374,94,BU$9:BU$374)","v":0},null,0,null,0,null,"ok",null,{"$f":"SUMIF(BW$9:BW$374,94,BY$9:BY$374)+SUMIF(CA$9:CA$374,94,CC$9:CC$374)","v":0},null,0,null,0,null,"ok",null,{"$f":"SUMIF(CE$9:CE$374,94,CG$9:CG$374)+SUMIF(CI$9:CI$374,94,CK$9:CK$374)","v":0},null,0,null,0,null,"ok",null,{"$f":"SUMIF(CM$9:CM$374,94,CO$9:CO$374)+SUMIF(CQ$9:CQ$374,94,CS$9:CS$374)","v":0},null,0,null,0,null,"ok",null,{"$f":"SUMIF(CU$9:CU$374,94,CW$9:CW$374)+SUMIF(CY$9:CY$374,94,DA$9:DA$374)","v":0},null,0,null,0,null,"ok",null,{"$f":"SUMIF(DC$9:DC$374,94,DE$9:DE$374)+SUMIF(DG$9:DG$374,94,DI$9:DI$374)","v":0},null,0,null,0,null,"ok",null,{"$f":"SUMIF(DK$9:DK$374,94,DM$9:DM$374)+SUMIF(DO$9:DO$374,94,DQ$9:DQ$374)","v":0},null,0,null,0]
["module 95",null,"ok",null,{"$f":"SUMIF(C$9:C$374,95,E$9:E$374)+SUMIF(G$9:G$374,95,I$9:I$374)","v":42},null,0,null,42,null,"ok",null,{"$f":"SUMIF(K$9:K$374,95,M$9:M$374)+SUMIF(O$9:O$374,95,Q$9:Q$374)","v":42},null,0,null,42,null,"ok",null,{"$f":"SUMIF(S$9:S$374,95,U$9:U$374)+SUMIF(W$9:W$374,95,Y$9:Y$374)","v":42},null,0,null,42,null,"ok",null,{"$f":"SUMIF(AA$9:AA$374,95,AC$9:AC$374)+SUMIF(AE$9:AE$374,95,AG$9:AG$374)","v":42},null,0,null,42,null,"module 95",null,{"$f":"SUMIF(AI$9:AI$374,95,AK$9:AK$374)+SUMIF(AM$9:AM$374,95,AO$9:AO$374)","v":36},null,6,null,42,null,"module 95",null,{"$f":"SUMIF(AQ$9:AQ$374,95,AS$9:AS$374)+SUMIF(AU$9:AU$374,95,AW$9:AW$374)","v":0},null,42,null,42,null,"module 95",null,{"$f":"SUMIF(AY$9:AY$374,95,BA$9:BA$374)+SUMIF(BC$9:BC$374,95,BE$9:BE$374)","v":0},null,42,null,42,null,"module 95",null,{"$f":"SUMIF(BG$9:BG$374,95,BI$9:BI$374)+SUMIF(BK$9:BK$374,95,BM$9:BM$374)","v":0},null,42,null,42,null,"module 95",null,{"$f":"SUMIF(BO$9:BO$374,95,BQ$9:BQ$374)+SUMIF(BS$9:BS$374,95,BU$9:BU$374)","v":0},null,42,null,42,null,"ok",null,{"$f":"SUMIF(BW$9:BW$374,95,BY$9:BY$374)+SUMIF(CA$9:CA$374,95,CC$9:CC$374)","v":0},null,0,null,0,null,"ok",null,{"$f":"SUMIF(CE$9:CE$374,95,CG$9:CG$374)+SUMIF(CI$9:CI$374,95,CK$9:CK$374)","v":0},null,0,null,0,null,"ok",null,{"$f":"SUMIF(CM$9:CM$374,95,CO$9:CO$374)+SUMIF(CQ$9:CQ$374,95,CS$9:CS$374)","v":0},null,0,null,0,null,"ok",null,{"$f":"SUMIF(CU$9:CU$374,95,CW$9:CW$374)+SUMIF(CY$9:CY$374,95,DA$9:DA$374)","v":0},null,0,null,0,null,"ok",null,{"$f":"SUMIF(DC$9:DC$374,95,DE$9:DE$374)+SUMIF(DG$9:DG$374,95,DI$9:DI$374)","v":0},null,0,null,0,null,"ok",null,{"$f":"SUMIF(DK$9:DK$374,95,DM$9:DM$374)+SUMIF(DO$9:DO$374,95,DQ$9:DQ$374)","v":0},null,0,null,0]
["module 96",null,"ok",null,{"$f":"SUMIF(C$9:C$374,96,E$9:E$374)+SUMIF(G$9:G$374,96,I$9:I$374)","v":0},null,0,null,0,null,"ok",null,{"$f":"SUMIF(K$9:K$374,96,M$9:M$374)+SUMIF(O$9:O$374,96,Q$9:Q$374)","v":0},null,0,null,0,null,"ok",null,{"$f":"SUMIF(S$9:S$374,96,U$9:U$374)+SUMIF(W$9:W$374,96,Y$9:Y$374)","v":0},null,0,null,0,null,"ok",null,{"$f":"SUMIF(AA$9:AA$374,96,AC$9:AC$374)+SUMIF(AE$9:AE$374,96,AG$9:AG$374)","v":0},null,0,null,0,null,"ok",null,{"$f":"SUMIF(AI$9:AI$374,96,AK$9:AK$374)+SUMIF(AM$9:AM$374,96,AO$9:AO$374)","v":0},null,0,null,0,null,"ok",null,{"$f":"SUMIF(AQ$9:AQ$374,96,AS$9:AS$374)+SUMIF(AU$9:AU$374,96,AW$9:AW$374)","v":0},null,0,null,0,null,"ok",null,{"$f":"SUMIF(AY$9:AY$374,96,BA$9:BA$374)+SUMIF(BC$9:BC$374,96,BE$9:BE$374)","v":0},null,0,null,0,null,"ok",null,{"$f":"SUMIF(BG$9:BG$374,96,BI$9:BI$374)+SUMIF(BK$9:BK$374,96,BM$9:BM$374)","v":0},null,0,null,0,null,"ok",null,{"$f":"SUMIF(BO$9:BO$374,96,BQ$9:BQ$374)+SUMIF(BS$9:BS$374,96,BU$9:BU$374)","v":0},null,0,null,0,null,"ok",null,{"$f":"SUMIF(BW$9:BW$374,96,BY$9:BY$374)+SUMIF(CA$9:CA$374,96,CC$9:CC$374)","v":0},null,0,null,0,null,"ok",null,{"$f":"SUMIF(CE$9:CE$374,96,CG$9:CG$374)+SUMIF(CI$9:CI$374,96,CK$9:CK$374)","v":0},null,0,null,0,null,"ok",null,{"$f":"SUMIF(CM$9:CM$374,96,CO$9:CO$374)+SUMIF(CQ$9:CQ$374,96,CS$9:CS$374)","v":0},null,0,null,0,null,"ok",null,{"$f":"SUMIF(CU$9:CU$374,96,CW$9:CW$374)+SUMIF(CY$9:CY$374,96,DA$9:DA$374)","v":0},null,0,null,0,null,"ok",null,{"$f":"SUMIF(DC$9:DC$374,96,DE$9:DE$374)+SUMIF(DG$9:DG$374,96,DI$9:DI$374)","v":0},null,0,null,0,null,"ok",null,{"$f":"SUMIF(DK$9:DK$374,96,DM$9:DM$374)+SUMIF(DO$9:DO$374,96,DQ$9:DQ$374)","v":0},null,0,null,0]
["module 97",null,"ok",null,{"$f":"SUMIF(C$9:C$374,97,E$9:E$374)+SUMIF(G$9:G$374,97,I$9:I$374)","v":0},null,0,null,0,null,"ok",null,{"$f":"SUMIF(K$9:K$374,97,M$9:M$374)+SUMIF(O$9:O$374,97,Q$9:Q$374)","v":0},null,0,null,0,null,"ok",null,{"$f":"SUMIF(S$9:S$374,97,U$9:U$374)+SUMIF(W$9:W$374,97,Y$9:Y$374)","v":0},null,0,null,0,null,"ok",null,{"$f":"SUMIF(AA$9:AA$374,97,AC$9:AC$374)+SUMIF(AE$9:AE$374,97,AG$9:AG$374)","v":0},null,0,null,0,null,"ok",null,{"$f":"SUMIF(AI$9:AI$374,97,AK$9:AK$374)+SUMIF(AM$9:AM$374,97,AO$9:AO$374)","v":0},null,0,null,0,null,"ok",null,{"$f":"SUMIF(AQ$9:AQ$374,97,AS$9:AS$374)+SUMIF(AU$9:AU$374,97,AW$9:AW$374)","v":0},null,0,null,0,null,"ok",null,{"$f":"SUMIF(AY$9:AY$374,97,BA$9:BA$374)+SUMIF(BC$9:BC$374,97,BE$9:BE$374)","v":0},null,0,null,0,null,"ok",null,{"$f":"SUMIF(BG$9:BG$374,97,BI$9:BI$374)+SUMIF(BK$9:BK$374,97,BM$9:BM$374)","v":0},null,0,null,0,null,"ok",null,{"$f":"SUMIF(BO$9:BO$374,97,BQ$9:BQ$374)+SUMIF(BS$9:BS$374,97,BU$9:BU$374)","v":0},null,0,null,0,null,"ok",null,{"$f":"SUMIF(BW$9:BW$374,97,BY$9:BY$374)+SUMIF(CA$9:CA$374,97,CC$9:CC$374)","v":0},null,0,null,0,null,"ok",null,{"$f":"SUMIF(CE$9:CE$374,97,CG$9:CG$374)+SUMIF(CI$9:CI$374,97,CK$9:CK$374)","v":0},null,0,null,0,null,"ok",null,{"$f":"SUMIF(CM$9:CM$374,97,CO$9:CO$374)+SUMIF(CQ$9:CQ$374,97,CS$9:CS$374)","v":0},null,0,null,0,null,"ok",null,{"$f":"SUMIF(CU$9:CU$374,97,CW$9:CW$374)+SUMIF(CY$9:CY$374,97,DA$9:DA$374)","v":0},null,0,null,0,null,"ok",null,{"$f":"SUMIF(DC$9:DC$374,97,DE$9:DE$374)+SUMIF(DG$9:DG$374,97,DI$9:DI$374)","v":0},null,0,null,0,null,"ok",null,{"$f":"SUMIF(DK$9:DK$374,97,DM$9:DM$374)+SUMIF(DO$9:DO$374,97,DQ$9:DQ$374)","v":0},null,0,null,0]
["module 98",null,"ok",null,{"$f":"SUMIF(C$9:C$374,98,E$9:E$374)+SUMIF(G$9:G$374,98,I$9:I$374)","v":0},null,0,null,0,null,"ok",null,{"$f":"SUMIF(K$9:K$374,98,M$9:M$374)+SUMIF(O$9:O$374,98,Q$9:Q$374)","v":0},null,0,null,0,null,"ok",null,{"$f":"SUMIF(S$9:S$374,98,U$9:U$374)+SUMIF(W$9:W$374,98,Y$9:Y$374)","v":0},null,0,null,0,null,"ok",null,{"$f":"SUMIF(AA$9:AA$374,98,AC$9:AC$374)+SUMIF(AE$9:AE$374,98,AG$9:AG$374)","v":0},null,0,null,0,null,"ok",null,{"$f":"SUMIF(AI$9:AI$374,98,AK$9:AK$374)+SUMIF(AM$9:AM$374,98,AO$9:AO$374)","v":0},null,0,null,0,null,"ok",null,{"$f":"SUMIF(AQ$9:AQ$374,98,AS$9:AS$374)+SUMIF(AU$9:AU$374,98,AW$9:AW$374)","v":0},null,0,null,0,null,"ok",null,{"$f":"SUMIF(AY$9:AY$374,98,BA$9:BA$374)+SUMIF(BC$9:BC$374,98,BE$9:BE$374)","v":0},null,0,null,0,null,"ok",null,{"$f":"SUMIF(BG$9:BG$374,98,BI$9:BI$374)+SUMIF(BK$9:BK$374,98,BM$9:BM$374)","v":0},null,0,null,0,null,"ok",null,{"$f":"SUMIF(BO$9:BO$374,98,BQ$9:BQ$374)+SUMIF(BS$9:BS$374,98,BU$9:BU$374)","v":0},null,0,null,0,null,"ok",null,{"$f":"SUMIF(BW$9:BW$374,98,BY$9:BY$374)+SUMIF(CA$9:CA$374,98,CC$9:CC$374)","v":0},null,0,null,0,null,"ok",null,{"$f":"SUMIF(CE$9:CE$374,98,CG$9:CG$374)+SUMIF(CI$9:CI$374,98,CK$9:CK$374)","v":0},null,0,null,0,null,"ok",null,{"$f":"SUMIF(CM$9:CM$374,98,CO$9:CO$374)+SUMIF(CQ$9:CQ$374,98,CS$9:CS$374)","v":0},null,0,null,0,null,"ok",null,{"$f":"SUMIF(CU$9:CU$374,98,CW$9:CW$374)+SUMIF(CY$9:CY$374,98,DA$9:DA$374)","v":0},null,0,null,0,null,"ok",null,{"$f":"SUMIF(DC$9:DC$374,98,DE$9:DE$374)+SUMIF(DG$9:DG$374,98,DI$9:DI$374)","v":0},null,0,null,0,null,"ok",null,{"$f":"SUMIF(DK$9:DK$374,98,DM$9:DM$374)+SUMIF(DO$9:DO$374,98,DQ$9:DQ$374)","v":0},null,0,null,0]
["module 99",null,"ok",null,{"$f":"SUMIF(C$9:C$374,99,E$9:E$374)+SUMIF(G$9:G$374,99,I$9:I$374)","v":0},null,0,null,0,null,"ok",null,{"$f":"SUMIF(K$9:K$374,99,M$9:M$374)+SUMIF(O$9:O$374,99,Q$9:Q$374)","v":0},null,0,null,0,null,"ok",null,{"$f":"SUMIF(S$9:S$374,99,U$9:U$374)+SUMIF(W$9:W$374,99,Y$9:Y$374)","v":0},null,0,null,0,null,"ok",null,{"$f":"SUMIF(AA$9:AA$374,99,AC$9:AC$374)+SUMIF(AE$9:AE$374,99,AG$9:AG$374)","v":0},null,0,null,0,null,"ok",null,{"$f":"SUMIF(AI$9:AI$374,99,AK$9:AK$374)+SUMIF(AM$9:AM$374,99,AO$9:AO$374)","v":0},null,0,null,0,null,"ok",null,{"$f":"SUMIF(AQ$9:AQ$374,99,AS$9:AS$374)+SUMIF(AU$9:AU$374,99,AW$9:AW$374)","v":0},null,0,null,0,null,"ok",null,{"$f":"SUMIF(AY$9:AY$374,99,BA$9:BA$374)+SUMIF(BC$9:BC$374,99,BE$9:BE$374)","v":0},null,0,null,0,null,"ok",null,{"$f":"SUMIF(BG$9:BG$374,99,BI$9:BI$374)+SUMIF(BK$9:BK$374,99,BM$9:BM$374)","v":0},null,0,null,0,null,"ok",null,{"$f":"SUMIF(BO$9:BO$374,99,BQ$9:BQ$374)+SUMIF(BS$9:BS$374,99,BU$9:BU$374)","v":0},null,0,null,0,null,"ok",null,{"$f":"SUMIF(BW$9:BW$374,99,BY$9:BY$374)+SUMIF(CA$9:CA$374,99,CC$9:CC$374)","v":0},null,0,null,0,null,"ok",null,{"$f":"SUMIF(CE$9:CE$374,99,CG$9:CG$374)+SUMIF(CI$9:CI$374,99,CK$9:CK$374)","v":0},null,0,null,0,null,"ok",null,{"$f":"SUMIF(CM$9:CM$374,99,CO$9:CO$374)+SUMIF(CQ$9:CQ$374,99,CS$9:CS$374)","v":0},null,0,null,0,null,"ok",null,{"$f":"SUMIF(CU$9:CU$374,99,CW$9:CW$374)+SUMIF(CY$9:CY$374,99,DA$9:DA$374)","v":0},null,0,null,0,null,"ok",null,{"$f":"SUMIF(DC$9:DC$374,99,DE$9:DE$374)+SUMIF(DG$9:DG$374,99,DI$9:DI$374)","v":0},null,0,null,0,null,"ok",null,{"$f":"SUMIF(DK$9:DK$374,99,DM$9:DM$374)+SUMIF(DO$9:DO$374,99,DQ$9:DQ$374)","v":0},null,0,null,0]
["Totaux",null,{"$f":"IF(E430=(I430),\"ok\",($A$430))","v":"Totaux"},null,{"$f":"SUM(E380:F429)","v":162},null,{"$f":"SUM(G380:H429)","v":1653},null,{"$f":"SUM(I380:J429)","v":1815},null,{"$f":"IF(M430=(Q430),\"ok\",($A$430))","v":"Totaux"},null,{"$f":"SUM(M380:N429)","v":651},null,{"$f":"SUM(O380:P429)","v":1164},null,{"$f":"SUM(Q380:R429)","v":1815},null,{"$f":"IF(U430=(Y430),\"ok\",($A$430))","v":"Totaux"},null,{"$f":"SUM(U380:V429)","v":759},null,{"$f":"SUM(W380:X429)","v":1056},null,{"$f":"SUM(Y380:Z429)","v":1815},null,{"$f":"IF(AC430=(AG430),\"ok\",($A$430))","v":"Totaux"},null,{"$f":"SUM(AC380:AD429)","v":1122},null,{"$f":"SUM(AE380:AF429)","v":693},null,{"$f":"SUM(AG380:AH429)","v":1815},null,{"$f":"IF(AK430=(AO430),\"ok\",($A$430))","v":"Totaux"},null,{"$f":"SUM(AK380:AL429)","v":1278},null,{"$f":"SUM(AM380:AN429)","v":537},null,{"$f":"SUM(AO380:AP429)","v":1815},null,{"$f":"IF(AS430=(AW430),\"ok\",($A$430))","v":"Totaux"},null,{"$f":"SUM(AS380:AT429)","v":1062},null,{"$f":"SUM(AU380:AV429)","v":759},null,{"$f":"SUM(AW380:AX429)","v":1821},null,{"$f":"IF(BA430=(BE430),\"ok\",($A$430))","v":"Totaux"},null,{"$f":"SUM(BA380:BB429)","v":600},null,{"$f":"SUM(BC380:BD429)","v":1221},null,{"$f":"SUM(BE380:BF429)","v":1821},null,{"$f":"IF(BI430=(BM430),\"ok\",($A$430))","v":"Totaux"},null,{"$f":"SUM(BI380:BJ429)","v":453},null,{"$f":"SUM(BK380:BL429)","v":1368},null,{"$f":"SUM(BM380:BN429)","v":1821},null,{"$f":"IF(BQ430=(BU430),\"ok\",($A$430))","v":"Totaux"},null,{"$f":"SUM(BQ380:BR429)","v":168},null,{"$f":"SUM(BS380:BT429)","v":1644},null,{"$f":"SUM(BU380:BV429)","v":1812},null,{"$f":"IF(BY430=(CC430),\"ok\",($A$430))","v":{"$error":"#REF!"}},null,{"$f":"SUM(BY380:BZ429)","v":0},null,{"$f":"SUM(CA380:CB429)","v":{"$error":"#REF!"}},null,{"$f":"SUM(CC380:CD429)","v":{"$error":"#REF!"}},null,{"$f":"IF(CG430=(CK430),\"ok\",($A$430))","v":{"$error":"#REF!"}},null,{"$f":"SUM(CG380:CH429)","v":0},null,{"$f":"SUM(CI380:CJ429)","v":{"$error":"#REF!"}},null,{"$f":"SUM(CK380:CL429)","v":{"$error":"#REF!"}},null,{"$f":"IF(CO430=(CS430),\"ok\",($A$430))","v":{"$error":"#REF!"}},null,{"$f":"SUM(CO380:CP429)","v":0},null,{"$f":"SUM(CQ380:CR429)","v":{"$error":"#REF!"}},null,{"$f":"SUM(CS380:CT429)","v":{"$error":"#REF!"}},null,{"$f":"IF(CW430=(DA430),\"ok\",($A$430))","v":{"$error":"#REF!"}},null,{"$f":"SUM(CW380:CX429)","v":0},null,{"$f":"SUM(CY380:CZ429)","v":{"$error":"#REF!"}},null,{"$f":"SUM(DA380:DB429)","v":{"$error":"#REF!"}},null,{"$f":"IF(DE430=(DI430),\"ok\",($A$430))","v":"ok"},null,{"$f":"SUM(DE380:DF429)","v":0},null,{"$f":"SUM(DG380:DH429)","v":0},null,{"$f":"SUM(DI380:DJ429)","v":0},null,{"$f":"IF(DM430=(DQ430),\"ok\",($A$430))","v":"ok"},null,{"$f":"SUM(DM380:DN429)","v":0},null,{"$f":"SUM(DO380:DP429)","v":0},null,{"$f":"SUM(DQ380:DR429)","v":0}]
[]
[]
["Calculateur de période / enseignants"]
["Enseignants",null,{"$f":"C4","v":"Groupe 27"},null,null,null,null,null,null,null,{"$f":"K4","v":"Groupe 28"},null,null,null,null,null,null,null,{"$f":"S4","v":"Groupe 29"},null,null,null,null,null,null,null,{"$f":"AA4","v":"Groupe 30"},null,null,null,null,null,null,null,{"$f":"AI4","v":"Groupe 31"},null,null,null,null,null,null,null,{"$f":"AQ4","v":"Groupe 32"},null,null,null,null,null,null,null,{"$f":"AY4","v":"Groupe 33"},null,null,null,null,null,null,null,{"$f":"BG4","v":"Groupe 34"},null,null,null,null,null,null,null,{"$f":"BO4","v":"PréDEP"},null,null,null,null,null,null,null,{"$f":"BW4","v":"Groupe 10"},null,null,null,null,null,null,null,{"$f":"CE4","v":"Groupe 11"},null,null,null,null,null,null,null,{"$f":"CM4","v":"Groupe 12"},null,null,null,null,null,null,null,{"$f":"CU4","v":"Groupe 13"},null,null,null,null,null,null,null,{"$f":"DC4","v":"Groupe 14"},null,null,null,null,null,null,null,{"$f":"DK4","v":"Groupe 15"}]
[null,null,{"$f":"\"Heures \"& RIGHT($A4,9)","v":"Heures 2025-2026"},null,null,null,{"$f":"\"Heures été \"& RIGHT($A4,9)","v":"Heures été 2025-2026"},null,null,null,{"$f":"\"Heures \"& RIGHT($A4,9)","v":"Heures 2025-2026"},null,null,null,{"$f":"\"Heures été \"& RIGHT($A4,9)","v":"Heures été 2025-2026"},null,null,null,{"$f":"\"Heures \"& RIGHT($A4,9)","v":"Heures 2025-2026"},null,null,null,{"$f":"\"Heures été \"& RIGHT($A4,9)","v":"Heures été 2025-2026"},null,null,null,{"$f":"\"Heures \"& RIGHT($A4,9)","v":"Heures 2025-2026"},null,null,null,{"$f":"\"Heures été \"& RIGHT($A4,9)","v":"Heures été 2025-2026"},null,null,null,{"$f":"\"Heures \"& RIGHT($A4,9)","v":"Heures 2025-2026"},null,null,null,{"$f":"\"Heures été \"& RIGHT($A4,9)","v":"Heures été 2025-2026"},null,null,null,{"$f":"\"Heures \"& RIGHT($A4,9)","v":"Heures 2025-2026"},null,null,null,{"$f":"\"Heures été \"& RIGHT($A4,9)","v":"Heures été 2025-2026"},null,null,null,{"$f":"\"Heures \"& RIGHT($A4,9)","v":"Heures 2025-2026"},null,null,null,{"$f":"\"Heures été \"& RIGHT($A4,9)","v":"Heures été 2025-2026"},null,null,null,{"$f":"\"Heures \"& RIGHT($A4,9)","v":"Heures 2025-2026"},null,null,null,{"$f":"\"Heures été \"& RIGHT($A4,9)","v":"Heures été 2025-2026"},null,null,null,{"$f":"\"Heures \"& RIGHT($A4,9)","v":"Heures 2025-2026"},null,null,null,{"$f":"\"Heures été \"& RIGHT($A4,9)","v":"Heures été 2025-2026"},null,null,null,{"$f":"\"Heures \"& RIGHT($A4,9)","v":"Heures 2025-2026"},null,null,null,{"$f":"\"Heures été \"& RIGHT($A4,9)","v":"Heures été 2025-2026"},null,null,null,{"$f":"\"Heures \"& RIGHT($A4,9)","v":"Heures 2025-2026"},null,null,null,{"$f":"\"Heures été \"& RIGHT($A4,9)","v":"Heures été 2025-2026"},null,null,null,{"$f":"\"Heures \"& RIGHT($A4,9)","v":"Heures 2025-2026"},null,null,null,{"$f":"\"Heures été \"& RIGHT($A4,9)","v":"Heures été 2025-2026"},null,null,null,{"$f":"\"Heures \"& RIGHT($A4,9)","v":"Heures 2025-2026"},null,null,null,{"$f":"\"Heures été \"& RIGHT($A4,9)","v":"Heures été 2025-2026"},null,null,null,{"$f":"\"Heures \"& RIGHT($A4,9)","v":"Heures 2025-2026"},null,null,null,{"$f":"\"Heures été \"& RIGHT($A4,9)","v":"Heures été 2025-2026"},null,null,null,{"$f":"\"Heures \"& RIGHT($A4,9)","v":"Heures 2025-2026"},null,null,null,{"$f":"\"Heures été \"& RIGHT($A4,9)","v":"Heures été 2025-2026"}]
[{"$f":"A459","v":"sb"},"Sylvain Bellemare",{"$f":"SUMIF(D$16:D$369,$A459,E$16:E$369)+SUMIF(H$16:H$369,$A459,I$16:I$369)","v":120},null,null,null,{"$f":"SUMIF(D$1:D$11,$A459,H$1:H$11)+SUMIF(F$1:F$11,$A459,I$9:I$11)+SUMIF(D$370:D$373,$A459,E$370:E$373)+SUMIF(H370:H$373,$A459,I$370:I$373)","v":0},null,null,null,{"$f":"SUMIF(L$16:L$369,$A459,M$16:M$369)+SUMIF(P$16:P$369,$A459,Q$16:Q$369)","v":129},null,null,null,{"$f":"SUMIF(L$1:L$11,$A459,M$1:M$11)+SUMIF(P$1:P$11,$A459,Q$1:Q$11)+SUMIF(L$370:L$373,$A459,M$370:M$373)+SUMIF(P370:P$373,$A459,Q$370:Q$373)","v":0},null,null,null,{"$f":"SUMIF(T$16:T$369,$A459,U$16:U$369)+SUMIF(X$16:X$369,$A459,Y$16:Y$369)","v":117},null,null,null,{"$f":"SUMIF(T$1:T$11,$A459,U$1:U$11)+SUMIF(X$1:X$11,$A459,Y$1:Y$11)+SUMIF(T$370:T$373,$A459,U$370:U$373)+SUMIF(X370:X$373,$A459,Y$370:Y$373)","v":0},null,null,null,{"$f":"SUMIF(AB$16:AB$369,$A459,AC$16:AC$369)+SUMIF(AF$16:AF$369,$A459,AG$16:AG$369)","v":225},null,null,null,{"$f":"AE438","v":0},null,null,null,{"$f":"SUMIF(AJ$16:AJ$320,$A459,AK$16:AK$320)+SUMIF(AN$16:AN$320,$A459,AO$16:AO$320)","v":183},null,null,null,{"$f":"SUMIF(AJ$1:AJ$11,$A459,AK$1:AK$11)+SUMIF(AN$9:AN$11,$A459,AO$9:AO$11)+SUMIF(AJ$323:AJ341,$A459,AK$323:AK$341)+SUMIF(AN370:AN$373,$A459,AO$370:AO$373)","v":0},null,null,null,{"$f":"SUMIF(AR$16:AR$369,$A459,AS$16:AS$369)+SUMIF(AV$16:AV$369,$A459,AW$16:AW$369)","v":0},null,null,null,{"$f":"SUMIF(AR$9:AR$11,$A459,AS$9:AS$11)+SUMIF(AV$9:AV$11,$A459,AW$9:AW$11)+SUMIF(AR$370:AR$373,$A459,AS$370:AS$373)+SUMIF(AV370:AV$373,$A459,AW$370:AW$373)","v":0},null,null,null,{"$f":"SUMIF(AZ$16:AZ$369,$A459,BA$16:BA$369)+SUMIF(BD$16:BD$369,$A459,BE$16:BE$369)","v":18},null,null,null,{"$f":"SUMIF(AZ$9:AZ$11,$A459,BA$9:BA$11)+SUMIF(BD$9:BD$11,$A459,BE$9:BE$11)+SUMIF(AZ$370:AZ$373,$A459,BA$370:BA$373)+SUMIF(BD370:BD$373,$A459,BE$370:BE$373)","v":0},null,null,null,{"$f":"SUMIF(BH$61:BH$369,$A459,BI$61:BI$369)+SUMIF(BL$61:BL$369,$A459,BM$61:BM$369)","v":0},null,null,null,{"$f":"SUMIF(BH$9:BH$11,$A459,BI$9:BI$11)+SUMIF(BL$9:BL$11,$A459,BM$9:BM$11)+SUMIF(BH$370:BH$373,$A459,BI$370:BI$373)+SUMIF(BL370:BL$373,$A459,BM$370:BM$373)","v":0},null,null,null,{"$f":"SUMIF(BP$61:BP$369,$A459,BQ$61:BQ$369)+SUMIF(BT$61:BT$369,$A459,BU$61:BU$369)","v":0},null,null,null,{"$f":"SUMIF(BP$9:BP$60,$A459,BQ$9:BQ$60)+SUMIF(BT$9:BT$60,$A459,BU$9:BU$60)+SUMIF(BP$370:BP$373,$A459,BQ$370:BQ$373)+SUMIF(BT370:BT$373,$A459,BU$370:BU$373)","v":0},null,null,null,{"$f":"SUMIF(BX$66:BX$375,$A459,BY$66:BY$375)+SUMIF(CB$66:CB$375,$A459,CC$66:CC$375)","v":0},null,null,null,{"$f":"SUMIF(BX$9:BX$65,$A459,BY$9:BY$65)+SUMIF(CB$9:CB$65,$A459,CC$9:CC$65)","v":0},null,null,null,{"$f":"SUMIF(CF$66:CF$375,$A459,CG$66:CG$375)+SUMIF(CJ$66:CJ$375,$A459,CK$66:CK$375)","v":0},null,null,null,{"$f":"SUMIF(CF$9:CF$65,$A459,CG$9:CG$65)+SUMIF(CJ$9:CJ$65,$A459,CK$9:CK$65)","v":0},null,null,null,{"$f":"SUMIF(CN$66:CN$375,$A459,CO$66:CO$375)+SUMIF(CR$66:CR$375,$A459,CS$66:CS$375)","v":0},null,null,null,{"$f":"SUMIF(CN$9:CN$65,$A459,CO$9:CO$65)+SUMIF(CR$9:CR$65,$A459,CS$9:CS$65)","v":0},null,null,null,{"$f":"SUMIF(CV$66:CV$375,$A459,CW$66:CW$375)+SUMIF(CZ$66:CZ$375,$A459,DA$66:DA$375)","v":0},null,null,null,{"$f":"SUMIF(CV$9:CV$65,$A459,CW$9:CW$65)+SUMIF(CZ$9:CZ$65,$A459,DA$9:DA$65)","v":0},null,null,null,{"$f":"SUMIF(DD$66:DD$375,$A459,DE$66:DE$375)+SUMIF(DH$66:DH$375,$A459,DI$66:DI$375)","v":0},null,null,null,{"$f":"SUMIF(DD$9:DD$65,$A459,DE$9:DE$65)+SUMIF(DH$9:DH$65,$A459,DI$9:DI$65)","v":0},null,null,null,{"$f":"SUMIF(DL$66:DL$375,$A459,DM$66:DM$375)+SUMIF(DP$66:DP$375,$A459,DQ$66:DQ$375)","v":0},null,null,null,{"$f":"SUMIF(DL$9:DL$65,$A459,DM$9:DM$65)+SUMIF(DP$9:DP$65,$A459,DQ$9:DQ$65)","v":0}]
["mp","Mathieu Primard",0,null,null,null,{"$f":"SUMIF(D$9:D$60,$A460,E$9:E$60)+SUMIF(H$9:H$60,$A460,I$9:I$60)+SUMIF(D$370:D$373,$A460,E$370:E$373)+SUMIF(H371:H$373,$A460,I$370:I$373)","v":0},null,null,null,255,null,null,null,{"$f":"SUMIF(L$9:L$11,$A460,M$9:M$11)+SUMIF(P$9:P$11,$A460,Q$9:Q$11)+SUMIF(L$370:L$373,$A460,M$370:M$373)+SUMIF(P371:P$373,$A460,Q$370:Q$373)","v":0},null,null,null,15,null,null,null,{"$f":"SUMIF(T$9:T$11,$A460,U$9:U$11)+SUMIF(X$9:X$11,$A460,Y$9:Y$11)+SUMIF(T$370:T$373,$A460,U$370:U$373)+SUMIF(X371:X$373,$A460,Y$370:Y$373)","v":0},null,null,null,156,null,null,null,{"$f":"SUMIF(AB$9:AB$11,$A460,AC$9:AC$11)+SUMIF(AF$9:AF$11,$A460,AG$9:AG$11)+SUMIF(AB$370:AB$373,$A460,AC$370:AC$373)+SUMIF(AF371:AF$373,$A460,AG$370:AG$373)","v":0},null,null,null,285,null,null,null,{"$f":"SUMIF(AJ$9:AJ$11,$A460,AK$9:AK$11)+SUMIF(AN$9:AN$11,$A460,AO$9:AO$11)+SUMIF(AJ$323:AJ$341,$A460,AK$323:AK$341)+SUMIF(AN371:AN$373,$A460,AO$370:AO$373)","v":0},null,null,null,30,null,null,null,{"$f":"SUMIF(AR$9:AR$11,$A460,AS$9:AS$11)+SUMIF(AV$9:AV$11,$A460,AW$9:AW$11)+SUMIF(AR$370:AR$373,$A460,AS$370:AS$373)+SUMIF(AV371:AV$373,$A460,AW$370:AW$373)","v":0},null,null,null,18,null,null,null,{"$f":"SUMIF(AZ$9:AZ$11,$A460,BA$9:BA$11)+SUMIF(BD$9:BD$11,$A460,BE$9:BE$11)+SUMIF(AZ$370:AZ$373,$A460,BA$370:BA$373)+SUMIF(BD371:BD$373,$A460,BE$370:BE$373)","v":0},null,null,null,{"$f":"SUMIF(BH$16:BH$369,$A460,BI$16:BI$369)+SUMIF(BL$16:BL$369,$A460,BM$16:BM$369)","v":9},null,null,null,{"$f":"SUMIF(BH$9:BH$11,$A460,BI$9:BI$11)+SUMIF(BL$9:BL$11,$A460,BM$9:BM$11)+SUMIF(BH$370:BH$373,$A460,BI$370:BI$373)+SUMIF(BL371:BL$373,$A460,BM$370:BM$373)","v":0},null,null,null,{"$f":"SUMIF(BP$16:BP$369,$A460,BQ$16:BQ$369)+SUMIF(BT$16:BT$369,$A460,BU$16:BU$369)","v":6},null,null,null,0,null,null,null,0,null,null,null,0,null,null,null,0,null,null,null,0,null,null,null,0,null,null,null,0,null,null,null,0,null,null,null,0,null,null,null,0,null,null,null,0,null,null,null,0,null,null,null,0]
["cg","Clément Gauthier",0,null,null,null,{"$f":"SUMIF(D$9:D$11,$A461,E$9:E$11)+SUMIF(H$9:H$11,$A461,I$9:I$11)+SUMIF(D$370:D$373,$A461,E$370:E$373)+SUMIF(H372:H$373,$A461,I$370:I$373)","v":0},null,null,null,0,null,null,null,{"$f":"SUMIF(L$9:L$11,$A461,M$9:M$11)+SUMIF(P$9:P$11,$A461,Q$9:Q$11)+SUMIF(L$370:L$373,$A461,M$370:M$373)+SUMIF(P372:P$373,$A461,Q$370:Q$373)","v":0},null,null,null,162,null,null,null,{"$f":"SUMIF(T$9:T$11,$A461,U$9:U$11)+SUMIF(X$9:X$11,$A461,Y$9:Y$11)+SUMIF(T$370:T$373,$A461,U$370:U$373)+SUMIF(X372:X$373,$A461,Y$370:Y$373)","v":0},null,null,null,216,null,null,null,{"$f":"SUMIF(AB$9:AB$11,$A461,AC$9:AC$11)+SUMIF(AF$9:AF$11,$A461,AG$9:AG$11)+SUMIF(AB$370:AB$373,$A461,AC$370:AC$373)+SUMIF(AF372:AF$373,$A461,AG$370:AG$373)","v":0},null,null,null,249,null,null,null,{"$f":"SUMIF(AJ$9:AJ$11,$A461,AK$9:AK$11)+SUMIF(AN$9:AN$11,$A461,AO$9:AO$11)+SUMIF(AJ$370:AJ$373,$A461,AK$370:AK$373)+SUMIF(AN372:AN$373,$A461,AO$370:AO$373)","v":0},null,null,null,30,null,null,null,{"$f":"SUMIF(AR$9:AR$11,$A461,AS$9:AS$11)+SUMIF(AV$9:AV$11,$A461,AW$9:AW$11)+SUMIF(AR$370:AR$373,$A461,AS$370:AS$373)+SUMIF(AV372:AV$373,$A461,AW$370:AW$373)","v":0},null,null,null,93,null,null,null,{"$f":"SUMIF(AZ$9:AZ$11,$A461,BA$9:BA$11)+SUMIF(BD$9:BD$11,$A461,BE$9:BE$11)+SUMIF(AZ$370:AZ$373,$A461,BA$370:BA$373)+SUMIF(BD372:BD$373,$A461,BE$370:BE$373)","v":0},null,null,null,15,null,null,null,{"$f":"SUMIF(BH$9:BH$11,$A461,BI$9:BI$11)+SUMIF(BL$9:BL$11,$A461,BM$9:BM$11)+SUMIF(BH$370:BH$373,$A461,BI$370:BI$373)+SUMIF(BL372:BL$373,$A461,BM$370:BM$373)","v":0},null,null,null,6,null,null,null,{"$f":"SUMIF(BP$9:BP$60,$A461,BQ$9:BQ$60)+SUMIF(BT$9:BT$60,$A461,BU$9:BU$60)+SUMIF(BP$370:BP$373,$A461,BQ$370:BQ$373)+SUMIF(BT372:BT$373,$A461,BU$370:BU$373)","v":0},null,null,null,0,null,null,null,0,null,null,null,0,null,null,null,0,null,null,null,0,null,null,null,0,null,null,null,0,null,null,null,0,null,null,null,0,null,null,null,0,null,null,null,0,null,null,null,0]
["jr","Julien, Rondeau",0,null,null,null,{"$f":"SUMIF(D$9:D$11,$A462,E$9:E$11)+SUMIF(H$9:H$11,$A462,I$9:I$11)+SUMIF(D$370:D$373,$A462,E$370:E$373)+SUMIF(H373:H$373,$A462,I$370:I$373)","v":0},null,null,null,18,null,null,null,{"$f":"SUMIF(L$9:L$11,$A462,M$9:M$11)+SUMIF(P$9:P$11,$A462,Q$9:Q$11)+SUMIF(L$370:L$373,$A462,M$370:M$373)+SUMIF(P373:P$373,$A462,Q$370:Q$373)","v":0},null,null,null,6,null,null,null,{"$f":"SUMIF(T$9:T$11,$A462,U$9:U$11)+SUMIF(X$9:X$11,$A462,Y$9:Y$11)+SUMIF(T$370:T$373,$A462,U$370:U$373)+SUMIF(X373:X$373,$A462,Y$370:Y$373)","v":0},null,null,null,9,null,null,null,{"$f":"SUMIF(AB$9:AB$11,$A462,AC$9:AC$11)+SUMIF(AF$9:AF$11,$A462,AG$9:AG$11)+SUMIF(AB$370:AB$373,$A462,AC$370:AC$373)+SUMIF(AF373:AF$373,$A462,AG$370:AG$373)","v":0},null,null,null,189,null,null,null,{"$f":"SUMIF(AJ$9:AJ$11,$A462,AK$9:AK$11)+SUMIF(AN$9:AN$11,$A462,AO$9:AO$11)+SUMIF(AJ$370:AJ$373,$A462,AK$370:AK$373)+SUMIF(AN373:AN$373,$A462,AO$370:AO$373)","v":0},null,null,null,441,null,null,null,{"$f":"SUMIF(AR$9:AR$11,$A462,AS$9:AS$11)+SUMIF(AV$9:AV$11,$A462,AW$9:AW$11)+SUMIF(AR$370:AR$373,$A462,AS$370:AS$373)+SUMIF(AV373:AV$373,$A462,AW$370:AW$373)","v":0},null,null,null,105,null,null,null,{"$f":"SUMIF(AZ$9:AZ$11,$A462,BA$9:BA$11)+SUMIF(BD$9:BD$11,$A462,BE$9:BE$11)+SUMIF(AZ$370:AZ$373,$A462,BA$370:BA$373)+SUMIF(BD373:BD$373,$A462,BE$370:BE$373)","v":0},null,null,null,9,null,null,null,{"$f":"SUMIF(BH$9:BH$11,$A462,BI$9:BI$11)+SUMIF(BL$9:BL$11,$A462,BM$9:BM$11)+SUMIF(BH$370:BH$373,$A462,BI$370:BI$373)+SUMIF(BL373:BL$373,$A462,BM$370:BM$373)","v":0},null,null,null,18,null,null,null,{"$f":"SUMIF(BP$9:BP$60,$A462,BQ$9:BQ$60)+SUMIF(BT$9:BT$60,$A462,BU$9:BU$60)+SUMIF(BP$370:BP$373,$A462,BQ$370:BQ$373)+SUMIF(BT373:BT$373,$A462,BU$370:BU$373)","v":0},null,null,null,0,null,null,null,0,null,null,null,0,null,null,null,0,null,null,null,0,null,null,null,0,null,null,null,0,null,null,null,0,null,null,null,0,null,null,null,0,null,null,null,0,null,null,null,0]
["yc","Yanik Corbeil",0,null,null,null,{"$f":"SUMIF(D$9:D$11,$A463,E$9:E$11)+SUMIF(H$9:H$11,$A463,I$9:I$11)+SUMIF(D$370:D$373,$A463,E$370:E$373)+SUMIF(H$373:H374,$A463,I$370:I$373)","v":0},null,null,null,24,null,null,null,{"$f":"SUMIF(L$9:L$11,$A463,M$9:M$11)+SUMIF(P$9:P$11,$A463,Q$9:Q$11)+SUMIF(L$370:L$373,$A463,M$370:M$373)+SUMIF(P$373:P374,$A463,Q$370:Q$373)","v":0},null,null,null,240,null,null,null,{"$f":"SUMIF(T$9:T$11,$A463,U$9:U$11)+SUMIF(X$9:X$11,$A463,Y$9:Y$11)+SUMIF(T$370:T$373,$A463,U$370:U$373)+SUMIF(X$373:X374,$A463,Y$370:Y$373)","v":0},null,null,null,105,null,null,null,{"$f":"SUMIF(AB$9:AB$11,$A463,AC$9:AC$11)+SUMIF(AF$9:AF$11,$A463,AG$9:AG$11)+SUMIF(AB$370:AB$373,$A463,AC$370:AC$373)+SUMIF(AF$373:AF374,$A463,AG$370:AG$373)","v":0},null,null,null,24,null,null,null,{"$f":"SUMIF(AJ$9:AJ$11,$A463,AK$9:AK$11)+SUMIF(AN$9:AN$11,$A463,AO$9:AO$11)+SUMIF(AJ$370:AJ$373,$A463,AK$370:AK$373)+SUMIF(AN$373:AN374,$A463,AO$370:AO$373)","v":0},null,null,null,261,null,null,null,{"$f":"SUMIF(AR$9:AR$11,$A463,AS$9:AS$11)+SUMIF(AV$9:AV$11,$A463,AW$9:AW$11)+SUMIF(AR$370:AR$373,$A463,AS$370:AS$373)+SUMIF(AV$373:AV374,$A463,AW$370:AW$373)","v":0},null,null,null,30,null,null,null,{"$f":"SUMIF(AZ$9:AZ$11,$A463,BA$9:BA$11)+SUMIF(BD$9:BD$11,$A463,BE$9:BE$11)+SUMIF(AZ$370:AZ$373,$A463,BA$370:BA$373)+SUMIF(BD$373:BD374,$A463,BE$370:BE$373)","v":0},null,null,null,54,null,null,null,{"$f":"SUMIF(BH$9:BH$11,$A463,BI$9:BI$11)+SUMIF(BL$9:BL$11,$A463,BM$9:BM$11)+SUMIF(BH$370:BH$373,$A463,BI$370:BI$373)+SUMIF(BL$373:BL374,$A463,BM$370:BM$373)","v":0},null,null,null,0,null,null,null,{"$f":"SUMIF(BP$9:BP$60,$A463,BQ$9:BQ$60)+SUMIF(BT$9:BT$60,$A463,BU$9:BU$60)+SUMIF(BP$370:BP$373,$A463,BQ$370:BQ$373)+SUMIF(BT$373:BT374,$A463,BU$370:BU$373)","v":0},null,null,null,0,null,null,null,0,null,null,null,0,null,null,null,0,null,null,null,0,null,null,null,0,null,null,null,0,null,null,null,0,null,null,null,0,null,null,null,0,null,null,null,0,null,null,null,0]
["mc","Mathieu Chenard",0,null,null,null,{"$f":"SUMIF(D$9:D$11,$A464,E$9:E$11)+SUMIF(H$9:H$11,$A464,I$9:I$11)+SUMIF(D$370:D$373,$A464,E$370:E$373)+SUMIF(H$373:H375,$A464,I$370:I$373)","v":0},null,null,null,126,null,null,null,{"$f":"SUMIF(L$9:L$11,$A464,M$9:M$11)+SUMIF(P$9:P$11,$A464,Q$9:Q$11)+SUMIF(L$370:L$373,$A464,M$370:M$373)+SUMIF(P$373:P375,$A464,Q$370:Q$373)","v":0},null,null,null,27,null,null,null,{"$f":"SUMIF(T$9:T$11,$A464,U$9:U$11)+SUMIF(X$9:X$11,$A464,Y$9:Y$11)+SUMIF(T$370:T$373,$A464,U$370:U$373)+SUMIF(X$373:X375,$A464,Y$370:Y$373)","v":0},null,null,null,222,null,null,null,{"$f":"SUMIF(AB$9:AB$11,$A464,AC$9:AC$11)+SUMIF(AF$9:AF$11,$A464,AG$9:AG$11)+SUMIF(AB$370:AB$373,$A464,AC$370:AC$373)+SUMIF(AF$373:AF375,$A464,AG$370:AG$373)","v":0},null,null,null,126,null,null,null,{"$f":"SUMIF(AJ$9:AJ$11,$A464,AK$9:AK$11)+SUMIF(AN$9:AN$11,$A464,AO$9:AO$11)+SUMIF(AJ$370:AJ$373,$A464,AK$370:AK$373)+SUMIF(AN$373:AN375,$A464,AO$370:AO$373)","v":0},null,null,null,105,null,null,null,{"$f":"SUMIF(AR$9:AR$11,$A464,AS$9:AS$11)+SUMIF(AV$9:AV$11,$A464,AW$9:AW$11)+SUMIF(AR$370:AR$373,$A464,AS$370:AS$373)+SUMIF(AV$373:AV375,$A464,AW$370:AW$373)","v":0},null,null,null,186,null,null,null,{"$f":"SUMIF(AZ$9:AZ$11,$A464,BA$9:BA$11)+SUMIF(BD$9:BD$11,$A464,BE$9:BE$11)+SUMIF(AZ$370:AZ$373,$A464,BA$370:BA$373)+SUMIF(BD$373:BD375,$A464,BE$370:BE$373)","v":0},null,null,null,78,null,null,null,{"$f":"SUMIF(BH$9:BH$11,$A464,BI$9:BI$11)+SUMIF(BL$9:BL$11,$A464,BM$9:BM$11)+SUMIF(BH$370:BH$373,$A464,BI$370:BI$373)+SUMIF(BL$373:BL375,$A464,BM$370:BM$373)","v":0},null,null,null,18,null,null,null,{"$f":"SUMIF(BP$9:BP$60,$A464,BQ$9:BQ$60)+SUMIF(BT$9:BT$60,$A464,BU$9:BU$60)+SUMIF(BP$370:BP$373,$A464,BQ$370:BQ$373)+SUMIF(BT$373:BT375,$A464,BU$370:BU$373)","v":0},null,null,null,0,null,null,null,0,null,null,null,0,null,null,null,0,null,null,null,0,null,null,null,0,null,null,null,0,null,null,null,0,null,null,null,0,null,null,null,0,null,null,null,0,null,null,null,0]
["rg","Roch Gauthier",0,null,null,null,{"$f":"SUMIF(D$9:D$11,$A465,E$9:E$11)+SUMIF(H$9:H$11,$A465,I$9:I$11)+SUMIF(D$370:D$373,$A465,E$370:E$373)+SUMIF(H$373:H376,$A465,I$370:I$373)","v":0},null,null,null,27,null,null,null,{"$f":"SUMIF(L$9:L$11,$A465,M$9:M$11)+SUMIF(P$9:P$11,$A465,Q$9:Q$11)+SUMIF(L$370:L$373,$A465,M$370:M$373)+SUMIF(P$373:P376,$A465,Q$370:Q$373)","v":0},null,null,null,120,null,null,null,{"$f":"SUMIF(T$9:T$11,$A465,U$9:U$11)+SUMIF(X$9:X$11,$A465,Y$9:Y$11)+SUMIF(T$370:T$373,$A465,U$370:U$373)+SUMIF(X$373:X376,$A465,Y$370:Y$373)","v":0},null,null,null,111,null,null,null,{"$f":"SUMIF(AB$9:AB$11,$A465,AC$9:AC$11)+SUMIF(AF$9:AF$11,$A465,AG$9:AG$11)+SUMIF(AB$370:AB$373,$A465,AC$370:AC$373)+SUMIF(AF$373:AF376,$A465,AG$370:AG$373)","v":0},null,null,null,108,null,null,null,{"$f":"SUMIF(AJ$9:AJ$11,$A465,AK$9:AK$11)+SUMIF(AN$9:AN$11,$A465,AO$9:AO$11)+SUMIF(AJ$370:AJ$373,$A465,AK$370:AK$373)+SUMIF(AN$373:AN376,$A465,AO$370:AO$373)","v":0},null,null,null,117,null,null,null,{"$f":"SUMIF(AR$9:AR$11,$A465,AS$9:AS$11)+SUMIF(AV$9:AV$11,$A465,AW$9:AW$11)+SUMIF(AR$370:AR$373,$A465,AS$370:AS$373)+SUMIF(AV$373:AV376,$A465,AW$370:AW$373)","v":0},null,null,null,78,null,null,null,{"$f":"SUMIF(AZ$9:AZ$11,$A465,BA$9:BA$11)+SUMIF(BD$9:BD$11,$A465,BE$9:BE$11)+SUMIF(AZ$370:AZ$373,$A465,BA$370:BA$373)+SUMIF(BD$373:BD376,$A465,BE$370:BE$373)","v":0},null,null,null,216,null,null,null,{"$f":"SUMIF(BH$9:BH$11,$A465,BI$9:BI$11)+SUMIF(BL$9:BL$11,$A465,BM$9:BM$11)+SUMIF(BH$370:BH$373,$A465,BI$370:BI$373)+SUMIF(BL$373:BL376,$A465,BM$370:BM$373)","v":0},null,null,null,{"$f":"SUMIF(BP$16:BP$369,$A465,BQ$16:BQ$369)+SUMIF(BT$16:BT$369,$A465,BU$16:BU$369)","v":60},null,null,null,{"$f":"SUMIF(BP$9:BP$60,$A465,BQ$9:BQ$60)+SUMIF(BT$9:BT$60,$A465,BU$9:BU$60)+SUMIF(BP$370:BP$373,$A465,BQ$370:BQ$373)+SUMIF(BT$373:BT376,$A465,BU$370:BU$373)","v":6},null,null,null,0,null,null,null,0,null,null,null,0,null,null,null,0,null,null,null,0,null,null,null,0,null,null,null,0,null,null,null,0,null,null,null,0,null,null,null,0,null,null,null,0,null,null,null,0]
["np","Nicolas Privé",0,null,null,null,{"$f":"SUMIF(D$9:D$11,$A466,E$9:E$11)+SUMIF(H$9:H$11,$A466,I$9:I$11)+SUMIF(D$370:D$373,$A466,E$370:E$373)+SUMIF(H$373:H377,$A466,I$370:I$373)","v":0},null,null,null,0,null,null,null,{"$f":"SUMIF(L$9:L$11,$A466,M$9:M$11)+SUMIF(P$9:P$11,$A466,Q$9:Q$11)+SUMIF(L$370:L$373,$A466,M$370:M$373)+SUMIF(P$373:P377,$A466,Q$370:Q$373)","v":0},null,null,null,0,null,null,null,{"$f":"SUMIF(T$9:T$11,$A466,U$9:U$11)+SUMIF(X$9:X$11,$A466,Y$9:Y$11)+SUMIF(T$370:T$373,$A466,U$370:U$373)+SUMIF(X$373:X377,$A466,Y$370:Y$373)","v":0},null,null,null,6,null,null,null,{"$f":"SUMIF(AB$9:AB$11,$A466,AC$9:AC$11)+SUMIF(AF$9:AF$11,$A466,AG$9:AG$11)+SUMIF(AB$370:AB$373,$A466,AC$370:AC$373)+SUMIF(AF$373:AF377,$A466,AG$370:AG$373)","v":0},null,null,null,0,null,null,null,{"$f":"SUMIF(AJ$9:AJ$11,$A466,AK$9:AK$11)+SUMIF(AN$9:AN$11,$A466,AO$9:AO$11)+SUMIF(AJ$370:AJ$373,$A466,AK$370:AK$373)+SUMIF(AN$373:AN377,$A466,AO$370:AO$373)","v":0},null,null,null,6,null,null,null,{"$f":"SUMIF(AR$9:AR$11,$A466,AS$9:AS$11)+SUMIF(AV$9:AV$11,$A466,AW$9:AW$11)+SUMIF(AR$370:AR$373,$A466,AS$370:AS$373)+SUMIF(AV$373:AV377,$A466,AW$370:AW$373)","v":0},null,null,null,0,null,null,null,{"$f":"SUMIF(AZ$9:AZ$11,$A466,BA$9:BA$11)+SUMIF(BD$9:BD$11,$A466,BE$9:BE$11)+SUMIF(AZ$370:AZ$373,$A466,BA$370:BA$373)+SUMIF(BD$373:BD377,$A466,BE$370:BE$373)","v":0},null,null,null,0,null,null,null,{"$f":"SUMIF(BH$9:BH$11,$A466,BI$9:BI$11)+SUMIF(BL$9:BL$11,$A466,BM$9:BM$11)+SUMIF(BH$370:BH$373,$A466,BI$370:BI$373)+SUMIF(BL$373:BL377,$A466,BM$370:BM$373)","v":0},null,null,null,{"$f":"SUMIF(BP$43:BP$369,$A466,BQ$43:BQ$369)+SUMIF(BT$43:BT$369,$A466,BU$43:BU$369)","v":60},null,null,null,{"$f":"SUMIF(BP$9:BP$43,$A466,BQ$9:BQ$43)+SUMIF(BT$9:BT$43,$A466,BU$9:BU$43)+SUMIF(BP$370:BP$373,$A466,BQ$370:BQ$373)+SUMIF(BT$373:BT377,$A466,BU$370:BU$373)","v":0},null,null,null,0,null,null,null,0,null,null,null,0,null,null,null,0,null,null,null,0,null,null,null,0,null,null,null,0,null,null,null,0,null,null,null,0,null,null,null,0,null,null,null,0,null,null,null,0]
[0,0,0,null,null,null,{"$f":"SUMIF(D$9:D$11,$A467,E$9:E$11)+SUMIF(H$9:H$11,$A467,I$9:I$11)+SUMIF(D$370:D$373,$A467,E$370:E$373)+SUMIF(H$373:H378,$A467,I$370:I$373)","v":0},null,null,null,0,null,null,null,{"$f":"SUMIF(L$9:L$11,$A467,M$9:M$11)+SUMIF(P$9:P$11,$A467,Q$9:Q$11)+SUMIF(L$370:L$373,$A467,M$370:M$373)+SUMIF(P$373:P378,$A467,Q$370:Q$373)","v":0},null,null,null,0,null,null,null,{"$f":"SUMIF(T$9:T$11,$A467,U$9:U$11)+SUMIF(X$9:X$11,$A467,Y$9:Y$11)+SUMIF(T$370:T$373,$A467,U$370:U$373)+SUMIF(X$373:X378,$A467,Y$370:Y$373)","v":0},null,null,null,0,null,null,null,{"$f":"SUMIF(AB$9:AB$11,$A467,AC$9:AC$11)+SUMIF(AF$9:AF$11,$A467,AG$9:AG$11)+SUMIF(AB$370:AB$373,$A467,AC$370:AC$373)+SUMIF(AF$373:AF378,$A467,AG$370:AG$373)","v":0},null,null,null,0,null,null,null,{"$f":"SUMIF(AJ$9:AJ$11,$A467,AK$9:AK$11)+SUMIF(AN$9:AN$11,$A467,AO$9:AO$11)+SUMIF(AJ$370:AJ$373,$A467,AK$370:AK$373)+SUMIF(AN$373:AN378,$A467,AO$370:AO$373)","v":0},null,null,null,0,null,null,null,{"$f":"SUMIF(AR$9:AR$11,$A467,AS$9:AS$11)+SUMIF(AV$9:AV$11,$A467,AW$9:AW$11)+SUMIF(AR$370:AR$373,$A467,AS$370:AS$373)+SUMIF(AV$373:AV378,$A467,AW$370:AW$373)","v":0},null,null,null,0,null,null,null,{"$f":"SUMIF(AZ$9:AZ$11,$A467,BA$9:BA$11)+SUMIF(BD$9:BD$11,$A467,BE$9:BE$11)+SUMIF(AZ$370:AZ$373,$A467,BA$370:BA$373)+SUMIF(BD$373:BD378,$A467,BE$370:BE$373)","v":0},null,null,null,0,null,null,null,{"$f":"SUMIF(BH$9:BH$11,$A467,BI$9:BI$11)+SUMIF(BL$9:BL$11,$A467,BM$9:BM$11)+SUMIF(BH$370:BH$373,$A467,BI$370:BI$373)+SUMIF(BL$373:BL378,$A467,BM$370:BM$373)","v":0},null,null,null,{"$f":"SUMIF(BP$61:BP$369,$A467,BQ$61:BQ$369)+SUMIF(BT$61:BT$369,$A467,BU$61:BU$369)","v":0},null,null,null,{"$f":"SUMIF(BP$9:BP$60,$A467,BQ$9:BQ$60)+SUMIF(BT$9:BT$60,$A467,BU$9:BU$60)+SUMIF(BP$370:BP$373,$A467,BQ$370:BQ$373)+SUMIF(BT$373:BT378,$A467,BU$370:BU$373)","v":0},null,null,null,0,null,null,null,0,null,null,null,0,null,null,null,0,null,null,null,0,null,null,null,0,null,null,null,0,null,null,null,0,null,null,null,0,null,null,null,0,null,null,null,0,null,null,null,0]
[0,0,{"$f":"SUMIF(D$61:D$369,$A468,E$61:E$369)+SUMIF(H$61:H$369,$A468,I$61:I$369)","v":0},null,null,null,{"$f":"SUMIF(D$9:D$60,$A468,E$9:E$60)+SUMIF(H$9:H$60,$A468,I$9:I$60)+SUMIF(D$370:D$373,$A468,E$370:E$373)+SUMIF(H$373:H379,$A468,I$370:I$373)","v":0},null,null,null,{"$f":"SUMIF(L$61:L$369,$A468,M$61:M$369)+SUMIF(P$61:P$369,$A468,Q$61:Q$369)","v":0},null,null,null,{"$f":"SUMIF(L$9:L$60,$A468,M$9:M$60)+SUMIF(P$9:P$60,$A468,Q$9:Q$60)+SUMIF(L$370:L$373,$A468,M$370:M$373)+SUMIF(P$373:P379,$A468,Q$370:Q$373)","v":0},null,null,null,{"$f":"SUMIF(T$61:T$369,$A468,U$61:U$369)+SUMIF(X$61:X$369,$A468,Y$61:Y$369)","v":0},null,null,null,{"$f":"SUMIF(T$9:T$60,$A468,U$9:U$60)+SUMIF(X$9:X$60,$A468,Y$9:Y$60)+SUMIF(T$370:T$373,$A468,U$370:U$373)+SUMIF(X$373:X379,$A468,Y$370:Y$373)","v":0},null,null,null,{"$f":"SUMIF(AB$61:AB$369,$A468,AC$61:AC$369)+SUMIF(AF$61:AF$369,$A468,AG$61:AG$369)","v":0},null,null,null,{"$f":"SUMIF(AB$9:AB$60,$A468,AC$9:AC$60)+SUMIF(AF$9:AF$60,$A468,AG$9:AG$60)+SUMIF(AB$370:AB$373,$A468,AC$370:AC$373)+SUMIF(AF$373:AF379,$A468,AG$370:AG$373)","v":0},null,null,null,{"$f":"SUMIF(AJ$61:AJ$369,$A468,AK$61:AK$369)+SUMIF(AN$61:AN$369,$A468,AO$61:AO$369)","v":0},null,null,null,{"$f":"SUMIF(AJ$9:AJ$60,$A468,AK$9:AK$60)+SUMIF(AN$9:AN$60,$A468,AO$9:AO$60)+SUMIF(AJ$370:AJ$373,$A468,AK$370:AK$373)+SUMIF(AN$373:AN379,$A468,AO$370:AO$373)","v":0},null,null,null,{"$f":"SUMIF(AR$62:AR$369,$A468,AS$62:AS$369)+SUMIF(AV$60:AV$369,$A468,AW$60:AW$369)","v":0},null,null,null,{"$f":"SUMIF(AR$9:AR$58,$A468,AS$9:AS$58)+SUMIF(AV$9:AV$59,$A468,AW$9:AW$59)+SUMIF(AR$370:AR$373,$A468,AS$370:AS$373)+SUMIF(AV$373:AV379,$A468,AW$370:AW$373)","v":0},null,null,null,{"$f":"SUMIF(AZ$61:AZ$369,$A468,BA$61:BA$369)+SUMIF(BD$61:BD$369,$A468,BE$61:BE$369)","v":0},null,null,null,{"$f":"SUMIF(AZ$9:AZ$60,$A468,BA$9:BA$60)+SUMIF(BD$9:BD$60,$A468,BE$9:BE$60)+SUMIF(AZ$370:AZ$373,$A468,BA$370:BA$373)+SUMIF(BD$373:BD379,$A468,BE$370:BE$373)","v":0},null,null,null,{"$f":"SUMIF(BH$61:BH$369,$A468,BI$61:BI$369)+SUMIF(BL$61:BL$369,$A468,BM$61:BM$369)","v":0},null,null,null,{"$f":"SUMIF(BH$9:BH$60,$A468,BI$9:BI$60)+SUMIF(BL$9:BL$60,$A468,BM$9:BM$60)+SUMIF(BH$370:BH$373,$A468,BI$370:BI$373)+SUMIF(BL$373:BL379,$A468,BM$370:BM$373)","v":0},null,null,null,0,null,null,null,{"$f":"SUMIF(BP$9:BP$60,$A468,BQ$9:BQ$60)+SUMIF(BT$9:BT$60,$A468,BU$9:BU$60)+SUMIF(BP$370:BP$373,$A468,BQ$370:BQ$373)+SUMIF(BT$373:BT379,$A468,BU$370:BU$373)","v":0},null,null,null,0,null,null,null,0,null,null,null,0,null,null,null,0,null,null,null,0,null,null,null,0,null,null,null,0,null,null,null,0,null,null,null,0,null,null,null,0,null,null,null,0,null,null,null,0]
[0,0,0,null,null,null,{"$f":"SUMIF(D$9:D$60,$A469,E$9:E$60)+SUMIF(H$9:H$60,$A469,I$9:I$60)+SUMIF(D$370:D$373,$A469,E$370:E$373)+SUMIF(H$373:H380,$A469,I$370:I$373)","v":0},null,null,null,0,null,null,null,{"$f":"SUMIF(L$9:L$60,$A469,M$9:M$60)+SUMIF(P$9:P$60,$A469,Q$9:Q$60)+SUMIF(L$370:L$373,$A469,M$370:M$373)+SUMIF(P$373:P380,$A469,Q$370:Q$373)","v":0},null,null,null,0,null,null,null,{"$f":"SUMIF(T$9:T$60,$A469,U$9:U$60)+SUMIF(X$9:X$60,$A469,Y$9:Y$60)+SUMIF(T$370:T$373,$A469,U$370:U$373)+SUMIF(X$373:X380,$A469,Y$370:Y$373)","v":0},null,null,null,0,null,null,null,{"$f":"SUMIF(AB$9:AB$60,$A469,AC$9:AC$60)+SUMIF(AF$9:AF$60,$A469,AG$9:AG$60)+SUMIF(AB$370:AB$373,$A469,AC$370:AC$373)+SUMIF(AF$373:AF380,$A469,AG$370:AG$373)","v":0},null,null,null,0,null,null,null,{"$f":"SUMIF(AJ$9:AJ$60,$A469,AK$9:AK$60)+SUMIF(AN$9:AN$60,$A469,AO$9:AO$60)+SUMIF(AJ$370:AJ$373,$A469,AK$370:AK$373)+SUMIF(AN$373:AN380,$A469,AO$370:AO$373)","v":0},null,null,null,0,null,null,null,{"$f":"SUMIF(AR$9:AR$58,$A469,AS$9:AS$58)+SUMIF(AV$9:AV$59,$A469,AW$9:AW$59)+SUMIF(AR$370:AR$373,$A469,AS$370:AS$373)+SUMIF(AV$373:AV380,$A469,AW$370:AW$373)","v":0},null,null,null,0,null,null,null,{"$f":"SUMIF(AZ$9:AZ$60,$A469,BA$9:BA$60)+SUMIF(BD$9:BD$60,$A469,BE$9:BE$60)+SUMIF(AZ$370:AZ$373,$A469,BA$370:BA$373)+SUMIF(BD$373:BD380,$A469,BE$370:BE$373)","v":0},null,null,null,0,null,null,null,{"$f":"SUMIF(BH$9:BH$60,$A469,BI$9:BI$60)+SUMIF(BL$9:BL$60,$A469,BM$9:BM$60)+SUMIF(BH$370:BH$373,$A469,BI$370:BI$373)+SUMIF(BL$373:BL380,$A469,BM$370:BM$373)","v":0},null,null,null,0,null,null,null,{"$f":"SUMIF(BP$9:BP$60,$A469,BQ$9:BQ$60)+SUMIF(BT$9:BT$60,$A469,BU$9:BU$60)+SUMIF(BP$370:BP$373,$A469,BQ$370:BQ$373)+SUMIF(BT$373:BT380,$A469,BU$370:BU$373)","v":0},null,null,null,0,null,null,null,0,null,null,null,0,null,null,null,0,null,null,null,0,null,null,null,0,null,null,null,0,null,null,null,0,null,null,null,0,null,null,null,0,null,null,null,0,null,null,null,0]
["p12","Prof # 12",0,null,null,null,{"$f":"SUMIF(D$9:D$60,$A470,E$9:E$60)+SUMIF(H$9:H$60,$A470,I$9:I$60)+SUMIF(D$370:D$373,$A470,E$370:E$373)+SUMIF(H$373:H381,$A470,I$370:I$373)","v":0},null,null,null,0,null,null,null,{"$f":"SUMIF(L$9:L$60,$A470,M$9:M$60)+SUMIF(P$9:P$60,$A470,Q$9:Q$60)+SUMIF(L$370:L$373,$A470,M$370:M$373)+SUMIF(P$373:P381,$A470,Q$370:Q$373)","v":0},null,null,null,0,null,null,null,{"$f":"SUMIF(T$9:T$60,$A470,U$9:U$60)+SUMIF(X$9:X$60,$A470,Y$9:Y$60)+SUMIF(T$370:T$373,$A470,U$370:U$373)+SUMIF(X$373:X381,$A470,Y$370:Y$373)","v":0},null,null,null,0,null,null,null,{"$f":"SUMIF(AB$9:AB$60,$A470,AC$9:AC$60)+SUMIF(AF$9:AF$60,$A470,AG$9:AG$60)+SUMIF(AB$370:AB$373,$A470,AC$370:AC$373)+SUMIF(AF$373:AF381,$A470,AG$370:AG$373)","v":0},null,null,null,0,null,null,null,{"$f":"SUMIF(AJ$9:AJ$60,$A470,AK$9:AK$60)+SUMIF(AN$9:AN$60,$A470,AO$9:AO$60)+SUMIF(AJ$370:AJ$373,$A470,AK$370:AK$373)+SUMIF(AN$373:AN381,$A470,AO$370:AO$373)","v":0},null,null,null,0,null,null,null,{"$f":"SUMIF(AR$9:AR$58,$A470,AS$9:AS$58)+SUMIF(AV$9:AV$59,$A470,AW$9:AW$59)+SUMIF(AR$370:AR$373,$A470,AS$370:AS$373)+SUMIF(AV$373:AV381,$A470,AW$370:AW$373)","v":0},null,null,null,0,null,null,null,{"$f":"SUMIF(AZ$9:AZ$60,$A470,BA$9:BA$60)+SUMIF(BD$9:BD$60,$A470,BE$9:BE$60)+SUMIF(AZ$370:AZ$373,$A470,BA$370:BA$373)+SUMIF(BD$373:BD381,$A470,BE$370:BE$373)","v":0},null,null,null,0,null,null,null,{"$f":"SUMIF(BH$9:BH$60,$A470,BI$9:BI$60)+SUMIF(BL$9:BL$60,$A470,BM$9:BM$60)+SUMIF(BH$370:BH$373,$A470,BI$370:BI$373)+SUMIF(BL$373:BL381,$A470,BM$370:BM$373)","v":0},null,null,null,0,null,null,null,{"$f":"SUMIF(BP$9:BP$60,$A470,BQ$9:BQ$60)+SUMIF(BT$9:BT$60,$A470,BU$9:BU$60)+SUMIF(BP$370:BP$373,$A470,BQ$370:BQ$373)+SUMIF(BT$373:BT381,$A470,BU$370:BU$373)","v":0},null,null,null,0,null,null,null,0,null,null,null,0,null,null,null,0,null,null,null,0,null,null,null,0,null,null,null,0,null,null,null,0,null,null,null,0,null,null,null,0,null,null,null,0,null,null,null,0]
["p13","Prof # 13",0,null,null,null,{"$f":"SUMIF(D$9:D$60,$A471,E$9:E$60)+SUMIF(H$9:H$60,$A471,I$9:I$60)+SUMIF(D$370:D$373,$A471,E$370:E$373)+SUMIF(H$373:H382,$A471,I$370:I$373)","v":0},null,null,null,0,null,null,null,{"$f":"SUMIF(L$9:L$60,$A471,M$9:M$60)+SUMIF(P$9:P$60,$A471,Q$9:Q$60)+SUMIF(L$370:L$373,$A471,M$370:M$373)+SUMIF(P$373:P382,$A471,Q$370:Q$373)","v":0},null,null,null,0,null,null,null,{"$f":"SUMIF(T$9:T$60,$A471,U$9:U$60)+SUMIF(X$9:X$60,$A471,Y$9:Y$60)+SUMIF(T$370:T$373,$A471,U$370:U$373)+SUMIF(X$373:X382,$A471,Y$370:Y$373)","v":0},null,null,null,0,null,null,null,{"$f":"SUMIF(AB$9:AB$60,$A471,AC$9:AC$60)+SUMIF(AF$9:AF$60,$A471,AG$9:AG$60)+SUMIF(AB$370:AB$373,$A471,AC$370:AC$373)+SUMIF(AF$373:AF382,$A471,AG$370:AG$373)","v":0},null,null,null,0,null,null,null,{"$f":"SUMIF(AJ$9:AJ$60,$A471,AK$9:AK$60)+SUMIF(AN$9:AN$60,$A471,AO$9:AO$60)+SUMIF(AJ$370:AJ$373,$A471,AK$370:AK$373)+SUMIF(AN$373:AN382,$A471,AO$370:AO$373)","v":0},null,null,null,0,null,null,null,{"$f":"SUMIF(AR$9:AR$58,$A471,AS$9:AS$58)+SUMIF(AV$9:AV$59,$A471,AW$9:AW$59)+SUMIF(AR$370:AR$373,$A471,AS$370:AS$373)+SUMIF(AV$373:AV382,$A471,AW$370:AW$373)","v":0},null,null,null,0,null,null,null,{"$f":"SUMIF(AZ$9:AZ$60,$A471,BA$9:BA$60)+SUMIF(BD$9:BD$60,$A471,BE$9:BE$60)+SUMIF(AZ$370:AZ$373,$A471,BA$370:BA$373)+SUMIF(BD$373:BD382,$A471,BE$370:BE$373)","v":0},null,null,null,0,null,null,null,{"$f":"SUMIF(BH$9:BH$60,$A471,BI$9:BI$60)+SUMIF(BL$9:BL$60,$A471,BM$9:BM$60)+SUMIF(BH$370:BH$373,$A471,BI$370:BI$373)+SUMIF(BL$373:BL382,$A471,BM$370:BM$373)","v":0},null,null,null,0,null,null,null,{"$f":"SUMIF(BP$9:BP$60,$A471,BQ$9:BQ$60)+SUMIF(BT$9:BT$60,$A471,BU$9:BU$60)+SUMIF(BP$370:BP$373,$A471,BQ$370:BQ$373)+SUMIF(BT$373:BT382,$A471,BU$370:BU$373)","v":0},null,null,null,0,null,null,null,0,null,null,null,0,null,null,null,0,null,null,null,0,null,null,null,0,null,null,null,0,null,null,null,0,null,null,null,0,null,null,null,0,null,null,null,0,null,null,null,0]
["p14","Prof # 14",0,null,null,null,{"$f":"SUMIF(D$9:D$60,$A472,E$9:E$60)+SUMIF(H$9:H$60,$A472,I$9:I$60)+SUMIF(D$370:D$373,$A472,E$370:E$373)+SUMIF(H$373:H383,$A472,I$370:I$373)","v":0},null,null,null,0,null,null,null,{"$f":"SUMIF(L$9:L$60,$A472,M$9:M$60)+SUMIF(P$9:P$60,$A472,Q$9:Q$60)+SUMIF(L$370:L$373,$A472,M$370:M$373)+SUMIF(P$373:P383,$A472,Q$370:Q$373)","v":0},null,null,null,0,null,null,null,{"$f":"SUMIF(T$9:T$60,$A472,U$9:U$60)+SUMIF(X$9:X$60,$A472,Y$9:Y$60)+SUMIF(T$370:T$373,$A472,U$370:U$373)+SUMIF(X$373:X383,$A472,Y$370:Y$373)","v":0},null,null,null,0,null,null,null,{"$f":"SUMIF(AB$9:AB$60,$A472,AC$9:AC$60)+SUMIF(AF$9:AF$60,$A472,AG$9:AG$60)+SUMIF(AB$370:AB$373,$A472,AC$370:AC$373)+SUMIF(AF$373:AF383,$A472,AG$370:AG$373)","v":0},null,null,null,0,null,null,null,{"$f":"SUMIF(AJ$9:AJ$60,$A472,AK$9:AK$60)+SUMIF(AN$9:AN$60,$A472,AO$9:AO$60)+SUMIF(AJ$370:AJ$373,$A472,AK$370:AK$373)+SUMIF(AN$373:AN383,$A472,AO$370:AO$373)","v":0},null,null,null,0,null,null,null,{"$f":"SUMIF(AR$9:AR$58,$A472,AS$9:AS$58)+SUMIF(AV$9:AV$59,$A472,AW$9:AW$59)+SUMIF(AR$370:AR$373,$A472,AS$370:AS$373)+SUMIF(AV$373:AV383,$A472,AW$370:AW$373)","v":0},null,null,null,0,null,null,null,{"$f":"SUMIF(AZ$9:AZ$60,$A472,BA$9:BA$60)+SUMIF(BD$9:BD$60,$A472,BE$9:BE$60)+SUMIF(AZ$370:AZ$373,$A472,BA$370:BA$373)+SUMIF(BD$373:BD383,$A472,BE$370:BE$373)","v":0},null,null,null,0,null,null,null,{"$f":"SUMIF(BH$9:BH$60,$A472,BI$9:BI$60)+SUMIF(BL$9:BL$60,$A472,BM$9:BM$60)+SUMIF(BH$370:BH$373,$A472,BI$370:BI$373)+SUMIF(BL$373:BL383,$A472,BM$370:BM$373)","v":0},null,null,null,0,null,null,null,{"$f":"SUMIF(BP$9:BP$60,$A472,BQ$9:BQ$60)+SUMIF(BT$9:BT$60,$A472,BU$9:BU$60)+SUMIF(BP$370:BP$373,$A472,BQ$370:BQ$373)+SUMIF(BT$373:BT383,$A472,BU$370:BU$373)","v":0},null,null,null,0,null,null,null,0,null,null,null,0,null,null,null,0,null,null,null,0,null,null,null,0,null,null,null,0,null,null,null,0,null,null,null,0,null,null,null,0,null,null,null,0,null,null,null,0]
["p15","Prof # 15",0,null,null,null,{"$f":"SUMIF(D$9:D$60,$A473,E$9:E$60)+SUMIF(H$9:H$60,$A473,I$9:I$60)+SUMIF(D$370:D$373,$A473,E$370:E$373)+SUMIF(H$373:H384,$A473,I$370:I$373)","v":0},null,null,null,0,null,null,null,{"$f":"SUMIF(L$9:L$60,$A473,M$9:M$60)+SUMIF(P$9:P$60,$A473,Q$9:Q$60)+SUMIF(L$370:L$373,$A473,M$370:M$373)+SUMIF(P$373:P384,$A473,Q$370:Q$373)","v":0},null,null,null,0,null,null,null,{"$f":"SUMIF(T$9:T$60,$A473,U$9:U$60)+SUMIF(X$9:X$60,$A473,Y$9:Y$60)+SUMIF(T$370:T$373,$A473,U$370:U$373)+SUMIF(X$373:X384,$A473,Y$370:Y$373)","v":0},null,null,null,0,null,null,null,{"$f":"SUMIF(AB$9:AB$60,$A473,AC$9:AC$60)+SUMIF(AF$9:AF$60,$A473,AG$9:AG$60)+SUMIF(AB$370:AB$373,$A473,AC$370:AC$373)+SUMIF(AF$373:AF384,$A473,AG$370:AG$373)","v":0},null,null,null,0,null,null,null,{"$f":"SUMIF(AJ$9:AJ$60,$A473,AK$9:AK$60)+SUMIF(AN$9:AN$60,$A473,AO$9:AO$60)+SUMIF(AJ$370:AJ$373,$A473,AK$370:AK$373)+SUMIF(AN$373:AN384,$A473,AO$370:AO$373)","v":0},null,null,null,0,null,null,null,{"$f":"SUMIF(AR$9:AR$58,$A473,AS$9:AS$58)+SUMIF(AV$9:AV$59,$A473,AW$9:AW$59)+SUMIF(AR$370:AR$373,$A473,AS$370:AS$373)+SUMIF(AV$373:AV384,$A473,AW$370:AW$373)","v":0},null,null,null,0,null,null,null,{"$f":"SUMIF(AZ$9:AZ$60,$A473,BA$9:BA$60)+SUMIF(BD$9:BD$60,$A473,BE$9:BE$60)+SUMIF(AZ$370:AZ$373,$A473,BA$370:BA$373)+SUMIF(BD$373:BD384,$A473,BE$370:BE$373)","v":0},null,null,null,0,null,null,null,{"$f":"SUMIF(BH$9:BH$60,$A473,BI$9:BI$60)+SUMIF(BL$9:BL$60,$A473,BM$9:BM$60)+SUMIF(BH$370:BH$373,$A473,BI$370:BI$373)+SUMIF(BL$373:BL384,$A473,BM$370:BM$373)","v":0},null,null,null,0,null,null,null,{"$f":"SUMIF(BP$9:BP$60,$A473,BQ$9:BQ$60)+SUMIF(BT$9:BT$60,$A473,BU$9:BU$60)+SUMIF(BP$370:BP$373,$A473,BQ$370:BQ$373)+SUMIF(BT$373:BT384,$A473,BU$370:BU$373)","v":0},null,null,null,0,null,null,null,0,null,null,null,0,null,null,null,0,null,null,null,0,null,null,null,0,null,null,null,0,null,null,null,0,null,null,null,0,null,null,null,0,null,null,null,0,null,null,null,0]
["p16","Prof # 16",0,null,null,null,{"$f":"SUMIF(D$9:D$60,$A474,E$9:E$60)+SUMIF(H$9:H$60,$A474,I$9:I$60)+SUMIF(D$370:D$373,$A474,E$370:E$373)+SUMIF(H$373:H385,$A474,I$370:I$373)","v":0},null,null,null,0,null,null,null,{"$f":"SUMIF(L$9:L$60,$A474,M$9:M$60)+SUMIF(P$9:P$60,$A474,Q$9:Q$60)+SUMIF(L$370:L$373,$A474,M$370:M$373)+SUMIF(P$373:P385,$A474,Q$370:Q$373)","v":0},null,null,null,0,null,null,null,{"$f":"SUMIF(T$9:T$60,$A474,U$9:U$60)+SUMIF(X$9:X$60,$A474,Y$9:Y$60)+SUMIF(T$370:T$373,$A474,U$370:U$373)+SUMIF(X$373:X385,$A474,Y$370:Y$373)","v":0},null,null,null,0,null,null,null,{"$f":"SUMIF(AB$9:AB$60,$A474,AC$9:AC$60)+SUMIF(AF$9:AF$60,$A474,AG$9:AG$60)+SUMIF(AB$370:AB$373,$A474,AC$370:AC$373)+SUMIF(AF$373:AF385,$A474,AG$370:AG$373)","v":0},null,null,null,0,null,null,null,{"$f":"SUMIF(AJ$9:AJ$60,$A474,AK$9:AK$60)+SUMIF(AN$9:AN$60,$A474,AO$9:AO$60)+SUMIF(AJ$370:AJ$373,$A474,AK$370:AK$373)+SUMIF(AN$373:AN385,$A474,AO$370:AO$373)","v":0},null,null,null,0,null,null,null,{"$f":"SUMIF(AR$9:AR$58,$A474,AS$9:AS$58)+SUMIF(AV$9:AV$59,$A474,AW$9:AW$59)+SUMIF(AR$370:AR$373,$A474,AS$370:AS$373)+SUMIF(AV$373:AV385,$A474,AW$370:AW$373)","v":0},null,null,null,0,null,null,null,{"$f":"SUMIF(AZ$9:AZ$60,$A474,BA$9:BA$60)+SUMIF(BD$9:BD$60,$A474,BE$9:BE$60)+SUMIF(AZ$370:AZ$373,$A474,BA$370:BA$373)+SUMIF(BD$373:BD385,$A474,BE$370:BE$373)","v":0},null,null,null,0,null,null,null,{"$f":"SUMIF(BH$9:BH$60,$A474,BI$9:BI$60)+SUMIF(BL$9:BL$60,$A474,BM$9:BM$60)+SUMIF(BH$370:BH$373,$A474,BI$370:BI$373)+SUMIF(BL$373:BL385,$A474,BM$370:BM$373)","v":0},null,null,null,0,null,null,null,{"$f":"SUMIF(BP$9:BP$60,$A474,BQ$9:BQ$60)+SUMIF(BT$9:BT$60,$A474,BU$9:BU$60)+SUMIF(BP$370:BP$373,$A474,BQ$370:BQ$373)+SUMIF(BT$373:BT385,$A474,BU$370:BU$373)","v":0},null,null,null,0,null,null,null,0,null,null,null,0,null,null,null,0,null,null,null,0,null,null,null,0,null,null,null,0,null,null,null,0,null,null,null,0,null,null,null,0,null,null,null,0,null,null,null,0]
[{"$f":"A475","v":"p17"},"Prof # 17",0,null,null,null,{"$f":"SUMIF(D$9:D$60,$A475,E$9:E$60)+SUMIF(H$9:H$60,$A475,I$9:I$60)+SUMIF(D$370:D$373,$A475,E$370:E$373)+SUMIF(H$373:H386,$A475,I$370:I$373)","v":0},null,null,null,0,null,null,null,{"$f":"SUMIF(L$9:L$60,$A475,M$9:M$60)+SUMIF(P$9:P$60,$A475,Q$9:Q$60)+SUMIF(L$370:L$373,$A475,M$370:M$373)+SUMIF(P$373:P386,$A475,Q$370:Q$373)","v":0},null,null,null,0,null,null,null,{"$f":"SUMIF(T$9:T$60,$A475,U$9:U$60)+SUMIF(X$9:X$60,$A475,Y$9:Y$60)+SUMIF(T$370:T$373,$A475,U$370:U$373)+SUMIF(X$373:X386,$A475,Y$370:Y$373)","v":0},null,null,null,0,null,null,null,{"$f":"SUMIF(AB$9:AB$60,$A475,AC$9:AC$60)+SUMIF(AF$9:AF$60,$A475,AG$9:AG$60)+SUMIF(AB$370:AB$373,$A475,AC$370:AC$373)+SUMIF(AF$373:AF386,$A475,AG$370:AG$373)","v":0},null,null,null,0,null,null,null,{"$f":"SUMIF(AJ$9:AJ$60,$A475,AK$9:AK$60)+SUMIF(AN$9:AN$60,$A475,AO$9:AO$60)+SUMIF(AJ$370:AJ$373,$A475,AK$370:AK$373)+SUMIF(AN$373:AN386,$A475,AO$370:AO$373)","v":0},null,null,null,0,null,null,null,{"$f":"SUMIF(AR$9:AR$58,$A475,AS$9:AS$58)+SUMIF(AV$9:AV$59,$A475,AW$9:AW$59)+SUMIF(AR$370:AR$373,$A475,AS$370:AS$373)+SUMIF(AV$373:AV386,$A475,AW$370:AW$373)","v":0},null,null,null,0,null,null,null,{"$f":"SUMIF(AZ$9:AZ$60,$A475,BA$9:BA$60)+SUMIF(BD$9:BD$60,$A475,BE$9:BE$60)+SUMIF(AZ$370:AZ$373,$A475,BA$370:BA$373)+SUMIF(BD$373:BD386,$A475,BE$370:BE$373)","v":0},null,null,null,0,null,null,null,{"$f":"SUMIF(BH$9:BH$60,$A475,BI$9:BI$60)+SUMIF(BL$9:BL$60,$A475,BM$9:BM$60)+SUMIF(BH$370:BH$373,$A475,BI$370:BI$373)+SUMIF(BL$373:BL386,$A475,BM$370:BM$373)","v":0},null,null,null,0,null,null,null,{"$f":"SUMIF(BP$9:BP$60,$A475,BQ$9:BQ$60)+SUMIF(BT$9:BT$60,$A475,BU$9:BU$60)+SUMIF(BP$370:BP$373,$A475,BQ$370:BQ$373)+SUMIF(BT$373:BT386,$A475,BU$370:BU$373)","v":0},null,null,null,0,null,null,null,0,null,null,null,0,null,null,null,0,null,null,null,0,null,null,null,0,null,null,null,0,null,null,null,0,null,null,null,0,null,null,null,0,null,null,null,0,null,null,null,0]
["p18","Prof # 18",0,null,null,null,{"$f":"SUMIF(D$9:D$60,$A476,E$9:E$60)+SUMIF(H$9:H$60,$A476,I$9:I$60)+SUMIF(D$370:D$373,$A476,E$370:E$373)+SUMIF(H$373:H387,$A476,I$370:I$373)","v":0},null,null,null,0,null,null,null,{"$f":"SUMIF(L$9:L$60,$A476,M$9:M$60)+SUMIF(P$9:P$60,$A476,Q$9:Q$60)+SUMIF(L$370:L$373,$A476,M$370:M$373)+SUMIF(P$373:P387,$A476,Q$370:Q$373)","v":0},null,null,null,0,null,null,null,{"$f":"SUMIF(T$9:T$60,$A476,U$9:U$60)+SUMIF(X$9:X$60,$A476,Y$9:Y$60)+SUMIF(T$370:T$373,$A476,U$370:U$373)+SUMIF(X$373:X387,$A476,Y$370:Y$373)","v":0},null,null,null,0,null,null,null,{"$f":"SUMIF(AB$9:AB$60,$A476,AC$9:AC$60)+SUMIF(AF$9:AF$60,$A476,AG$9:AG$60)+SUMIF(AB$370:AB$373,$A476,AC$370:AC$373)+SUMIF(AF$373:AF387,$A476,AG$370:AG$373)","v":0},null,null,null,0,null,null,null,{"$f":"SUMIF(AJ$9:AJ$60,$A476,AK$9:AK$60)+SUMIF(AN$9:AN$60,$A476,AO$9:AO$60)+SUMIF(AJ$370:AJ$373,$A476,AK$370:AK$373)+SUMIF(AN$373:AN387,$A476,AO$370:AO$373)","v":0},null,null,null,0,null,null,null,{"$f":"SUMIF(AR$9:AR$58,$A476,AS$9:AS$58)+SUMIF(AV$9:AV$59,$A476,AW$9:AW$59)+SUMIF(AR$370:AR$373,$A476,AS$370:AS$373)+SUMIF(AV$373:AV387,$A476,AW$370:AW$373)","v":0},null,null,null,0,null,null,null,{"$f":"SUMIF(AZ$9:AZ$60,$A476,BA$9:BA$60)+SUMIF(BD$9:BD$60,$A476,BE$9:BE$60)+SUMIF(AZ$370:AZ$373,$A476,BA$370:BA$373)+SUMIF(BD$373:BD387,$A476,BE$370:BE$373)","v":0},null,null,null,0,null,null,null,{"$f":"SUMIF(BH$9:BH$60,$A476,BI$9:BI$60)+SUMIF(BL$9:BL$60,$A476,BM$9:BM$60)+SUMIF(BH$370:BH$373,$A476,BI$370:BI$373)+SUMIF(BL$373:BL387,$A476,BM$370:BM$373)","v":0},null,null,null,0,null,null,null,{"$f":"SUMIF(BP$9:BP$60,$A476,BQ$9:BQ$60)+SUMIF(BT$9:BT$60,$A476,BU$9:BU$60)+SUMIF(BP$370:BP$373,$A476,BQ$370:BQ$373)+SUMIF(BT$373:BT387,$A476,BU$370:BU$373)","v":0},null,null,null,0,null,null,null,0,null,null,null,0,null,null,null,0,null,null,null,0,null,null,null,0,null,null,null,0,null,null,null,0,null,null,null,0,null,null,null,0,null,null,null,0,null,null,null,0]
["p19","Prof # 19",0,null,null,null,{"$f":"SUMIF(D$9:D$60,$A477,E$9:E$60)+SUMIF(H$9:H$60,$A477,I$9:I$60)+SUMIF(D$370:D$373,$A477,E$370:E$373)+SUMIF(H$373:H388,$A477,I$370:I$373)","v":0},null,null,null,0,null,null,null,{"$f":"SUMIF(L$9:L$60,$A477,M$9:M$60)+SUMIF(P$9:P$60,$A477,Q$9:Q$60)+SUMIF(L$370:L$373,$A477,M$370:M$373)+SUMIF(P$373:P388,$A477,Q$370:Q$373)","v":0},null,null,null,0,null,null,null,{"$f":"SUMIF(T$9:T$60,$A477,U$9:U$60)+SUMIF(X$9:X$60,$A477,Y$9:Y$60)+SUMIF(T$370:T$373,$A477,U$370:U$373)+SUMIF(X$373:X388,$A477,Y$370:Y$373)","v":0},null,null,null,0,null,null,null,{"$f":"SUMIF(AB$9:AB$60,$A477,AC$9:AC$60)+SUMIF(AF$9:AF$60,$A477,AG$9:AG$60)+SUMIF(AB$370:AB$373,$A477,AC$370:AC$373)+SUMIF(AF$373:AF388,$A477,AG$370:AG$373)","v":0},null,null,null,0,null,null,null,{"$f":"SUMIF(AJ$9:AJ$60,$A477,AK$9:AK$60)+SUMIF(AN$9:AN$60,$A477,AO$9:AO$60)+SUMIF(AJ$370:AJ$373,$A477,AK$370:AK$373)+SUMIF(AN$373:AN388,$A477,AO$370:AO$373)","v":0},null,null,null,0,null,null,null,{"$f":"SUMIF(AR$9:AR$58,$A477,AS$9:AS$58)+SUMIF(AV$9:AV$59,$A477,AW$9:AW$59)+SUMIF(AR$370:AR$373,$A477,AS$370:AS$373)+SUMIF(AV$373:AV388,$A477,AW$370:AW$373)","v":0},null,null,null,0,null,null,null,{"$f":"SUMIF(AZ$9:AZ$60,$A477,BA$9:BA$60)+SUMIF(BD$9:BD$60,$A477,BE$9:BE$60)+SUMIF(AZ$370:AZ$373,$A477,BA$370:BA$373)+SUMIF(BD$373:BD388,$A477,BE$370:BE$373)","v":0},null,null,null,0,null,null,null,{"$f":"SUMIF(BH$9:BH$60,$A477,BI$9:BI$60)+SUMIF(BL$9:BL$60,$A477,BM$9:BM$60)+SUMIF(BH$370:BH$373,$A477,BI$370:BI$373)+SUMIF(BL$373:BL388,$A477,BM$370:BM$373)","v":0},null,null,null,0,null,null,null,{"$f":"SUMIF(BP$9:BP$60,$A477,BQ$9:BQ$60)+SUMIF(BT$9:BT$60,$A477,BU$9:BU$60)+SUMIF(BP$370:BP$373,$A477,BQ$370:BQ$373)+SUMIF(BT$373:BT388,$A477,BU$370:BU$373)","v":0},null,null,null,0,null,null,null,0,null,null,null,0,null,null,null,0,null,null,null,0,null,null,null,0,null,null,null,0,null,null,null,0,null,null,null,0,null,null,null,0,null,null,null,0,null,null,null,0]
["p20","Prof # 20",0,null,null,null,{"$f":"SUMIF(D$9:D$60,$A478,E$9:E$60)+SUMIF(H$9:H$60,$A478,I$9:I$60)+SUMIF(D$370:D$373,$A478,E$370:E$373)+SUMIF(H$373:H389,$A478,I$370:I$373)","v":0},null,null,null,0,null,null,null,{"$f":"SUMIF(L$9:L$60,$A478,M$9:M$60)+SUMIF(P$9:P$60,$A478,Q$9:Q$60)+SUMIF(L$370:L$373,$A478,M$370:M$373)+SUMIF(P$373:P389,$A478,Q$370:Q$373)","v":0},null,null,null,0,null,null,null,{"$f":"SUMIF(T$9:T$60,$A478,U$9:U$60)+SUMIF(X$9:X$60,$A478,Y$9:Y$60)+SUMIF(T$370:T$373,$A478,U$370:U$373)+SUMIF(X$373:X389,$A478,Y$370:Y$373)","v":0},null,null,null,0,null,null,null,{"$f":"SUMIF(AB$9:AB$60,$A478,AC$9:AC$60)+SUMIF(AF$9:AF$60,$A478,AG$9:AG$60)+SUMIF(AB$370:AB$373,$A478,AC$370:AC$373)+SUMIF(AF$373:AF389,$A478,AG$370:AG$373)","v":0},null,null,null,0,null,null,null,{"$f":"SUMIF(AJ$9:AJ$60,$A478,AK$9:AK$60)+SUMIF(AN$9:AN$60,$A478,AO$9:AO$60)+SUMIF(AJ$370:AJ$373,$A478,AK$370:AK$373)+SUMIF(AN$373:AN389,$A478,AO$370:AO$373)","v":0},null,null,null,0,null,null,null,{"$f":"SUMIF(AR$9:AR$58,$A478,AS$9:AS$58)+SUMIF(AV$9:AV$59,$A478,AW$9:AW$59)+SUMIF(AR$370:AR$373,$A478,AS$370:AS$373)+SUMIF(AV$373:AV389,$A478,AW$370:AW$373)","v":0},null,null,null,0,null,null,null,{"$f":"SUMIF(AZ$9:AZ$60,$A478,BA$9:BA$60)+SUMIF(BD$9:BD$60,$A478,BE$9:BE$60)+SUMIF(AZ$370:AZ$373,$A478,BA$370:BA$373)+SUMIF(BD$373:BD389,$A478,BE$370:BE$373)","v":0},null,null,null,0,null,null,null,{"$f":"SUMIF(BH$9:BH$60,$A478,BI$9:BI$60)+SUMIF(BL$9:BL$60,$A478,BM$9:BM$60)+SUMIF(BH$370:BH$373,$A478,BI$370:BI$373)+SUMIF(BL$373:BL389,$A478,BM$370:BM$373)","v":0},null,null,null,0,null,null,null,{"$f":"SUMIF(BP$9:BP$60,$A478,BQ$9:BQ$60)+SUMIF(BT$9:BT$60,$A478,BU$9:BU$60)+SUMIF(BP$370:BP$373,$A478,BQ$370:BQ$373)+SUMIF(BT$373:BT389,$A478,BU$370:BU$373)","v":0},null,null,null,0,null,null,null,0,null,null,null,0,null,null,null,0,null,null,null,0,null,null,null,0,null,null,null,0,null,null,null,0,null,null,null,0,null,null,null,0,null,null,null,0,null,null,null,0]
[null," "]
["Liste des enseignants et calcule des tâches"]
["identification",null,{"$f":"C435","v":"Heures 2025-2026"},null,null,null,"heures été 2024-2025",null,null,null,"Tutorat Récup.",null,null,null,"Autre/rencontre",null,null,null,"Tâche",null,null,null,"Excédentaire/ à faire ",null,null,null,null,null,"Commentaires"]
["sb","Sylvain Bellemare",{"$f":"C436+K436+S436+AA436+AI436+AQ436+AY436+BG436+BO436+BW436+CE436+CM436+CU436+DC436+DK436","v":792},null,null,null,{"$f":"G436+O436+W436+AE436+AM436+AU436+BC436","v":0},null,null,null,20,null,null,null,20,null,null,null,960,null,null,null,{"$f":"-(S459-O459-K459-C459)","v":-128},null,null,null,null,null,"Employeur"]
["mp","Mathieu Primard",774,null,null,null,0,null,null,null,26,null,null,null,20,null,null,null,960,null,null,null,{"$f":"-(S460-O460-K460-C460)","v":-140},null,null,null,null,null,"6 pré-dep"]
["cg","Clément Gauthier",771,null,null,null,0,null,null,null,20,null,null,null,20,null,null,null,960,null,null,null,-149,null,null,null,null,null,"comité CNESST"]
["jr","Julien, Rondeau",795,null,null,null,0,null,null,null,20,null,null,null,20,null,null,null,960,null,null,null,-125]
["yc","Yanik Corbeil",738,null,null,null,0,null,null,null,20,null,null,null,120,null,null,null,960,null,null,null,-82,null,null,null,null,null,"chef de groupe"]
["mc","Mathieu Chenard",888,null,null,null,0,null,null,null,38,null,null,null,20,null,null,null,960,null,null,null,-14,null,null,null,null,null,"18 pré-dep"]
["rg","Roch Gauthier",837,null,null,null,0,null,null,null,20,null,null,null,20,null,null,null,960,null,null,null,-83]
["np","Nicolas Privé",72,null,null,null,0,null,null,null,0,null,null,null,0,null,null,null,0,null,null,null,{"$f":"-(S466-O466-K466-C466)","v":72}]
[null,null,0,null,null,null,0,null,null,null,0,null,null,null,0,null,null,null,0,null,null,null,0]
[null,null,0,null,null,null,0,null,null,null,0,null,null,null,0,null,null,null,0,null,null,null,0]
[null,null,0,null,null,null,0,null,null,null,0,null,null,null,0,null,null,null,0,null,null,null,0]
["p12","Prof # 12",0,null,null,null,0,null,null,null,0,null,null,null,0,null,null,null,0,null,null,null,0]
["p13","Prof # 13",0,null,null,null,0,null,null,null,0,null,null,null,0,null,null,null,0,null,null,null,0]
["p14","Prof # 14",0,null,null,null,0,null,null,null,0,null,null,null,0,null,null,null,0,null,null,null,0]
["p15","Prof # 15",0,null,null,null,0,null,null,null,0,null,null,null,0,null,null,null,0,null,null,null,0]
["p16","Prof # 16",0,null,null,null,0,null,null,null,0,null,null,null,0,null,null,null,0,null,null,null,0]
["p17","Prof # 17",0,null,null,null,0,null,null,null,0,null,null,null,0,null,null,null,0,null,null,null,0]
["p18","Prof # 18",0,null,null,null,0,null,null,null,0,null,null,null,0,null,null,null,0,null,null,null,0]
["p19","Prof # 19",0,null,null,null,0,null,null,null,0,null,null,null,0,null,null,null,0,null,null,null,0]
["p20","Prof # 20",0,null,null,null,0,null,null,null,0,null,null,null,0,null,null,null,0,null,null,null,0]

{"sheet":"grprgdata","index":32,"n_rows":59,"n_cols":16,"rows_kept":59,"cut":false,"hidden":true,"merged":[]}
["IdProg","AnnéeScolairedébut","AnnéeScolairefin","Secteur","Nom du programme","No programme","Spécialité","Durée","ATE  oui/non","NoGroupe","Date début","Date fin","CalendrierType","HoraireType","jour/soir","heures"]
["MVLR","2013-2014","2014-2015",10,"Mécanique de véhicules lourds routiers",5330,"Entretien d'équipement motorisé",1800,false,13004," "," ","Intensif 1800","TOSCA # 8 Jour/Intensif - 6","Jour"]
["MVLR","2013-2014","2014-2015",10,"Mécanique de véhicules lourds routiers",5330,"Entretien d'équipement motorisé",1800,false,13005," "," ","Intensif 1800","TOSCA # 8 Jour/Intensif - 6","Jour"]
["MVLR","2013-2014","2014-2015",10,"Mécanique de véhicules lourds routiers",5330,"Entretien d'équipement motorisé",1800,false,13006," "," ","Intensif 1800","TOSCA # 8 Jour/Intensif - 6","Jour"]
["MVLR","2014-2015","2015-2016",10,"Mécanique de véhicules lourds routiers",5330,"Entretien d'équipement motorisé",1800,false,14007," "," ","Intensif 1800","TOSCA # 8 Jour/Intensif - 6","Jour"]
["MVLR","2014-2015","2015-2016",10,"Mécanique de véhicules lourds routiers",5330,"Entretien d'équipement motorisé",1800,false,14008," "," ","Intensif 1800","TOSCA # 8 Jour/Intensif - 6","Jour"]
["MVLR","2014-2015","2015-2016",10,"Mécanique de véhicules lourds routiers",5330,"Entretien d'équipement motorisé",1800,false,14009," "," ","Intensif 1800","TOSCA # 8 Jour/Intensif - 6","Jour"]
["MVLR","2014-2015","2015-2016",10,"Mécanique de véhicules lourds routiers",5330,"Entretien d'équipement motorisé",1800,false,1111," "," ","Intensif 1800","TOSCA # 8 Jour/Intensif - 6","Jour"]
["MVLR","2014-2015","2015-2016",10,"Mécanique de véhicules lourds routiers",5330,"Entretien d'équipement motorisé",1800,false,2222," "," ","Intensif 1800","TOSCA # 8 Jour/Intensif - 6","Jour"]
["MVLR","2014-2015","2015-2016",10,"Mécanique de véhicules lourds routiers",5330,"Entretien d'équipement motorisé",1800,false,3333," "," ","Intensif 1800","TOSCA # 8 Jour/Intensif - 6","Jour"]
[]
[]
[]
[]
[]
[]
[]
["Zone de traitement"]
[]
[]
["Banque de symboles (copy end past)  typique"]
["CAR","2008-2009","2009-2010",10,"Carrosserie",5217,"Entretien d'équipement motorisé",1590,true,6019,"2006-08-31","2007-11-22","Intensif <1800","TOSCA # 1 Jour/Intensif - 6","Jour"]
["ESA","2008-2009","2009-2010",9,"Électromécanique de systèmes automatisés",5281,"Électrotechnique",1800,false,6008,"2006-09-05","2008-02-01","Intensif 1800","TOSCA # 3 Jour/Intensif - 6","Jour"]
["EL","2008-2009","2009-2010",9,"Électricité ",5295,"Électrotechnique",1800,false,6001,"2007-01-30","2007-11-01","Intensif 1800","TOSCA # 3 Jour/Intensif - 6","Jour"]
["MVLR","2008-2009","2009-2010",10,"Mécanique de véhicules lourds routiers",5330,"Entretien d'équipement motorisé",1800,false,7041,"2008-01-14","2009-05-27","Intensif 1800","TOSCA # 8 Jour/Intensif - 6","Jour"]
["MEA","2008-2009","2009-2010",10,"Mécanique automobile",5198,"Entretien d'équipement motorisé",1800,false,5018,"2005-09-06","2007-01-25","Intensif 1800","TOSCA # 8 Jour/Intensif - 6","Jour"]
["TUS","2008-2009","2009-2010",11,"Technique d'usinage",5223,"Fabrication mécanique",1800,false,7014,"2008-01-29","2009-05-27","Intensif 1800","TOSCA # 10 Soir/Intensif - 6","Soir"]
["VC","2008-2009","2009-2010",1,"Vente conseil",5196,"Administration, commerce et informatique",900,false,6012,"2007-01-15","2007-10-15","Intensif <1800","TOSCA # 1 Jour/Intensif - 6","Soir"]
["VPMA","2008-2009","2009-2010",10,"Vente de pièces mécaniques et d'accessoires ",5194,"Entretien d'équipement motorisé",1095,false,6013,"2006-09-04","2008-01-30","Intensif <1800","TOSCA # 1 Jour/Intensif - 6","Soir"]
["ESTH","2008-2009","2009-2010",10,"Mécanique automobile",280,"Esthetique Automobile",570,true,6014,null,null,"Intensif <1800","TOSCA # 3 Jour/Intensif - 6","Jour"]
["COM","2008-2009","2009-2010",1,"Comptabilité",5231,"Administration, commerce et informatique",1800,false,8001,null,null,"Intensif 1800"]
["DES","2008-2009","2009-2010",11,"Dessin industriel",5225,"Fabrication mécanique",1800,false,8002,null,null,"Intensif 1801"]
["SEC","2008-2009","2009-2010",1,"Secrétariat",5212,"Administration, commerce et informatique",1800,false,8003,null,null,"Intensif 1802"]
["SOU","2008-2009","2009-2010",11,"Soudage Montage",5195,"Métalurgie",1800,false,8004,null,null,"Intensif 1803"]
["TR","2008-2009","2009-2010",1,"Tutorat/Récup",1111,"Tutorat/Récup",85,false,7001,"2007-09-04","2008-06-30","Régulier","TOSCA # 4 Jour/Régulier - 6 (900h/an)","Jour"]
["EX","2008-2009","2009-2010",1,"Exploration professionnelle",2222,"Exploration",25,false,7001,"2007-09-04","2008-06-30","Régulier","TOSCA # 5 Jour/Régulier - 5","Jour"]
[]
["Exemple de set-up"]
["MEA","2005-2006","2007-2008",10,"Mécanique automobile",5198,"Entretien d'équipement motorisé",1800,false,7024,"2007-09-06","2009-01-25","Intensif 1800","TOSCA # 8 Jour/Intensif - 6","Jour"]
["MEA","2005-2006","2007-2008",10,"Mécanique automobile",5198,"Entretien d'équipement motorisé",1800,false,7025,"2007-08-30","2009-06-14","Régulier","TOSCA # 5 Jour/Régulier - 5","Jour"]
["MEA","2005-2006","2007-2008",10,"Mécanique automobile",5198,"Entretien d'équipement motorisé",1800,false,7026,"2007-01-31","2009-06-13","Intensif 1800","TOSCA # 10 Soir/Intensif - 6","Soir"]
["MEA","2006-2007","2008-2009",10,"Mécanique automobile",5198,"Entretien d'équipement motorisé",1800,false,8027,"2008-09-05","2010-02-01","Intensif 1800","TOSCA # 10 Soir/Intensif - 6","Soir"]
["MEA","2006-2007","2008-2009",10,"Mécanique automobile",5198,"Entretien d'équipement motorisé",1800,false,8028,"2008-08-31","2010-06-01","Régulier","TOSCA # 5 Jour/Régulier - 5","Jour"]
["MEA","2006-2007","2008-2009",10,"Mécanique automobile",5198,"Entretien d'équipement motorisé",1800,false,8029,"2008-01-31","2010-02-01","Intensif 1800","TOSCA # 10 Soir/Intensif - 6","Soir"]
["TU","2007-2008","2008-2009",1,"Tutorat/Récup",1111,"Tutorat/Récup",85,false,8001,"2008-09-04","2009-06-30","Régulier","TOSCA # 5 Jour/Régulier - 4","Jour"]
["EX","2007-2008","2008-2009",1,"Exploration professionnelle",2222,"Exploration",25,false,7001,"2008-09-04","2009-06-30","Régulier","TOSCA # 5 Jour/Régulier - 5","Jour"]
[]
["Autres valeurs possible par champs"]
["ATE  oui/non","NoGroupe","CalendrierType",null,"HoraireType"]
[true,"70xx","Intensif 1800",null,"TOSCA # 1 Jour/Intensif - 6"]
[false,"80xx","Intensif <1800",null,"TOSCA # 2 Jour/Intensif - 6 1/2 - 4"]
[null,"90xx","Régulier",null,"TOSCA # 3 Jour/Intensif - 6"]
[null,"etc.",null,null,"TOSCA # 4 Jour/Régulier - 6 (900h/an)"]
[null,null,null,null,"TOSCA # 5 Jour/Régulier - 5"]
[null,null,null,null,"TOSCA # 6 Jour/Régulier - 5 1/2 - 3"]
[null,null,null,null,"TOSCA # 7 Jour/Régulier - 6 (900h/an)"]
[null,null,null,null,"TOSCA # 8 Jour/Intensif - 6"]
[null,null,null,null,"TOSCA # 9 Soir/Intensif - 6"]
[null,null,null,null,"TOSCA # 10 Soir/Intensif - 6"]

{"sheet":"cldrdata","index":33,"n_rows":103,"n_cols":7,"rows_kept":103,"cut":false,"hidden":true,"merged":[]}
["Année-scolaire","Date","Sous-spécialité","Calendrier 1 (Régulier)","Calendrier 2 (1800 heures)","Calendrier 3 (<1800 heures)","Calendrier 4 (À venir)"]
["2025-2026","2025-08-18","CEP","Vacance","Vacance","Vacance"," "]
["2025-2026","2025-08-19","CEP","Vacance","Vacance","Vacance"]
["2025-2026","2025-08-20","CEP","Vacance","Vacance","Vacance"]
["2025-2026","2025-08-21","CEP","Vacance","Vacance","Vacance"]
["2025-2026","2025-08-22","CEP"," Pédagogique Commmune"," Pédagogique Commmune"," Pédagogique Commmune"]
["2025-2026","2025-08-25","CEP","Pédagogique","Pédagogique","Pédagogique"]
["2025-2026","2025-09-01","CEP","Congé","Congé","Congé"]
["2025-2026","2025-10-13","CEP","Congé","Congé","Congé"]
["2025-2026","2025-10-22","CEP","Pédagogique","Pédagogique","Pédagogique"]
["2025-2026","2025-11-06","CEP","APEEMQ","APEEMQ","APEEMQ"]
["2025-2026","2025-11-07","CEP","APEEMQ","APEEMQ","APEEMQ"]
["2025-2026","2025-11-20","CEP"," Pédagogique Commmune"," Pédagogique Commmune"," Pédagogique Commmune"]
["2025-2026","2025-12-22","CEP","Congé Noël","Congé Noël","Congé Noël"]
["2025-2026","2025-12-23","CEP","Congé Noël","Congé Noël","Congé Noël"]
["2025-2026","2025-12-24","CEP","Congé Noël","Congé Noël","Congé Noël"]
["2025-2026","2025-12-25","CEP","Congé Noël","Congé Noël","Congé Noël"]
["2025-2026","2025-12-26","CEP","Congé Noël","Congé Noël","Congé Noël"]
["2025-2026","2025-12-29","CEP","Congé Noël","Congé Noël","Congé Noël"]
["2025-2026","2025-12-30","CEP","Congé Noël","Congé Noël","Congé Noël"]
["2025-2026","2025-12-31","CEP","Congé Noël","Congé Noël","Congé Noël"]
["2025-2026","2026-01-01","CEP","Congé Noël","Congé Noël","Congé Noël"]
["2025-2026","2026-01-02","CEP","Congé Noël","Congé Noël","Congé Noël"]
["2025-2026","2026-01-05","CEP"," Pédagogique Commmune"," Pédagogique Commmune"," Pédagogique Commmune"]
["2025-2026","2026-01-30","CEP","Pédagogique","Pédagogique","Pédagogique"]
["2025-2026","2026-02-25","CEP","Pédagogique","Pédagogique","Pédagogique"]
["2025-2026","2026-03-13","CEP","Pédagogique","Pédagogique","Pédagogique"]
["2025-2026","2026-04-03","CEP","Congé","Congé","Congé"]
["2025-2026","2026-04-06","CEP","Congé","Congé","Congé"]
["2025-2026","2026-05-01","CEP"," Pédagogique Commmune"," Pédagogique Commmune"," Pédagogique Commmune"]
["2025-2026","2026-05-18","CEP","Congé","Congé","Congé"]
["2025-2026","2026-06-05","CEP","Pédagogique","Pédagogique","Pédagogique"]
["2025-2026","2026-06-24","CEP","Congé","Congé","Congé"]
["2025-2026"]
["2025-2026"]
["2025-2026"]
["2025-2026"]
["2025-2026"]
["2025-2026"]
["2025-2026"]
["2025-2026"]
["2025-2026"]
["2025-2026"]
["2025-2026"]
["2025-2026"]
["2025-2026"]
["2025-2026"]
["2025-2026"]
["2025-2026"]
["2025-2026"]
["2025-2026"]
["2025-2026"]
["2025-2026"]
["2025-2026"]
["2025-2026"]
["2025-2026"]
["2025-2026"]
["2025-2026"]
["2025-2026"]
["2025-2026"]
["2025-2026"]
["2025-2026"]
["2025-2026"]
["2025-2026"]
["2025-2026"]
["2025-2026"]
["2025-2026"]
["2025-2026"]
[]
[]
[]
[]
[]
[]
[]
[]
[]
[]
[]
["Banque de symboles"]
["Congé  pour élèves et enseign."]
["Congés pour tous"]
["Journée pédagogique"]
["Journée pédagogique flottante"]
["Vacance"]
[]
["Dates spéciales"]
[]
[]
["2010-2011"," ","CEP","Ens. Stratégique "]
["2010-2011"," ","CEP","Ens. Stratégique "]
["2010-2011"," ","CEP","Ens. Stratégique "]
["2010-2011"," ","CEP","Ens. Stratégique "]
["2010-2011"," ","CEP","Ens. Stratégique "]
["2010-2011"," ","CEP","Ens. Stratégique "]
["2010-2011"," ","CEP","Ens. Stratégique "]
["2010-2011"," ","CEP","Ens. Stratégique "]
["2010-2011"," ","CEP","Ens. Stratégique "]
["2010-2011","2010-09-15","CEP","Table des chefs de groupe"]
["2010-2011","2010-11-24","CEP","Table des chefs de groupe"]
["2010-2011","2011-02-02","CEP","Table des chefs de groupe"]
["2010-2011","2011-04-06","CEP","Table des chefs de groupe"]
["2010-2011","2011-06-08","CEP","Table des chefs de groupe"]

{"sheet":"horprofdata","index":34,"n_rows":441,"n_cols":23,"rows_kept":441,"cut":false,"hidden":true,"merged":[[440,18,440,21],[440,22,440,25],[438,18,438,21],[438,22,438,25],[439,2,439,5],[439,6,439,9],[439,10,439,13],[439,14,439,17],[439,18,439,21],[439,22,439,25],[434,2,434,5],[434,6,434,9],[434,10,434,13],[434,14,434,17],[438,1,440,1],[438,6,438,9],[438,10,438,13],[438,14,438,17],[440,2,440,5],[440,6,440,9],[440,10,440,13],[440,14,440,17],[432,0,433,1],[432,2,432,17],[433,2,433,5],[433,6,433,9],[433,10,433,13],[433,14,433,17],[428,2,428,3],[428,4,428,7],[428,8,428,9],[428,10,428,11],[428,12,428,15],[428,16,428,17],[426,16,426,17],[427,0,427,1],[427,2,427,3],[427,4,427,7],[427,8,427,9],[427,10,427,11],[427,12,427,15],[427,16,427,17],[426,0,426,1],[426,2,426,3],[426,4,426,7],[426,8,426,9],[426,10,426,11],[426,12,426,15],[424,16,424,17],[425,0,425,1],[425,2,425,3],[425,4,425,7],[425,8,425,9],[425,10,425,11],[425,12,425,15],[425,16,425,17],[424,0,424,1],[424,2,424,3],[424,4,424,7],[424,8,424,9],[424,10,424,11],[424,12,424,15],[422,16,422,17],[423,0,423,1],[423,2,423,3],[423,4,423,7],[423,8,423,9],[423,10,423,11],[423,12,423,15],[423,16,423,17],[422,0,422,1],[422,2,422,3],[422,4,422,7],[422,8,422,9],[422,10,422,11],[422,12,422,15],[420,16,420,17],[421,0,421,1],[421,2,421,3],[421,4,421,7],[421,8,421,9],[421,10,421,11],[421,12,421,15],[421,16,421,17],[420,0,420,1],[420,2,420,3],[420,4,420,7],[420,8,420,9],[420,10,420,11],[420,12,420,15],[418,19,418,27],[419,0,419,1],[419,2,419,3],[419,4,419,7],[419,8,419,9],[419,10,419,11],[419,12,419,15],[419,16,419,17],[418,0,418,1],[418,2,418,3],[418,4,418,7],[418,8,418,9],[418,10,418,11],[418,12,418,15],[416,16,416,17],[417,16,417,17],[418,16,418,17],[417,0,417,1],[417,2,417,3],[417,4,417,7],[417,8,417,9],[417,10,417,11],[417,12,417,15],[416,0,416,1],[416,2,416,3],[416,4,416,7],[416,8,416,9],[416,10,416,11],[416,12,416,15],[414,16,414,17],[414,19,414,27],[415,0,415,1],[415,2,415,3],[415,4,415,7],[415,8,415,9],[415,10,415,11],[415,12,415,15],[415,16,415,17],[414,0,414,1],[414,2,414,3],[414,4,414,7],[414,8,414,9],[414,10,414,11],[414,12,414,15],[412,16,412,17],[412,2,412,3],[412,4,412,7],[412,8,412,9],[412,10,412,11],[412,19,412,29],[413,0,413,1],[413,2,413,3],[413,4,413,7],[413,8,413,9],[413,10,413,11],[413,12,413,15],[413,16,413,17],[413,19,413,27],[412,0,412,1],[412,12,412,15],[410,16,410,17],[411,0,411,1],[411,2,411,3],[411,4,411,7],[411,8,411,9],[411,10,411,11],[411,12,411,15],[411,16,411,17],[410,0,410,1],[410,2,410,3],[410,4,410,7],[410,8,410,9],[410,10,410,11],[410,12,410,15],[408,16,408,17],[409,16,409,17],[409,0,409,1],[409,2,409,3],[409,4,409,7],[409,8,409,9],[409,10,409,11],[409,12,409,15],[408,0,408,1],[408,2,408,3],[408,4,408,7],[408,8,408,9],[408,10,408,11],[408,12,408,15],[406,16,406,17],[407,0,407,1],[407,2,407,3],[407,4,407,7],[407,8,407,9],[407,10,407,11],[407,12,407,15],[407,16,407,17],[406,0,406,1],[406,2,406,3],[406,4,406,7],[406,8,406,9],[406,10,406,11],[406,12,406,15],[404,16,404,17],[405,0,405,1],[405,2,405,3],[405,4,405,7],[405,8,405,9],[405,10,405,11],[405,12,405,15],[405,16,405,17],[404,0,404,1],[404,2,404,3],[404,4,404,7],[404,8,404,9],[404,10,404,11],[404,12,404,15],[402,16,402,17],[403,0,403,1],[403,2,403,3],[403,4,403,7],[403,8,403,9],[403,10,403,11],[403,12,403,15],[403,16,403,17],[402,0,402,1],[402,2,402,3],[402,4,402,7],[402,8,402,9],[402,10,402,11],[402,12,402,15],[400,16,400,17],[401,0,401,1],[401,2,401,3],[401,4,401,7],[401,8,401,9],[401,10,401,11],[401,12,401,15],[401,16,401,17],[400,0,400,1],[400,2,400,3],[400,4,400,7],[400,8,400,9],[400,10,400,11],[400,12,400,15],[398,16,398,17],[399,0,399,1],[399,2,399,3],[399,4,399,7],[399,8,399,9],[399,10,399,11],[399,12,399,15],[399,16,399,17],[398,0,398,1],[398,2,398,3],[398,4,398,7],[398,8,398,9],[398,10,398,11],[398,12,398,15],[396,16,396,17],[397,0,397,1],[397,2,397,3],[397,4,397,7],[397,8,397,9],[397,10,397,11],[397,12,397,15],[397,16,397,17],[396,0,396,1],[396,2,396,3],[396,4,396,7],[396,8,396,9],[396,10,396,11],[396,12,396,15],[394,16,394,17],[395,0,395,1],[395,2,395,3],[395,4,395,7],[395,8,395,9],[395,10,395,11],[395,12,395,15],[395,16,395,17],[394,0,394,1],[394,2,394,3],[394,4,394,7],[394,8,394,9],[394,10,394,11],[394,12,394,15],[392,16,392,17],[393,0,393,1],[393,2,393,3],[393,4,393,7],[393,8,393,9],[393,10,393,11],[393,12,393,15],[393,16,393,17],[392,0,392,1],[392,2,392,3],[392,4,392,7],[392,8,392,9],[392,10,392,11],[392,12,392,15],[390,16,390,17],[391,0,391,1],[391,2,391,3],[391,4,391,7],[391,8,391,9],[391,10,391,11],[391,12,391,15],[391,16,391,17],[390,0,390,1],[390,2,390,3],[390,4,390,7],[390,8,390,9],[390,10,390,11],[390,12,390,15],[388,16,388,17],[389,0,389,1],[389,2,389,3],[389,4,389,7],[389,8,389,9],[389,10,389,11],[389,12,389,15],[389,16,389,17],[388,0,388,1],[388,2,388,3],[388,4,388,7],[388,8,388,9],[388,10,388,11],[388,12,388,15],[386,16,386,17],[387,0,387,1],[387,2,387,3],[387,4,387,7],[387,8,387,9],[387,10,387,11],[387,12,387,15],[387,16,387,17],[386,0,386,1],[386,2,386,3],[386,4,386,7],[386,8,386,9],[386,10,386,11],[386,12,386,15],[384,16,384,17],[385,0,385,1],[385,2,385,3],[385,4,385,7],[385,8,385,9],[385,10,385,11],[385,12,385,15],[385,16,385,17],[384,0,384,1],[384,2,384,3],[384,4,384,7],[384,8,384,9],[384,10,384,11],[384,12,384,15],[382,16,382,17],[383,0,383,1],[383,2,383,3],[383,4,383,7],[383,8,383,9],[383,10,383,11],[383,12,383,15],[383,16,383,17],[382,0,382,1],[382,2,382,3],[382,4,382,7],[382,8,382,9],[382,10,382,11],[382,12,382,15],[379,0,379,1],[379,2,379,3],[379,4,379,7],[379,8,379,9],[379,10,379,11],[379,12,379,15],[379,16,379,17],[380,16,380,17],[381,0,381,1],[381,2,381,3],[381,4,381,7],[381,8,381,9],[381,10,381,11],[381,12,381,15],[381,16,381,17],[380,0,380,1],[380,2,380,3],[380,4,380,7],[380,8,380,9],[380,10,380,11],[380,12,380,15],[371,19,371,29],[372,19,372,29],[376,0,377,1],[377,4,377,7],[377,12,377,15],[378,0,378,1],[378,2,378,3],[378,4,378,7],[378,8,378,9],[378,10,378,11],[378,12,378,15],[378,16,378,17],[365,19,365,29],[366,19,366,29],[367,19,367,29],[368,19,368,29],[369,19,369,29],[370,19,370,29],[359,19,359,29],[360,19,360,29],[361,19,361,29],[362,19,362,29],[363,19,363,29],[364,19,364,29],[353,19,353,29],[354,19,354,29],[355,19,355,29],[356,19,356,29],[357,19,357,29],[358,19,358,29],[347,19,347,29],[348,19,348,29],[349,19,349,29],[350,19,350,29],[351,19,351,29],[352,19,352,29],[341,19,341,29],[342,19,342,29],[343,19,343,29],[344,19,344,29],[345,19,345,29],[346,19,346,29],[335,19,335,29],[336,19,336,29],[337,19,337,29],[338,19,338,29],[339,19,339,29],[340,19,340,29],[329,19,329,29],[330,19,330,29],[331,19,331,29],[332,19,332,29],[333,19,333,29],[334,19,334,29],[323,19,323,29],[324,19,324,29],[325,19,325,29],[326,19,326,29],[327,19,327,29],[328,19,328,29],[317,19,317,29],[318,19,318,29],[319,19,319,29],[320,19,320,29],[321,19,321,29],[322,19,322,29],[311,19,311,29],[312,19,312,29],[313,19,313,29],[314,19,314,29],[315,19,315,29],[316,19,316,29],[305,19,305,29],[306,19,306,29],[307,19,307,29],[308,19,308,29],[309,19,309,29],[310,19,310,29],[299,19,299,29],[300,19,300,29],[301,19,301,29],[302,19,302,29],[303,19,303,29],[304,19,304,29],[293,19,293,29],[294,19,294,29],[295,19,295,29],[296,19,296,29],[297,19,297,29],[298,19,298,29],[287,19,287,29],[288,19,288,29],[289,19,289,29],[290,19,290,29],[291,19,291,29],[292,19,292,29],[281,19,281,29],[282,19,282,29],[283,19,283,29],[284,19,284,29],[285,19,285,29],[286,19,286,29],[275,19,275,29],[276,19,276,29],[277,19,277,29],[278,19,278,29],[279,19,279,29],[280,19,280,29],[269,19,269,29],[270,19,270,29],[271,19,271,29],[272,19,272,29],[273,19,273,29],[274,19,274,29],[263,19,263,29],[264,19,264,29],[265,19,265,29],[266,19,266,29],[267,19,267,29],[268,19,268,29],[257,19,257,29],[258,19,258,29],[259,19,259,29],[260,19,260,29],[261,19,261,29],[262,19,262,29],[251,19,251,29],[252,19,252,29],[253,19,253,29],[254,19,254,29],[255,19,255,29],[256,19,256,29],[245,19,245,29],[246,19,246,29],[247,19,247,29],[248,19,248,29],[249,19,249,29],[250,19,250,29],[239,19,239,29],[240,19,240,29],[241,19,241,29],[242,19,242,29],[243,19,243,29],[244,19,244,29],[233,19,233,29],[234,19,234,29],[235,19,235,29],[236,19,236,29],[237,19,237,29],[238,19,238,29],[227,19,227,29],[228,19,228,29],[229,19,229,29],[230,19,230,29],[231,19,231,29],[232,19,232,29],[221,19,221,29],[222,19,222,29],[223,19,223,29],[224,19,224,29],[225,19,225,29],[226,19,226,29],[215,19,215,29],[216,19,216,29],[217,19,217,29],[218,19,218,29],[219,19,219,29],[220,19,220,29],[209,19,209,29],[210,19,210,29],[211,19,211,29],[212,19,212,29],[213,19,213,29],[214,19,214,29],[203,19,203,29],[204,19,204,29],[205,19,205,29],[206,19,206,29],[207,19,207,29],[208,19,208,29],[197,19,197,29],[198,19,198,29],[199,19,199,29],[200,19,200,29],[201,19,201,29],[202,19,202,29],[191,19,191,29],[192,19,192,29],[193,19,193,29],[194,19,194,29],[195,19,195,29],[196,19,196,29],[185,19,185,29],[186,19,186,29],[187,19,187,29],[188,19,188,29],[189,19,189,29],[190,19,190,29],[179,19,179,29],[180,19,180,29],[181,19,181,29],[182,19,182,29],[183,19,183,29],[184,19,184,29],[173,19,173,29],[174,19,174,29],[175,19,175,29],[176,19,176,29],[177,19,177,29],[178,19,178,29],[167,19,167,29],[168,19,168,29],[169,19,169,29],[170,19,170,29],[171,19,171,29],[172,19,172,29],[161,19,161,29],[162,19,162,29],[163,19,163,29],[164,19,164,29],[165,19,165,29],[166,19,166,29],[155,19,155,29],[156,19,156,29],[157,19,157,29],[158,19,158,29],[159,19,159,29],[160,19,160,29],[149,19,149,29],[150,19,150,29],[151,19,151,29],[152,19,152,29],[153,19,153,29],[154,19,154,29],[143,19,143,29],[144,19,144,29],[145,19,145,29],[146,19,146,29],[147,19,147,29],[148,19,148,29],[137,19,137,29],[138,19,138,29],[139,19,139,29],[140,19,140,29],[141,19,141,29],[142,19,142,29],[131,19,131,29],[132,19,132,29],[133,19,133,29],[134,19,134,29],[135,19,135,29],[136,19,136,29],[125,19,125,29],[126,19,126,29],[127,19,127,29],[128,19,128,29],[129,19,129,29],[130,19,130,29],[119,19,119,29],[120,19,120,29],[121,19,121,29],[122,19,122,29],[123,19,123,29],[124,19,124,29],[113,19,113,29],[114,19,114,29],[115,19,115,29],[116,19,116,29],[117,19,117,29],[118,19,118,29],[107,19,107,29],[108,19,108,29],[109,19,109,29],[110,19,110,29],[111,19,111,29],[112,19,112,29],[101,19,101,29],[102,19,102,29],[103,19,103,29],[104,19,104,29],[105,19,105,29],[106,19,106,29],[95,19,95,29],[96,19,96,29],[97,19,97,29],[98,19,98,29],[99,19,99,29],[100,19,100,29],[89,19,89,29],[90,19,90,29],[91,19,91,29],[92,19,92,29],[93,19,93,29],[94,19,94,29],[83,19,83,29],[84,19,84,29],[85,19,85,29],[86,19,86,29],[87,19,87,29],[88,19,88,29],[77,19,77,29],[78,19,78,29],[79,19,79,29],[80,19,80,29],[81,19,81,29],[82,19,82,29],[71,19,71,29],[72,19,72,29],[73,19,73,29],[74,19,74,29],[75,19,75,29],[76,19,76,29],[65,19,65,29],[66,19,66,29],[67,19,67,29],[68,19,68,29],[69,19,69,29],[70,19,70,29],[59,19,59,29],[60,19,60,29],[61,19,61,29],[62,19,62,29],[63,19,63,29],[64,19,64,29],[53,19,53,29],[54,19,54,29],[55,19,55,29],[56,19,56,29],[57,19,57,29],[58,19,58,29],[47,19,47,29],[48,19,48,29],[49,19,49,29],[50,19,50,29],[51,19,51,29],[52,19,52,29],[41,19,41,29],[42,19,42,29],[43,19,43,29],[44,19,44,29],[45,19,45,29],[46,19,46,29],[35,19,35,29],[36,19,36,29],[37,19,37,29],[38,19,38,29],[39,19,39,29],[40,19,40,29],[29,19,29,29],[30,19,30,29],[31,19,31,29],[32,19,32,29],[33,19,33,29],[34,19,34,29],[23,19,23,29],[24,19,24,29],[25,19,25,29],[26,19,26,29],[27,19,27,29],[28,19,28,29],[17,19,17,29],[18,19,18,29],[19,19,19,29],[20,19,20,29],[21,19,21,29],[22,19,22,29],[11,19,11,29],[12,19,12,29],[13,19,13,29],[14,19,14,29],[15,19,15,29],[16,19,16,29],[5,2,5,9],[5,10,5,17],[7,19,7,29],[8,19,8,29],[9,19,9,29],[10,19,10,29],[3,0,3,1],[3,2,3,17],[3,19,3,29],[4,0,4,1],[4,2,4,9],[4,10,4,17]]}
[]
[]
[" "]
["Année scolaire 2012-2013",null," ",null,null,null,null,null,null,null,null,null,null,null,null,null,null,null,null,"Commentaires"]
[null,null," ",null,null,null,null,null,null,null," "]
[10,null," ",null,null,null,null,null,null,null," "]
[null,null,"M","P","H","L","M","P","H","L","M","P","H","L","M","P","H","L"]
[{"$f":"WEEKDAY(B8,2)","v":2},"2008-07-01",null,null," ",null,null,null," "]
[3,{"$f":" B8+1","v":"2008-07-02"},null,null," ",null,null,null," ",null,null,null," "]
[4,"2008-07-03"]
[5,"2008-07-04",null,null," ",null,null,null," "]
[6,"2008-07-05"]
[7,"2008-07-06",null," "," ",null,null," "," "]
[1,"2008-07-07"]
[2,"2008-07-08"]
[3,"2008-07-09"]
[4,"2008-07-10",null,null," ",null,null,null," "]
[5,"2008-07-11",null,null," "," ",null,null," "]
[6,"2008-07-12"]
[7,"2008-07-13"]
[1,"2008-07-14"]
[2,"2008-07-15"]
[3,"2008-07-16"]
[4,"2008-07-17"]
[5,"2008-07-18"]
[6,"2008-07-19"]
[7,"2008-07-20"]
[1,"2008-07-21"]
[2,"2008-07-22"]
[3,"2008-07-23"]
[4,"2008-07-24"]
[5,"2008-07-25",null," "," ",null,null," "," "]
[6,"2008-07-26"]
[7,"2008-07-27"]
[1,"2008-07-28"]
[2,"2008-07-29"]
[3,"2008-07-30"]
[4,"2008-07-31"]
[5,"2008-08-01"]
[6,"2008-08-02"]
[7,"2008-08-03"]
[1,"2008-08-04"]
[2,"2008-08-05"]
[3,"2008-08-06"]
[4,"2008-08-07"]
[5,"2008-08-08"]
[6,"2008-08-09"]
[7,"2008-08-10"]
[1,"2008-08-11"]
[2,"2008-08-12"]
[3,"2008-08-13"]
[4,"2008-08-14"]
[5,"2008-08-15"]
[6,"2008-08-16"]
[7,"2008-08-17"]
[1,"2008-08-18"]
[2,"2008-08-19"]
[3,"2008-08-20"]
[4,"2008-08-21"]
[5,"2008-08-22"]
[6,"2008-08-23"]
[7,"2008-08-24"]
[1,"2008-08-25"]
[2,"2008-08-26"]
[3,"2008-08-27"]
[4,"2008-08-28"]
[5,"2008-08-29"]
[6,"2008-08-30"]
[7,"2008-08-31"]
[1,"2008-09-01"]
[2,"2008-09-02"]
[{"$f":"WEEKDAY(B72,2)","v":3},"2008-09-03"]
[4,{"$f":" B72+1","v":"2008-09-04"}]
[5,"2008-09-05"]
[6,"2008-09-06"]
[7,"2008-09-07"]
[1,"2008-09-08"]
[2,"2008-09-09"]
[3,"2008-09-10"]
[4,"2008-09-11"]
[5,"2008-09-12"]
[6,"2008-09-13"]
[7,"2008-09-14"]
[1,"2008-09-15"]
[2,"2008-09-16"]
[3,"2008-09-17"]
[4,"2008-09-18"]
[5,"2008-09-19"]
[6,"2008-09-20"]
[7,"2008-09-21"]
[1,"2008-09-22"]
[2,"2008-09-23"]
[3,"2008-09-24"]
[4,"2008-09-25"]
[5,"2008-09-26"]
[6,"2008-09-27"]
[7,"2008-09-28"]
[1,"2008-09-29"]
[2,"2008-09-30"]
[3,"2008-10-01"]
[4,"2008-10-02"]
[5,"2008-10-03"]
[6,"2008-10-04"]
[7,"2008-10-05"]
[1,"2008-10-06"]
[2,"2008-10-07"]
[3,"2008-10-08"]
[4,"2008-10-09"]
[5,"2008-10-10"]
[6,"2008-10-11"]
[7,"2008-10-12"]
[1,"2008-10-13"]
[2,"2008-10-14"]
[3,"2008-10-15"]
[4,"2008-10-16"]
[5,"2008-10-17"]
[6,"2008-10-18"]
[7,"2008-10-19"]
[1,"2008-10-20"]
[2,"2008-10-21"]
[3,"2008-10-22"]
[4,"2008-10-23"]
[5,"2008-10-24"]
[6,"2008-10-25"]
[7,"2008-10-26"]
[1,"2008-10-27"]
[2,"2008-10-28"]
[3,"2008-10-29"]
[4,"2008-10-30"]
[5,"2008-10-31"]
[6,"2008-11-01"]
[7,"2008-11-02"]
[1,"2008-11-03"]
[2,"2008-11-04"]
[3,"2008-11-05"]
[{"$f":"WEEKDAY(B136,2)","v":4},"2008-11-06"]
[5,{"$f":" B136+1","v":"2008-11-07"}]
[6,"2008-11-08"]
[7,"2008-11-09"]
[1,"2008-11-10"]
[2,"2008-11-11"]
[3,"2008-11-12"]
[4,"2008-11-13"]
[5,"2008-11-14"]
[6,"2008-11-15"]
[7,"2008-11-16"]
[1,"2008-11-17"]
[2,"2008-11-18"]
[3,"2008-11-19"]
[4,"2008-11-20"]
[5,"2008-11-21"]
[6,"2008-11-22"]
[7,"2008-11-23"]
[1,"2008-11-24"]
[2,"2008-11-25"]
[3,"2008-11-26"]
[4,"2008-11-27"]
[5,"2008-11-28"]
[6,"2008-11-29"]
[7,"2008-11-30"]
[1,"2008-12-01"]
[2,"2008-12-02"]
[3,"2008-12-03"]
[4,"2008-12-04"]
[5,"2008-12-05"]
[6,"2008-12-06"]
[7,"2008-12-07"]
[1,"2008-12-08"]
[2,"2008-12-09"]
[3,"2008-12-10"]
[4,"2008-12-11"]
[5,"2008-12-12"]
[6,"2008-12-13"]
[7,"2008-12-14"]
[1,"2008-12-15"]
[2,"2008-12-16"]
[3,"2008-12-17"]
[4,"2008-12-18"]
[5,"2008-12-19"]
[6,"2008-12-20"]
[7,"2008-12-21"]
[1,"2008-12-22"]
[2,"2008-12-23"]
[3,"2008-12-24"]
[4,"2008-12-25"]
[5,"2008-12-26"]
[6,"2008-12-27"]
[7,"2008-12-28"]
[1,"2008-12-29"]
[2,"2008-12-30"]
[3,"2008-12-31"]
[4,"2009-01-01"]
[5,"2009-01-02"]
[6,"2009-01-03"]
[7,"2009-01-04"]
[1,"2009-01-05"]
[2,"2009-01-06"]
[3,"2009-01-07"]
[4,"2009-01-08"]
[{"$f":"WEEKDAY(B200,2)","v":5},"2009-01-09"]
[6,{"$f":" B200+1","v":"2009-01-10"}]
[7,"2009-01-11"]
[1,"2009-01-12"]
[2,"2009-01-13"]
[3,"2009-01-14"]
[4,"2009-01-15"]
[5,"2009-01-16"]
[6,"2009-01-17"]
[7,"2009-01-18"]
[1,"2009-01-19"]
[2,"2009-01-20"]
[3,"2009-01-21"]
[4,"2009-01-22"]
[5,"2009-01-23"]
[6,"2009-01-24"]
[7,"2009-01-25"]
[1,"2009-01-26"]
[2,"2009-01-27"]
[3,"2009-01-28"]
[4,"2009-01-29"]
[5,"2009-01-30"]
[6,"2009-01-31"]
[7,"2009-02-01"]
[1,"2009-02-02"]
[2,"2009-02-03"]
[3,"2009-02-04"]
[4,"2009-02-05"]
[5,"2009-02-06"]
[6,"2009-02-07"]
[7,"2009-02-08"]
[1,"2009-02-09"]
[2,"2009-02-10"]
[3,"2009-02-11"]
[4,"2009-02-12"]
[5,"2009-02-13"]
[6,"2009-02-14"]
[7,"2009-02-15"]
[1,"2009-02-16"]
[2,"2009-02-17"]
[3,"2009-02-18"]
[4,"2009-02-19"]
[5,"2009-02-20"]
[6,"2009-02-21"]
[7,"2009-02-22"]
[1,"2009-02-23"]
[2,"2009-02-24"]
[3,"2009-02-25"]
[4,"2009-02-26"]
[5,"2009-02-27"]
[6,"2009-02-28"]
[7,"2009-03-01"]
[1,"2009-03-02"]
[2,"2009-03-03"]
[3,"2009-03-04"]
[4,"2009-03-05",null," "," ",null,null," "," "]
[5,"2009-03-06"]
[6,"2009-03-07"]
[7,"2009-03-08"]
[1,"2009-03-09"]
[2,"2009-03-10"]
[3,"2009-03-11"]
[4,"2009-03-12"]
[5,"2009-03-13"]
[{"$f":"WEEKDAY(B264,2)","v":6},"2009-03-14"]
[7,{"$f":" B264+1","v":"2009-03-15"}]
[1,"2009-03-16"]
[2,"2009-03-17"]
[3,"2009-03-18"]
[4,"2009-03-19"]
[5,"2009-03-20"]
[6,"2009-03-21"]
[7,"2009-03-22"]
[1,"2009-03-23"]
[2,"2009-03-24"]
[3,"2009-03-25"]
[4,"2009-03-26"]
[5,"2009-03-27"]
[6,"2009-03-28"]
[7,"2009-03-29"]
[1,"2009-03-30"]
[2,"2009-03-31"]
[3,"2009-04-01"]
[4,"2009-04-02"]
[5,"2009-04-03"]
[6,"2009-04-04"]
[7,"2009-04-05"]
[1,"2009-04-06"]
[2,"2009-04-07"]
[3,"2009-04-08"]
[4,"2009-04-09"]
[5,"2009-04-10"]
[6,"2009-04-11"]
[7,"2009-04-12"]
[1,"2009-04-13"]
[2,"2009-04-14"]
[3,"2009-04-15"]
[4,"2009-04-16"]
[5,"2009-04-17"]
[6,"2009-04-18"]
[7,"2009-04-19"]
[1,"2009-04-20"]
[2,"2009-04-21"]
[3,"2009-04-22"]
[4,"2009-04-23"]
[5,"2009-04-24"]
[6,"2009-04-25"]
[7,"2009-04-26"]
[1,"2009-04-27"]
[2,"2009-04-28"]
[3,"2009-04-29"]
[4,"2009-04-30"]
[5,"2009-05-01"]
[6,"2009-05-02"]
[7,"2009-05-03"]
[1,"2009-05-04"]
[2,"2009-05-05"]
[3,"2009-05-06"]
[4,"2009-05-07"]
[5,"2009-05-08"]
[6,"2009-05-09"]
[7,"2009-05-10",null," "," ",null,null," "," "]
[1,"2009-05-11"]
[2,"2009-05-12"]
[3,"2009-05-13"]
[4,"2009-05-14"]
[5,"2009-05-15"]
[6,"2009-05-16"]
[{"$f":"WEEKDAY(B328,2)","v":7},"2009-05-17"]
[1,{"$f":" B328+1","v":"2009-05-18"}]
[2,"2009-05-19"]
[3,"2009-05-20"]
[4,"2009-05-21"]
[5,"2009-05-22"]
[6,"2009-05-23"]
[7,"2009-05-24"]
[1,"2009-05-25"]
[2,"2009-05-26"]
[3,"2009-05-27"]
[4,"2009-05-28"]
[5,"2009-05-29"]
[6,"2009-05-30"]
[7,"2009-05-31"]
[1,"2009-06-01"]
[2,"2009-06-02"]
[3,"2009-06-03"]
[4,"2009-06-04"]
[5,"2009-06-05"]
[6,"2009-06-06"]
[7,"2009-06-07"]
[1,"2009-06-08"]
[2,"2009-06-09"]
[3,"2009-06-10"]
[4,"2009-06-11"]
[5,"2009-06-12",null," ",null,null,null," "]
[6,"2009-06-13"]
[7,"2009-06-14"]
[1,"2009-06-15"]
[2,"2009-06-16"]
[3,"2009-06-17"]
[4,"2009-06-18"]
[5,"2009-06-19"]
[6,"2009-06-20"]
[7,"2009-06-21"]
[1,"2009-06-22"]
[2,"2009-06-23"]
[3,"2009-06-24"]
[4,"2009-06-25"]
[5,"2009-06-26"]
[6,"2009-06-27"]
[7,"2009-06-28"]
[1,"2009-06-29"," "," "," "]
[2,"2009-06-30",null,null," ",null,null,null," "]
[3,"2009-07-01"]
[]
[]
["Calculateur de période par module"]
["Modules",null," ",null,null,null,null,null,null,null," "]
[null,null,"à prog.",null,"entrées",null,null,null,"à faire",null,"à prog.",null,"entrées",null,null,null,"à faire"]
["module 1",null,{"$f":"IF(E379=(I379),\"ok\",($A379))","v":"ok"},null,{"$f":"SUMIF(C$8:C$373,1,E$8:E$373)+SUMIF(G$8:G$373,1,I$8:I$373)","v":0},null,null,null,0,null,{"$f":"IF(M379=(Q379),\"ok\",($A379))","v":"ok"},null,{"$f":"SUMIF(K$8:K$373,1,M$8:M$373)+SUMIF(O$8:O$373,1,Q$8:Q$373)","v":0},null,null,null,0]
["module 2",null,"ok",null,{"$f":"SUMIF(C$8:C$373,2,E$8:E$373)+SUMIF(G$8:G$373,2,I$8:I$373)","v":0},null,null,null,0,null,"ok",null,{"$f":"SUMIF(K$8:K$373,2,M$8:M$373)+SUMIF(O$8:O$373,2,Q$8:Q$373)","v":0},null,null,null,0]
["module 3",null,"ok",null,{"$f":"SUMIF(C$8:C$373,3,E$8:E$373)+SUMIF(G$8:G$373,3,I$8:I$373)","v":0},null,null,null,0,null,"ok",null,{"$f":"SUMIF(K$8:K$373,3,M$8:M$373)+SUMIF(O$8:O$373,3,Q$8:Q$373)","v":0},null,null,null,0]
["module 4",null,"ok",null,{"$f":"SUMIF(C$8:C$373,4,E$8:E$373)+SUMIF(G$8:G$373,4,I$8:I$373)","v":0},null,null,null,0,null,"ok",null,{"$f":"SUMIF(K$8:K$373,4,M$8:M$373)+SUMIF(O$8:O$373,4,Q$8:Q$373)","v":0},null,null,null,0]
["module 5",null,"ok",null,{"$f":"SUMIF(C$8:C$373,5,E$8:E$373)+SUMIF(G$8:G$373,5,I$8:I$373)","v":0},null,null,null,0,null,"ok",null,{"$f":"SUMIF(K$8:K$373,5,M$8:M$373)+SUMIF(O$8:O$373,5,Q$8:Q$373)","v":0},null,null,null,0]
["module 6",null,"ok",null,{"$f":"SUMIF(C$8:C$373,6,E$8:E$373)+SUMIF(G$8:G$373,6,I$8:I$373)","v":0},null,null,null,0,null,"ok",null,{"$f":"SUMIF(K$8:K$373,6,M$8:M$373)+SUMIF(O$8:O$373,6,Q$8:Q$373)","v":0},null,null,null,0]
["module 7",null,"ok",null,{"$f":"SUMIF(C$8:C$373,7,E$8:E$373)+SUMIF(G$8:G$373,7,I$8:I$373)","v":0},null,null,null,0,null,"ok",null,{"$f":"SUMIF(K$8:K$373,7,M$8:M$373)+SUMIF(O$8:O$373,7,Q$8:Q$373)","v":0},null,null,null,0]
["module 8",null,"ok",null,{"$f":"SUMIF(C$8:C$373,8,E$8:E$373)+SUMIF(G$8:G$373,8,I$8:I$373)","v":0},null,null,null,0,null,"ok",null,{"$f":"SUMIF(K$8:K$373,8,M$8:M$373)+SUMIF(O$8:O$373,8,Q$8:Q$373)","v":0},null,null,null,0]
["module 9",null,"ok",null,{"$f":"SUMIF(C$8:C$373,9,E$8:E$373)+SUMIF(G$8:G$373,9,I$8:I$373)","v":0},null,null,null,0,null,"ok",null,{"$f":"SUMIF(K$8:K$373,9,M$8:M$373)+SUMIF(O$8:O$373,9,Q$8:Q$373)","v":0},null,null,null,0]
["module 10",null,"ok",null,{"$f":"SUMIF(C$8:C$373,10,E$8:E$373)+SUMIF(G$8:G$373,10,I$8:I$373)","v":0},null,null,null,0,null,"ok",null,{"$f":"SUMIF(K$8:K$373,10,M$8:M$373)+SUMIF(O$8:O$373,10,Q$8:Q$373)","v":0},null,null,null,0]
["module 11",null,"ok",null,{"$f":"SUMIF(C$8:C$373,11,E$8:E$373)+SUMIF(G$8:G$373,11,I$8:I$373)","v":0},null,null,null,0,null,"ok",null,{"$f":"SUMIF(K$8:K$373,11,M$8:M$373)+SUMIF(O$8:O$373,11,Q$8:Q$373)","v":0},null,null,null,0]
["module 12",null,"ok",null,{"$f":"SUMIF(C$8:C$373,12,E$8:E$373)+SUMIF(G$8:G$373,12,I$8:I$373)","v":0},null,null,null,0,null,"ok",null,{"$f":"SUMIF(K$8:K$373,12,M$8:M$373)+SUMIF(O$8:O$373,12,Q$8:Q$373)","v":0},null,null,null,0]
["module 13",null,"ok",null,{"$f":"SUMIF(C$8:C$373,13,E$8:E$373)+SUMIF(G$8:G$373,13,I$8:I$373)","v":0},null,null,null,0,null,"ok",null,{"$f":"SUMIF(K$8:K$373,13,M$8:M$373)+SUMIF(O$8:O$373,13,Q$8:Q$373)","v":0},null,null,null,0]
["module 14",null,"ok",null,{"$f":"SUMIF(C$8:C$373,14,E$8:E$373)+SUMIF(G$8:G$373,14,I$8:I$373)","v":0},null,null,null,0,null,"ok",null,{"$f":"SUMIF(K$8:K$373,14,M$8:M$373)+SUMIF(O$8:O$373,14,Q$8:Q$373)","v":0},null,null,null,0]
["module 15",null,"ok",null,{"$f":"SUMIF(C$8:C$373,15,E$8:E$373)+SUMIF(G$8:G$373,15,I$8:I$373)","v":0},null,null,null,0,null,"ok",null,{"$f":"SUMIF(K$8:K$373,15,M$8:M$373)+SUMIF(O$8:O$373,15,Q$8:Q$373)","v":0},null,null,null,0]
["module 16",null,"ok",null,{"$f":"SUMIF(C$8:C$373,16,E$8:E$373)+SUMIF(G$8:G$373,16,I$8:I$373)","v":0},null,null,null,0,null,"ok",null,{"$f":"SUMIF(K$8:K$373,16,M$8:M$373)+SUMIF(O$8:O$373,16,Q$8:Q$373)","v":0},null,null,null,0]
["module 17",null,"ok",null,{"$f":"SUMIF(C$8:C$373,17,E$8:E$373)+SUMIF(G$8:G$373,17,I$8:I$373)","v":0},null,null,null,0,null,"ok",null,{"$f":"SUMIF(K$8:K$373,17,M$8:M$373)+SUMIF(O$8:O$373,17,Q$8:Q$373)","v":0},null,null,null,0]
["module 18",null,"ok",null,{"$f":"SUMIF(C$8:C$373,18,E$8:E$373)+SUMIF(G$8:G$373,18,I$8:I$373)","v":0},null,null,null,0,null,"ok",null,{"$f":"SUMIF(K$8:K$373,18,M$8:M$373)+SUMIF(O$8:O$373,18,Q$8:Q$373)","v":0},null,null,null,0]
["module 19",null,"ok",null,{"$f":"SUMIF(C$8:C$373,19,E$8:E$373)+SUMIF(G$8:G$373,19,I$8:I$373)","v":0},null,null,null,0,null,"ok",null,{"$f":"SUMIF(K$8:K$373,19,M$8:M$373)+SUMIF(O$8:O$373,19,Q$8:Q$373)","v":0},null,null,null,0]
["module 20",null,"ok",null,{"$f":"SUMIF(C$8:C$373,20,E$8:E$373)+SUMIF(G$8:G$373,20,I$8:I$373)","v":0},null,null,null,0,null,"ok",null,{"$f":"SUMIF(K$8:K$373,20,M$8:M$373)+SUMIF(O$8:O$373,20,Q$8:Q$373)","v":0},null,null,null,0]
["module 21",null,"ok",null,{"$f":"SUMIF(C$8:C$373,21,E$8:E$373)+SUMIF(G$8:G$373,21,I$8:I$373)","v":0},null,null,null,0,null,"ok",null,{"$f":"SUMIF(K$8:K$373,21,M$8:M$373)+SUMIF(O$8:O$373,21,Q$8:Q$373)","v":0},null,null,null,0]
["module 22",null,"ok",null,{"$f":"SUMIF(C$8:C$373,22,E$8:E$373)+SUMIF(G$8:G$373,22,I$8:I$373)","v":0},null,null,null,0,null,"ok",null,{"$f":"SUMIF(K$8:K$373,22,M$8:M$373)+SUMIF(O$8:O$373,22,Q$8:Q$373)","v":0},null,null,null,0]
["module 23",null,"ok",null,{"$f":"SUMIF(C$8:C$373,23,E$8:E$373)+SUMIF(G$8:G$373,23,I$8:I$373)","v":0},null,null,null,0,null,"ok",null,{"$f":"SUMIF(K$8:K$373,23,M$8:M$373)+SUMIF(O$8:O$373,23,Q$8:Q$373)","v":0},null,null,null,0]
["module 24",null,"ok",null,{"$f":"SUMIF(C$8:C$373,24,E$8:E$373)+SUMIF(G$8:G$373,24,I$8:I$373)","v":0},null,null,null,0,null,"ok",null,{"$f":"SUMIF(K$8:K$373,24,M$8:M$373)+SUMIF(O$8:O$373,24,Q$8:Q$373)","v":0},null,null,null,0]
["module 25",null,"ok",null,{"$f":"SUMIF(C$8:C$373,25,E$8:E$373)+SUMIF(G$8:G$373,25,I$8:I$373)","v":0},null,null,null,0,null,"ok",null,{"$f":"SUMIF(K$8:K$373,25,M$8:M$373)+SUMIF(O$8:O$373,25,Q$8:Q$373)","v":0},null,null,null,0]
["module 26",null,"ok",null,{"$f":"SUMIF(C$8:C$373,26,E$8:E$373)+SUMIF(G$8:G$373,26,I$8:I$373)","v":0},null,null,null,0,null,"ok",null,{"$f":"SUMIF(K$8:K$373,26,M$8:M$373)+SUMIF(O$8:O$373,26,Q$8:Q$373)","v":0},null,null,null,0]
["module 27",null,"ok",null,{"$f":"SUMIF(C$8:C$373,27,E$8:E$373)+SUMIF(G$8:G$373,27,I$8:I$373)","v":0},null,null,null,0,null,"ok",null,{"$f":"SUMIF(K$8:K$373,27,M$8:M$373)+SUMIF(O$8:O$373,27,Q$8:Q$373)","v":0},null,null,null,0]
["module 28",null,"ok",null,{"$f":"SUMIF(C$8:C$373,28,E$8:E$373)+SUMIF(G$8:G$373,28,I$8:I$373)","v":0},null,null,null,0,null,"ok",null,{"$f":"SUMIF(K$8:K$373,28,M$8:M$373)+SUMIF(O$8:O$373,28,Q$8:Q$373)","v":0},null,null,null,0]
["module 29",null,"ok",null,{"$f":"SUMIF(C$8:C$373,29,E$8:E$373)+SUMIF(G$8:G$373,29,I$8:I$373)","v":0},null,null,null,0,null,"ok",null,{"$f":"SUMIF(K$8:K$373,29,M$8:M$373)+SUMIF(O$8:O$373,29,Q$8:Q$373)","v":0},null,null,null,0]
["module 30",null,"ok",null,{"$f":"SUMIF(C$8:C$373,30,E$8:E$373)+SUMIF(G$8:G$373,30,I$8:I$373)","v":0},null,null,null,0,null,"ok",null,{"$f":"SUMIF(K$8:K$373,30,M$8:M$373)+SUMIF(O$8:O$373,30,Q$8:Q$373)","v":0},null,null,null,0]
["module 31",null,"ok",null,{"$f":"SUMIF(C$8:C$373,31,E$8:E$373)+SUMIF(G$8:G$373,31,I$8:I$373)","v":0},null,null,null,0,null,"ok",null,{"$f":"SUMIF(K$8:K$373,31,M$8:M$373)+SUMIF(O$8:O$373,31,Q$8:Q$373)","v":0},null,null,null,0]
["module 32",null,"ok",null,{"$f":"SUMIF(C$8:C$373,32,E$8:E$373)+SUMIF(G$8:G$373,32,I$8:I$373)","v":0},null,null,null,0,null,"ok",null,{"$f":"SUMIF(K$8:K$373,32,M$8:M$373)+SUMIF(O$8:O$373,32,Q$8:Q$373)","v":0},null,null,null,0]
["module 33",null,"ok",null,{"$f":"SUMIF(C$8:C$373,33,E$8:E$373)+SUMIF(G$8:G$373,33,I$8:I$373)","v":0},null,null,null,0,null,"ok",null,{"$f":"SUMIF(K$8:K$373,33,M$8:M$373)+SUMIF(O$8:O$373,33,Q$8:Q$373)","v":0},null,null,null,0]
["module 34",null,"ok",null,{"$f":"SUMIF(C$8:C$373,34,E$8:E$373)+SUMIF(G$8:G$373,34,I$8:I$373)","v":0},null,null,null,0,null,"ok",null,{"$f":"SUMIF(K$8:K$373,34,M$8:M$373)+SUMIF(O$8:O$373,34,Q$8:Q$373)","v":0},null,null,null,0]
["module 35",null,"TE",null,{"$f":"SUMIF(C$8:C$373,35,E$8:E$373)+SUMIF(G$8:G$373,35,I$8:I$373)","v":0},null,null,null,85,null,"TE",null,{"$f":"SUMIF(K$8:K$373,35,M$8:M$373)+SUMIF(O$8:O$373,35,Q$8:Q$373)","v":0},null,null,null,85,null,"=","TACHES PRÉSENCE ÉLÈVE (PERMANENT)"]
["module 36",null,"TA",null,{"$f":"SUMIF(C$8:C$373,36,E$8:E$373)+SUMIF(G$8:G$373,36,I$8:I$373)","v":0},null,null,null,360,null,"TA",null,{"$f":"SUMIF(K$8:K$373,36,M$8:M$373)+SUMIF(O$8:O$373,36,Q$8:Q$373)","v":0},null,null,null,360,null,"=","TACHES DE DISPO"]
["module 37",null,"TNP",null,{"$f":"SUMIF(C$8:C$373,37,E$8:E$373)+SUMIF(G$8:G$373,37,I$8:I$373)","v":0},null,null,null,200,null,"TNP",null,{"$f":"SUMIF(K$8:K$373,37,M$8:M$373)+SUMIF(O$8:O$373,37,Q$8:Q$373)","v":0},null,null,null,200,null,"=","TACHES DE NATURE PERSONNEL"]
["module 90",null,"ok",null,{"$f":"SUMIF(C$8:C$373,90,E$8:E$373)+SUMIF(G$8:G$373,90,I$8:I$373)","v":0},null,null,null,0,null,"ok",null,{"$f":"SUMIF(K$8:K$373,38,M$8:M$373)+SUMIF(O$8:O$373,38,Q$8:Q$373)","v":0},null,null,null,0]
["module 39",null,"ok",null,{"$f":"SUMIF(C$8:C$373,39,E$8:E$373)+SUMIF(G$8:G$373,39,I$8:I$373)","v":0},null,null,null,0,null,"ok",null,{"$f":"SUMIF(K$8:K$373,39,M$8:M$373)+SUMIF(O$8:O$373,39,Q$8:Q$373)","v":0},null,null,null,0]
["module 89",null,"ok",null,{"$f":"SUMIF(C$8:C$373,40,E$8:E$373)+SUMIF(G$8:G$373,40,I$8:I$373)","v":0},null,null,null,0,null,"ok",null,{"$f":"SUMIF(K$8:K$373,40,M$8:M$373)+SUMIF(O$8:O$373,40,Q$8:Q$373)","v":0},null,null,null,0]
["module 90",null,"ok",null,{"$f":"SUMIF(C$8:C$373,90,E$8:E$373)+SUMIF(G$8:G$373,90,I$8:I$373)","v":0},null,null,null,0,null,"ok",null,{"$f":"SUMIF(K$8:K$373,90,M$8:M$373)+SUMIF(O$8:O$373,90,Q$8:Q$373)","v":0},null,null,null,0,null,"=","RECUPERATION"]
["module 91",null,"ok",null,{"$f":"SUMIF(C$8:C$373,91,E$8:E$373)+SUMIF(G$8:G$373,91,I$8:I$373)","v":0},null,null,null,0,null,"ok",null,{"$f":"SUMIF(K$8:K$373,91,M$8:M$373)+SUMIF(O$8:O$373,91,Q$8:Q$373)","v":0},null,null,null,0]
["module 92",null,"ok",null,{"$f":"SUMIF(C$8:C$373,92,E$8:E$373)+SUMIF(G$8:G$373,92,I$8:I$373)","v":0},null,null,null,0,null,"ok",null,{"$f":"SUMIF(K$8:K$373,92,M$8:M$373)+SUMIF(O$8:O$373,92,Q$8:Q$373)","v":0},null,null,null,0]
["module 93",null,"ok",null,{"$f":"SUMIF(C$8:C$373,93,E$8:E$373)+SUMIF(G$8:G$373,93,I$8:I$373)","v":0},null,null,null,0,null,"ok",null,{"$f":"SUMIF(K$8:K$373,93,M$8:M$373)+SUMIF(O$8:O$373,93,Q$8:Q$373)","v":0},null,null,null,0]
["module 94",null,"ok",null,{"$f":"SUMIF(C$8:C$373,94,E$8:E$373)+SUMIF(G$8:G$373,94,I$8:I$373)","v":0},null,null,null,0,null,"ok",null,{"$f":"SUMIF(K$8:K$373,94,M$8:M$373)+SUMIF(O$8:O$373,94,Q$8:Q$373)","v":0},null,null,null,0]
["module 95",null,"ok",null,{"$f":"SUMIF(C$8:C$373,95,E$8:E$373)+SUMIF(G$8:G$373,95,I$8:I$373)","v":0},null,null,null,0,null,"ok",null,{"$f":"SUMIF(K$8:K$373,95,M$8:M$373)+SUMIF(O$8:O$373,95,Q$8:Q$373)","v":0},null,null,null,0,null," "]
["module 96",null,"ok",null,{"$f":"SUMIF(C$8:C$373,96,E$8:E$373)+SUMIF(G$8:G$373,96,I$8:I$373)","v":0},null,null,null,0,null,"ok",null,{"$f":"SUMIF(K$8:K$373,96,M$8:M$373)+SUMIF(O$8:O$373,96,Q$8:Q$373)","v":0},null,null,null,0]
["module 97",null,"ok",null,{"$f":"SUMIF(C$8:C$373,97,E$8:E$373)+SUMIF(G$8:G$373,97,I$8:I$373)","v":0},null,null,null,0,null,"ok",null,{"$f":"SUMIF(K$8:K$373,97,M$8:M$373)+SUMIF(O$8:O$373,97,Q$8:Q$373)","v":0},null,null,null,0]
["module 98",null,"ok",null,{"$f":"SUMIF(C$8:C$373,98,E$8:E$373)+SUMIF(G$8:G$373,98,I$8:I$373)","v":0},null,null,null,0,null,"ok",null,{"$f":"SUMIF(K$8:K$373,98,M$8:M$373)+SUMIF(O$8:O$373,98,Q$8:Q$373)","v":0},null,null,null,0]
["module 99",null,"ok",null,{"$f":"SUMIF(C$8:C$373,99,E$8:E$373)+SUMIF(G$8:G$373,99,I$8:I$373)","v":0},null,null,null,0,null,"ok",null,{"$f":"SUMIF(K$8:K$373,99,M$8:M$373)+SUMIF(O$8:O$373,99,Q$8:Q$373)","v":0},null,null,null,0]
["Totaux",null,{"$f":"IF(E429=(I429),\"ok\",($A$429))","v":"ok"},null,{"$f":"SUM(E379:F410)","v":0},null,null,null,{"$f":"SUM(I379:J410)","v":0},null,{"$f":"IF(M429=(Q429),\"ok\",($A$429))","v":"ok"},null,{"$f":"SUM(M379:N410)","v":0},null,null,null,{"$f":"SUM(Q379:R410)","v":0}]
[]
[]
["Calculateur de période / enseignants"]
["Enseignants",null,{"$f":"C4","v":" "}]
[null,null,{"$f":"\"Heures \"& RIGHT($A4,9)","v":"Heures 2012-2013"},null,null,null,{"$f":"\"Heures été \"& RIGHT($A4,9)","v":"Heures été 2012-2013"},null,null,null,{"$f":"\"Heures \"& RIGHT($A4,9)","v":"Heures 2012-2013"},null,null,null,{"$f":"\"Heures été \"& RIGHT($A4,9)","v":"Heures été 2012-2013"}]
["rr",null,{"$f":"SUMIF(D$65:D$374,A435,E$65:E$374)+SUMIF(H$65:H$374,A435,I$65:I$374)","v":0},null,null,null,{"$f":"SUMIF(D$8:D$64,A435,E$8:E$64)+SUMIF(H$8:H$64,A435,I$8:I$64)","v":0},null,null,null,{"$f":"SUMIF(L$65:L$374,A435,M$65:M$374)+SUMIF(P$65:P$374,A435,Q$65:Q$374)","v":0},null,null,null,{"$f":"SUMIF(L$8:L$64,#REF!,M$8:M$64)+SUMIF(P$8:P$64,#REF!,Q$8:Q$64)","v":0}]
[]
[]
["Total des hrs"]
[null,{"$f":"SUM(W441,S441,O441,K441,G441,C441)","v":0},"ENSEIGNEMENT",null,null,null,"PERMANENT",null,null,null,"DISPO",null,null,null,"NATURE PERSO",null,null,null,"TUTORAT+RECUP",null,null,null,"AUTRE"]
[null,null,"Heures 2012-2013",null,null,null,"TE = 85 HRS",null,null,null,"TA = 360 HRS",null,null,null,"TNP = 200 HRS"]
[null,null,{"$f":"SUM(C435+K435)","v":0},null,null,null,{"$f":"SUM(E413+M413)","v":0},null,null,null,{"$f":"SUM(E414+M414)","v":0},null,null,null,{"$f":"SUM(E415+M415)","v":0},null,null,null,0,null,null,null,0]

{"sheet":"Instructions","index":35,"n_rows":58,"n_cols":11,"rows_kept":58,"cut":false,"hidden":false,"merged":[[45,7,45,9]]}
[]
["Étapes de préparation"]
[]
[]
[null,"Lorsque le fichier de base vous est remis, il inclut déjà l'essentiel de l'information. "]
[null,"Vous devez malgrer tout faire certaines saisi, des vérifiactions  et certains réglages."]
[]
[]
[null,1,"Étape 1","Enregistrer le nouveau canevas avec un nom significatif    ex. canevas MEA  2008-2009"]
[]
[null,null,"Étape 2","Mise à jour des données calendrier     : cldrdata"]
[null,null,null,null,"Les flottantes devront être ajouer a la main apres la génération du canevas de départ"]
[null,null,null,null," "]
[]
[null,null,"Étape  3","Mise à jour des données groupes        : grprgdata"]
[null,null,null,null,"Les colonnes date de début et date de fin ne sont pas obligatoire"]
[null,null,null,null,"Donner des no différent a chacun des groupe"]
[]
[null,3,"Étape 4","Initialisation du canevas d'horaire (ne pas répéter après la création initiale)",null,null,null,null,null,null,"Commande  =   ( CTL + i )"]
[]
[null,null,"Étape 5","Saisie des enseignants : "]
[]
[null,null,null,"Les enseigants doivent êtres identifier dans l'horaire de deux façon, par leur nom complet dans les cellulles 4B457 à B472"]
[null,null,null,"et par des initiales \"unique\" composé de deux lettres minuscules qui les identifient dans les cellulles  A457 à B472."]
[]
[null,null,"Étape 6","Masquer les colonnes groupe non utilisés."]
[]
[]
[]
[]
["Étapes de construction "]
[]
[]
[null,null,"Étape 1","Déterminer pour chaques groupes, les modules qui sont programmé dans l'année précédente et suivante."]
[]
[null,null,"Étape 2 ","Identifier pour chaque modules, dans chaques groupes, les enseignants  qui sont sélectionnés (utilisé leurs initiales deux lettres)"]
[]
[]
[null,null,"CTL+ C :","Application de la couleur, identification de l'enseignant et calcules des heures de la journée"]
[]
[]
[]
[]
[null,null,"FONCTIONS"]
[]
[null,null,"Générateur de canevas d'horaire",null,null,null,null,"Reserver aux TOS"]
[]
[null,1,"Calculateur d'heures par module et totalisateur"]
[]
[null,2,"Calculateur d'heures par enseignant / groupe"]
[]
[null,3,"Générateur de tâche des enseignants"]
[]
[null,4,"Vérificateur de doublons"]
[]
[null,null,"Fiches groupes / programmes"]
[]
[null,null,"Fiches spéciales"]

{"sheet":"Julien, Rondeau","index":36,"n_rows":441,"n_cols":23,"rows_kept":441,"cut":false,"hidden":false,"merged":[[367,2,367,9],[367,10,367,17],[368,2,368,9],[368,10,368,17],[371,2,371,9],[371,10,371,17],[364,2,364,9],[364,10,364,17],[365,2,365,9],[365,10,365,17],[366,2,366,9],[366,10,366,17],[359,2,359,9],[359,10,359,17],[360,2,360,9],[360,10,360,17],[361,2,361,9],[361,10,361,17],[354,2,354,9],[354,10,354,17],[357,2,357,9],[357,10,357,17],[358,2,358,9],[358,10,358,17],[351,2,351,9],[351,10,351,17],[352,2,352,9],[352,10,352,17],[353,2,353,9],[353,10,353,17],[346,2,346,9],[346,10,346,17],[347,2,347,9],[347,10,347,17],[350,2,350,9],[350,10,350,17],[343,2,343,9],[343,10,343,17],[344,2,344,9],[344,10,344,17],[345,2,345,9],[345,10,345,17],[338,2,338,9],[338,10,338,17],[339,2,339,9],[339,10,339,17],[340,2,340,9],[340,10,340,17],[333,2,333,9],[333,10,333,17],[336,2,336,9],[336,10,336,17],[337,2,337,9],[337,10,337,17],[330,2,330,9],[330,10,330,17],[331,2,331,9],[331,10,331,17],[332,2,332,9],[332,10,332,17],[325,2,325,9],[325,10,325,17],[326,2,326,9],[326,10,326,17],[329,2,329,9],[329,10,329,17],[322,2,322,9],[322,10,322,17],[323,2,323,9],[323,10,323,17],[324,2,324,9],[324,10,324,17],[280,2,280,9],[280,10,280,17],[298,2,298,9],[298,10,298,17],[317,2,317,9],[317,10,317,17],[235,2,235,9],[235,10,235,17],[238,2,238,9],[238,10,238,17],[263,2,263,9],[263,10,263,17],[172,2,172,9],[172,10,172,17],[198,2,198,9],[198,10,198,17],[214,2,214,9],[214,10,214,17],[134,10,134,17],[143,2,143,9],[143,10,143,17],[144,2,144,9],[144,10,144,17],[147,2,147,9],[147,10,147,17],[140,2,140,9],[140,10,140,17],[141,2,141,9],[141,10,141,17],[142,2,142,9],[142,10,142,17],[418,19,418,27],[72,2,72,9],[72,10,72,17],[87,2,87,9],[87,10,87,17],[88,2,88,9],[88,10,88,17],[14,2,14,9],[14,10,14,17],[21,2,21,9],[21,10,21,17],[63,2,63,9],[63,10,63,17],[135,2,135,9],[135,10,135,17],[136,2,136,9],[136,10,136,17],[137,2,137,9],[137,10,137,17],[101,2,101,9],[101,10,101,17],[133,2,133,9],[133,10,133,17],[134,2,134,9],[428,2,428,3],[428,4,428,7],[428,8,428,9],[428,10,428,11],[428,12,428,15],[428,16,428,17],[426,16,426,17],[424,16,424,17],[422,16,422,17],[440,22,440,25],[438,18,438,21],[438,22,438,25],[439,2,439,5],[439,6,439,9],[439,10,439,13],[439,14,439,17],[439,18,439,21],[439,22,439,25],[440,10,440,13],[440,14,440,17],[440,18,440,21],[438,1,440,1],[438,6,438,9],[438,10,438,13],[438,14,438,17],[440,2,440,5],[440,6,440,9],[432,0,433,1],[432,2,432,17],[433,2,433,5],[433,6,433,9],[433,10,433,13],[433,14,433,17],[434,2,434,5],[434,6,434,9],[434,10,434,13],[434,14,434,17],[427,0,427,1],[427,2,427,3],[427,4,427,7],[427,8,427,9],[427,10,427,11],[427,12,427,15],[427,16,427,17],[426,0,426,1],[426,2,426,3],[426,4,426,7],[426,8,426,9],[426,10,426,11],[426,12,426,15],[425,0,425,1],[425,2,425,3],[425,4,425,7],[425,8,425,9],[425,10,425,11],[425,12,425,15],[425,16,425,17],[424,0,424,1],[424,2,424,3],[424,4,424,7],[424,8,424,9],[424,10,424,11],[424,12,424,15],[423,0,423,1],[423,2,423,3],[423,4,423,7],[423,8,423,9],[423,10,423,11],[423,12,423,15],[423,16,423,17],[422,0,422,1],[422,2,422,3],[422,4,422,7],[422,8,422,9],[422,10,422,11],[422,12,422,15],[421,0,421,1],[421,2,421,3],[421,4,421,7],[421,8,421,9],[421,10,421,11],[421,12,421,15],[421,16,421,17],[420,0,420,1],[420,2,420,3],[420,4,420,7],[420,8,420,9],[420,10,420,11],[420,12,420,15],[420,16,420,17],[419,0,419,1],[419,2,419,3],[419,4,419,7],[419,8,419,9],[419,10,419,11],[419,12,419,15],[419,16,419,17],[418,0,418,1],[418,2,418,3],[418,4,418,7],[418,8,418,9],[418,10,418,11],[418,12,418,15],[416,16,416,17],[417,16,417,17],[418,16,418,17],[417,0,417,1],[417,2,417,3],[417,4,417,7],[417,8,417,9],[417,10,417,11],[417,12,417,15],[416,0,416,1],[416,2,416,3],[416,4,416,7],[416,8,416,9],[416,10,416,11],[416,12,416,15],[414,16,414,17],[414,19,414,27],[415,0,415,1],[415,2,415,3],[415,4,415,7],[415,8,415,9],[415,10,415,11],[415,12,415,15],[415,16,415,17],[414,0,414,1],[414,2,414,3],[414,4,414,7],[414,8,414,9],[414,10,414,11],[414,12,414,15],[412,16,412,17],[412,2,412,3],[412,4,412,7],[412,8,412,9],[412,10,412,11],[412,19,412,29],[413,0,413,1],[413,2,413,3],[413,4,413,7],[413,8,413,9],[413,10,413,11],[413,12,413,15],[413,16,413,17],[413,19,413,27],[412,0,412,1],[412,12,412,15],[410,16,410,17],[411,0,411,1],[411,2,411,3],[411,4,411,7],[411,8,411,9],[411,10,411,11],[411,12,411,15],[411,16,411,17],[410,0,410,1],[410,2,410,3],[410,4,410,7],[410,8,410,9],[410,10,410,11],[410,12,410,15],[408,16,408,17],[409,16,409,17],[409,0,409,1],[409,2,409,3],[409,4,409,7],[409,8,409,9],[409,10,409,11],[409,12,409,15],[408,0,408,1],[408,2,408,3],[408,4,408,7],[408,8,408,9],[408,10,408,11],[408,12,408,15],[406,16,406,17],[407,0,407,1],[407,2,407,3],[407,4,407,7],[407,8,407,9],[407,10,407,11],[407,12,407,15],[407,16,407,17],[406,0,406,1],[406,2,406,3],[406,4,406,7],[406,8,406,9],[406,10,406,11],[406,12,406,15],[404,16,404,17],[405,0,405,1],[405,2,405,3],[405,4,405,7],[405,8,405,9],[405,10,405,11],[405,12,405,15],[405,16,405,17],[404,0,404,1],[404,2,404,3],[404,4,404,7],[404,8,404,9],[404,10,404,11],[404,12,404,15],[402,16,402,17],[403,0,403,1],[403,2,403,3],[403,4,403,7],[403,8,403,9],[403,10,403,11],[403,12,403,15],[403,16,403,17],[402,0,402,1],[402,2,402,3],[402,4,402,7],[402,8,402,9],[402,10,402,11],[402,12,402,15],[400,16,400,17],[401,0,401,1],[401,2,401,3],[401,4,401,7],[401,8,401,9],[401,10,401,11],[401,12,401,15],[401,16,401,17],[400,0,400,1],[400,2,400,3],[400,4,400,7],[400,8,400,9],[400,10,400,11],[400,12,400,15],[398,16,398,17],[399,0,399,1],[399,2,399,3],[399,4,399,7],[399,8,399,9],[399,10,399,11],[399,12,399,15],[399,16,399,17],[398,0,398,1],[398,2,398,3],[398,4,398,7],[398,8,398,9],[398,10,398,11],[398,12,398,15],[396,16,396,17],[397,0,397,1],[397,2,397,3],[397,4,397,7],[397,8,397,9],[397,10,397,11],[397,12,397,15],[397,16,397,17],[396,0,396,1],[396,2,396,3],[396,4,396,7],[396,8,396,9],[396,10,396,11],[396,12,396,15],[394,16,394,17],[395,0,395,1],[395,2,395,3],[395,4,395,7],[395,8,395,9],[395,10,395,11],[395,12,395,15],[395,16,395,17],[394,0,394,1],[394,2,394,3],[394,4,394,7],[394,8,394,9],[394,10,394,11],[394,12,394,15],[392,16,392,17],[393,0,393,1],[393,2,393,3],[393,4,393,7],[393,8,393,9],[393,10,393,11],[393,12,393,15],[393,16,393,17],[392,0,392,1],[392,2,392,3],[392,4,392,7],[392,8,392,9],[392,10,392,11],[392,12,392,15],[390,16,390,17],[391,0,391,1],[391,2,391,3],[391,4,391,7],[391,8,391,9],[391,10,391,11],[391,12,391,15],[391,16,391,17],[390,0,390,1],[390,2,390,3],[390,4,390,7],[390,8,390,9],[390,10,390,11],[390,12,390,15],[388,16,388,17],[389,0,389,1],[389,2,389,3],[389,4,389,7],[389,8,389,9],[389,10,389,11],[389,12,389,15],[389,16,389,17],[388,0,388,1],[388,2,388,3],[388,4,388,7],[388,8,388,9],[388,10,388,11],[388,12,388,15],[386,16,386,17],[387,0,387,1],[387,2,387,3],[387,4,387,7],[387,8,387,9],[387,10,387,11],[387,12,387,15],[387,16,387,17],[386,0,386,1],[386,2,386,3],[386,4,386,7],[386,8,386,9],[386,10,386,11],[386,12,386,15],[384,16,384,17],[385,0,385,1],[385,2,385,3],[385,4,385,7],[385,8,385,9],[385,10,385,11],[385,12,385,15],[385,16,385,17],[384,0,384,1],[384,2,384,3],[384,4,384,7],[384,8,384,9],[384,10,384,11],[384,12,384,15],[382,16,382,17],[383,0,383,1],[383,2,383,3],[383,4,383,7],[383,8,383,9],[383,10,383,11],[383,12,383,15],[383,16,383,17],[382,0,382,1],[382,2,382,3],[382,4,382,7],[382,8,382,9],[382,10,382,11],[382,12,382,15],[379,0,379,1],[379,2,379,3],[379,4,379,7],[379,8,379,9],[379,10,379,11],[379,12,379,15],[379,16,379,17],[380,16,380,17],[381,0,381,1],[381,2,381,3],[381,4,381,7],[381,8,381,9],[381,10,381,11],[381,12,381,15],[381,16,381,17],[380,0,380,1],[380,2,380,3],[380,4,380,7],[380,8,380,9],[380,10,380,11],[380,12,380,15],[371,19,371,29],[372,19,372,29],[376,0,377,1],[377,4,377,7],[377,12,377,15],[378,0,378,1],[378,2,378,3],[378,4,378,7],[378,8,378,9],[378,10,378,11],[378,12,378,15],[378,16,378,17],[372,2,372,9],[372,10,372,17],[373,2,373,9],[373,10,373,17],[365,19,365,29],[366,19,366,29],[367,19,367,29],[368,19,368,29],[369,19,369,29],[370,19,370,29],[359,19,359,29],[360,19,360,29],[361,19,361,29],[362,19,362,29],[363,19,363,29],[364,19,364,29],[353,19,353,29],[354,19,354,29],[355,19,355,29],[356,19,356,29],[357,19,357,29],[358,19,358,29],[347,19,347,29],[348,19,348,29],[349,19,349,29],[350,19,350,29],[351,19,351,29],[352,19,352,29],[341,19,341,29],[342,19,342,29],[343,19,343,29],[344,19,344,29],[345,19,345,29],[346,19,346,29],[335,19,335,29],[336,19,336,29],[337,19,337,29],[338,19,338,29],[339,19,339,29],[340,19,340,29],[329,19,329,29],[330,19,330,29],[331,19,331,29],[332,19,332,29],[333,19,333,29],[334,19,334,29],[323,19,323,29],[324,19,324,29],[325,19,325,29],[326,19,326,29],[327,19,327,29],[328,19,328,29],[317,19,317,29],[318,19,318,29],[319,19,319,29],[320,19,320,29],[321,19,321,29],[322,19,322,29],[311,19,311,29],[312,19,312,29],[313,19,313,29],[314,19,314,29],[315,19,315,29],[316,19,316,29],[305,19,305,29],[306,19,306,29],[307,19,307,29],[308,19,308,29],[309,19,309,29],[310,19,310,29],[299,19,299,29],[300,19,300,29],[301,19,301,29],[302,19,302,29],[303,19,303,29],[304,19,304,29],[293,19,293,29],[294,19,294,29],[295,19,295,29],[296,19,296,29],[297,19,297,29],[298,19,298,29],[287,19,287,29],[288,19,288,29],[289,19,289,29],[290,19,290,29],[291,19,291,29],[292,19,292,29],[281,19,281,29],[282,19,282,29],[283,19,283,29],[284,19,284,29],[285,19,285,29],[286,19,286,29],[275,19,275,29],[276,19,276,29],[277,19,277,29],[278,19,278,29],[279,19,279,29],[280,19,280,29],[269,19,269,29],[270,19,270,29],[271,19,271,29],[272,19,272,29],[273,19,273,29],[274,19,274,29],[263,19,263,29],[264,19,264,29],[265,19,265,29],[266,19,266,29],[267,19,267,29],[268,19,268,29],[257,19,257,29],[258,19,258,29],[259,19,259,29],[260,19,260,29],[261,19,261,29],[262,19,262,29],[251,19,251,29],[252,19,252,29],[253,19,253,29],[254,19,254,29],[255,19,255,29],[256,19,256,29],[245,19,245,29],[246,19,246,29],[247,19,247,29],[248,19,248,29],[249,19,249,29],[250,19,250,29],[239,19,239,29],[240,19,240,29],[241,19,241,29],[242,19,242,29],[243,19,243,29],[244,19,244,29],[233,19,233,29],[234,19,234,29],[235,19,235,29],[236,19,236,29],[237,19,237,29],[238,19,238,29],[227,19,227,29],[228,19,228,29],[229,19,229,29],[230,19,230,29],[231,19,231,29],[232,19,232,29],[221,19,221,29],[222,19,222,29],[223,19,223,29],[224,19,224,29],[225,19,225,29],[226,19,226,29],[215,19,215,29],[216,19,216,29],[217,19,217,29],[218,19,218,29],[219,19,219,29],[220,19,220,29],[209,19,209,29],[210,19,210,29],[211,19,211,29],[212,19,212,29],[213,19,213,29],[214,19,214,29],[203,19,203,29],[204,19,204,29],[205,19,205,29],[206,19,206,29],[207,19,207,29],[208,19,208,29],[197,19,197,29],[198,19,198,29],[199,19,199,29],[200,19,200,29],[201,19,201,29],[202,19,202,29],[191,19,191,29],[192,19,192,29],[193,19,193,29],[194,19,194,29],[195,19,195,29],[196,19,196,29],[185,19,185,29],[186,19,186,29],[187,19,187,29],[188,19,188,29],[189,19,189,29],[190,19,190,29],[179,19,179,29],[180,19,180,29],[181,19,181,29],[182,19,182,29],[183,19,183,29],[184,19,184,29],[173,19,173,29],[174,19,174,29],[175,19,175,29],[176,19,176,29],[177,19,177,29],[178,19,178,29],[167,19,167,29],[168,19,168,29],[169,19,169,29],[170,19,170,29],[171,19,171,29],[172,19,172,29],[161,19,161,29],[162,19,162,29],[163,19,163,29],[164,19,164,29],[165,19,165,29],[166,19,166,29],[155,19,155,29],[156,19,156,29],[157,19,157,29],[158,19,158,29],[159,19,159,29],[160,19,160,29],[149,19,149,29],[150,19,150,29],[151,19,151,29],[152,19,152,29],[153,19,153,29],[154,19,154,29],[143,19,143,29],[144,19,144,29],[145,19,145,29],[146,19,146,29],[147,19,147,29],[148,19,148,29],[137,19,137,29],[138,19,138,29],[139,19,139,29],[140,19,140,29],[141,19,141,29],[142,19,142,29],[131,19,131,29],[132,19,132,29],[133,19,133,29],[134,19,134,29],[135,19,135,29],[136,19,136,29],[125,19,125,29],[126,19,126,29],[127,19,127,29],[128,19,128,29],[129,19,129,29],[130,19,130,29],[119,19,119,29],[120,19,120,29],[121,19,121,29],[122,19,122,29],[123,19,123,29],[124,19,124,29],[113,19,113,29],[114,19,114,29],[115,19,115,29],[116,19,116,29],[117,19,117,29],[118,19,118,29],[107,19,107,29],[108,19,108,29],[109,19,109,29],[110,19,110,29],[111,19,111,29],[112,19,112,29],[101,19,101,29],[102,19,102,29],[103,19,103,29],[104,19,104,29],[105,19,105,29],[106,19,106,29],[95,19,95,29],[96,19,96,29],[97,19,97,29],[98,19,98,29],[99,19,99,29],[100,19,100,29],[89,19,89,29],[90,19,90,29],[91,19,91,29],[92,19,92,29],[93,19,93,29],[94,19,94,29],[83,19,83,29],[84,19,84,29],[85,19,85,29],[86,19,86,29],[87,19,87,29],[88,19,88,29],[77,19,77,29],[78,19,78,29],[79,19,79,29],[80,19,80,29],[81,19,81,29],[82,19,82,29],[71,19,71,29],[72,19,72,29],[73,19,73,29],[74,19,74,29],[75,19,75,29],[76,19,76,29],[65,19,65,29],[66,19,66,29],[67,19,67,29],[68,19,68,29],[69,19,69,29],[70,19,70,29],[59,19,59,29],[60,19,60,29],[61,19,61,29],[62,19,62,29],[63,19,63,29],[64,19,64,29],[53,19,53,29],[54,19,54,29],[55,19,55,29],[56,19,56,29],[57,19,57,29],[58,19,58,29],[47,19,47,29],[48,19,48,29],[49,19,49,29],[50,19,50,29],[51,19,51,29],[52,19,52,29],[41,19,41,29],[42,19,42,29],[43,19,43,29],[44,19,44,29],[45,19,45,29],[46,19,46,29],[35,19,35,29],[36,19,36,29],[37,19,37,29],[38,19,38,29],[39,19,39,29],[40,19,40,29],[29,19,29,29],[30,19,30,29],[31,19,31,29],[32,19,32,29],[33,19,33,29],[34,19,34,29],[23,19,23,29],[24,19,24,29],[25,19,25,29],[26,19,26,29],[27,19,27,29],[28,19,28,29],[19,19,19,29],[20,19,20,29],[21,19,21,29],[22,19,22,29],[11,19,11,29],[12,19,12,29],[13,19,13,29],[14,19,14,29],[15,19,15,29],[16,19,16,29],[8,19,8,29],[9,19,9,29],[10,19,10,29],[7,2,7,9],[7,10,7,17],[8,2,8,9],[8,10,8,17],[17,19,17,29],[18,19,18,29],[9,2,9,9],[9,10,9,17],[10,2,10,9],[10,10,10,17],[11,2,11,9],[11,10,11,17],[3,0,3,1],[3,2,3,17],[3,19,3,29],[4,0,4,1],[4,2,4,9],[4,10,4,17],[5,2,5,9],[5,10,5,17],[7,19,7,29]]}
[]
["Horaire prof Mécanique de véhicules lourds routiers"]
[" "]
["Année scolaire 2024-2025",null," Julien, Rondeau",null,null,null,null,null,null,null,null,null,null,null,null,null,null,null,null,"Commentaires"]
[null,null," Intensif 1800",null,null,null,null,null,null,null," Intensif 1800"]
[5,null,"Jour    ",null,null,null,null,null,null,null,"Soir    "]
[null,null,"M","P","H","L","M","P","H","L","M","P","H","L","M","P","H","L"]
[{"$f":"WEEKDAY(B8,2)","v":1},"2025-08-18","                   Vacances          ",null,null,null,null,null,null,null,"                   Vacances          "]
[2,"2025-08-19","                   Vacances          ",null,null,null,null,null,null,null,"                   Vacances          "]
[3,{"$f":"B9+1","v":"2025-08-20"},"                   Vacances          ",null,null,null,null,null,null,null,"                   Vacances          "]
[4,{"$f":"B10+1","v":"2025-08-21"},"                   Vacances          ",null,null,null,null,null,null,null,"                   Vacances          "]
[5,"2025-08-22","     Pédagogique Commune",null,null,null,null,null,null,null,"     Pédagogique Commune"]
[6,"2025-08-23","                       WEEK-END                       ",null,null,null,null,null,null,null,"                       WEEK-END                       "]
[7,"2025-08-24","                       WEEK-END                       ",null,null,null,null,null,null,null,"                       WEEK-END                       "]
[1,"2025-08-25","     Pédagogique",null,null,null,null,null,null,null,"     Pédagogique"]
[2,"2025-08-26"]
[3,"2025-08-27"]
[4,"2025-08-28"]
[5,"2025-08-29"]
[6,"2025-08-30","                       WEEK-END                       ",null,null,null,null,null,null,null,"                       WEEK-END                       "]
[7,"2025-08-31","                       WEEK-END                       ",null,null,null,null,null,null,null,"                       WEEK-END                       "]
[1,"2025-09-01","Congé",null,null,null,null,null,null,null,"Congé"]
[2,"2025-09-02"]
[3,"2025-09-03"]
[4,"2025-09-04"]
[5,"2025-09-05"]
[6,"2025-09-06","                       WEEK-END                       ",null,null,null,null,null,null,null,"                       WEEK-END                       "]
[7,"2025-09-07","                       WEEK-END                       ",null,null,null,null,null,null,null,"                       WEEK-END                       "]
[1,"2025-09-08"]
[2,"2025-09-09"]
[3,"2025-09-10"]
[4,"2025-09-11"]
[5,"2025-09-12"]
[6,"2025-09-13","                       WEEK-END                       ",null,null,null,null,null,null,null,"                       WEEK-END                       "]
[7,"2025-09-14","                       WEEK-END                       ",null,null,null,null,null,null,null,"                       WEEK-END                       "]
[1,"2025-09-15"]
[2,"2025-09-16"]
[3,"2025-09-17"]
[4,"2025-09-18"]
[5,"2025-09-19"]
[6,"2025-09-20","                       WEEK-END                       ",null,null,null,null,null,null,null,"                       WEEK-END                       "]
[7,"2025-09-21","                       WEEK-END                       ",null,null,null,null,null,null,null,"                       WEEK-END                       "]
[1,"2025-09-22"]
[2,"2025-09-23"]
[3,"2025-09-24"]
[4,"2025-09-25"]
[5,"2025-09-26"]
[6,"2025-09-27","                       WEEK-END                       ",null,null,null,null,null,null,null,"                       WEEK-END                       "]
[7,"2025-09-28","                       WEEK-END                       ",null,null,null,null,null,null,null,"                       WEEK-END                       "]
[1,"2025-09-29"]
[2,"2025-09-30"]
[3,"2025-10-01"]
[4,"2025-10-02"]
[5,"2025-10-03"]
[6,"2025-10-04","                       WEEK-END                       ",null,null,null,null,null,null,null,"                       WEEK-END                       "]
[7,"2025-10-05","                       WEEK-END                       ",null,null,null,null,null,null,null,"                       WEEK-END                       "]
[1,"2025-10-06"]
[2,"2025-10-07"]
[3,"2025-10-08"]
[4,"2025-10-09"]
[5,"2025-10-10"]
[6,"2025-10-11","                       WEEK-END                       ",null,null,null,null,null,null,null,"                       WEEK-END                       "]
[7,"2025-10-12","                       WEEK-END                       ",null,null,null,null,null,null,null,"                       WEEK-END                       "]
[1,"2025-10-13","Congé",null,null,null,null,null,null,null,"Congé"]
[2,"2025-10-14"]
[3,"2025-10-15"]
[4,"2025-10-16"]
[5,"2025-10-17"]
[6,"2025-10-18","                       WEEK-END                       ",null,null,null,null,null,null,null,"                       WEEK-END                       "]
[7,"2025-10-19","                       WEEK-END                       ",null,null,null,null,null,null,null,"                       WEEK-END                       "]
[1,"2025-10-20"]
[{"$f":"WEEKDAY(B72,2)","v":2},"2025-10-21"]
[3,"2025-10-22","     Pédagogique",null,null,null,null,null,null,null,"     Pédagogique"]
[4,"2025-10-23"]
[5,{"$f":"B74+1","v":"2025-10-24"}]
[6,"2025-10-25","                       WEEK-END                       ",null,null,null,null,null,null,null,"                       WEEK-END                       "]
[7,"2025-10-26","                       WEEK-END                       ",null,null,null,null,null,null,null,"                       WEEK-END                       "]
[1,"2025-10-27"]
[2,"2025-10-28"]
[3,"2025-10-29"]
[4,"2025-10-30"]
[5,"2025-10-31"]
[6,"2025-11-01","                       WEEK-END                       ",null,null,null,null,null,null,null,"                       WEEK-END                       "]
[7,"2025-11-02","                       WEEK-END                       ",null,null,null,null,null,null,null,"                       WEEK-END                       "]
[1,"2025-11-03"]
[2,"2025-11-04"]
[3,"2025-11-05"]
[4,"2025-11-06","     Pédagogique",null,null,null,null,null,null,null,"     Pédagogique"]
[5,"2025-11-07","     Pédagogique",null,null,null,null,null,null,null,"     Pédagogique"]
[6,"2025-11-08","                       WEEK-END                       ",null,null,null,null,null,null,null,"                       WEEK-END                       "]
[7,"2025-11-09","                       WEEK-END                       ",null,null,null,null,null,null,null,"                       WEEK-END                       "]
[1,"2025-11-10"]
[2,"2025-11-11"]
[3,"2025-11-12"]
[4,"2025-11-13"]
[5,"2025-11-14"]
[6,"2025-11-15","                       WEEK-END                       ",null,null,null,null,null,null,null,"                       WEEK-END                       "]
[7,"2025-11-16","                       WEEK-END                       ",null,null,null,null,null,null,null,"                       WEEK-END                       "]
[1,"2025-11-17"]
[2,"2025-11-18"]
[3,"2025-11-19"]
[4,"2025-11-20","     Pédagogique Commune",null,null,null,null,null,null,null,"     Pédagogique Commune"]
[5,"2025-11-21"]
[6,"2025-11-22","                       WEEK-END                       ",null,null,null,null,null,null,null,"                       WEEK-END                       "]
[7,"2025-11-23","                       WEEK-END                       ",null,null,null,null,null,null,null,"                       WEEK-END                       "]
[1,"2025-11-24"]
[2,"2025-11-25"]
[3,"2025-11-26"]
[4,"2025-11-27"]
[5,"2025-11-28"]
[6,"2025-11-29","                       WEEK-END                       ",null,null,null,null,null,null,null,"                       WEEK-END                       "]
[7,"2025-11-30","                       WEEK-END                       ",null,null,null,null,null,null,null,"                       WEEK-END                       "]
[1,"2025-12-01"]
[2,"2025-12-02"]
[3,"2025-12-03"]
[4,"2025-12-04"]
[5,"2025-12-05"]
[6,"2025-12-06","                       WEEK-END                       ",null,null,null,null,null,null,null,"                       WEEK-END                       "]
[7,"2025-12-07","                       WEEK-END                       ",null,null,null,null,null,null,null,"                       WEEK-END                       "]
[1,"2025-12-08"]
[2,"2025-12-09"]
[3,"2025-12-10"]
[4,"2025-12-11"]
[5,"2025-12-12"]
[6,"2025-12-13","                       WEEK-END                       ",null,null,null,null,null,null,null,"                       WEEK-END                       "]
[7,"2025-12-14","                       WEEK-END                       ",null,null,null,null,null,null,null,"                       WEEK-END                       "]
[1,"2025-12-15"]
[2,"2025-12-16"]
[3,"2025-12-17"]
[4,"2025-12-18"]
[5,"2025-12-19"]
[6,"2025-12-20","                       WEEK-END                       ",null,null,null,null,null,null,null,"                       WEEK-END                       "]
[7,"2025-12-21","                       WEEK-END                       ",null,null,null,null,null,null,null,"                       WEEK-END                       "]
[1,"2025-12-22","Congé Noël",null,null,null,null,null,null,null,"Congé Noël"]
[2,"2025-12-23","Congé Noël",null,null,null,null,null,null,null,"Congé Noël"]
[{"$f":"WEEKDAY(B136,2)","v":3},"2025-12-24","Congé Noël",null,null,null,null,null,null,null,"Congé Noël"]
[4,"2025-12-25","Congé Noël",null,null,null,null,null,null,null,"Congé Noël"]
[5,"2025-12-26","Congé Noël",null,null,null,null,null,null,null,"Congé Noël"]
[6,{"$f":"B138+1","v":"2025-12-27"},"                       WEEK-END                       ",null,null,null,null,null,null,null,"                       WEEK-END                       "]
[7,"2025-12-28","                       WEEK-END                       ",null,null,null,null,null,null,null,"                       WEEK-END                       "]
[1,"2025-12-29","Congé Noël",null,null,null,null,null,null,null,"Congé Noël"]
[2,"2025-12-30","Congé Noël",null,null,null,null,null,null,null,"Congé Noël"]
[3,"2025-12-31","Congé Noël",null,null,null,null,null,null,null,"Congé Noël"]
[4,"2026-01-01","Congé Noël",null,null,null,null,null,null,null,"Congé Noël"]
[5,"2026-01-02","Congé Noël",null,null,null,null,null,null,null,"Congé Noël"]
[6,"2026-01-03","                       WEEK-END                       ",null,null,null,null,null,null,null,"                       WEEK-END                       "]
[7,"2026-01-04","                       WEEK-END                       ",null,null,null,null,null,null,null,"                       WEEK-END                       "]
[1,"2026-01-05","     Pédagogique Commune",null,null,null,null,null,null,null,"     Pédagogique Commune"]
[2,"2026-01-06"]
[3,"2026-01-07"]
[4,"2026-01-08"]
[5,"2026-01-09"]
[6,"2026-01-10","                       WEEK-END                       ",null,null,null,null,null,null,null,"                       WEEK-END                       "]
[7,"2026-01-11","                       WEEK-END                       ",null,null,null,null,null,null,null,"                       WEEK-END                       "]
[1,"2026-01-12"]
[2,"2026-01-13"]
[3,"2026-01-14"]
[4,"2026-01-15"]
[5,"2026-01-16"]
[6,"2026-01-17","                       WEEK-END                       ",null,null,null,null,null,null,null,"                       WEEK-END                       "]
[7,"2026-01-18","                       WEEK-END                       ",null,null,null,null,null,null,null,"                       WEEK-END                       "]
[1,"2026-01-19"]
[2,"2026-01-20"]
[3,"2026-01-21"]
[4,"2026-01-22"]
[5,"2026-01-23"]
[6,"2026-01-24","                       WEEK-END                       ",null,null,null,null,null,null,null,"                       WEEK-END                       "]
[7,"2026-01-25","                       WEEK-END                       ",null,null,null,null,null,null,null,"                       WEEK-END                       "]
[1,"2026-01-26"]
[2,"2026-01-27"]
[3,"2026-01-28"]
[4,"2026-01-29"]
[5,"2026-01-30","     Pédagogique",null,null,null,null,null,null,null,"     Pédagogique"]
[6,"2026-01-31","                       WEEK-END                       ",null,null,null,null,null,null,null,"                       WEEK-END                       "]
[7,"2026-02-01","                       WEEK-END                       ",null,null,null,null,null,null,null,"                       WEEK-END                       "]
[1,"2026-02-02"]
[2,"2026-02-03"]
[3,"2026-02-04"]
[4,"2026-02-05"]
[5,"2026-02-06"]
[6,"2026-02-07","                       WEEK-END                       ",null,null,null,null,null,null,null,"                       WEEK-END                       "]
[7,"2026-02-08","                       WEEK-END                       ",null,null,null,null,null,null,null,"                       WEEK-END                       "]
[1,"2026-02-09"]
[2,"2026-02-10"]
[3,"2026-02-11"]
[4,"2026-02-12"]
[5,"2026-02-13"]
[6,"2026-02-14","                       WEEK-END                       ",null,null,null,null,null,null,null,"                       WEEK-END                       "]
[7,"2026-02-15","                       WEEK-END                       ",null,null,null,null,null,null,null,"                       WEEK-END                       "]
[1,"2026-02-16"]
[2,"2026-02-17"]
[3,"2026-02-18"]
[4,"2026-02-19"]
[5,"2026-02-20"]
[6,"2026-02-21","                       WEEK-END                       ",null,null,null,null,null,null,null,"                       WEEK-END                       "]
[7,"2026-02-22","                       WEEK-END                       ",null,null,null,null,null,null,null,"                       WEEK-END                       "]
[1,"2026-02-23"]
[2,"2026-02-24"]
[3,"2026-02-25","     Pédagogique",null,null,null,null,null,null,null,"     Pédagogique"]
[{"$f":"WEEKDAY(B200,2)","v":4},"2026-02-26"]
[5,"2026-02-27"]
[6,"2026-02-28","                       WEEK-END                       ",null,null,null,null,null,null,null,"                       WEEK-END                       "]
[7,{"$f":"B202+1","v":"2026-03-01"},"                       WEEK-END                       ",null,null,null,null,null,null,null,"                       WEEK-END                       "]
[1,"2026-03-02"]
[2,"2026-03-03"]
[3,"2026-03-04"]
[4,"2026-03-05"]
[5,"2026-03-06"]
[6,"2026-03-07","                       WEEK-END                       ",null,null,null,null,null,null,null,"                       WEEK-END                       "]
[7,"2026-03-08","                       WEEK-END                       ",null,null,null,null,null,null,null,"                       WEEK-END                       "]
[1,"2026-03-09"]
[2,"2026-03-10"]
[3,"2026-03-11"]
[4,"2026-03-12"]
[5,"2026-03-13","     Pédagogique",null,null,null,null,null,null,null,"     Pédagogique"]
[6,"2026-03-14","                       WEEK-END                       ",null,null,null,null,null,null,null,"                       WEEK-END                       "]
[7,"2026-03-15","                       WEEK-END                       ",null,null,null,null,null,null,null,"                       WEEK-END                       "]
[1,"2026-03-16"]
[2,"2026-03-17"]
[3,"2026-03-18"]
[4,"2026-03-19"]
[5,"2026-03-20"]
[6,"2026-03-21","                       WEEK-END                       ",null,null,null,null,null,null,null,"                       WEEK-END                       "]
[7,"2026-03-22","                       WEEK-END                       ",null,null,null,null,null,null,null,"                       WEEK-END                       "]
[1,"2026-03-23"]
[2,"2026-03-24"]
[3,"2026-03-25"]
[4,"2026-03-26"]
[5,"2026-03-27"]
[6,"2026-03-28","                       WEEK-END                       ",null,null,null,null,null,null,null,"                       WEEK-END                       "]
[7,"2026-03-29","                       WEEK-END                       ",null,null,null,null,null,null,null,"                       WEEK-END                       "]
[1,"2026-03-30"]
[2,"2026-03-31"]
[3,"2026-04-01"]
[4,"2026-04-02"]
[5,"2026-04-03","Congé",null,null,null,null,null,null,null,"Congé"]
[6,"2026-04-04","                       WEEK-END                       ",null,null,null,null,null,null,null,"                       WEEK-END                       "]
[7,"2026-04-05","                       WEEK-END                       ",null,null,null,null,null,null,null,"                       WEEK-END                       "]
[1,"2026-04-06","Congé",null,null,null,null,null,null,null,"Congé"]
[2,"2026-04-07"]
[3,"2026-04-08"]
[4,"2026-04-09"]
[5,"2026-04-10"]
[6,"2026-04-11","                       WEEK-END                       ",null,null,null,null,null,null,null,"                       WEEK-END                       "]
[7,"2026-04-12","                       WEEK-END                       ",null,null,null,null,null,null,null,"                       WEEK-END                       "]
[1,"2026-04-13"]
[2,"2026-04-14"]
[3,"2026-04-15"]
[4,"2026-04-16"]
[5,"2026-04-17"]
[6,"2026-04-18","                       WEEK-END                       ",null,null,null,null,null,null,null,"                       WEEK-END                       "]
[7,"2026-04-19","                       WEEK-END                       ",null,null,null,null,null,null,null,"                       WEEK-END                       "]
[1,"2026-04-20"]
[2,"2026-04-21"]
[3,"2026-04-22"]
[4,"2026-04-23"]
[5,"2026-04-24"]
[6,"2026-04-25","                       WEEK-END                       ",null,null,null,null,null,null,null,"                       WEEK-END                       "]
[7,"2026-04-26","                       WEEK-END                       ",null,null,null,null,null,null,null,"                       WEEK-END                       "]
[1,"2026-04-27"]
[2,"2026-04-28"]
[3,"2026-04-29"]
[4,"2026-04-30"]
[{"$f":"WEEKDAY(B264,2)","v":5},"2026-05-01","     Pédagogique Commune",null,null,null,null,null,null,null,"     Pédagogique Commune"]
[6,"2026-05-02","                       WEEK-END                       ",null,null,null,null,null,null,null,"                       WEEK-END                       "]
[7,"2026-05-03","                       WEEK-END                       ",null,null,null,null,null,null,null,"                       WEEK-END                       "]
[1,{"$f":"B266+1","v":"2026-05-04"}]
[2,"2026-05-05"]
[3,"2026-05-06"]
[4,"2026-05-07"]
[5,"2026-05-08"]
[6,"2026-05-09","                       WEEK-END                       ",null,null,null,null,null,null,null,"                       WEEK-END                       "]
[7,"2026-05-10","                       WEEK-END                       ",null,null,null,null,null,null,null,"                       WEEK-END                       "]
[1,"2026-05-11"]
[2,"2026-05-12"]
[3,"2026-05-13"]
[4,"2026-05-14"]
[5,"2026-05-15"]
[6,"2026-05-16","                       WEEK-END                       ",null,null,null,null,null,null,null,"                       WEEK-END                       "]
[7,"2026-05-17","                       WEEK-END                       ",null,null,null,null,null,null,null,"                       WEEK-END                       "]
[1,"2026-05-18","Congé",null,null,null,null,null,null,null,"Congé"]
[2,"2026-05-19"]
[3,"2026-05-20"]
[4,"2026-05-21"]
[5,"2026-05-22"]
[6,"2026-05-23","                       WEEK-END                       ",null,null,null,null,null,null,null,"                       WEEK-END                       "]
[7,"2026-05-24","                       WEEK-END                       ",null,null,null,null,null,null,null,"                       WEEK-END                       "]
[1,"2026-05-25"]
[2,"2026-05-26"]
[3,"2026-05-27"]
[4,"2026-05-28"]
[5,"2026-05-29"]
[6,"2026-05-30","                       WEEK-END                       ",null,null,null,null,null,null,null,"                       WEEK-END                       "]
[7,"2026-05-31","                       WEEK-END                       ",null,null,null,null,null,null,null,"                       WEEK-END                       "]
[1,"2026-06-01"]
[2,"2026-06-02"]
[3,"2026-06-03"]
[4,"2026-06-04"]
[5,"2026-06-05","     Pédagogique",null,null,null,null,null,null,null,"     Pédagogique"]
[6,"2026-06-06","                       WEEK-END                       ",null,null,null,null,null,null,null,"                       WEEK-END                       "]
[7,"2026-06-07","                       WEEK-END                       ",null,null,null,null,null,null,null,"                       WEEK-END                       "]
[1,"2026-06-08"]
[2,"2026-06-09"]
[3,"2026-06-10"]
[4,"2026-06-11"]
[5,"2026-06-12"]
[6,"2026-06-13","                       WEEK-END                       ",null,null,null,null,null,null,null,"                       WEEK-END                       "]
[7,"2026-06-14","                       WEEK-END                       ",null,null,null,null,null,null,null,"                       WEEK-END                       "]
[1,"2026-06-15"]
[2,"2026-06-16"]
[3,"2026-06-17"]
[4,"2026-06-18"]
[5,"2026-06-19"]
[6,"2026-06-20","                       WEEK-END                       ",null,null,null,null,null,null,null,"                       WEEK-END                       "]
[7,"2026-06-21","                       WEEK-END                       ",null,null,null,null,null,null,null,"                       WEEK-END                       "]
[1,"2026-06-22"]
[2,"2026-06-23"]
[3,"2026-06-24","Congé",null,null,null,null,null,null,null,"Congé"]
[4,"2026-06-25"]
[5,"2026-06-26"]
[6,"2026-06-27","                       WEEK-END                       ",null,null,null,null,null,null,null,"                       WEEK-END                       "]
[7,"2026-06-28","                       WEEK-END                       ",null,null,null,null,null,null,null,"                       WEEK-END                       "]
[1,"2026-06-29","                   Vacances          ",null,null,null,null,null,null,null,"                   Vacances          "]
[2,"2026-06-30","                   Vacances          ",null,null,null,null,null,null,null,"                   Vacances          "]
[3,"2026-07-01","                   Vacances          ",null,null,null,null,null,null,null,"                   Vacances          "]
[4,"2026-07-02","                   Vacances          ",null,null,null,null,null,null,null,"                   Vacances          "]
[5,"2026-07-03","                   Vacances          ",null,null,null,null,null,null,null,"                   Vacances          "]
[{"$f":"WEEKDAY(B328,2)","v":6},"2026-07-04","                       WEEK-END                       ",null,null,null,null,null,null,null,"                       WEEK-END                       "]
[7,"2026-07-05","                       WEEK-END                       ",null,null,null,null,null,null,null,"                       WEEK-END                       "]
[1,"2026-07-06","                   Vacances          ",null,null,null,null,null,null,null,"                   Vacances          "]
[2,{"$f":"B330+1","v":"2026-07-07"},"                   Vacances          ",null,null,null,null,null,null,null,"                   Vacances          "]
[3,"2026-07-08","                   Vacances          ",null,null,null,null,null,null,null,"                   Vacances          "]
[4,"2026-07-09","                   Vacances          ",null,null,null,null,null,null,null,"                   Vacances          "]
[5,"2026-07-10","                   Vacances          ",null,null,null,null,null,null,null,"                   Vacances          "]
[6,"2026-07-11","                       WEEK-END                       ",null,null,null,null,null,null,null,"                       WEEK-END                       "]
[7,"2026-07-12","                       WEEK-END                       ",null,null,null,null,null,null,null,"                       WEEK-END                       "]
[1,"2026-07-13","                   Vacances          ",null,null,null,null,null,null,null,"                   Vacances          "]
[2,"2026-07-14","                   Vacances          ",null,null,null,null,null,null,null,"                   Vacances          "]
[3,"2026-07-15","                   Vacances          ",null,null,null,null,null,null,null,"                   Vacances          "]
[4,"2026-07-16","                   Vacances          ",null,null,null,null,null,null,null,"                   Vacances          "]
[5,"2026-07-17","                   Vacances          ",null,null,null,null,null,null,null,"                   Vacances          "]
[6,"2026-07-18","                       WEEK-END                       ",null,null,null,null,null,null,null,"                       WEEK-END                       "]
[7,"2026-07-19","                       WEEK-END                       ",null,null,null,null,null,null,null,"                       WEEK-END                       "]
[1,"2026-07-20","                   Vacances          ",null,null,null,null,null,null,null,"                   Vacances          "]
[2,"2026-07-21","                   Vacances          ",null,null,null,null,null,null,null,"                   Vacances          "]
[3,"2026-07-22","                   Vacances          ",null,null,null,null,null,null,null,"                   Vacances          "]
[4,"2026-07-23","                   Vacances          ",null,null,null,null,null,null,null,"                   Vacances          "]
[5,"2026-07-24","                   Vacances          ",null,null,null,null,null,null,null,"                   Vacances          "]
[6,"2026-07-25","                       WEEK-END                       ",null,null,null,null,null,null,null,"                       WEEK-END                       "]
[7,"2026-07-26","                       WEEK-END                       ",null,null,null,null,null,null,null,"                       WEEK-END                       "]
[1,"2026-07-27","                   Vacances          ",null,null,null,null,null,null,null,"                   Vacances          "]
[2,"2026-07-28","                   Vacances          ",null,null,null,null,null,null,null,"                   Vacances          "]
[3,"2026-07-29","                   Vacances          ",null,null,null,null,null,null,null,"                   Vacances          "]
[4,"2026-07-30","                   Vacances          ",null,null,null,null,null,null,null,"                   Vacances          "]
[5,"2026-07-31","                   Vacances          ",null,null,null,null,null,null,null,"                   Vacances          "]
[6,"2026-08-01","                       WEEK-END                       ",null,null,null,null,null,null,null,"                       WEEK-END                       "]
[7,"2026-08-02","                       WEEK-END                       ",null,null,null,null,null,null,null,"                       WEEK-END                       "]
[1,"2026-08-03","                   Vacances          ",null,null,null,null,null,null,null,"                   Vacances          "]
[2,"2026-08-04","                   Vacances          ",null,null,null,null,null,null,null,"                   Vacances          "]
[3,"2026-08-05","                   Vacances          ",null,null,null,null,null,null,null,"                   Vacances          "]
[4,"2026-08-06","                   Vacances          ",null,null,null,null,null,null,null,"                   Vacances          "]
[5,"2026-08-07","                   Vacances          ",null,null,null,null,null,null,null,"                   Vacances          "]
[6,"2026-08-08","                       WEEK-END                       ",null,null,null,null,null,null,null,"                       WEEK-END                       "]
[7,"2026-08-09","                       WEEK-END                       ",null,null,null,null,null,null,null,"                       WEEK-END                       "]
[1,"2026-08-10","                   Vacances          ",null,null,null,null,null,null,null,"                   Vacances          "]
[2,"2026-08-11","                   Vacances          ",null,null,null,null,null,null,null,"                   Vacances          "]
[3,"2026-08-12","                   Vacances          ",null,null,null,null,null,null,null,"                   Vacances          "]
[4,"2026-08-13","                   Vacances          ",null,null,null,null,null,null,null,"                   Vacances          "]
[5,"2026-08-14","                   Vacances          ",null,null,null,null,null,null,null,"                   Vacances          "]
[6,"2026-08-15","                       WEEK-END                       ",null,null,null,null,null,null,null,"                       WEEK-END                       "]
[7,"2026-08-16","                       WEEK-END                       ",null,null,null,null,null,null,null,"                       WEEK-END                       "]
[1,"2026-08-17","                   Vacances          ",null,null,null,null,null,null,null,"                   Vacances          "]
[2,"2026-08-18","                   Vacances          ",null,null,null,null,null,null,null,"                   Vacances          "]
[null,"2026-08-19","                   Vacances          ",null,null,null,null,null,null,null,"                   Vacances          "]
[]
["Calculateur de période par module"]
["Modules",null," ",null,null,null,null,null,null,null," "]
[null,null,"à prog.",null,"entrées",null,null,null,"à faire",null,"à prog.",null,"entrées",null,null,null,"à faire"]
["module 1",null,{"$f":"IF(E379=(I379),\"ok\",($A379))","v":"ok"},null,{"$f":"SUMIF(C$8:C$373,1,E$8:E$373)+SUMIF(G$8:G$373,1,I$8:I$373)","v":0},null,null,null,0,null,{"$f":"IF(M379=(Q379),\"ok\",($A379))","v":"ok"},null,{"$f":"SUMIF(K$8:K$373,1,M$8:M$373)+SUMIF(O$8:O$373,1,Q$8:Q$373)","v":0},null,null,null,0]
["module 2",null,"ok",null,{"$f":"SUMIF(C$8:C$373,2,E$8:E$373)+SUMIF(G$8:G$373,2,I$8:I$373)","v":0},null,null,null,0,null,"ok",null,{"$f":"SUMIF(K$8:K$373,2,M$8:M$373)+SUMIF(O$8:O$373,2,Q$8:Q$373)","v":0},null,null,null,0]
["module 3",null,"ok",null,{"$f":"SUMIF(C$8:C$373,3,E$8:E$373)+SUMIF(G$8:G$373,3,I$8:I$373)","v":0},null,null,null,0,null,"ok",null,{"$f":"SUMIF(K$8:K$373,3,M$8:M$373)+SUMIF(O$8:O$373,3,Q$8:Q$373)","v":0},null,null,null,0]
["module 4",null,"ok",null,{"$f":"SUMIF(C$8:C$373,4,E$8:E$373)+SUMIF(G$8:G$373,4,I$8:I$373)","v":0},null,null,null,0,null,"ok",null,{"$f":"SUMIF(K$8:K$373,4,M$8:M$373)+SUMIF(O$8:O$373,4,Q$8:Q$373)","v":0},null,null,null,0]
["module 5",null,"ok",null,{"$f":"SUMIF(C$8:C$373,5,E$8:E$373)+SUMIF(G$8:G$373,5,I$8:I$373)","v":0},null,null,null,0,null,"ok",null,{"$f":"SUMIF(K$8:K$373,5,M$8:M$373)+SUMIF(O$8:O$373,5,Q$8:Q$373)","v":0},null,null,null,0]
["module 6",null,"ok",null,{"$f":"SUMIF(C$8:C$373,6,E$8:E$373)+SUMIF(G$8:G$373,6,I$8:I$373)","v":0},null,null,null,0,null,"ok",null,{"$f":"SUMIF(K$8:K$373,6,M$8:M$373)+SUMIF(O$8:O$373,6,Q$8:Q$373)","v":0},null,null,null,0]
["module 7",null,"ok",null,{"$f":"SUMIF(C$8:C$373,7,E$8:E$373)+SUMIF(G$8:G$373,7,I$8:I$373)","v":0},null,null,null,0,null,"ok",null,{"$f":"SUMIF(K$8:K$373,7,M$8:M$373)+SUMIF(O$8:O$373,7,Q$8:Q$373)","v":0},null,null,null,0]
["module 8",null,"ok",null,{"$f":"SUMIF(C$8:C$373,8,E$8:E$373)+SUMIF(G$8:G$373,8,I$8:I$373)","v":0},null,null,null,0,null,"ok",null,{"$f":"SUMIF(K$8:K$373,8,M$8:M$373)+SUMIF(O$8:O$373,8,Q$8:Q$373)","v":0},null,null,null,0]
["module 9",null,"ok",null,{"$f":"SUMIF(C$8:C$373,9,E$8:E$373)+SUMIF(G$8:G$373,9,I$8:I$373)","v":0},null,null,null,0,null,"ok",null,{"$f":"SUMIF(K$8:K$373,9,M$8:M$373)+SUMIF(O$8:O$373,9,Q$8:Q$373)","v":0},null,null,null,0]
["module 10",null,"ok",null,{"$f":"SUMIF(C$8:C$373,10,E$8:E$373)+SUMIF(G$8:G$373,10,I$8:I$373)","v":0},null,null,null,0,null,"ok",null,{"$f":"SUMIF(K$8:K$373,10,M$8:M$373)+SUMIF(O$8:O$373,10,Q$8:Q$373)","v":0},null,null,null,0]
["module 11",null,"ok",null,{"$f":"SUMIF(C$8:C$373,11,E$8:E$373)+SUMIF(G$8:G$373,11,I$8:I$373)","v":0},null,null,null,0,null,"ok",null,{"$f":"SUMIF(K$8:K$373,11,M$8:M$373)+SUMIF(O$8:O$373,11,Q$8:Q$373)","v":0},null,null,null,0]
["module 12",null,"ok",null,{"$f":"SUMIF(C$8:C$373,12,E$8:E$373)+SUMIF(G$8:G$373,12,I$8:I$373)","v":0},null,null,null,0,null,"ok",null,{"$f":"SUMIF(K$8:K$373,12,M$8:M$373)+SUMIF(O$8:O$373,12,Q$8:Q$373)","v":0},null,null,null,0]
["module 13",null,"ok",null,{"$f":"SUMIF(C$8:C$373,13,E$8:E$373)+SUMIF(G$8:G$373,13,I$8:I$373)","v":0},null,null,null,0,null,"ok",null,{"$f":"SUMIF(K$8:K$373,13,M$8:M$373)+SUMIF(O$8:O$373,13,Q$8:Q$373)","v":0},null,null,null,0]
["module 14",null,"ok",null,{"$f":"SUMIF(C$8:C$373,14,E$8:E$373)+SUMIF(G$8:G$373,14,I$8:I$373)","v":0},null,null,null,0,null,"ok",null,{"$f":"SUMIF(K$8:K$373,14,M$8:M$373)+SUMIF(O$8:O$373,14,Q$8:Q$373)","v":0},null,null,null,0]
["module 15",null,"ok",null,{"$f":"SUMIF(C$8:C$373,15,E$8:E$373)+SUMIF(G$8:G$373,15,I$8:I$373)","v":0},null,null,null,0,null,"ok",null,{"$f":"SUMIF(K$8:K$373,15,M$8:M$373)+SUMIF(O$8:O$373,15,Q$8:Q$373)","v":0},null,null,null,0]
["module 16",null,"ok",null,{"$f":"SUMIF(C$8:C$373,16,E$8:E$373)+SUMIF(G$8:G$373,16,I$8:I$373)","v":0},null,null,null,0,null,"ok",null,{"$f":"SUMIF(K$8:K$373,16,M$8:M$373)+SUMIF(O$8:O$373,16,Q$8:Q$373)","v":0},null,null,null,0]
["module 17",null,"ok",null,{"$f":"SUMIF(C$8:C$373,17,E$8:E$373)+SUMIF(G$8:G$373,17,I$8:I$373)","v":0},null,null,null,0,null,"ok",null,{"$f":"SUMIF(K$8:K$373,17,M$8:M$373)+SUMIF(O$8:O$373,17,Q$8:Q$373)","v":0},null,null,null,0]
["module 18",null,"ok",null,{"$f":"SUMIF(C$8:C$373,18,E$8:E$373)+SUMIF(G$8:G$373,18,I$8:I$373)","v":0},null,null,null,0,null,"ok",null,{"$f":"SUMIF(K$8:K$373,18,M$8:M$373)+SUMIF(O$8:O$373,18,Q$8:Q$373)","v":0},null,null,null,0]
["module 19",null,"ok",null,{"$f":"SUMIF(C$8:C$373,19,E$8:E$373)+SUMIF(G$8:G$373,19,I$8:I$373)","v":0},null,null,null,0,null,"ok",null,{"$f":"SUMIF(K$8:K$373,19,M$8:M$373)+SUMIF(O$8:O$373,19,Q$8:Q$373)","v":0},null,null,null,0]
["module 20",null,"ok",null,{"$f":"SUMIF(C$8:C$373,20,E$8:E$373)+SUMIF(G$8:G$373,20,I$8:I$373)","v":0},null,null,null,0,null,"ok",null,{"$f":"SUMIF(K$8:K$373,20,M$8:M$373)+SUMIF(O$8:O$373,20,Q$8:Q$373)","v":0},null,null,null,0]
["module 21",null,"ok",null,{"$f":"SUMIF(C$8:C$373,21,E$8:E$373)+SUMIF(G$8:G$373,21,I$8:I$373)","v":0},null,null,null,0,null,"ok",null,{"$f":"SUMIF(K$8:K$373,21,M$8:M$373)+SUMIF(O$8:O$373,21,Q$8:Q$373)","v":0},null,null,null,0]
["module 22",null,"ok",null,{"$f":"SUMIF(C$8:C$373,22,E$8:E$373)+SUMIF(G$8:G$373,22,I$8:I$373)","v":0},null,null,null,0,null,"ok",null,{"$f":"SUMIF(K$8:K$373,22,M$8:M$373)+SUMIF(O$8:O$373,22,Q$8:Q$373)","v":0},null,null,null,0]
["module 23",null,"ok",null,{"$f":"SUMIF(C$8:C$373,23,E$8:E$373)+SUMIF(G$8:G$373,23,I$8:I$373)","v":0},null,null,null,0,null,"ok",null,{"$f":"SUMIF(K$8:K$373,23,M$8:M$373)+SUMIF(O$8:O$373,23,Q$8:Q$373)","v":0},null,null,null,0]
["module 24",null,"ok",null,{"$f":"SUMIF(C$8:C$373,24,E$8:E$373)+SUMIF(G$8:G$373,24,I$8:I$373)","v":0},null,null,null,0,null,"ok",null,{"$f":"SUMIF(K$8:K$373,24,M$8:M$373)+SUMIF(O$8:O$373,24,Q$8:Q$373)","v":0},null,null,null,0]
["module 25",null,"ok",null,{"$f":"SUMIF(C$8:C$373,25,E$8:E$373)+SUMIF(G$8:G$373,25,I$8:I$373)","v":0},null,null,null,0,null,"ok",null,{"$f":"SUMIF(K$8:K$373,25,M$8:M$373)+SUMIF(O$8:O$373,25,Q$8:Q$373)","v":0},null,null,null,0]
["module 26",null,"ok",null,{"$f":"SUMIF(C$8:C$373,26,E$8:E$373)+SUMIF(G$8:G$373,26,I$8:I$373)","v":0},null,null,null,0,null,"ok",null,{"$f":"SUMIF(K$8:K$373,26,M$8:M$373)+SUMIF(O$8:O$373,26,Q$8:Q$373)","v":0},null,null,null,0]
["module 27",null,"ok",null,{"$f":"SUMIF(C$8:C$373,27,E$8:E$373)+SUMIF(G$8:G$373,27,I$8:I$373)","v":0},null,null,null,0,null,"ok",null,{"$f":"SUMIF(K$8:K$373,27,M$8:M$373)+SUMIF(O$8:O$373,27,Q$8:Q$373)","v":0},null,null,null,0]
["module 28",null,"ok",null,{"$f":"SUMIF(C$8:C$373,28,E$8:E$373)+SUMIF(G$8:G$373,28,I$8:I$373)","v":0},null,null,null,0,null,"ok",null,{"$f":"SUMIF(K$8:K$373,28,M$8:M$373)+SUMIF(O$8:O$373,28,Q$8:Q$373)","v":0},null,null,null,0]
["module 29",null,"ok",null,{"$f":"SUMIF(C$8:C$373,29,E$8:E$373)+SUMIF(G$8:G$373,29,I$8:I$373)","v":0},null,null,null,0,null,"ok",null,{"$f":"SUMIF(K$8:K$373,29,M$8:M$373)+SUMIF(O$8:O$373,29,Q$8:Q$373)","v":0},null,null,null,0]
["module 30",null,"ok",null,{"$f":"SUMIF(C$8:C$373,30,E$8:E$373)+SUMIF(G$8:G$373,30,I$8:I$373)","v":0},null,null,null,0,null,"ok",null,{"$f":"SUMIF(K$8:K$373,30,M$8:M$373)+SUMIF(O$8:O$373,30,Q$8:Q$373)","v":0},null,null,null,0]
["module 31",null,"ok",null,{"$f":"SUMIF(C$8:C$373,31,E$8:E$373)+SUMIF(G$8:G$373,31,I$8:I$373)","v":0},null,null,null,0,null,"ok",null,{"$f":"SUMIF(K$8:K$373,31,M$8:M$373)+SUMIF(O$8:O$373,31,Q$8:Q$373)","v":0},null,null,null,0]
["module 32",null,"ok",null,{"$f":"SUMIF(C$8:C$373,32,E$8:E$373)+SUMIF(G$8:G$373,32,I$8:I$373)","v":0},null,null,null,0,null,"ok",null,{"$f":"SUMIF(K$8:K$373,32,M$8:M$373)+SUMIF(O$8:O$373,32,Q$8:Q$373)","v":0},null,null,null,0]
["module 33",null,"ok",null,{"$f":"SUMIF(C$8:C$373,33,E$8:E$373)+SUMIF(G$8:G$373,33,I$8:I$373)","v":0},null,null,null,0,null,"ok",null,{"$f":"SUMIF(K$8:K$373,33,M$8:M$373)+SUMIF(O$8:O$373,33,Q$8:Q$373)","v":0},null,null,null,0]
["module 34",null,"ok",null,{"$f":"SUMIF(C$8:C$373,34,E$8:E$373)+SUMIF(G$8:G$373,34,I$8:I$373)","v":0},null,null,null,0,null,"ok",null,{"$f":"SUMIF(K$8:K$373,34,M$8:M$373)+SUMIF(O$8:O$373,34,Q$8:Q$373)","v":0},null,null,null,0]
["module 35",null,"TE",null,{"$f":"SUMIF(C$8:C$373,35,E$8:E$373)+SUMIF(G$8:G$373,35,I$8:I$373)","v":0},null,null,null,85,null,"TE",null,{"$f":"SUMIF(K$8:K$373,35,M$8:M$373)+SUMIF(O$8:O$373,35,Q$8:Q$373)","v":0},null,null,null,85,null,"=","TACHES PRÉSENCE ÉLÈVE (PERMANENT)"]
["module 36",null,"TA",null,{"$f":"SUMIF(C$8:C$373,36,E$8:E$373)+SUMIF(G$8:G$373,36,I$8:I$373)","v":0},null,null,null,360,null,"TA",null,{"$f":"SUMIF(K$8:K$373,36,M$8:M$373)+SUMIF(O$8:O$373,36,Q$8:Q$373)","v":0},null,null,null,360,null,"=","TACHES DE DISPO"]
["module 37",null,"TNP",null,{"$f":"SUMIF(C$8:C$373,37,E$8:E$373)+SUMIF(G$8:G$373,37,I$8:I$373)","v":0},null,null,null,200,null,"TNP",null,{"$f":"SUMIF(K$8:K$373,37,M$8:M$373)+SUMIF(O$8:O$373,37,Q$8:Q$373)","v":0},null,null,null,200,null,"=","TACHES DE NATURE PERSONNEL"]
["module 90",null,"ok",null,{"$f":"SUMIF(C$8:C$373,90,E$8:E$373)+SUMIF(G$8:G$373,90,I$8:I$373)","v":0},null,null,null,0,null,"ok",null,{"$f":"SUMIF(K$8:K$373,38,M$8:M$373)+SUMIF(O$8:O$373,38,Q$8:Q$373)","v":0},null,null,null,0]
["module 39",null,"ok",null,{"$f":"SUMIF(C$8:C$373,39,E$8:E$373)+SUMIF(G$8:G$373,39,I$8:I$373)","v":0},null,null,null,0,null,"ok",null,{"$f":"SUMIF(K$8:K$373,39,M$8:M$373)+SUMIF(O$8:O$373,39,Q$8:Q$373)","v":0},null,null,null,0]
["module 89",null,"ok",null,{"$f":"SUMIF(C$8:C$373,40,E$8:E$373)+SUMIF(G$8:G$373,40,I$8:I$373)","v":0},null,null,null,0,null,"ok",null,{"$f":"SUMIF(K$8:K$373,40,M$8:M$373)+SUMIF(O$8:O$373,40,Q$8:Q$373)","v":0},null,null,null,0]
["module 90",null,"ok",null,{"$f":"SUMIF(C$8:C$373,90,E$8:E$373)+SUMIF(G$8:G$373,90,I$8:I$373)","v":0},null,null,null,0,null,"ok",null,{"$f":"SUMIF(K$8:K$373,90,M$8:M$373)+SUMIF(O$8:O$373,90,Q$8:Q$373)","v":0},null,null,null,0,null,"=","RECUPERATION"]
["module 91",null,"ok",null,{"$f":"SUMIF(C$8:C$373,91,E$8:E$373)+SUMIF(G$8:G$373,91,I$8:I$373)","v":0},null,null,null,0,null,"ok",null,{"$f":"SUMIF(K$8:K$373,91,M$8:M$373)+SUMIF(O$8:O$373,91,Q$8:Q$373)","v":0},null,null,null,0]
["module 92",null,"ok",null,{"$f":"SUMIF(C$8:C$373,92,E$8:E$373)+SUMIF(G$8:G$373,92,I$8:I$373)","v":0},null,null,null,0,null,"ok",null,{"$f":"SUMIF(K$8:K$373,92,M$8:M$373)+SUMIF(O$8:O$373,92,Q$8:Q$373)","v":0},null,null,null,0]
["module 93",null,"ok",null,{"$f":"SUMIF(C$8:C$373,93,E$8:E$373)+SUMIF(G$8:G$373,93,I$8:I$373)","v":0},null,null,null,0,null,"ok",null,{"$f":"SUMIF(K$8:K$373,93,M$8:M$373)+SUMIF(O$8:O$373,93,Q$8:Q$373)","v":0},null,null,null,0]
["module 94",null,"ok",null,{"$f":"SUMIF(C$8:C$373,94,E$8:E$373)+SUMIF(G$8:G$373,94,I$8:I$373)","v":0},null,null,null,0,null,"ok",null,{"$f":"SUMIF(K$8:K$373,94,M$8:M$373)+SUMIF(O$8:O$373,94,Q$8:Q$373)","v":0},null,null,null,0]
["module 95",null,"ok",null,{"$f":"SUMIF(C$8:C$373,95,E$8:E$373)+SUMIF(G$8:G$373,95,I$8:I$373)","v":0},null,null,null,0,null,"ok",null,{"$f":"SUMIF(K$8:K$373,95,M$8:M$373)+SUMIF(O$8:O$373,95,Q$8:Q$373)","v":0},null,null,null,0,null," "]
["module 96",null,"ok",null,{"$f":"SUMIF(C$8:C$373,96,E$8:E$373)+SUMIF(G$8:G$373,96,I$8:I$373)","v":0},null,null,null,0,null,"ok",null,{"$f":"SUMIF(K$8:K$373,96,M$8:M$373)+SUMIF(O$8:O$373,96,Q$8:Q$373)","v":0},null,null,null,0]
["module 97",null,"ok",null,{"$f":"SUMIF(C$8:C$373,97,E$8:E$373)+SUMIF(G$8:G$373,97,I$8:I$373)","v":0},null,null,null,0,null,"ok",null,{"$f":"SUMIF(K$8:K$373,97,M$8:M$373)+SUMIF(O$8:O$373,97,Q$8:Q$373)","v":0},null,null,null,0]
["module 98",null,"ok",null,{"$f":"SUMIF(C$8:C$373,98,E$8:E$373)+SUMIF(G$8:G$373,98,I$8:I$373)","v":0},null,null,null,0,null,"ok",null,{"$f":"SUMIF(K$8:K$373,98,M$8:M$373)+SUMIF(O$8:O$373,98,Q$8:Q$373)","v":0},null,null,null,0]
["module 99",null,"ok",null,{"$f":"SUMIF(C$8:C$373,99,E$8:E$373)+SUMIF(G$8:G$373,99,I$8:I$373)","v":0},null,null,null,0,null,"ok",null,{"$f":"SUMIF(K$8:K$373,99,M$8:M$373)+SUMIF(O$8:O$373,99,Q$8:Q$373)","v":0},null,null,null,0]
["Totaux",null,{"$f":"IF(E429=(I429),\"ok\",($A$429))","v":"ok"},null,{"$f":"SUM(E379:F410)","v":0},null,null,null,{"$f":"SUM(I379:J410)","v":0},null,{"$f":"IF(M429=(Q429),\"ok\",($A$429))","v":"ok"},null,{"$f":"SUM(M379:N410)","v":0},null,null,null,{"$f":"SUM(Q379:R410)","v":0}]
[]
[]
["Calculateur de période / enseignants"]
["Enseignants",null,{"$f":"C4","v":" Julien, Rondeau"}]
[null,null,{"$f":"\"Heures \"& RIGHT($A4,9)","v":"Heures 2024-2025"},null,null,null,{"$f":"\"Heures été \"& RIGHT($A4,9)","v":"Heures été 2024-2025"},null,null,null,{"$f":"\"Heures \"& RIGHT($A4,9)","v":"Heures 2024-2025"},null,null,null,{"$f":"\"Heures été \"& RIGHT($A4,9)","v":"Heures été 2024-2025"}]
["jr","Julien, Rondeau",{"$f":"SUMIF(D$65:D$374,A435,E$65:E$374)+SUMIF(H$65:H$374,A435,I$65:I$374)","v":0},null,null,null,{"$f":"SUMIF(D$8:D$64,A435,E$8:E$64)+SUMIF(H$8:H$64,A435,I$8:I$64)","v":0},null,null,null,{"$f":"SUMIF(L$65:L$374,A435,M$65:M$374)+SUMIF(P$65:P$374,A435,Q$65:Q$374)","v":0},null,null,null,{"$f":"SUMIF(L$8:L$64,#REF!,M$8:M$64)+SUMIF(P$8:P$64,#REF!,Q$8:Q$64)","v":0}]
[]
[]
["Total des hrs"]
[null,{"$f":"SUM(W441,S441,O441,K441,G441,C441)","v":0},"ENSEIGNEMENT",null,null,null,"PERMANENT",null,null,null,"DISPO",null,null,null,"NATURE PERSO",null,null,null,"TUTORAT+RECUP",null,null,null,"AUTRE"]
[null,null,"Heures 2012-2013",null,null,null,"TE = 85 HRS",null,null,null,"TA = 360 HRS",null,null,null,"TNP = 200 HRS"]
[null,null,{"$f":"SUM(C435+K435)","v":0},null,null,null,{"$f":"SUM(E413+M413)","v":0},null,null,null,{"$f":"SUM(E414+M414)","v":0},null,null,null,{"$f":"SUM(E415+M415)","v":0},null,null,null,0,null,null,null,0]

{"sheet":"Julien Béland M.","index":37,"n_rows":441,"n_cols":23,"rows_kept":441,"cut":false,"hidden":false,"merged":[[366,2,366,9],[366,10,366,17],[367,2,367,9],[367,10,367,17],[368,2,368,9],[368,10,368,17],[361,2,361,9],[361,10,361,17],[364,2,364,9],[364,10,364,17],[365,2,365,9],[365,10,365,17],[358,2,358,9],[358,10,358,17],[359,2,359,9],[359,10,359,17],[360,2,360,9],[360,10,360,17],[353,2,353,9],[353,10,353,17],[354,2,354,9],[354,10,354,17],[357,2,357,9],[357,10,357,17],[350,2,350,9],[350,10,350,17],[351,2,351,9],[351,10,351,17],[352,2,352,9],[352,10,352,17],[345,2,345,9],[345,10,345,17],[346,2,346,9],[346,10,346,17],[347,2,347,9],[347,10,347,17],[340,2,340,9],[340,10,340,17],[343,2,343,9],[343,10,343,17],[344,2,344,9],[344,10,344,17],[337,2,337,9],[337,10,337,17],[338,2,338,9],[338,10,338,17],[339,2,339,9],[339,10,339,17],[332,2,332,9],[332,10,332,17],[333,2,333,9],[333,10,333,17],[336,2,336,9],[336,10,336,17],[329,2,329,9],[329,10,329,17],[330,2,330,9],[330,10,330,17],[331,2,331,9],[331,10,331,17],[324,2,324,9],[324,10,324,17],[325,2,325,9],[325,10,325,17],[326,2,326,9],[326,10,326,17],[317,2,317,9],[317,10,317,17],[322,2,322,9],[322,10,322,17],[323,2,323,9],[323,10,323,17],[263,2,263,9],[263,10,263,17],[280,2,280,9],[280,10,280,17],[298,2,298,9],[298,10,298,17],[214,2,214,9],[214,10,214,17],[235,2,235,9],[235,10,235,17],[238,2,238,9],[238,10,238,17],[147,2,147,9],[147,10,147,17],[172,2,172,9],[172,10,172,17],[198,2,198,9],[198,10,198,17],[142,2,142,9],[142,10,142,17],[143,2,143,9],[143,10,143,17],[144,2,144,9],[144,10,144,17],[137,2,137,9],[137,10,137,17],[140,2,140,9],[140,10,140,17],[141,2,141,9],[141,10,141,17],[134,2,134,9],[134,10,134,17],[135,2,135,9],[135,10,135,17],[136,2,136,9],[136,10,136,17],[88,2,88,9],[88,10,88,17],[101,2,101,9],[101,10,101,17],[133,2,133,9],[133,10,133,17],[72,2,72,9],[72,10,72,17],[87,2,87,9],[87,10,87,17],[11,2,11,9],[11,10,11,17],[14,2,14,9],[14,10,14,17],[21,2,21,9],[21,10,21,17],[440,18,440,21],[440,22,440,25],[7,2,7,9],[7,10,7,17],[8,2,8,9],[8,10,8,17],[9,2,9,9],[9,10,9,17],[438,18,438,21],[438,22,438,25],[439,2,439,5],[439,6,439,9],[439,10,439,13],[439,14,439,17],[439,18,439,21],[439,22,439,25],[434,2,434,5],[434,6,434,9],[434,10,434,13],[434,14,434,17],[428,2,428,3],[428,4,428,7],[63,2,63,9],[63,10,63,17],[438,1,440,1],[438,6,438,9],[438,10,438,13],[438,14,438,17],[440,2,440,5],[440,6,440,9],[432,0,433,1],[432,2,432,17],[433,2,433,5],[433,6,433,9],[433,10,433,13],[433,14,433,17],[440,10,440,13],[440,14,440,17],[428,8,428,9],[428,10,428,11],[428,12,428,15],[428,16,428,17],[426,16,426,17],[427,0,427,1],[427,2,427,3],[427,4,427,7],[427,8,427,9],[427,10,427,11],[427,12,427,15],[427,16,427,17],[426,0,426,1],[426,2,426,3],[426,4,426,7],[426,8,426,9],[426,10,426,11],[426,12,426,15],[424,16,424,17],[425,0,425,1],[425,2,425,3],[425,4,425,7],[425,8,425,9],[425,10,425,11],[425,12,425,15],[425,16,425,17],[424,0,424,1],[424,2,424,3],[424,4,424,7],[424,8,424,9],[424,10,424,11],[424,12,424,15],[422,16,422,17],[423,0,423,1],[423,2,423,3],[423,4,423,7],[423,8,423,9],[423,10,423,11],[423,12,423,15],[423,16,423,17],[422,0,422,1],[422,2,422,3],[422,4,422,7],[422,8,422,9],[422,10,422,11],[422,12,422,15],[420,16,420,17],[421,0,421,1],[421,2,421,3],[421,4,421,7],[421,8,421,9],[421,10,421,11],[421,12,421,15],[421,16,421,17],[420,0,420,1],[420,2,420,3],[420,4,420,7],[420,8,420,9],[420,10,420,11],[420,12,420,15],[418,19,418,27],[419,0,419,1],[419,2,419,3],[419,4,419,7],[419,8,419,9],[419,10,419,11],[419,12,419,15],[419,16,419,17],[418,0,418,1],[418,2,418,3],[418,4,418,7],[418,8,418,9],[418,10,418,11],[418,12,418,15],[416,16,416,17],[417,16,417,17],[418,16,418,17],[417,0,417,1],[417,2,417,3],[417,4,417,7],[417,8,417,9],[417,10,417,11],[417,12,417,15],[416,0,416,1],[416,2,416,3],[416,4,416,7],[416,8,416,9],[416,10,416,11],[416,12,416,15],[414,16,414,17],[414,19,414,27],[415,0,415,1],[415,2,415,3],[415,4,415,7],[415,8,415,9],[415,10,415,11],[415,12,415,15],[415,16,415,17],[414,0,414,1],[414,2,414,3],[414,4,414,7],[414,8,414,9],[414,10,414,11],[414,12,414,15],[412,16,412,17],[412,2,412,3],[412,4,412,7],[412,8,412,9],[412,10,412,11],[412,19,412,29],[413,0,413,1],[413,2,413,3],[413,4,413,7],[413,8,413,9],[413,10,413,11],[413,12,413,15],[413,16,413,17],[413,19,413,27],[412,0,412,1],[412,12,412,15],[410,16,410,17],[411,0,411,1],[411,2,411,3],[411,4,411,7],[411,8,411,9],[411,10,411,11],[411,12,411,15],[411,16,411,17],[410,0,410,1],[410,2,410,3],[410,4,410,7],[410,8,410,9],[410,10,410,11],[410,12,410,15],[408,16,408,17],[409,16,409,17],[409,0,409,1],[409,2,409,3],[409,4,409,7],[409,8,409,9],[409,10,409,11],[409,12,409,15],[408,0,408,1],[408,2,408,3],[408,4,408,7],[408,8,408,9],[408,10,408,11],[408,12,408,15],[406,16,406,17],[407,0,407,1],[407,2,407,3],[407,4,407,7],[407,8,407,9],[407,10,407,11],[407,12,407,15],[407,16,407,17],[406,0,406,1],[406,2,406,3],[406,4,406,7],[406,8,406,9],[406,10,406,11],[406,12,406,15],[404,16,404,17],[405,0,405,1],[405,2,405,3],[405,4,405,7],[405,8,405,9],[405,10,405,11],[405,12,405,15],[405,16,405,17],[404,0,404,1],[404,2,404,3],[404,4,404,7],[404,8,404,9],[404,10,404,11],[404,12,404,15],[402,16,402,17],[403,0,403,1],[403,2,403,3],[403,4,403,7],[403,8,403,9],[403,10,403,11],[403,12,403,15],[403,16,403,17],[402,0,402,1],[402,2,402,3],[402,4,402,7],[402,8,402,9],[402,10,402,11],[402,12,402,15],[400,16,400,17],[401,0,401,1],[401,2,401,3],[401,4,401,7],[401,8,401,9],[401,10,401,11],[401,12,401,15],[401,16,401,17],[400,0,400,1],[400,2,400,3],[400,4,400,7],[400,8,400,9],[400,10,400,11],[400,12,400,15],[398,16,398,17],[399,0,399,1],[399,2,399,3],[399,4,399,7],[399,8,399,9],[399,10,399,11],[399,12,399,15],[399,16,399,17],[398,0,398,1],[398,2,398,3],[398,4,398,7],[398,8,398,9],[398,10,398,11],[398,12,398,15],[396,16,396,17],[397,0,397,1],[397,2,397,3],[397,4,397,7],[397,8,397,9],[397,10,397,11],[397,12,397,15],[397,16,397,17],[396,0,396,1],[396,2,396,3],[396,4,396,7],[396,8,396,9],[396,10,396,11],[396,12,396,15],[394,16,394,17],[395,0,395,1],[395,2,395,3],[395,4,395,7],[395,8,395,9],[395,10,395,11],[395,12,395,15],[395,16,395,17],[394,0,394,1],[394,2,394,3],[394,4,394,7],[394,8,394,9],[394,10,394,11],[394,12,394,15],[392,16,392,17],[393,0,393,1],[393,2,393,3],[393,4,393,7],[393,8,393,9],[393,10,393,11],[393,12,393,15],[393,16,393,17],[392,0,392,1],[392,2,392,3],[392,4,392,7],[392,8,392,9],[392,10,392,11],[392,12,392,15],[390,16,390,17],[391,0,391,1],[391,2,391,3],[391,4,391,7],[391,8,391,9],[391,10,391,11],[391,12,391,15],[391,16,391,17],[390,0,390,1],[390,2,390,3],[390,4,390,7],[390,8,390,9],[390,10,390,11],[390,12,390,15],[388,16,388,17],[389,0,389,1],[389,2,389,3],[389,4,389,7],[389,8,389,9],[389,10,389,11],[389,12,389,15],[389,16,389,17],[388,0,388,1],[388,2,388,3],[388,4,388,7],[388,8,388,9],[388,10,388,11],[388,12,388,15],[386,16,386,17],[387,0,387,1],[387,2,387,3],[387,4,387,7],[387,8,387,9],[387,10,387,11],[387,12,387,15],[387,16,387,17],[386,0,386,1],[386,2,386,3],[386,4,386,7],[386,8,386,9],[386,10,386,11],[386,12,386,15],[384,16,384,17],[385,0,385,1],[385,2,385,3],[385,4,385,7],[385,8,385,9],[385,10,385,11],[385,12,385,15],[385,16,385,17],[384,0,384,1],[384,2,384,3],[384,4,384,7],[384,8,384,9],[384,10,384,11],[384,12,384,15],[382,16,382,17],[383,0,383,1],[383,2,383,3],[383,4,383,7],[383,8,383,9],[383,10,383,11],[383,12,383,15],[383,16,383,17],[382,0,382,1],[382,2,382,3],[382,4,382,7],[382,8,382,9],[382,10,382,11],[382,12,382,15],[379,0,379,1],[379,2,379,3],[379,4,379,7],[379,8,379,9],[379,10,379,11],[379,12,379,15],[379,16,379,17],[380,16,380,17],[381,0,381,1],[381,2,381,3],[381,4,381,7],[381,8,381,9],[381,10,381,11],[381,12,381,15],[381,16,381,17],[380,0,380,1],[380,2,380,3],[380,4,380,7],[380,8,380,9],[380,10,380,11],[380,12,380,15],[371,19,371,29],[372,19,372,29],[376,0,377,1],[377,4,377,7],[377,12,377,15],[378,0,378,1],[378,2,378,3],[378,4,378,7],[378,8,378,9],[378,10,378,11],[378,12,378,15],[378,16,378,17],[371,2,371,9],[371,10,371,17],[372,2,372,9],[372,10,372,17],[373,2,373,9],[373,10,373,17],[365,19,365,29],[366,19,366,29],[367,19,367,29],[368,19,368,29],[369,19,369,29],[370,19,370,29],[359,19,359,29],[360,19,360,29],[361,19,361,29],[362,19,362,29],[363,19,363,29],[364,19,364,29],[353,19,353,29],[354,19,354,29],[355,19,355,29],[356,19,356,29],[357,19,357,29],[358,19,358,29],[347,19,347,29],[348,19,348,29],[349,19,349,29],[350,19,350,29],[351,19,351,29],[352,19,352,29],[341,19,341,29],[342,19,342,29],[343,19,343,29],[344,19,344,29],[345,19,345,29],[346,19,346,29],[335,19,335,29],[336,19,336,29],[337,19,337,29],[338,19,338,29],[339,19,339,29],[340,19,340,29],[329,19,329,29],[330,19,330,29],[331,19,331,29],[332,19,332,29],[333,19,333,29],[334,19,334,29],[323,19,323,29],[324,19,324,29],[325,19,325,29],[326,19,326,29],[327,19,327,29],[328,19,328,29],[317,19,317,29],[318,19,318,29],[319,19,319,29],[320,19,320,29],[321,19,321,29],[322,19,322,29],[311,19,311,29],[312,19,312,29],[313,19,313,29],[314,19,314,29],[315,19,315,29],[316,19,316,29],[305,19,305,29],[306,19,306,29],[307,19,307,29],[308,19,308,29],[309,19,309,29],[310,19,310,29],[299,19,299,29],[300,19,300,29],[301,19,301,29],[302,19,302,29],[303,19,303,29],[304,19,304,29],[293,19,293,29],[294,19,294,29],[295,19,295,29],[296,19,296,29],[297,19,297,29],[298,19,298,29],[287,19,287,29],[288,19,288,29],[289,19,289,29],[290,19,290,29],[291,19,291,29],[292,19,292,29],[281,19,281,29],[282,19,282,29],[283,19,283,29],[284,19,284,29],[285,19,285,29],[286,19,286,29],[275,19,275,29],[276,19,276,29],[277,19,277,29],[278,19,278,29],[279,19,279,29],[280,19,280,29],[269,19,269,29],[270,19,270,29],[271,19,271,29],[272,19,272,29],[273,19,273,29],[274,19,274,29],[263,19,263,29],[264,19,264,29],[265,19,265,29],[266,19,266,29],[267,19,267,29],[268,19,268,29],[257,19,257,29],[258,19,258,29],[259,19,259,29],[260,19,260,29],[261,19,261,29],[262,19,262,29],[251,19,251,29],[252,19,252,29],[253,19,253,29],[254,19,254,29],[255,19,255,29],[256,19,256,29],[245,19,245,29],[246,19,246,29],[247,19,247,29],[248,19,248,29],[249,19,249,29],[250,19,250,29],[239,19,239,29],[240,19,240,29],[241,19,241,29],[242,19,242,29],[243,19,243,29],[244,19,244,29],[233,19,233,29],[234,19,234,29],[235,19,235,29],[236,19,236,29],[237,19,237,29],[238,19,238,29],[227,19,227,29],[228,19,228,29],[229,19,229,29],[230,19,230,29],[231,19,231,29],[232,19,232,29],[221,19,221,29],[222,19,222,29],[223,19,223,29],[224,19,224,29],[225,19,225,29],[226,19,226,29],[215,19,215,29],[216,19,216,29],[217,19,217,29],[218,19,218,29],[219,19,219,29],[220,19,220,29],[209,19,209,29],[210,19,210,29],[211,19,211,29],[212,19,212,29],[213,19,213,29],[214,19,214,29],[203,19,203,29],[204,19,204,29],[205,19,205,29],[206,19,206,29],[207,19,207,29],[208,19,208,29],[197,19,197,29],[198,19,198,29],[199,19,199,29],[200,19,200,29],[201,19,201,29],[202,19,202,29],[191,19,191,29],[192,19,192,29],[193,19,193,29],[194,19,194,29],[195,19,195,29],[196,19,196,29],[185,19,185,29],[186,19,186,29],[187,19,187,29],[188,19,188,29],[189,19,189,29],[190,19,190,29],[179,19,179,29],[180,19,180,29],[181,19,181,29],[182,19,182,29],[183,19,183,29],[184,19,184,29],[173,19,173,29],[174,19,174,29],[175,19,175,29],[176,19,176,29],[177,19,177,29],[178,19,178,29],[167,19,167,29],[168,19,168,29],[169,19,169,29],[170,19,170,29],[171,19,171,29],[172,19,172,29],[161,19,161,29],[162,19,162,29],[163,19,163,29],[164,19,164,29],[165,19,165,29],[166,19,166,29],[155,19,155,29],[156,19,156,29],[157,19,157,29],[158,19,158,29],[159,19,159,29],[160,19,160,29],[149,19,149,29],[150,19,150,29],[151,19,151,29],[152,19,152,29],[153,19,153,29],[154,19,154,29],[143,19,143,29],[144,19,144,29],[145,19,145,29],[146,19,146,29],[147,19,147,29],[148,19,148,29],[137,19,137,29],[138,19,138,29],[139,19,139,29],[140,19,140,29],[141,19,141,29],[142,19,142,29],[131,19,131,29],[132,19,132,29],[133,19,133,29],[134,19,134,29],[135,19,135,29],[136,19,136,29],[125,19,125,29],[126,19,126,29],[127,19,127,29],[128,19,128,29],[129,19,129,29],[130,19,130,29],[119,19,119,29],[120,19,120,29],[121,19,121,29],[122,19,122,29],[123,19,123,29],[124,19,124,29],[113,19,113,29],[114,19,114,29],[115,19,115,29],[116,19,116,29],[117,19,117,29],[118,19,118,29],[107,19,107,29],[108,19,108,29],[109,19,109,29],[110,19,110,29],[111,19,111,29],[112,19,112,29],[101,19,101,29],[102,19,102,29],[103,19,103,29],[104,19,104,29],[105,19,105,29],[106,19,106,29],[95,19,95,29],[96,19,96,29],[97,19,97,29],[98,19,98,29],[99,19,99,29],[100,19,100,29],[89,19,89,29],[90,19,90,29],[91,19,91,29],[92,19,92,29],[93,19,93,29],[94,19,94,29],[83,19,83,29],[84,19,84,29],[85,19,85,29],[86,19,86,29],[87,19,87,29],[88,19,88,29],[77,19,77,29],[78,19,78,29],[79,19,79,29],[80,19,80,29],[81,19,81,29],[82,19,82,29],[71,19,71,29],[72,19,72,29],[73,19,73,29],[74,19,74,29],[75,19,75,29],[76,19,76,29],[65,19,65,29],[66,19,66,29],[67,19,67,29],[68,19,68,29],[69,19,69,29],[70,19,70,29],[59,19,59,29],[60,19,60,29],[61,19,61,29],[62,19,62,29],[63,19,63,29],[64,19,64,29],[53,19,53,29],[54,19,54,29],[55,19,55,29],[56,19,56,29],[57,19,57,29],[58,19,58,29],[47,19,47,29],[48,19,48,29],[49,19,49,29],[50,19,50,29],[51,19,51,29],[52,19,52,29],[41,19,41,29],[42,19,42,29],[43,19,43,29],[44,19,44,29],[45,19,45,29],[46,19,46,29],[35,19,35,29],[36,19,36,29],[37,19,37,29],[38,19,38,29],[39,19,39,29],[40,19,40,29],[29,19,29,29],[30,19,30,29],[31,19,31,29],[32,19,32,29],[33,19,33,29],[34,19,34,29],[23,19,23,29],[24,19,24,29],[25,19,25,29],[26,19,26,29],[27,19,27,29],[28,19,28,29],[17,19,17,29],[18,19,18,29],[19,19,19,29],[20,19,20,29],[21,19,21,29],[22,19,22,29],[11,19,11,29],[12,19,12,29],[13,19,13,29],[14,19,14,29],[15,19,15,29],[16,19,16,29],[5,2,5,9],[5,10,5,17],[7,19,7,29],[8,19,8,29],[9,19,9,29],[10,19,10,29],[10,2,10,9],[10,10,10,17],[3,0,3,1],[3,2,3,17],[3,19,3,29],[4,0,4,1],[4,2,4,9],[4,10,4,17]]}
[]
["Horaire prof Mécanique de véhicules lourds routiers"]
[" "]
["Année scolaire 2025-2026",null," Julien Béland M.",null,null,null,null,null,null,null,null,null,null,null,null,null,null,null,null,"Commentaires"]
[null,null," Intensif 1800",null,null,null,null,null,null,null," Intensif 1800"]
[10,null,"Jour    ",null,null,null,null,null,null,null,"Soir    "]
[null,null,"M","P","H","L","M","P","H","L","M","P","H","L","M","P","H","L"]
[{"$f":"WEEKDAY(B8,2)","v":1},"2025-08-18","                   Vacances          ",null,null,null,null,null,null,null,"                   Vacances          "]
[2,"2025-08-19","                   Vacances          ",null,null,null,null,null,null,null,"                   Vacances          "]
[3,{"$f":"B9+1","v":"2025-08-20"},"                   Vacances          ",null,null,null,null,null,null,null,"                   Vacances          "]
[4,{"$f":"B10+1","v":"2025-08-21"},"                   Vacances          ",null,null,null,null,null,null,null,"                   Vacances          "]
[5,"2025-08-22","     Pédagogique Commune",null,null,null,null,null,null,null,"     Pédagogique Commune"]
[6,"2025-08-23","                       WEEK-END                       ",null,null,null,null,null,null,null,"                       WEEK-END                       "]
[7,"2025-08-24","                       WEEK-END                       ",null,null,null,null,null,null,null,"                       WEEK-END                       "]
[1,"2025-08-25","     Pédagogique",null,null,null,null,null,null,null,"     Pédagogique"]
[2,"2025-08-26"]
[3,"2025-08-27"]
[4,"2025-08-28"]
[5,"2025-08-29"]
[6,"2025-08-30","                       WEEK-END                       ",null,null,null,null,null,null,null,"                       WEEK-END                       "]
[7,"2025-08-31","                       WEEK-END                       ",null,null,null,null,null,null,null,"                       WEEK-END                       "]
[1,"2025-09-01","Congé",null,null,null,null,null,null,null,"Congé"]
[2,"2025-09-02"]
[3,"2025-09-03"]
[4,"2025-09-04"]
[5,"2025-09-05"]
[6,"2025-09-06","                       WEEK-END                       ",null,null,null,null,null,null,null,"                       WEEK-END                       "]
[7,"2025-09-07","                       WEEK-END                       ",null,null,null,null,null,null,null,"                       WEEK-END                       "]
[1,"2025-09-08"]
[2,"2025-09-09"]
[3,"2025-09-10"]
[4,"2025-09-11"]
[5,"2025-09-12"]
[6,"2025-09-13","                       WEEK-END                       ",null,null,null,null,null,null,null,"                       WEEK-END                       "]
[7,"2025-09-14","                       WEEK-END                       ",null,null,null,null,null,null,null,"                       WEEK-END                       "]
[1,"2025-09-15"]
[2,"2025-09-16"]
[3,"2025-09-17"]
[4,"2025-09-18"]
[5,"2025-09-19"]
[6,"2025-09-20","                       WEEK-END                       ",null,null,null,null,null,null,null,"                       WEEK-END                       "]
[7,"2025-09-21","                       WEEK-END                       ",null,null,null,null,null,null,null,"                       WEEK-END                       "]
[1,"2025-09-22"]
[2,"2025-09-23"]
[3,"2025-09-24"]
[4,"2025-09-25"]
[5,"2025-09-26"]
[6,"2025-09-27","                       WEEK-END                       ",null,null,null,null,null,null,null,"                       WEEK-END                       "]
[7,"2025-09-28","                       WEEK-END                       ",null,null,null,null,null,null,null,"                       WEEK-END                       "]
[1,"2025-09-29"]
[2,"2025-09-30"]
[3,"2025-10-01"]
[4,"2025-10-02"]
[5,"2025-10-03"]
[6,"2025-10-04","                       WEEK-END                       ",null,null,null,null,null,null,null,"                       WEEK-END                       "]
[7,"2025-10-05","                       WEEK-END                       ",null,null,null,null,null,null,null,"                       WEEK-END                       "]
[1,"2025-10-06"]
[2,"2025-10-07"]
[3,"2025-10-08"]
[4,"2025-10-09"]
[5,"2025-10-10"]
[6,"2025-10-11","                       WEEK-END                       ",null,null,null,null,null,null,null,"                       WEEK-END                       "]
[7,"2025-10-12","                       WEEK-END                       ",null,null,null,null,null,null,null,"                       WEEK-END                       "]
[1,"2025-10-13","Congé",null,null,null,null,null,null,null,"Congé"]
[2,"2025-10-14"]
[3,"2025-10-15"]
[4,"2025-10-16"]
[5,"2025-10-17"]
[6,"2025-10-18","                       WEEK-END                       ",null,null,null,null,null,null,null,"                       WEEK-END                       "]
[7,"2025-10-19","                       WEEK-END                       ",null,null,null,null,null,null,null,"                       WEEK-END                       "]
[1,"2025-10-20"]
[{"$f":"WEEKDAY(B72,2)","v":2},"2025-10-21"]
[3,"2025-10-22","     Pédagogique",null,null,null,null,null,null,null,"     Pédagogique"]
[4,"2025-10-23"]
[5,{"$f":"B74+1","v":"2025-10-24"}]
[6,"2025-10-25","                       WEEK-END                       ",null,null,null,null,null,null,null,"                       WEEK-END                       "]
[7,"2025-10-26","                       WEEK-END                       ",null,null,null,null,null,null,null,"                       WEEK-END                       "]
[1,"2025-10-27"]
[2,"2025-10-28"]
[3,"2025-10-29"]
[4,"2025-10-30"]
[5,"2025-10-31"]
[6,"2025-11-01","                       WEEK-END                       ",null,null,null,null,null,null,null,"                       WEEK-END                       "]
[7,"2025-11-02","                       WEEK-END                       ",null,null,null,null,null,null,null,"                       WEEK-END                       "]
[1,"2025-11-03"]
[2,"2025-11-04"]
[3,"2025-11-05"]
[4,"2025-11-06","     Pédagogique",null,null,null,null,null,null,null,"     Pédagogique"]
[5,"2025-11-07","     Pédagogique",null,null,null,null,null,null,null,"     Pédagogique"]
[6,"2025-11-08","                       WEEK-END                       ",null,null,null,null,null,null,null,"                       WEEK-END                       "]
[7,"2025-11-09","                       WEEK-END                       ",null,null,null,null,null,null,null,"                       WEEK-END                       "]
[1,"2025-11-10"]
[2,"2025-11-11"]
[3,"2025-11-12"]
[4,"2025-11-13"]
[5,"2025-11-14"]
[6,"2025-11-15","                       WEEK-END                       ",null,null,null,null,null,null,null,"                       WEEK-END                       "]
[7,"2025-11-16","                       WEEK-END                       ",null,null,null,null,null,null,null,"                       WEEK-END                       "]
[1,"2025-11-17"]
[2,"2025-11-18"]
[3,"2025-11-19"]
[4,"2025-11-20","     Pédagogique Commune",null,null,null,null,null,null,null,"     Pédagogique Commune"]
[5,"2025-11-21"]
[6,"2025-11-22","                       WEEK-END                       ",null,null,null,null,null,null,null,"                       WEEK-END                       "]
[7,"2025-11-23","                       WEEK-END                       ",null,null,null,null,null,null,null,"                       WEEK-END                       "]
[1,"2025-11-24"]
[2,"2025-11-25"]
[3,"2025-11-26"]
[4,"2025-11-27"]
[5,"2025-11-28"]
[6,"2025-11-29","                       WEEK-END                       ",null,null,null,null,null,null,null,"                       WEEK-END                       "]
[7,"2025-11-30","                       WEEK-END                       ",null,null,null,null,null,null,null,"                       WEEK-END                       "]
[1,"2025-12-01"]
[2,"2025-12-02"]
[3,"2025-12-03"]
[4,"2025-12-04"]
[5,"2025-12-05"]
[6,"2025-12-06","                       WEEK-END                       ",null,null,null,null,null,null,null,"                       WEEK-END                       "]
[7,"2025-12-07","                       WEEK-END                       ",null,null,null,null,null,null,null,"                       WEEK-END                       "]
[1,"2025-12-08"]
[2,"2025-12-09"]
[3,"2025-12-10"]
[4,"2025-12-11"]
[5,"2025-12-12"]
[6,"2025-12-13","                       WEEK-END                       ",null,null,null,null,null,null,null,"                       WEEK-END                       "]
[7,"2025-12-14","                       WEEK-END                       ",null,null,null,null,null,null,null,"                       WEEK-END                       "]
[1,"2025-12-15"]
[2,"2025-12-16"]
[3,"2025-12-17"]
[4,"2025-12-18"]
[5,"2025-12-19"]
[6,"2025-12-20","                       WEEK-END                       ",null,null,null,null,null,null,null,"                       WEEK-END                       "]
[7,"2025-12-21","                       WEEK-END                       ",null,null,null,null,null,null,null,"                       WEEK-END                       "]
[1,"2025-12-22","Congé Noël",null,null,null,null,null,null,null,"Congé Noël"]
[2,"2025-12-23","Congé Noël",null,null,null,null,null,null,null,"Congé Noël"]
[{"$f":"WEEKDAY(B136,2)","v":3},"2025-12-24","Congé Noël",null,null,null,null,null,null,null,"Congé Noël"]
[4,"2025-12-25","Congé Noël",null,null,null,null,null,null,null,"Congé Noël"]
[5,"2025-12-26","Congé Noël",null,null,null,null,null,null,null,"Congé Noël"]
[6,{"$f":"B138+1","v":"2025-12-27"},"                       WEEK-END                       ",null,null,null,null,null,null,null,"                       WEEK-END                       "]
[7,"2025-12-28","                       WEEK-END                       ",null,null,null,null,null,null,null,"                       WEEK-END                       "]
[1,"2025-12-29","Congé Noël",null,null,null,null,null,null,null,"Congé Noël"]
[2,"2025-12-30","Congé Noël",null,null,null,null,null,null,null,"Congé Noël"]
[3,"2025-12-31","Congé Noël",null,null,null,null,null,null,null,"Congé Noël"]
[4,"2026-01-01","Congé Noël",null,null,null,null,null,null,null,"Congé Noël"]
[5,"2026-01-02","Congé Noël",null,null,null,null,null,null,null,"Congé Noël"]
[6,"2026-01-03","                       WEEK-END                       ",null,null,null,null,null,null,null,"                       WEEK-END                       "]
[7,"2026-01-04","                       WEEK-END                       ",null,null,null,null,null,null,null,"                       WEEK-END                       "]
[1,"2026-01-05","     Pédagogique Commune",null,null,null,null,null,null,null,"     Pédagogique Commune"]
[2,"2026-01-06"]
[3,"2026-01-07"]
[4,"2026-01-08"]
[5,"2026-01-09"]
[6,"2026-01-10","                       WEEK-END                       ",null,null,null,null,null,null,null,"                       WEEK-END                       "]
[7,"2026-01-11","                       WEEK-END                       ",null,null,null,null,null,null,null,"                       WEEK-END                       "]
[1,"2026-01-12"]
[2,"2026-01-13"]
[3,"2026-01-14"]
[4,"2026-01-15"]
[5,"2026-01-16"]
[6,"2026-01-17","                       WEEK-END                       ",null,null,null,null,null,null,null,"                       WEEK-END                       "]
[7,"2026-01-18","                       WEEK-END                       ",null,null,null,null,null,null,null,"                       WEEK-END                       "]
[1,"2026-01-19"]
[2,"2026-01-20"]
[3,"2026-01-21"]
[4,"2026-01-22"]
[5,"2026-01-23"]
[6,"2026-01-24","                       WEEK-END                       ",null,null,null,null,null,null,null,"                       WEEK-END                       "]
[7,"2026-01-25","                       WEEK-END                       ",null,null,null,null,null,null,null,"                       WEEK-END                       "]
[1,"2026-01-26"]
[2,"2026-01-27"]
[3,"2026-01-28"]
[4,"2026-01-29"]
[5,"2026-01-30","     Pédagogique",null,null,null,null,null,null,null,"     Pédagogique"]
[6,"2026-01-31","                       WEEK-END                       ",null,null,null,null,null,null,null,"                       WEEK-END                       "]
[7,"2026-02-01","                       WEEK-END                       ",null,null,null,null,null,null,null,"                       WEEK-END                       "]
[1,"2026-02-02"]
[2,"2026-02-03"]
[3,"2026-02-04"]
[4,"2026-02-05"]
[5,"2026-02-06"]
[6,"2026-02-07","                       WEEK-END                       ",null,null,null,null,null,null,null,"                       WEEK-END                       "]
[7,"2026-02-08","                       WEEK-END                       ",null,null,null,null,null,null,null,"                       WEEK-END                       "]
[1,"2026-02-09"]
[2,"2026-02-10"]
[3,"2026-02-11"]
[4,"2026-02-12"]
[5,"2026-02-13"]
[6,"2026-02-14","                       WEEK-END                       ",null,null,null,null,null,null,null,"                       WEEK-END                       "]
[7,"2026-02-15","                       WEEK-END                       ",null,null,null,null,null,null,null,"                       WEEK-END                       "]
[1,"2026-02-16"]
[2,"2026-02-17"]
[3,"2026-02-18"]
[4,"2026-02-19"]
[5,"2026-02-20"]
[6,"2026-02-21","                       WEEK-END                       ",null,null,null,null,null,null,null,"                       WEEK-END                       "]
[7,"2026-02-22","                       WEEK-END                       ",null,null,null,null,null,null,null,"                       WEEK-END                       "]
[1,"2026-02-23"]
[2,"2026-02-24"]
[3,"2026-02-25","     Pédagogique",null,null,null,null,null,null,null,"     Pédagogique"]
[{"$f":"WEEKDAY(B200,2)","v":4},"2026-02-26"]
[5,"2026-02-27"]
[6,"2026-02-28","                       WEEK-END                       ",null,null,null,null,null,null,null,"                       WEEK-END                       "]
[7,{"$f":"B202+1","v":"2026-03-01"},"                       WEEK-END                       ",null,null,null,null,null,null,null,"                       WEEK-END                       "]
[1,"2026-03-02"]
[2,"2026-03-03"]
[3,"2026-03-04"]
[4,"2026-03-05"]
[5,"2026-03-06"]
[6,"2026-03-07","                       WEEK-END                       ",null,null,null,null,null,null,null,"                       WEEK-END                       "]
[7,"2026-03-08","                       WEEK-END                       ",null,null,null,null,null,null,null,"                       WEEK-END                       "]
[1,"2026-03-09"]
[2,"2026-03-10"]
[3,"2026-03-11"]
[4,"2026-03-12"]
[5,"2026-03-13","     Pédagogique",null,null,null,null,null,null,null,"     Pédagogique"]
[6,"2026-03-14","                       WEEK-END                       ",null,null,null,null,null,null,null,"                       WEEK-END                       "]
[7,"2026-03-15","                       WEEK-END                       ",null,null,null,null,null,null,null,"                       WEEK-END                       "]
[1,"2026-03-16"]
[2,"2026-03-17"]
[3,"2026-03-18"]
[4,"2026-03-19"]
[5,"2026-03-20"]
[6,"2026-03-21","                       WEEK-END                       ",null,null,null,null,null,null,null,"                       WEEK-END                       "]
[7,"2026-03-22","                       WEEK-END                       ",null,null,null,null,null,null,null,"                       WEEK-END                       "]
[1,"2026-03-23"]
[2,"2026-03-24"]
[3,"2026-03-25"]
[4,"2026-03-26"]
[5,"2026-03-27"]
[6,"2026-03-28","                       WEEK-END                       ",null,null,null,null,null,null,null,"                       WEEK-END                       "]
[7,"2026-03-29","                       WEEK-END                       ",null,null,null,null,null,null,null,"                       WEEK-END                       "]
[1,"2026-03-30"]
[2,"2026-03-31"]
[3,"2026-04-01"]
[4,"2026-04-02"]
[5,"2026-04-03","Congé",null,null,null,null,null,null,null,"Congé"]
[6,"2026-04-04","                       WEEK-END                       ",null,null,null,null,null,null,null,"                       WEEK-END                       "]
[7,"2026-04-05","                       WEEK-END                       ",null,null,null,null,null,null,null,"                       WEEK-END                       "]
[1,"2026-04-06","Congé",null,null,null,null,null,null,null,"Congé"]
[2,"2026-04-07"]
[3,"2026-04-08"]
[4,"2026-04-09"]
[5,"2026-04-10"]
[6,"2026-04-11","                       WEEK-END                       ",null,null,null,null,null,null,null,"                       WEEK-END                       "]
[7,"2026-04-12","                       WEEK-END                       ",null,null,null,null,null,null,null,"                       WEEK-END                       "]
[1,"2026-04-13"]
[2,"2026-04-14"]
[3,"2026-04-15"]
[4,"2026-04-16"]
[5,"2026-04-17"]
[6,"2026-04-18","                       WEEK-END                       ",null,null,null,null,null,null,null,"                       WEEK-END                       "]
[7,"2026-04-19","                       WEEK-END                       ",null,null,null,null,null,null,null,"                       WEEK-END                       "]
[1,"2026-04-20"]
[2,"2026-04-21"]
[3,"2026-04-22"]
[4,"2026-04-23"]
[5,"2026-04-24"]
[6,"2026-04-25","                       WEEK-END                       ",null,null,null,null,null,null,null,"                       WEEK-END                       "]
[7,"2026-04-26","                       WEEK-END                       ",null,null,null,null,null,null,null,"                       WEEK-END                       "]
[1,"2026-04-27"]
[2,"2026-04-28"]
[3,"2026-04-29"]
[4,"2026-04-30"]
[{"$f":"WEEKDAY(B264,2)","v":5},"2026-05-01","     Pédagogique Commune",null,null,null,null,null,null,null,"     Pédagogique Commune"]
[6,"2026-05-02","                       WEEK-END                       ",null,null,null,null,null,null,null,"                       WEEK-END                       "]
[7,"2026-05-03","                       WEEK-END                       ",null,null,null,null,null,null,null,"                       WEEK-END                       "]
[1,{"$f":"B266+1","v":"2026-05-04"}]
[2,"2026-05-05"]
[3,"2026-05-06"]
[4,"2026-05-07"]
[5,"2026-05-08"]
[6,"2026-05-09","                       WEEK-END                       ",null,null,null,null,null,null,null,"                       WEEK-END                       "]
[7,"2026-05-10","                       WEEK-END                       ",null,null,null,null,null,null,null,"                       WEEK-END                       "]
[1,"2026-05-11"]
[2,"2026-05-12"]
[3,"2026-05-13"]
[4,"2026-05-14"]
[5,"2026-05-15"]
[6,"2026-05-16","                       WEEK-END                       ",null,null,null,null,null,null,null,"                       WEEK-END                       "]
[7,"2026-05-17","                       WEEK-END                       ",null,null,null,null,null,null,null,"                       WEEK-END                       "]
[1,"2026-05-18","Congé",null,null,null,null,null,null,null,"Congé"]
[2,"2026-05-19"]
[3,"2026-05-20"]
[4,"2026-05-21"]
[5,"2026-05-22"]
[6,"2026-05-23","                       WEEK-END                       ",null,null,null,null,null,null,null,"                       WEEK-END                       "]
[7,"2026-05-24","                       WEEK-END                       ",null,null,null,null,null,null,null,"                       WEEK-END                       "]
[1,"2026-05-25"]
[2,"2026-05-26"]
[3,"2026-05-27"]
[4,"2026-05-28"]
[5,"2026-05-29"]
[6,"2026-05-30","                       WEEK-END                       ",null,null,null,null,null,null,null,"                       WEEK-END                       "]
[7,"2026-05-31","                       WEEK-END                       ",null,null,null,null,null,null,null,"                       WEEK-END                       "]
[1,"2026-06-01"]
[2,"2026-06-02"]
[3,"2026-06-03"]
[4,"2026-06-04"]
[5,"2026-06-05","     Pédagogique",null,null,null,null,null,null,null,"     Pédagogique"]
[6,"2026-06-06","                       WEEK-END                       ",null,null,null,null,null,null,null,"                       WEEK-END                       "]
[7,"2026-06-07","                       WEEK-END                       ",null,null,null,null,null,null,null,"                       WEEK-END                       "]
[1,"2026-06-08"]
[2,"2026-06-09"]
[3,"2026-06-10"]
[4,"2026-06-11"]
[5,"2026-06-12"]
[6,"2026-06-13","                       WEEK-END                       ",null,null,null,null,null,null,null,"                       WEEK-END                       "]
[7,"2026-06-14","                       WEEK-END                       ",null,null,null,null,null,null,null,"                       WEEK-END                       "]
[1,"2026-06-15"]
[2,"2026-06-16"]
[3,"2026-06-17"]
[4,"2026-06-18"]
[5,"2026-06-19"]
[6,"2026-06-20","                       WEEK-END                       ",null,null,null,null,null,null,null,"                       WEEK-END                       "]
[7,"2026-06-21","                       WEEK-END                       ",null,null,null,null,null,null,null,"                       WEEK-END                       "]
[1,"2026-06-22"]
[2,"2026-06-23"]
[3,"2026-06-24","Congé",null,null,null,null,null,null,null,"Congé"]
[4,"2026-06-25"]
[5,"2026-06-26"]
[6,"2026-06-27","                       WEEK-END                       ",null,null,null,null,null,null,null,"                       WEEK-END                       "]
[7,"2026-06-28","                       WEEK-END                       ",null,null,null,null,null,null,null,"                       WEEK-END                       "]
[1,"2026-06-29","                   Vacances          ",null,null,null,null,null,null,null,"                   Vacances          "]
[2,"2026-06-30","                   Vacances          ",null,null,null,null,null,null,null,"                   Vacances          "]
[3,"2026-07-01","                   Vacances          ",null,null,null,null,null,null,null,"                   Vacances          "]
[4,"2026-07-02","                   Vacances          ",null,null,null,null,null,null,null,"                   Vacances          "]
[5,"2026-07-03","                   Vacances          ",null,null,null,null,null,null,null,"                   Vacances          "]
[{"$f":"WEEKDAY(B328,2)","v":6},"2026-07-04","                       WEEK-END                       ",null,null,null,null,null,null,null,"                       WEEK-END                       "]
[7,"2026-07-05","                       WEEK-END                       ",null,null,null,null,null,null,null,"                       WEEK-END                       "]
[1,"2026-07-06","                   Vacances          ",null,null,null,null,null,null,null,"                   Vacances          "]
[2,{"$f":"B330+1","v":"2026-07-07"},"                   Vacances          ",null,null,null,null,null,null,null,"                   Vacances          "]
[3,"2026-07-08","                   Vacances          ",null,null,null,null,null,null,null,"                   Vacances          "]
[4,"2026-07-09","                   Vacances          ",null,null,null,null,null,null,null,"                   Vacances          "]
[5,"2026-07-10","                   Vacances          ",null,null,null,null,null,null,null,"                   Vacances          "]
[6,"2026-07-11","                       WEEK-END                       ",null,null,null,null,null,null,null,"                       WEEK-END                       "]
[7,"2026-07-12","                       WEEK-END                       ",null,null,null,null,null,null,null,"                       WEEK-END                       "]
[1,"2026-07-13","                   Vacances          ",null,null,null,null,null,null,null,"                   Vacances          "]
[2,"2026-07-14","                   Vacances          ",null,null,null,null,null,null,null,"                   Vacances          "]
[3,"2026-07-15","                   Vacances          ",null,null,null,null,null,null,null,"                   Vacances          "]
[4,"2026-07-16","                   Vacances          ",null,null,null,null,null,null,null,"                   Vacances          "]
[5,"2026-07-17","                   Vacances          ",null,null,null,null,null,null,null,"                   Vacances          "]
[6,"2026-07-18","                       WEEK-END                       ",null,null,null,null,null,null,null,"                       WEEK-END                       "]
[7,"2026-07-19","                       WEEK-END                       ",null,null,null,null,null,null,null,"                       WEEK-END                       "]
[1,"2026-07-20","                   Vacances          ",null,null,null,null,null,null,null,"                   Vacances          "]
[2,"2026-07-21","                   Vacances          ",null,null,null,null,null,null,null,"                   Vacances          "]
[3,"2026-07-22","                   Vacances          ",null,null,null,null,null,null,null,"                   Vacances          "]
[4,"2026-07-23","                   Vacances          ",null,null,null,null,null,null,null,"                   Vacances          "]
[5,"2026-07-24","                   Vacances          ",null,null,null,null,null,null,null,"                   Vacances          "]
[6,"2026-07-25","                       WEEK-END                       ",null,null,null,null,null,null,null,"                       WEEK-END                       "]
[7,"2026-07-26","                       WEEK-END                       ",null,null,null,null,null,null,null,"                       WEEK-END                       "]
[1,"2026-07-27","                   Vacances          ",null,null,null,null,null,null,null,"                   Vacances          "]
[2,"2026-07-28","                   Vacances          ",null,null,null,null,null,null,null,"                   Vacances          "]
[3,"2026-07-29","                   Vacances          ",null,null,null,null,null,null,null,"                   Vacances          "]
[4,"2026-07-30","                   Vacances          ",null,null,null,null,null,null,null,"                   Vacances          "]
[5,"2026-07-31","                   Vacances          ",null,null,null,null,null,null,null,"                   Vacances          "]
[6,"2026-08-01","                       WEEK-END                       ",null,null,null,null,null,null,null,"                       WEEK-END                       "]
[7,"2026-08-02","                       WEEK-END                       ",null,null,null,null,null,null,null,"                       WEEK-END                       "]
[1,"2026-08-03","                   Vacances          ",null,null,null,null,null,null,null,"                   Vacances          "]
[2,"2026-08-04","                   Vacances          ",null,null,null,null,null,null,null,"                   Vacances          "]
[3,"2026-08-05","                   Vacances          ",null,null,null,null,null,null,null,"                   Vacances          "]
[4,"2026-08-06","                   Vacances          ",null,null,null,null,null,null,null,"                   Vacances          "]
[5,"2026-08-07","                   Vacances          ",null,null,null,null,null,null,null,"                   Vacances          "]
[6,"2026-08-08","                       WEEK-END                       ",null,null,null,null,null,null,null,"                       WEEK-END                       "]
[7,"2026-08-09","                       WEEK-END                       ",null,null,null,null,null,null,null,"                       WEEK-END                       "]
[1,"2026-08-10","                   Vacances          ",null,null,null,null,null,null,null,"                   Vacances          "]
[2,"2026-08-11","                   Vacances          ",null,null,null,null,null,null,null,"                   Vacances          "]
[3,"2026-08-12","                   Vacances          ",null,null,null,null,null,null,null,"                   Vacances          "]
[4,"2026-08-13","                   Vacances          ",null,null,null,null,null,null,null,"                   Vacances          "]
[5,"2026-08-14","                   Vacances          ",null,null,null,null,null,null,null,"                   Vacances          "]
[6,"2026-08-15","                       WEEK-END                       ",null,null,null,null,null,null,null,"                       WEEK-END                       "]
[7,"2026-08-16","                       WEEK-END                       ",null,null,null,null,null,null,null,"                       WEEK-END                       "]
[1,"2026-08-17","                   Vacances          ",null,null,null,null,null,null,null,"                   Vacances          "]
[2,"2026-08-18","                   Vacances          ",null,null,null,null,null,null,null,"                   Vacances          "]
[null,"2026-08-19","                   Vacances          ",null,null,null,null,null,null,null,"                   Vacances          "]
[]
["Calculateur de période par module"]
["Modules",null," ",null,null,null,null,null,null,null," "]
[null,null,"à prog.",null,"entrées",null,null,null,"à faire",null,"à prog.",null,"entrées",null,null,null,"à faire"]
["module 1",null,{"$f":"IF(E379=(I379),\"ok\",($A379))","v":"ok"},null,{"$f":"SUMIF(C$8:C$373,1,E$8:E$373)+SUMIF(G$8:G$373,1,I$8:I$373)","v":0},null,null,null,0,null,{"$f":"IF(M379=(Q379),\"ok\",($A379))","v":"ok"},null,{"$f":"SUMIF(K$8:K$373,1,M$8:M$373)+SUMIF(O$8:O$373,1,Q$8:Q$373)","v":0},null,null,null,0]
["module 2",null,"ok",null,{"$f":"SUMIF(C$8:C$373,2,E$8:E$373)+SUMIF(G$8:G$373,2,I$8:I$373)","v":0},null,null,null,0,null,"ok",null,{"$f":"SUMIF(K$8:K$373,2,M$8:M$373)+SUMIF(O$8:O$373,2,Q$8:Q$373)","v":0},null,null,null,0]
["module 3",null,"ok",null,{"$f":"SUMIF(C$8:C$373,3,E$8:E$373)+SUMIF(G$8:G$373,3,I$8:I$373)","v":0},null,null,null,0,null,"ok",null,{"$f":"SUMIF(K$8:K$373,3,M$8:M$373)+SUMIF(O$8:O$373,3,Q$8:Q$373)","v":0},null,null,null,0]
["module 4",null,"ok",null,{"$f":"SUMIF(C$8:C$373,4,E$8:E$373)+SUMIF(G$8:G$373,4,I$8:I$373)","v":0},null,null,null,0,null,"ok",null,{"$f":"SUMIF(K$8:K$373,4,M$8:M$373)+SUMIF(O$8:O$373,4,Q$8:Q$373)","v":0},null,null,null,0]
["module 5",null,"ok",null,{"$f":"SUMIF(C$8:C$373,5,E$8:E$373)+SUMIF(G$8:G$373,5,I$8:I$373)","v":0},null,null,null,0,null,"ok",null,{"$f":"SUMIF(K$8:K$373,5,M$8:M$373)+SUMIF(O$8:O$373,5,Q$8:Q$373)","v":0},null,null,null,0]
["module 6",null,"ok",null,{"$f":"SUMIF(C$8:C$373,6,E$8:E$373)+SUMIF(G$8:G$373,6,I$8:I$373)","v":0},null,null,null,0,null,"ok",null,{"$f":"SUMIF(K$8:K$373,6,M$8:M$373)+SUMIF(O$8:O$373,6,Q$8:Q$373)","v":0},null,null,null,0]
["module 7",null,"ok",null,{"$f":"SUMIF(C$8:C$373,7,E$8:E$373)+SUMIF(G$8:G$373,7,I$8:I$373)","v":0},null,null,null,0,null,"ok",null,{"$f":"SUMIF(K$8:K$373,7,M$8:M$373)+SUMIF(O$8:O$373,7,Q$8:Q$373)","v":0},null,null,null,0]
["module 8",null,"ok",null,{"$f":"SUMIF(C$8:C$373,8,E$8:E$373)+SUMIF(G$8:G$373,8,I$8:I$373)","v":0},null,null,null,0,null,"ok",null,{"$f":"SUMIF(K$8:K$373,8,M$8:M$373)+SUMIF(O$8:O$373,8,Q$8:Q$373)","v":0},null,null,null,0]
["module 9",null,"ok",null,{"$f":"SUMIF(C$8:C$373,9,E$8:E$373)+SUMIF(G$8:G$373,9,I$8:I$373)","v":0},null,null,null,0,null,"ok",null,{"$f":"SUMIF(K$8:K$373,9,M$8:M$373)+SUMIF(O$8:O$373,9,Q$8:Q$373)","v":0},null,null,null,0]
["module 10",null,"ok",null,{"$f":"SUMIF(C$8:C$373,10,E$8:E$373)+SUMIF(G$8:G$373,10,I$8:I$373)","v":0},null,null,null,0,null,"ok",null,{"$f":"SUMIF(K$8:K$373,10,M$8:M$373)+SUMIF(O$8:O$373,10,Q$8:Q$373)","v":0},null,null,null,0]
["module 11",null,"ok",null,{"$f":"SUMIF(C$8:C$373,11,E$8:E$373)+SUMIF(G$8:G$373,11,I$8:I$373)","v":0},null,null,null,0,null,"ok",null,{"$f":"SUMIF(K$8:K$373,11,M$8:M$373)+SUMIF(O$8:O$373,11,Q$8:Q$373)","v":0},null,null,null,0]
["module 12",null,"ok",null,{"$f":"SUMIF(C$8:C$373,12,E$8:E$373)+SUMIF(G$8:G$373,12,I$8:I$373)","v":0},null,null,null,0,null,"ok",null,{"$f":"SUMIF(K$8:K$373,12,M$8:M$373)+SUMIF(O$8:O$373,12,Q$8:Q$373)","v":0},null,null,null,0]
["module 13",null,"ok",null,{"$f":"SUMIF(C$8:C$373,13,E$8:E$373)+SUMIF(G$8:G$373,13,I$8:I$373)","v":0},null,null,null,0,null,"ok",null,{"$f":"SUMIF(K$8:K$373,13,M$8:M$373)+SUMIF(O$8:O$373,13,Q$8:Q$373)","v":0},null,null,null,0]
["module 14",null,"ok",null,{"$f":"SUMIF(C$8:C$373,14,E$8:E$373)+SUMIF(G$8:G$373,14,I$8:I$373)","v":0},null,null,null,0,null,"ok",null,{"$f":"SUMIF(K$8:K$373,14,M$8:M$373)+SUMIF(O$8:O$373,14,Q$8:Q$373)","v":0},null,null,null,0]
["module 15",null,"ok",null,{"$f":"SUMIF(C$8:C$373,15,E$8:E$373)+SUMIF(G$8:G$373,15,I$8:I$373)","v":0},null,null,null,0,null,"ok",null,{"$f":"SUMIF(K$8:K$373,15,M$8:M$373)+SUMIF(O$8:O$373,15,Q$8:Q$373)","v":0},null,null,null,0]
["module 16",null,"ok",null,{"$f":"SUMIF(C$8:C$373,16,E$8:E$373)+SUMIF(G$8:G$373,16,I$8:I$373)","v":0},null,null,null,0,null,"ok",null,{"$f":"SUMIF(K$8:K$373,16,M$8:M$373)+SUMIF(O$8:O$373,16,Q$8:Q$373)","v":0},null,null,null,0]
["module 17",null,"ok",null,{"$f":"SUMIF(C$8:C$373,17,E$8:E$373)+SUMIF(G$8:G$373,17,I$8:I$373)","v":0},null,null,null,0,null,"ok",null,{"$f":"SUMIF(K$8:K$373,17,M$8:M$373)+SUMIF(O$8:O$373,17,Q$8:Q$373)","v":0},null,null,null,0]
["module 18",null,"ok",null,{"$f":"SUMIF(C$8:C$373,18,E$8:E$373)+SUMIF(G$8:G$373,18,I$8:I$373)","v":0},null,null,null,0,null,"ok",null,{"$f":"SUMIF(K$8:K$373,18,M$8:M$373)+SUMIF(O$8:O$373,18,Q$8:Q$373)","v":0},null,null,null,0]
["module 19",null,"ok",null,{"$f":"SUMIF(C$8:C$373,19,E$8:E$373)+SUMIF(G$8:G$373,19,I$8:I$373)","v":0},null,null,null,0,null,"ok",null,{"$f":"SUMIF(K$8:K$373,19,M$8:M$373)+SUMIF(O$8:O$373,19,Q$8:Q$373)","v":0},null,null,null,0]
["module 20",null,"ok",null,{"$f":"SUMIF(C$8:C$373,20,E$8:E$373)+SUMIF(G$8:G$373,20,I$8:I$373)","v":0},null,null,null,0,null,"ok",null,{"$f":"SUMIF(K$8:K$373,20,M$8:M$373)+SUMIF(O$8:O$373,20,Q$8:Q$373)","v":0},null,null,null,0]
["module 21",null,"ok",null,{"$f":"SUMIF(C$8:C$373,21,E$8:E$373)+SUMIF(G$8:G$373,21,I$8:I$373)","v":0},null,null,null,0,null,"ok",null,{"$f":"SUMIF(K$8:K$373,21,M$8:M$373)+SUMIF(O$8:O$373,21,Q$8:Q$373)","v":0},null,null,null,0]
["module 22",null,"ok",null,{"$f":"SUMIF(C$8:C$373,22,E$8:E$373)+SUMIF(G$8:G$373,22,I$8:I$373)","v":0},null,null,null,0,null,"ok",null,{"$f":"SUMIF(K$8:K$373,22,M$8:M$373)+SUMIF(O$8:O$373,22,Q$8:Q$373)","v":0},null,null,null,0]
["module 23",null,"ok",null,{"$f":"SUMIF(C$8:C$373,23,E$8:E$373)+SUMIF(G$8:G$373,23,I$8:I$373)","v":0},null,null,null,0,null,"ok",null,{"$f":"SUMIF(K$8:K$373,23,M$8:M$373)+SUMIF(O$8:O$373,23,Q$8:Q$373)","v":0},null,null,null,0]
["module 24",null,"ok",null,{"$f":"SUMIF(C$8:C$373,24,E$8:E$373)+SUMIF(G$8:G$373,24,I$8:I$373)","v":0},null,null,null,0,null,"ok",null,{"$f":"SUMIF(K$8:K$373,24,M$8:M$373)+SUMIF(O$8:O$373,24,Q$8:Q$373)","v":0},null,null,null,0]
["module 25",null,"ok",null,{"$f":"SUMIF(C$8:C$373,25,E$8:E$373)+SUMIF(G$8:G$373,25,I$8:I$373)","v":0},null,null,null,0,null,"ok",null,{"$f":"SUMIF(K$8:K$373,25,M$8:M$373)+SUMIF(O$8:O$373,25,Q$8:Q$373)","v":0},null,null,null,0]
["module 26",null,"ok",null,{"$f":"SUMIF(C$8:C$373,26,E$8:E$373)+SUMIF(G$8:G$373,26,I$8:I$373)","v":0},null,null,null,0,null,"ok",null,{"$f":"SUMIF(K$8:K$373,26,M$8:M$373)+SUMIF(O$8:O$373,26,Q$8:Q$373)","v":0},null,null,null,0]
["module 27",null,"ok",null,{"$f":"SUMIF(C$8:C$373,27,E$8:E$373)+SUMIF(G$8:G$373,27,I$8:I$373)","v":0},null,null,null,0,null,"ok",null,{"$f":"SUMIF(K$8:K$373,27,M$8:M$373)+SUMIF(O$8:O$373,27,Q$8:Q$373)","v":0},null,null,null,0]
["module 28",null,"ok",null,{"$f":"SUMIF(C$8:C$373,28,E$8:E$373)+SUMIF(G$8:G$373,28,I$8:I$373)","v":0},null,null,null,0,null,"ok",null,{"$f":"SUMIF(K$8:K$373,28,M$8:M$373)+SUMIF(O$8:O$373,28,Q$8:Q$373)","v":0},null,null,null,0]
["module 29",null,"ok",null,{"$f":"SUMIF(C$8:C$373,29,E$8:E$373)+SUMIF(G$8:G$373,29,I$8:I$373)","v":0},null,null,null,0,null,"ok",null,{"$f":"SUMIF(K$8:K$373,29,M$8:M$373)+SUMIF(O$8:O$373,29,Q$8:Q$373)","v":0},null,null,null,0]
["module 30",null,"ok",null,{"$f":"SUMIF(C$8:C$373,30,E$8:E$373)+SUMIF(G$8:G$373,30,I$8:I$373)","v":0},null,null,null,0,null,"ok",null,{"$f":"SUMIF(K$8:K$373,30,M$8:M$373)+SUMIF(O$8:O$373,30,Q$8:Q$373)","v":0},null,null,null,0]
["module 31",null,"ok",null,{"$f":"SUMIF(C$8:C$373,31,E$8:E$373)+SUMIF(G$8:G$373,31,I$8:I$373)","v":0},null,null,null,0,null,"ok",null,{"$f":"SUMIF(K$8:K$373,31,M$8:M$373)+SUMIF(O$8:O$373,31,Q$8:Q$373)","v":0},null,null,null,0]
["module 32",null,"ok",null,{"$f":"SUMIF(C$8:C$373,32,E$8:E$373)+SUMIF(G$8:G$373,32,I$8:I$373)","v":0},null,null,null,0,null,"ok",null,{"$f":"SUMIF(K$8:K$373,32,M$8:M$373)+SUMIF(O$8:O$373,32,Q$8:Q$373)","v":0},null,null,null,0]
["module 33",null,"ok",null,{"$f":"SUMIF(C$8:C$373,33,E$8:E$373)+SUMIF(G$8:G$373,33,I$8:I$373)","v":0},null,null,null,0,null,"ok",null,{"$f":"SUMIF(K$8:K$373,33,M$8:M$373)+SUMIF(O$8:O$373,33,Q$8:Q$373)","v":0},null,null,null,0]
["module 34",null,"ok",null,{"$f":"SUMIF(C$8:C$373,34,E$8:E$373)+SUMIF(G$8:G$373,34,I$8:I$373)","v":0},null,null,null,0,null,"ok",null,{"$f":"SUMIF(K$8:K$373,34,M$8:M$373)+SUMIF(O$8:O$373,34,Q$8:Q$373)","v":0},null,null,null,0]
["module 35",null,"TE",null,{"$f":"SUMIF(C$8:C$373,35,E$8:E$373)+SUMIF(G$8:G$373,35,I$8:I$373)","v":0},null,null,null,85,null,"TE",null,{"$f":"SUMIF(K$8:K$373,35,M$8:M$373)+SUMIF(O$8:O$373,35,Q$8:Q$373)","v":0},null,null,null,85,null,"=","TACHES PRÉSENCE ÉLÈVE (PERMANENT)"]
["module 36",null,"TA",null,{"$f":"SUMIF(C$8:C$373,36,E$8:E$373)+SUMIF(G$8:G$373,36,I$8:I$373)","v":0},null,null,null,360,null,"TA",null,{"$f":"SUMIF(K$8:K$373,36,M$8:M$373)+SUMIF(O$8:O$373,36,Q$8:Q$373)","v":0},null,null,null,360,null,"=","TACHES DE DISPO"]
["module 37",null,"TNP",null,{"$f":"SUMIF(C$8:C$373,37,E$8:E$373)+SUMIF(G$8:G$373,37,I$8:I$373)","v":0},null,null,null,200,null,"TNP",null,{"$f":"SUMIF(K$8:K$373,37,M$8:M$373)+SUMIF(O$8:O$373,37,Q$8:Q$373)","v":0},null,null,null,200,null,"=","TACHES DE NATURE PERSONNEL"]
["module 90",null,"ok",null,{"$f":"SUMIF(C$8:C$373,90,E$8:E$373)+SUMIF(G$8:G$373,90,I$8:I$373)","v":0},null,null,null,0,null,"ok",null,{"$f":"SUMIF(K$8:K$373,38,M$8:M$373)+SUMIF(O$8:O$373,38,Q$8:Q$373)","v":0},null,null,null,0]
["module 39",null,"ok",null,{"$f":"SUMIF(C$8:C$373,39,E$8:E$373)+SUMIF(G$8:G$373,39,I$8:I$373)","v":0},null,null,null,0,null,"ok",null,{"$f":"SUMIF(K$8:K$373,39,M$8:M$373)+SUMIF(O$8:O$373,39,Q$8:Q$373)","v":0},null,null,null,0]
["module 89",null,"ok",null,{"$f":"SUMIF(C$8:C$373,40,E$8:E$373)+SUMIF(G$8:G$373,40,I$8:I$373)","v":0},null,null,null,0,null,"ok",null,{"$f":"SUMIF(K$8:K$373,40,M$8:M$373)+SUMIF(O$8:O$373,40,Q$8:Q$373)","v":0},null,null,null,0]
["module 90",null,"ok",null,{"$f":"SUMIF(C$8:C$373,90,E$8:E$373)+SUMIF(G$8:G$373,90,I$8:I$373)","v":0},null,null,null,0,null,"ok",null,{"$f":"SUMIF(K$8:K$373,90,M$8:M$373)+SUMIF(O$8:O$373,90,Q$8:Q$373)","v":0},null,null,null,0,null,"=","RECUPERATION"]
["module 91",null,"ok",null,{"$f":"SUMIF(C$8:C$373,91,E$8:E$373)+SUMIF(G$8:G$373,91,I$8:I$373)","v":0},null,null,null,0,null,"ok",null,{"$f":"SUMIF(K$8:K$373,91,M$8:M$373)+SUMIF(O$8:O$373,91,Q$8:Q$373)","v":0},null,null,null,0]
["module 92",null,"ok",null,{"$f":"SUMIF(C$8:C$373,92,E$8:E$373)+SUMIF(G$8:G$373,92,I$8:I$373)","v":0},null,null,null,0,null,"ok",null,{"$f":"SUMIF(K$8:K$373,92,M$8:M$373)+SUMIF(O$8:O$373,92,Q$8:Q$373)","v":0},null,null,null,0]
["module 93",null,"ok",null,{"$f":"SUMIF(C$8:C$373,93,E$8:E$373)+SUMIF(G$8:G$373,93,I$8:I$373)","v":0},null,null,null,0,null,"ok",null,{"$f":"SUMIF(K$8:K$373,93,M$8:M$373)+SUMIF(O$8:O$373,93,Q$8:Q$373)","v":0},null,null,null,0]
["module 94",null,"ok",null,{"$f":"SUMIF(C$8:C$373,94,E$8:E$373)+SUMIF(G$8:G$373,94,I$8:I$373)","v":0},null,null,null,0,null,"ok",null,{"$f":"SUMIF(K$8:K$373,94,M$8:M$373)+SUMIF(O$8:O$373,94,Q$8:Q$373)","v":0},null,null,null,0]
["module 95",null,"ok",null,{"$f":"SUMIF(C$8:C$373,95,E$8:E$373)+SUMIF(G$8:G$373,95,I$8:I$373)","v":0},null,null,null,0,null,"ok",null,{"$f":"SUMIF(K$8:K$373,95,M$8:M$373)+SUMIF(O$8:O$373,95,Q$8:Q$373)","v":0},null,null,null,0,null," "]
["module 96",null,"ok",null,{"$f":"SUMIF(C$8:C$373,96,E$8:E$373)+SUMIF(G$8:G$373,96,I$8:I$373)","v":0},null,null,null,0,null,"ok",null,{"$f":"SUMIF(K$8:K$373,96,M$8:M$373)+SUMIF(O$8:O$373,96,Q$8:Q$373)","v":0},null,null,null,0]
["module 97",null,"ok",null,{"$f":"SUMIF(C$8:C$373,97,E$8:E$373)+SUMIF(G$8:G$373,97,I$8:I$373)","v":0},null,null,null,0,null,"ok",null,{"$f":"SUMIF(K$8:K$373,97,M$8:M$373)+SUMIF(O$8:O$373,97,Q$8:Q$373)","v":0},null,null,null,0]
["module 98",null,"ok",null,{"$f":"SUMIF(C$8:C$373,98,E$8:E$373)+SUMIF(G$8:G$373,98,I$8:I$373)","v":0},null,null,null,0,null,"ok",null,{"$f":"SUMIF(K$8:K$373,98,M$8:M$373)+SUMIF(O$8:O$373,98,Q$8:Q$373)","v":0},null,null,null,0]
["module 99",null,"ok",null,{"$f":"SUMIF(C$8:C$373,99,E$8:E$373)+SUMIF(G$8:G$373,99,I$8:I$373)","v":0},null,null,null,0,null,"ok",null,{"$f":"SUMIF(K$8:K$373,99,M$8:M$373)+SUMIF(O$8:O$373,99,Q$8:Q$373)","v":0},null,null,null,0]
["Totaux",null,{"$f":"IF(E429=(I429),\"ok\",($A$429))","v":"ok"},null,{"$f":"SUM(E379:F410)","v":0},null,null,null,{"$f":"SUM(I379:J410)","v":0},null,{"$f":"IF(M429=(Q429),\"ok\",($A$429))","v":"ok"},null,{"$f":"SUM(M379:N410)","v":0},null,null,null,{"$f":"SUM(Q379:R410)","v":0}]
[]
[]
["Calculateur de période / enseignants"]
["Enseignants",null,{"$f":"C4","v":" Julien Béland M."}]
[null,null,{"$f":"\"Heures \"& RIGHT($A4,9)","v":"Heures 2025-2026"},null,null,null,{"$f":"\"Heures été \"& RIGHT($A4,9)","v":"Heures été 2025-2026"},null,null,null,{"$f":"\"Heures \"& RIGHT($A4,9)","v":"Heures 2025-2026"},null,null,null,{"$f":"\"Heures été \"& RIGHT($A4,9)","v":"Heures été 2025-2026"}]
["jbm","Julien Béland M.",{"$f":"SUMIF(D$65:D$374,A435,E$65:E$374)+SUMIF(H$65:H$374,A435,I$65:I$374)","v":0},null,null,null,{"$f":"SUMIF(D$8:D$64,A435,E$8:E$64)+SUMIF(H$8:H$64,A435,I$8:I$64)","v":0},null,null,null,{"$f":"SUMIF(L$65:L$374,A435,M$65:M$374)+SUMIF(P$65:P$374,A435,Q$65:Q$374)","v":0},null,null,null,{"$f":"SUMIF(L$8:L$64,#REF!,M$8:M$64)+SUMIF(P$8:P$64,#REF!,Q$8:Q$64)","v":0}]
[]
[]
["Total des hrs"]
[null,{"$f":"SUM(W441,S441,O441,K441,G441,C441)","v":0},"ENSEIGNEMENT",null,null,null,"PERMANENT",null,null,null,"DISPO",null,null,null,"NATURE PERSO",null,null,null,"TUTORAT+RECUP",null,null,null,"AUTRE"]
[null,null,"Heures 2012-2013",null,null,null,"TE = 85 HRS",null,null,null,"TA = 360 HRS",null,null,null,"TNP = 200 HRS"]
[null,null,{"$f":"SUM(C435+K435)","v":0},null,null,null,{"$f":"SUM(E413+M413)","v":0},null,null,null,{"$f":"SUM(E414+M414)","v":0},null,null,null,{"$f":"SUM(E415+M415)","v":0},null,null,null,0,null,null,null,0]

{"sheet":"Roch Gauthier","index":38,"n_rows":443,"n_cols":23,"rows_kept":443,"cut":false,"hidden":false,"merged":[[60,2,60,9],[50,2,50,9],[367,2,367,9],[367,10,367,17],[368,2,368,9],[368,10,368,17],[371,2,371,9],[371,10,371,17],[364,2,364,9],[364,10,364,17],[365,2,365,9],[365,10,365,17],[366,2,366,9],[366,10,366,17],[359,2,359,9],[359,10,359,17],[360,2,360,9],[360,10,360,17],[361,2,361,9],[361,10,361,17],[354,2,354,9],[354,10,354,17],[357,2,357,9],[357,10,357,17],[358,2,358,9],[358,10,358,17],[351,2,351,9],[351,10,351,17],[352,2,352,9],[352,10,352,17],[353,2,353,9],[353,10,353,17],[346,2,346,9],[346,10,346,17],[347,2,347,9],[347,10,347,17],[350,2,350,9],[350,10,350,17],[343,2,343,9],[343,10,343,17],[344,2,344,9],[344,10,344,17],[345,2,345,9],[345,10,345,17],[338,2,338,9],[338,10,338,17],[339,2,339,9],[339,10,339,17],[340,2,340,9],[340,10,340,17],[333,2,333,9],[333,10,333,17],[336,2,336,9],[336,10,336,17],[337,2,337,9],[337,10,337,17],[330,2,330,9],[330,10,330,17],[331,2,331,9],[331,10,331,17],[332,2,332,9],[332,10,332,17],[325,2,325,9],[325,10,325,17],[326,2,326,9],[326,10,326,17],[329,2,329,9],[329,10,329,17],[322,2,322,9],[322,10,322,17],[323,2,323,9],[323,10,323,17],[324,2,324,9],[324,10,324,17],[280,2,280,9],[280,10,280,17],[298,2,298,9],[298,10,298,17],[317,2,317,9],[317,10,317,17],[235,2,235,9],[235,10,235,17],[238,2,238,9],[238,10,238,17],[263,2,263,9],[263,10,263,17],[172,2,172,9],[172,10,172,17],[198,2,198,9],[198,10,198,17],[214,2,214,9],[214,10,214,17],[134,10,134,17],[143,2,143,9],[143,10,143,17],[144,2,144,9],[144,10,144,17],[147,2,147,9],[147,10,147,17],[140,2,140,9],[140,10,140,17],[141,2,141,9],[141,10,141,17],[142,2,142,9],[142,10,142,17],[418,19,418,27],[72,10,72,17],[88,10,88,17],[14,10,14,17],[21,2,21,9],[21,10,21,17],[63,2,63,9],[63,10,63,17],[135,2,135,9],[135,10,135,17],[136,2,136,9],[136,10,136,17],[137,2,137,9],[137,10,137,17],[101,10,101,17],[133,2,133,9],[133,10,133,17],[134,2,134,9],[416,16,416,17],[417,16,417,17],[414,16,414,17],[414,19,414,27],[412,16,412,17],[412,2,412,3],[428,2,428,3],[428,4,428,7],[428,8,428,9],[428,10,428,11],[428,12,428,15],[428,16,428,17],[426,16,426,17],[424,16,424,17],[422,16,422,17],[440,22,440,25],[438,18,438,21],[438,22,438,25],[439,2,439,5],[439,6,439,9],[439,10,439,13],[439,14,439,17],[439,18,439,21],[439,22,439,25],[440,10,440,13],[440,14,440,17],[440,18,440,21],[438,1,440,1],[438,6,438,9],[438,10,438,13],[438,14,438,17],[440,2,440,5],[440,6,440,9],[432,0,433,1],[432,2,432,17],[433,2,433,5],[433,6,433,9],[433,10,433,13],[433,14,433,17],[434,2,434,5],[434,6,434,9],[434,10,434,13],[434,14,434,17],[427,0,427,1],[427,2,427,3],[427,4,427,7],[427,8,427,9],[427,10,427,11],[427,12,427,15],[427,16,427,17],[426,0,426,1],[426,2,426,3],[426,4,426,7],[426,8,426,9],[426,10,426,11],[426,12,426,15],[425,0,425,1],[425,2,425,3],[425,4,425,7],[425,8,425,9],[425,10,425,11],[425,12,425,15],[425,16,425,17],[424,0,424,1],[424,2,424,3],[424,4,424,7],[424,8,424,9],[424,10,424,11],[424,12,424,15],[423,0,423,1],[423,2,423,3],[423,4,423,7],[423,8,423,9],[423,10,423,11],[423,12,423,15],[423,16,423,17],[422,0,422,1],[422,2,422,3],[422,4,422,7],[422,8,422,9],[422,10,422,11],[422,12,422,15],[421,0,421,1],[421,2,421,3],[421,4,421,7],[421,8,421,9],[421,10,421,11],[421,12,421,15],[421,16,421,17],[420,0,420,1],[420,2,420,3],[420,4,420,7],[420,8,420,9],[420,10,420,11],[420,12,420,15],[420,16,420,17],[419,0,419,1],[419,2,419,3],[419,4,419,7],[419,8,419,9],[419,10,419,11],[419,12,419,15],[419,16,419,17],[418,0,418,1],[418,2,418,3],[418,4,418,7],[418,8,418,9],[418,10,418,11],[418,12,418,15],[418,16,418,17],[417,0,417,1],[417,2,417,3],[417,4,417,7],[417,8,417,9],[417,10,417,11],[417,12,417,15],[416,0,416,1],[416,2,416,3],[416,4,416,7],[416,8,416,9],[416,10,416,11],[416,12,416,15],[415,0,415,1],[415,2,415,3],[415,4,415,7],[415,8,415,9],[415,10,415,11],[415,12,415,15],[415,16,415,17],[414,0,414,1],[414,2,414,3],[414,4,414,7],[414,8,414,9],[414,10,414,11],[414,12,414,15],[412,4,412,7],[412,8,412,9],[412,10,412,11],[412,19,412,29],[413,0,413,1],[413,2,413,3],[413,4,413,7],[413,8,413,9],[413,10,413,11],[413,12,413,15],[413,16,413,17],[413,19,413,27],[412,0,412,1],[412,12,412,15],[410,16,410,17],[411,0,411,1],[411,2,411,3],[411,4,411,7],[411,8,411,9],[411,10,411,11],[411,12,411,15],[411,16,411,17],[410,0,410,1],[410,2,410,3],[410,4,410,7],[410,8,410,9],[410,10,410,11],[410,12,410,15],[408,16,408,17],[409,16,409,17],[409,0,409,1],[409,2,409,3],[409,4,409,7],[409,8,409,9],[409,10,409,11],[409,12,409,15],[408,0,408,1],[408,2,408,3],[408,4,408,7],[408,8,408,9],[408,10,408,11],[408,12,408,15],[406,16,406,17],[407,0,407,1],[407,2,407,3],[407,4,407,7],[407,8,407,9],[407,10,407,11],[407,12,407,15],[407,16,407,17],[406,0,406,1],[406,2,406,3],[406,4,406,7],[406,8,406,9],[406,10,406,11],[406,12,406,15],[404,16,404,17],[405,0,405,1],[405,2,405,3],[405,4,405,7],[405,8,405,9],[405,10,405,11],[405,12,405,15],[405,16,405,17],[404,0,404,1],[404,2,404,3],[404,4,404,7],[404,8,404,9],[404,10,404,11],[404,12,404,15],[402,16,402,17],[403,0,403,1],[403,2,403,3],[403,4,403,7],[403,8,403,9],[403,10,403,11],[403,12,403,15],[403,16,403,17],[402,0,402,1],[402,2,402,3],[402,4,402,7],[402,8,402,9],[402,10,402,11],[402,12,402,15],[400,16,400,17],[401,0,401,1],[401,2,401,3],[401,4,401,7],[401,8,401,9],[401,10,401,11],[401,12,401,15],[401,16,401,17],[400,0,400,1],[400,2,400,3],[400,4,400,7],[400,8,400,9],[400,10,400,11],[400,12,400,15],[398,16,398,17],[399,0,399,1],[399,2,399,3],[399,4,399,7],[399,8,399,9],[399,10,399,11],[399,12,399,15],[399,16,399,17],[398,0,398,1],[398,2,398,3],[398,4,398,7],[398,8,398,9],[398,10,398,11],[398,12,398,15],[396,16,396,17],[397,0,397,1],[397,2,397,3],[397,4,397,7],[397,8,397,9],[397,10,397,11],[397,12,397,15],[397,16,397,17],[396,0,396,1],[396,2,396,3],[396,4,396,7],[396,8,396,9],[396,10,396,11],[396,12,396,15],[394,16,394,17],[395,0,395,1],[395,2,395,3],[395,4,395,7],[395,8,395,9],[395,10,395,11],[395,12,395,15],[395,16,395,17],[394,0,394,1],[394,2,394,3],[394,4,394,7],[394,8,394,9],[394,10,394,11],[394,12,394,15],[392,16,392,17],[393,0,393,1],[393,2,393,3],[393,4,393,7],[393,8,393,9],[393,10,393,11],[393,12,393,15],[393,16,393,17],[392,0,392,1],[392,2,392,3],[392,4,392,7],[392,8,392,9],[392,10,392,11],[392,12,392,15],[390,16,390,17],[391,0,391,1],[391,2,391,3],[391,4,391,7],[391,8,391,9],[391,10,391,11],[391,12,391,15],[391,16,391,17],[390,0,390,1],[390,2,390,3],[390,4,390,7],[390,8,390,9],[390,10,390,11],[390,12,390,15],[388,16,388,17],[389,0,389,1],[389,2,389,3],[389,4,389,7],[389,8,389,9],[389,10,389,11],[389,12,389,15],[389,16,389,17],[388,0,388,1],[388,2,388,3],[388,4,388,7],[388,8,388,9],[388,10,388,11],[388,12,388,15],[386,16,386,17],[387,0,387,1],[387,2,387,3],[387,4,387,7],[387,8,387,9],[387,10,387,11],[387,12,387,15],[387,16,387,17],[386,0,386,1],[386,2,386,3],[386,4,386,7],[386,8,386,9],[386,10,386,11],[386,12,386,15],[384,16,384,17],[385,0,385,1],[385,2,385,3],[385,4,385,7],[385,8,385,9],[385,10,385,11],[385,12,385,15],[385,16,385,17],[384,0,384,1],[384,2,384,3],[384,4,384,7],[384,8,384,9],[384,10,384,11],[384,12,384,15],[382,16,382,17],[383,0,383,1],[383,2,383,3],[383,4,383,7],[383,8,383,9],[383,10,383,11],[383,12,383,15],[383,16,383,17],[382,0,382,1],[382,2,382,3],[382,4,382,7],[382,8,382,9],[382,10,382,11],[382,12,382,15],[379,0,379,1],[379,2,379,3],[379,4,379,7],[379,8,379,9],[379,10,379,11],[379,12,379,15],[379,16,379,17],[380,16,380,17],[381,0,381,1],[381,2,381,3],[381,4,381,7],[381,8,381,9],[381,10,381,11],[381,12,381,15],[381,16,381,17],[380,0,380,1],[380,2,380,3],[380,4,380,7],[380,8,380,9],[380,10,380,11],[380,12,380,15],[371,19,371,29],[372,19,372,29],[376,0,377,1],[377,4,377,7],[377,12,377,15],[378,0,378,1],[378,2,378,3],[378,4,378,7],[378,8,378,9],[378,10,378,11],[378,12,378,15],[378,16,378,17],[372,2,372,9],[372,10,372,17],[373,2,373,9],[373,10,373,17],[365,19,365,29],[366,19,366,29],[367,19,367,29],[368,19,368,29],[369,19,369,29],[370,19,370,29],[359,19,359,29],[360,19,360,29],[361,19,361,29],[362,19,362,29],[363,19,363,29],[364,19,364,29],[353,19,353,29],[354,19,354,29],[355,19,355,29],[356,19,356,29],[357,19,357,29],[358,19,358,29],[347,19,347,29],[348,19,348,29],[349,19,349,29],[350,19,350,29],[351,19,351,29],[352,19,352,29],[341,19,341,29],[342,19,342,29],[343,19,343,29],[344,19,344,29],[345,19,345,29],[346,19,346,29],[335,19,335,29],[336,19,336,29],[337,19,337,29],[338,19,338,29],[339,19,339,29],[340,19,340,29],[329,19,329,29],[330,19,330,29],[331,19,331,29],[332,19,332,29],[333,19,333,29],[334,19,334,29],[323,19,323,29],[324,19,324,29],[325,19,325,29],[326,19,326,29],[327,19,327,29],[328,19,328,29],[317,19,317,29],[318,19,318,29],[319,19,319,29],[320,19,320,29],[321,19,321,29],[322,19,322,29],[311,19,311,29],[312,19,312,29],[313,19,313,29],[314,19,314,29],[315,19,315,29],[316,19,316,29],[305,19,305,29],[306,19,306,29],[307,19,307,29],[308,19,308,29],[309,19,309,29],[310,19,310,29],[299,19,299,29],[300,19,300,29],[301,19,301,29],[302,19,302,29],[303,19,303,29],[304,19,304,29],[293,19,293,29],[294,19,294,29],[295,19,295,29],[296,19,296,29],[297,19,297,29],[298,19,298,29],[287,19,287,29],[288,19,288,29],[289,19,289,29],[290,19,290,29],[291,19,291,29],[292,19,292,29],[281,19,281,29],[282,19,282,29],[283,19,283,29],[284,19,284,29],[285,19,285,29],[286,19,286,29],[275,19,275,29],[276,19,276,29],[277,19,277,29],[278,19,278,29],[279,19,279,29],[280,19,280,29],[269,19,269,29],[270,19,270,29],[271,19,271,29],[272,19,272,29],[273,19,273,29],[274,19,274,29],[263,19,263,29],[264,19,264,29],[265,19,265,29],[266,19,266,29],[267,19,267,29],[268,19,268,29],[257,19,257,29],[258,19,258,29],[259,19,259,29],[260,19,260,29],[261,19,261,29],[262,19,262,29],[251,19,251,29],[252,19,252,29],[253,19,253,29],[254,19,254,29],[255,19,255,29],[256,19,256,29],[245,19,245,29],[246,19,246,29],[247,19,247,29],[248,19,248,29],[249,19,249,29],[250,19,250,29],[239,19,239,29],[240,19,240,29],[241,19,241,29],[242,19,242,29],[243,19,243,29],[244,19,244,29],[233,19,233,29],[234,19,234,29],[235,19,235,29],[236,19,236,29],[237,19,237,29],[238,19,238,29],[227,19,227,29],[228,19,228,29],[229,19,229,29],[230,19,230,29],[231,19,231,29],[232,19,232,29],[221,19,221,29],[222,19,222,29],[223,19,223,29],[224,19,224,29],[225,19,225,29],[226,19,226,29],[215,19,215,29],[216,19,216,29],[217,19,217,29],[218,19,218,29],[219,19,219,29],[220,19,220,29],[209,19,209,29],[210,19,210,29],[211,19,211,29],[212,19,212,29],[213,19,213,29],[214,19,214,29],[203,19,203,29],[204,19,204,29],[205,19,205,29],[206,19,206,29],[207,19,207,29],[208,19,208,29],[197,19,197,29],[198,19,198,29],[199,19,199,29],[200,19,200,29],[201,19,201,29],[202,19,202,29],[191,19,191,29],[192,19,192,29],[193,19,193,29],[194,19,194,29],[195,19,195,29],[196,19,196,29],[185,19,185,29],[186,19,186,29],[187,19,187,29],[188,19,188,29],[189,19,189,29],[190,19,190,29],[179,19,179,29],[180,19,180,29],[181,19,181,29],[182,19,182,29],[183,19,183,29],[184,19,184,29],[173,19,173,29],[174,19,174,29],[175,19,175,29],[176,19,176,29],[177,19,177,29],[178,19,178,29],[167,19,167,29],[168,19,168,29],[169,19,169,29],[170,19,170,29],[171,19,171,29],[172,19,172,29],[161,19,161,29],[162,19,162,29],[163,19,163,29],[164,19,164,29],[165,19,165,29],[166,19,166,29],[155,19,155,29],[156,19,156,29],[157,19,157,29],[158,19,158,29],[159,19,159,29],[160,19,160,29],[149,19,149,29],[150,19,150,29],[151,19,151,29],[152,19,152,29],[153,19,153,29],[154,19,154,29],[143,19,143,29],[144,19,144,29],[145,19,145,29],[146,19,146,29],[147,19,147,29],[148,19,148,29],[137,19,137,29],[138,19,138,29],[139,19,139,29],[140,19,140,29],[141,19,141,29],[142,19,142,29],[131,19,131,29],[132,19,132,29],[133,19,133,29],[134,19,134,29],[135,19,135,29],[136,19,136,29],[125,19,125,29],[126,19,126,29],[127,19,127,29],[128,19,128,29],[129,19,129,29],[130,19,130,29],[119,19,119,29],[120,19,120,29],[121,19,121,29],[122,19,122,29],[123,19,123,29],[124,19,124,29],[113,19,113,29],[114,19,114,29],[115,19,115,29],[116,19,116,29],[117,19,117,29],[118,19,118,29],[107,19,107,29],[108,19,108,29],[109,19,109,29],[110,19,110,29],[111,19,111,29],[112,19,112,29],[101,19,101,29],[102,19,102,29],[103,19,103,29],[104,19,104,29],[105,19,105,29],[106,19,106,29],[95,19,95,29],[96,19,96,29],[97,19,97,29],[98,19,98,29],[99,19,99,29],[100,19,100,29],[89,19,89,29],[90,19,90,29],[91,19,91,29],[92,19,92,29],[93,19,93,29],[94,19,94,29],[83,19,83,29],[84,19,84,29],[85,19,85,29],[86,19,86,29],[87,19,87,29],[88,19,88,29],[77,19,77,29],[78,19,78,29],[79,19,79,29],[80,19,80,29],[81,19,81,29],[82,19,82,29],[71,19,71,29],[72,19,72,29],[73,19,73,29],[74,19,74,29],[75,19,75,29],[76,19,76,29],[65,19,65,29],[66,19,66,29],[67,19,67,29],[68,19,68,29],[69,19,69,29],[70,19,70,29],[59,19,59,29],[60,19,60,29],[61,19,61,29],[62,19,62,29],[63,19,63,29],[64,19,64,29],[53,19,53,29],[54,19,54,29],[55,19,55,29],[56,19,56,29],[57,19,57,29],[58,19,58,29],[47,19,47,29],[48,19,48,29],[49,19,49,29],[50,19,50,29],[51,19,51,29],[52,19,52,29],[41,19,41,29],[42,19,42,29],[43,19,43,29],[44,19,44,29],[45,19,45,29],[46,19,46,29],[35,19,35,29],[36,19,36,29],[37,19,37,29],[38,19,38,29],[39,19,39,29],[40,19,40,29],[29,19,29,29],[30,19,30,29],[31,19,31,29],[32,19,32,29],[33,19,33,29],[34,19,34,29],[23,19,23,29],[24,19,24,29],[25,19,25,29],[26,19,26,29],[27,19,27,29],[28,19,28,29],[19,19,19,29],[20,19,20,29],[21,19,21,29],[22,19,22,29],[11,19,11,29],[12,19,12,29],[13,19,13,29],[14,19,14,29],[15,19,15,29],[16,19,16,29],[114,10,114,17],[3,0,3,1],[3,2,3,17],[3,19,3,29],[4,0,4,1],[4,2,4,9],[4,10,4,17],[5,2,5,9],[5,10,5,17],[7,19,7,29],[8,19,8,29],[9,19,9,29],[10,19,10,29],[7,2,7,9],[7,10,7,17],[8,2,8,9],[8,10,8,17],[17,19,17,29],[18,19,18,29],[9,2,9,9],[9,10,9,17],[10,2,10,9],[10,10,10,17],[11,10,11,17]]}
[]
["Horaire prof Mécanique de véhicules lourds routiers"]
[" "]
["Année scolaire 2024-2025",null," Roch Gauthier",null,null,null,null,null,null,null,null,null,null,null,null,null,null,null,null,"Commentaires"]
[null,null," Intensif 1800",null,null,null,null,null,null,null," Intensif 1800"]
[8,null,"Jour    ",null,null,null,null,null,null,null,"Soir    "]
[null,null,"M","P","H","L","M","P","H","L","M","P","H","L","M","P","H","L"]
[{"$f":"WEEKDAY(B8,2)","v":1},"2025-08-18","                   Vacances          ",null,null,null,null,null,null,null,"                   Vacances          "]
[2,"2025-08-19","                   Vacances          ",null,null,null,null,null,null,null,"                   Vacances          "]
[3,{"$f":"B9+1","v":"2025-08-20"},"                   Vacances          ",null,null,null,null,null,null,null,"                   Vacances          "]
[4,{"$f":"B10+1","v":"2025-08-21"},"                   Vacances          ",null,null,null,null,null,null,null,"                   Vacances          "]
[5,"2025-08-22",35,null,6,null,null,null,null,null,"     Pédagogique Commune"]
[6,"2025-08-23","                       WEEK-END                       ",null,null,null,null,null,null,null,"                       WEEK-END                       "]
[7,"2025-08-24","                       WEEK-END                       ",null,null,null,null,null,null,null,"                       WEEK-END                       "]
[1,"2025-08-25",35,null,6,null,null,null,null,null,"     Pédagogique"]
[2,"2025-08-26"]
[3,"2025-08-27"]
[4,"2025-08-28"]
[5,"2025-08-29"]
[6,"2025-08-30","                       WEEK-END                       ",null,null,null,null,null,null,null,"                       WEEK-END                       "]
[7,"2025-08-31","                       WEEK-END                       ",null,null,null,null,null,null,null,"                       WEEK-END                       "]
[1,"2025-09-01","Congé",null,null,null,null,null,null,null,"Congé"]
[2,"2025-09-02"]
[3,"2025-09-03"]
[4,"2025-09-04"]
[5,"2025-09-05"]
[6,"2025-09-06","                       WEEK-END                       ",null,null,null,null,null,null,null,"                       WEEK-END                       "]
[7,"2025-09-07","                       WEEK-END                       ",null,null,null,null,null,null,null,"                       WEEK-END                       "]
[1,"2025-09-08"]
[2,"2025-09-09"]
[3,"2025-09-10"]
[4,"2025-09-11"]
[5,"2025-09-12"]
[6,"2025-09-13","                       WEEK-END                       ",null,null,null,null,null,null,null,"                       WEEK-END                       "]
[7,"2025-09-14","                       WEEK-END                       ",null,null,null,null,null,null,null,"                       WEEK-END                       "]
[1,"2025-09-15"]
[2,"2025-09-16"]
[3,"2025-09-17"]
[4,"2025-09-18"]
[5,"2025-09-19"]
[6,"2025-09-20","                       WEEK-END                       ",null,null,null,null,null,null,null,"                       WEEK-END                       "]
[7,"2025-09-21","                       WEEK-END                       ",null,null,null,null,null,null,null,"                       WEEK-END                       "]
[1,"2025-09-22"]
[2,"2025-09-23"]
[3,"2025-09-24"]
[4,"2025-09-25"]
[5,"2025-09-26"]
[6,"2025-09-27","                       WEEK-END                       ",null,null,null,null,null,null,null,"                       WEEK-END                       "]
[7,"2025-09-28","                       WEEK-END                       ",null,null,null,null,null,null,null,"                       WEEK-END                       "]
[1,"2025-09-29",12,"rg",6,null,37,null,1]
[2,"2025-09-30","3heures extra pour groupe 27",null,null,null,null,null,null,null,null,null,null,null,null,null,null,null,null,"Rentrer 3h pour groupe 27"]
[3,"2025-10-01",90,"rg",6,"R13",37,null,1]
[4,"2025-10-02",33,"rg",3,"X10",37,null,1,null,null,null,null,null,null,null,null,null,null,"arriver 1h30 "]
[5,"2025-10-03",90,"rg",6,"R14",37,null,1]
[6,"2025-10-04","                       WEEK-END                       ",null,null,null,null,null,null,null,"                       WEEK-END                       "]
[7,"2025-10-05","                       WEEK-END                       ",null,null,null,null,null,null,null,"                       WEEK-END                       "]
[1,"2025-10-06",11,"rg",6,null,37,null,1]
[2,"2025-10-07",11,"rg",6,null,37,null,1]
[3,"2025-10-08",11,"rg",6,null,37,null,1]
[4,"2025-10-09",11,"rg",6,null,37,null,1]
[5,"2025-10-10","3heures extra pour reprise a Thomas",null,null,null,null,null,null,null,null,null,null,null,null,null,null,null,null,"3heures "]
[6,"2025-10-11","                       WEEK-END                       ",null,null,null,null,null,null,null,"                       WEEK-END                       "]
[7,"2025-10-12","                       WEEK-END                       ",null,null,null,null,null,null,null,"                       WEEK-END                       "]
[1,"2025-10-13","Congé",null,null,null,null,null,null,null,"Congé"]
[2,"2025-10-14"]
[3,"2025-10-15"]
[4,"2025-10-16",2,"rg",6,null,37,null,1]
[5,"2025-10-17",2,"rg",6,null,37,null,1]
[6,"2025-10-18","                       WEEK-END                       ",null,null,null,null,null,null,null,"                       WEEK-END                       "]
[7,"2025-10-19","                       WEEK-END                       ",null,null,null,null,null,null,null,"                       WEEK-END                       "]
[1,"2025-10-20",17,"rg",6,null,37,null,1]
[{"$f":"WEEKDAY(B72,2)","v":2},"2025-10-21",17,"rg",6,null,37,null,1]
[3,"2025-10-22",35,null,6,null,null,null,null,null,"     Pédagogique"]
[4,"2025-10-23",17,"rg",6,null,37,null,1]
[5,{"$f":"B74+1","v":"2025-10-24"},17,"rg",6,null,37,null,1]
[6,"2025-10-25","                       WEEK-END                       ",null,null,null,null,null,null,null,"                       WEEK-END                       "]
[7,"2025-10-26","                       WEEK-END                       ",null,null,null,null,null,null,null,"                       WEEK-END                       "]
[1,"2025-10-27"]
[2,"2025-10-28",90,"rg",6,"R22",37,null,1]
[3,"2025-10-29",90,"rg",6,"R14",37,null,1]
[4,"2025-10-30",4,"rg",6,null,37,null,1]
[5,"2025-10-31",4,"rg",6,null,37,null,1]
[6,"2025-11-01","                       WEEK-END                       ",null,null,null,null,null,null,null,"                       WEEK-END                       "]
[7,"2025-11-02","                       WEEK-END                       ",null,null,null,null,null,null,null,"                       WEEK-END                       "]
[1,"2025-11-03",33,"rg",3,"X22",37,null,1]
[2,"2025-11-04",15,"rg",6,null,37,null,1]
[3,"2025-11-05",15,"rg",6,null,37,null,1]
[4,"2025-11-06",15,"rg",6,null,37,null,1]
[5,"2025-11-07",35,null,6,null,null,null,null,null,"     Pédagogique"]
[6,"2025-11-08","                       WEEK-END                       ",null,null,null,null,null,null,null,"                       WEEK-END                       "]
[7,"2025-11-09","                       WEEK-END                       ",null,null,null,null,null,null,null,"                       WEEK-END                       "]
[1,"2025-11-10",15,"rg",6,null,37,null,1]
[2,"2025-11-11",15,"rg",6,null,37,null,1]
[3,"2025-11-12",15,"rg",6,null,37,null,1]
[4,"2025-11-13"]
[5,"2025-11-14",15,"rg",6,null,37,null,1]
[6,"2025-11-15","                       WEEK-END                       ",null,null,null,null,null,null,null,"                       WEEK-END                       "]
[7,"2025-11-16","                       WEEK-END                       ",null,null,null,null,null,null,null,"                       WEEK-END                       "]
[1,"2025-11-17",15,"rg",6,null,37,null,1]
[2,"2025-11-18",90,"rg",6,"R22",37,null,1]
[3,"2025-11-19",90,"rg",6,"R9",37,null,1]
[4,"2025-11-20",35,null,6,null,null,null,null,null,"     Pédagogique Commune"]
[5,"2025-11-21",90,"rg",6,"R19",37,null,1]
[6,"2025-11-22","                       WEEK-END                       ",null,null,null,null,null,null,null,"                       WEEK-END                       "]
[7,"2025-11-23","                       WEEK-END                       ",null,null,null,null,null,null,null,"                       WEEK-END                       "]
[1,"2025-11-24",33,"rg",3,"X22",37,null,1]
[2,"2025-11-25"]
[3,"2025-11-26",13,"rg",6,null,37,null,1]
[4,"2025-11-27",90,"rg",6,"R16",37,null,1]
[5,"2025-11-28",4,"rg",6,null,37,null,1,null,null,null,null,null,null,null,null,null,null,"STUDIO"]
[6,"2025-11-29","                       WEEK-END                       ",null,null,null,null,null,null,null,"                       WEEK-END                       "]
[7,"2025-11-30","                       WEEK-END                       ",null,null,null,null,null,null,null,"                       WEEK-END                       "]
[1,"2025-12-01",33,"rg",3,"X16",37,null,1]
[2,"2025-12-02"]
[3,"2025-12-03",35,null,6,null,null,null,null,null,"     Pédagogique"]
[4,"2025-12-04",4,"rg",6,null,37,null,1]
[5,"2025-12-05",17,"rg",6,null,37,null,1]
[6,"2025-12-06","                       WEEK-END                       ",null,null,null,null,null,null,null,"                       WEEK-END                       "]
[7,"2025-12-07","                       WEEK-END                       ",null,null,null,null,null,null,null,"                       WEEK-END                       "]
[1,"2025-12-08"]
[2,"2025-12-09",90,"rg",6,"R15",37,null,1]
[3,"2025-12-10",90,"rg",6,"R18",37,null,1]
[4,"2025-12-11",4,"rg",6,null,37,null,1]
[5,"2025-12-12",4,"rg",6,null,37,null,1]
[6,"2025-12-13","                       WEEK-END                       ",null,null,null,null,null,null,null,"                       WEEK-END                       "]
[7,"2025-12-14","                       WEEK-END                       ",null,null,null,null,null,null,null,"                       WEEK-END                       "]
[1,"2025-12-15"]
[2,"2025-12-16"]
[3,"2025-12-17"]
[4,"2025-12-18"]
[5,"2025-12-19"]
[6,"2025-12-20","                       WEEK-END                       ",null,null,null,null,null,null,null,"                       WEEK-END                       "]
[7,"2025-12-21","                       WEEK-END                       ",null,null,null,null,null,null,null,"                       WEEK-END                       "]
[1,"2025-12-22","Congé Noël",null,null,null,null,null,null,null,"Congé Noël"]
[2,"2025-12-23","Congé Noël",null,null,null,null,null,null,null,"Congé Noël"]
[{"$f":"WEEKDAY(B136,2)","v":3},"2025-12-24","Congé Noël",null,null,null,null,null,null,null,"Congé Noël"]
[4,"2025-12-25","Congé Noël",null,null,null,null,null,null,null,"Congé Noël"]
[5,"2025-12-26","Congé Noël",null,null,null,null,null,null,null,"Congé Noël"]
[6,{"$f":"B138+1","v":"2025-12-27"},"                       WEEK-END                       ",null,null,null,null,null,null,null,"                       WEEK-END                       "]
[7,"2025-12-28","                       WEEK-END                       ",null,null,null,null,null,null,null,"                       WEEK-END                       "]
[1,"2025-12-29","Congé Noël",null,null,null,null,null,null,null,"Congé Noël"]
[2,"2025-12-30","Congé Noël",null,null,null,null,null,null,null,"Congé Noël"]
[3,"2025-12-31","Congé Noël",null,null,null,null,null,null,null,"Congé Noël"]
[4,"2026-01-01","Congé Noël",null,null,null,null,null,null,null,"Congé Noël"]
[5,"2026-01-02","Congé Noël",null,null,null,null,null,null,null,"Congé Noël"]
[6,"2026-01-03","                       WEEK-END                       ",null,null,null,null,null,null,null,"                       WEEK-END                       "]
[7,"2026-01-04","                       WEEK-END                       ",null,null,null,null,null,null,null,"                       WEEK-END                       "]
[1,"2026-01-05","     Pédagogique Commune",null,null,null,null,null,null,null,"     Pédagogique Commune"]
[2,"2026-01-06"]
[3,"2026-01-07"]
[4,"2026-01-08"]
[5,"2026-01-09"]
[6,"2026-01-10","                       WEEK-END                       ",null,null,null,null,null,null,null,"                       WEEK-END                       "]
[7,"2026-01-11","                       WEEK-END                       ",null,null,null,null,null,null,null,"                       WEEK-END                       "]
[1,"2026-01-12"]
[2,"2026-01-13"]
[3,"2026-01-14"]
[4,"2026-01-15"]
[5,"2026-01-16"]
[6,"2026-01-17","                       WEEK-END                       ",null,null,null,null,null,null,null,"                       WEEK-END                       "]
[7,"2026-01-18","                       WEEK-END                       ",null,null,null,null,null,null,null,"                       WEEK-END                       "]
[1,"2026-01-19"]
[2,"2026-01-20"]
[3,"2026-01-21"]
[4,"2026-01-22"]
[5,"2026-01-23"]
[6,"2026-01-24","                       WEEK-END                       ",null,null,null,null,null,null,null,"                       WEEK-END                       "]
[7,"2026-01-25","                       WEEK-END                       ",null,null,null,null,null,null,null,"                       WEEK-END                       "]
[1,"2026-01-26"]
[2,"2026-01-27"]
[3,"2026-01-28"]
[4,"2026-01-29"]
[5,"2026-01-30","     Pédagogique",null,null,null,null,null,null,null,"     Pédagogique"]
[6,"2026-01-31","                       WEEK-END                       ",null,null,null,null,null,null,null,"                       WEEK-END                       "]
[7,"2026-02-01","                       WEEK-END                       ",null,null,null,null,null,null,null,"                       WEEK-END                       "]
[1,"2026-02-02"]
[2,"2026-02-03"]
[3,"2026-02-04"]
[4,"2026-02-05"]
[5,"2026-02-06"]
[6,"2026-02-07","                       WEEK-END                       ",null,null,null,null,null,null,null,"                       WEEK-END                       "]
[7,"2026-02-08","                       WEEK-END                       ",null,null,null,null,null,null,null,"                       WEEK-END                       "]
[1,"2026-02-09"]
[2,"2026-02-10"]
[3,"2026-02-11"]
[4,"2026-02-12"]
[5,"2026-02-13"]
[6,"2026-02-14","                       WEEK-END                       ",null,null,null,null,null,null,null,"                       WEEK-END                       "]
[7,"2026-02-15","                       WEEK-END                       ",null,null,null,null,null,null,null,"                       WEEK-END                       "]
[1,"2026-02-16"]
[2,"2026-02-17"]
[3,"2026-02-18"]
[4,"2026-02-19"]
[5,"2026-02-20"]
[6,"2026-02-21","                       WEEK-END                       ",null,null,null,null,null,null,null,"                       WEEK-END                       "]
[7,"2026-02-22","                       WEEK-END                       ",null,null,null,null,null,null,null,"                       WEEK-END                       "]
[1,"2026-02-23"]
[2,"2026-02-24"]
[3,"2026-02-25","     Pédagogique",null,null,null,null,null,null,null,"     Pédagogique"]
[{"$f":"WEEKDAY(B200,2)","v":4},"2026-02-26"]
[5,"2026-02-27"]
[6,"2026-02-28","                       WEEK-END                       ",null,null,null,null,null,null,null,"                       WEEK-END                       "]
[7,{"$f":"B202+1","v":"2026-03-01"},"                       WEEK-END                       ",null,null,null,null,null,null,null,"                       WEEK-END                       "]
[1,"2026-03-02"]
[2,"2026-03-03"]
[3,"2026-03-04"]
[4,"2026-03-05"]
[5,"2026-03-06"]
[6,"2026-03-07","                       WEEK-END                       ",null,null,null,null,null,null,null,"                       WEEK-END                       "]
[7,"2026-03-08","                       WEEK-END                       ",null,null,null,null,null,null,null,"                       WEEK-END                       "]
[1,"2026-03-09"]
[2,"2026-03-10"]
[3,"2026-03-11"]
[4,"2026-03-12"]
[5,"2026-03-13","     Pédagogique",null,null,null,null,null,null,null,"     Pédagogique"]
[6,"2026-03-14","                       WEEK-END                       ",null,null,null,null,null,null,null,"                       WEEK-END                       "]
[7,"2026-03-15","                       WEEK-END                       ",null,null,null,null,null,null,null,"                       WEEK-END                       "]
[1,"2026-03-16"]
[2,"2026-03-17"]
[3,"2026-03-18"]
[4,"2026-03-19"]
[5,"2026-03-20"]
[6,"2026-03-21","                       WEEK-END                       ",null,null,null,null,null,null,null,"                       WEEK-END                       "]
[7,"2026-03-22","                       WEEK-END                       ",null,null,null,null,null,null,null,"                       WEEK-END                       "]
[1,"2026-03-23"]
[2,"2026-03-24"]
[3,"2026-03-25"]
[4,"2026-03-26"]
[5,"2026-03-27"]
[6,"2026-03-28","                       WEEK-END                       ",null,null,null,null,null,null,null,"                       WEEK-END                       "]
[7,"2026-03-29","                       WEEK-END                       ",null,null,null,null,null,null,null,"                       WEEK-END                       "]
[1,"2026-03-30"]
[2,"2026-03-31"]
[3,"2026-04-01"]
[4,"2026-04-02"]
[5,"2026-04-03","Congé",null,null,null,null,null,null,null,"Congé"]
[6,"2026-04-04","                       WEEK-END                       ",null,null,null,null,null,null,null,"                       WEEK-END                       "]
[7,"2026-04-05","                       WEEK-END                       ",null,null,null,null,null,null,null,"                       WEEK-END                       "]
[1,"2026-04-06","Congé",null,null,null,null,null,null,null,"Congé"]
[2,"2026-04-07"]
[3,"2026-04-08"]
[4,"2026-04-09"]
[5,"2026-04-10"]
[6,"2026-04-11","                       WEEK-END                       ",null,null,null,null,null,null,null,"                       WEEK-END                       "]
[7,"2026-04-12","                       WEEK-END                       ",null,null,null,null,null,null,null,"                       WEEK-END                       "]
[1,"2026-04-13"]
[2,"2026-04-14"]
[3,"2026-04-15"]
[4,"2026-04-16"]
[5,"2026-04-17"]
[6,"2026-04-18","                       WEEK-END                       ",null,null,null,null,null,null,null,"                       WEEK-END                       "]
[7,"2026-04-19","                       WEEK-END                       ",null,null,null,null,null,null,null,"                       WEEK-END                       "]
[1,"2026-04-20"]
[2,"2026-04-21"]
[3,"2026-04-22"]
[4,"2026-04-23"]
[5,"2026-04-24"]
[6,"2026-04-25","                       WEEK-END                       ",null,null,null,null,null,null,null,"                       WEEK-END                       "]
[7,"2026-04-26","                       WEEK-END                       ",null,null,null,null,null,null,null,"                       WEEK-END                       "]
[1,"2026-04-27"]
[2,"2026-04-28"]
[3,"2026-04-29"]
[4,"2026-04-30"]
[{"$f":"WEEKDAY(B264,2)","v":5},"2026-05-01","     Pédagogique Commune",null,null,null,null,null,null,null,"     Pédagogique Commune"]
[6,"2026-05-02","                       WEEK-END                       ",null,null,null,null,null,null,null,"                       WEEK-END                       "]
[7,"2026-05-03","                       WEEK-END                       ",null,null,null,null,null,null,null,"                       WEEK-END                       "]
[1,{"$f":"B266+1","v":"2026-05-04"}]
[2,"2026-05-05"]
[3,"2026-05-06"]
[4,"2026-05-07"]
[5,"2026-05-08"]
[6,"2026-05-09","                       WEEK-END                       ",null,null,null,null,null,null,null,"                       WEEK-END                       "]
[7,"2026-05-10","                       WEEK-END                       ",null,null,null,null,null,null,null,"                       WEEK-END                       "]
[1,"2026-05-11"]
[2,"2026-05-12"]
[3,"2026-05-13"]
[4,"2026-05-14"]
[5,"2026-05-15"]
[6,"2026-05-16","                       WEEK-END                       ",null,null,null,null,null,null,null,"                       WEEK-END                       "]
[7,"2026-05-17","                       WEEK-END                       ",null,null,null,null,null,null,null,"                       WEEK-END                       "]
[1,"2026-05-18","Congé",null,null,null,null,null,null,null,"Congé"]
[2,"2026-05-19"]
[3,"2026-05-20"]
[4,"2026-05-21"]
[5,"2026-05-22"]
[6,"2026-05-23","                       WEEK-END                       ",null,null,null,null,null,null,null,"                       WEEK-END                       "]
[7,"2026-05-24","                       WEEK-END                       ",null,null,null,null,null,null,null,"                       WEEK-END                       "]
[1,"2026-05-25"]
[2,"2026-05-26"]
[3,"2026-05-27"]
[4,"2026-05-28"]
[5,"2026-05-29"]
[6,"2026-05-30","                       WEEK-END                       ",null,null,null,null,null,null,null,"                       WEEK-END                       "]
[7,"2026-05-31","                       WEEK-END                       ",null,null,null,null,null,null,null,"                       WEEK-END                       "]
[1,"2026-06-01"]
[2,"2026-06-02"]
[3,"2026-06-03"]
[4,"2026-06-04"]
[5,"2026-06-05","     Pédagogique",null,null,null,null,null,null,null,"     Pédagogique"]
[6,"2026-06-06","                       WEEK-END                       ",null,null,null,null,null,null,null,"                       WEEK-END                       "]
[7,"2026-06-07","                       WEEK-END                       ",null,null,null,null,null,null,null,"                       WEEK-END                       "]
[1,"2026-06-08"]
[2,"2026-06-09"]
[3,"2026-06-10"]
[4,"2026-06-11"]
[5,"2026-06-12"]
[6,"2026-06-13","                       WEEK-END                       ",null,null,null,null,null,null,null,"                       WEEK-END                       "]
[7,"2026-06-14","                       WEEK-END                       ",null,null,null,null,null,null,null,"                       WEEK-END                       "]
[1,"2026-06-15"]
[2,"2026-06-16"]
[3,"2026-06-17"]
[4,"2026-06-18"]
[5,"2026-06-19"]
[6,"2026-06-20","                       WEEK-END                       ",null,null,null,null,null,null,null,"                       WEEK-END                       "]
[7,"2026-06-21","                       WEEK-END                       ",null,null,null,null,null,null,null,"                       WEEK-END                       "]
[1,"2026-06-22"]
[2,"2026-06-23"]
[3,"2026-06-24","Congé",null,null,null,null,null,null,null,"Congé"]
[4,"2026-06-25"]
[5,"2026-06-26"]
[6,"2026-06-27","                       WEEK-END                       ",null,null,null,null,null,null,null,"                       WEEK-END                       "]
[7,"2026-06-28","                       WEEK-END                       ",null,null,null,null,null,null,null,"                       WEEK-END                       "]
[1,"2026-06-29","                   Vacances          ",null,null,null,null,null,null,null,"                   Vacances          "]
[2,"2026-06-30","                   Vacances          ",null,null,null,null,null,null,null,"                   Vacances          "]
[3,"2026-07-01","                   Vacances          ",null,null,null,null,null,null,null,"                   Vacances          "]
[4,"2026-07-02","                   Vacances          ",null,null,null,null,null,null,null,"                   Vacances          "]
[5,"2026-07-03","                   Vacances          ",null,null,null,null,null,null,null,"                   Vacances          "]
[{"$f":"WEEKDAY(B328,2)","v":6},"2026-07-04","                       WEEK-END                       ",null,null,null,null,null,null,null,"                       WEEK-END                       "]
[7,"2026-07-05","                       WEEK-END                       ",null,null,null,null,null,null,null,"                       WEEK-END                       "]
[1,"2026-07-06","                   Vacances          ",null,null,null,null,null,null,null,"                   Vacances          "]
[2,{"$f":"B330+1","v":"2026-07-07"},"                   Vacances          ",null,null,null,null,null,null,null,"                   Vacances          "]
[3,"2026-07-08","                   Vacances          ",null,null,null,null,null,null,null,"                   Vacances          "]
[4,"2026-07-09","                   Vacances          ",null,null,null,null,null,null,null,"                   Vacances          "]
[5,"2026-07-10","                   Vacances          ",null,null,null,null,null,null,null,"                   Vacances          "]
[6,"2026-07-11","                       WEEK-END                       ",null,null,null,null,null,null,null,"                       WEEK-END                       "]
[7,"2026-07-12","                       WEEK-END                       ",null,null,null,null,null,null,null,"                       WEEK-END                       "]
[1,"2026-07-13","                   Vacances          ",null,null,null,null,null,null,null,"                   Vacances          "]
[2,"2026-07-14","                   Vacances          ",null,null,null,null,null,null,null,"                   Vacances          "]
[3,"2026-07-15","                   Vacances          ",null,null,null,null,null,null,null,"                   Vacances          "]
[4,"2026-07-16","                   Vacances          ",null,null,null,null,null,null,null,"                   Vacances          "]
[5,"2026-07-17","                   Vacances          ",null,null,null,null,null,null,null,"                   Vacances          "]
[6,"2026-07-18","                       WEEK-END                       ",null,null,null,null,null,null,null,"                       WEEK-END                       "]
[7,"2026-07-19","                       WEEK-END                       ",null,null,null,null,null,null,null,"                       WEEK-END                       "]
[1,"2026-07-20","                   Vacances          ",null,null,null,null,null,null,null,"                   Vacances          "]
[2,"2026-07-21","                   Vacances          ",null,null,null,null,null,null,null,"                   Vacances          "]
[3,"2026-07-22","                   Vacances          ",null,null,null,null,null,null,null,"                   Vacances          "]
[4,"2026-07-23","                   Vacances          ",null,null,null,null,null,null,null,"                   Vacances          "]
[5,"2026-07-24","                   Vacances          ",null,null,null,null,null,null,null,"                   Vacances          "]
[6,"2026-07-25","                       WEEK-END                       ",null,null,null,null,null,null,null,"                       WEEK-END                       "]
[7,"2026-07-26","                       WEEK-END                       ",null,null,null,null,null,null,null,"                       WEEK-END                       "]
[1,"2026-07-27","                   Vacances          ",null,null,null,null,null,null,null,"                   Vacances          "]
[2,"2026-07-28","                   Vacances          ",null,null,null,null,null,null,null,"                   Vacances          "]
[3,"2026-07-29","                   Vacances          ",null,null,null,null,null,null,null,"                   Vacances          "]
[4,"2026-07-30","                   Vacances          ",null,null,null,null,null,null,null,"                   Vacances          "]
[5,"2026-07-31","                   Vacances          ",null,null,null,null,null,null,null,"                   Vacances          "]
[6,"2026-08-01","                       WEEK-END                       ",null,null,null,null,null,null,null,"                       WEEK-END                       "]
[7,"2026-08-02","                       WEEK-END                       ",null,null,null,null,null,null,null,"                       WEEK-END                       "]
[1,"2026-08-03","                   Vacances          ",null,null,null,null,null,null,null,"                   Vacances          "]
[2,"2026-08-04","                   Vacances          ",null,null,null,null,null,null,null,"                   Vacances          "]
[3,"2026-08-05","                   Vacances          ",null,null,null,null,null,null,null,"                   Vacances          "]
[4,"2026-08-06","                   Vacances          ",null,null,null,null,null,null,null,"                   Vacances          "]
[5,"2026-08-07","                   Vacances          ",null,null,null,null,null,null,null,"                   Vacances          "]
[6,"2026-08-08","                       WEEK-END                       ",null,null,null,null,null,null,null,"                       WEEK-END                       "]
[7,"2026-08-09","                       WEEK-END                       ",null,null,null,null,null,null,null,"                       WEEK-END                       "]
[1,"2026-08-10","                   Vacances          ",null,null,null,null,null,null,null,"                   Vacances          "]
[2,"2026-08-11","                   Vacances          ",null,null,null,null,null,null,null,"                   Vacances          "]
[3,"2026-08-12","                   Vacances          ",null,null,null,null,null,null,null,"                   Vacances          "]
[4,"2026-08-13","                   Vacances          ",null,null,null,null,null,null,null,"                   Vacances          "]
[5,"2026-08-14","                   Vacances          ",null,null,null,null,null,null,null,"                   Vacances          "]
[6,"2026-08-15","                       WEEK-END                       ",null,null,null,null,null,null,null,"                       WEEK-END                       "]
[7,"2026-08-16","                       WEEK-END                       ",null,null,null,null,null,null,null,"                       WEEK-END                       "]
[1,"2026-08-17","                   Vacances          ",null,null,null,null,null,null,null,"                   Vacances          "]
[2,"2026-08-18","                   Vacances          ",null,null,null,null,null,null,null,"                   Vacances          "]
[null,"2026-08-19","                   Vacances          ",null,null,null,null,null,null,null,"                   Vacances          "]
[]
["Calculateur de période par module"]
["Modules",null," ",null,null,null,null,null,null,null," "]
[null,null,"à prog.",null,"entrées",null,null,null,"à faire",null,"à prog.",null,"entrées",null,null,null,"à faire"]
["module 1",null,{"$f":"IF(E379=(I379),\"ok\",($A379))","v":"ok"},null,{"$f":"SUMIF(C$8:C$373,1,E$8:E$373)+SUMIF(G$8:G$373,1,I$8:I$373)","v":0},null,null,null,0,null,{"$f":"IF(M379=(Q379),\"ok\",($A379))","v":"ok"},null,{"$f":"SUMIF(K$8:K$373,1,M$8:M$373)+SUMIF(O$8:O$373,1,Q$8:Q$373)","v":0},null,null,null,0]
["module 2",null,"module 2",null,{"$f":"SUMIF(C$8:C$373,2,E$8:E$373)+SUMIF(G$8:G$373,2,I$8:I$373)","v":12},null,null,null,0,null,"ok",null,{"$f":"SUMIF(K$8:K$373,2,M$8:M$373)+SUMIF(O$8:O$373,2,Q$8:Q$373)","v":0},null,null,null,0]
["module 3",null,"ok",null,{"$f":"SUMIF(C$8:C$373,3,E$8:E$373)+SUMIF(G$8:G$373,3,I$8:I$373)","v":0},null,null,null,0,null,"ok",null,{"$f":"SUMIF(K$8:K$373,3,M$8:M$373)+SUMIF(O$8:O$373,3,Q$8:Q$373)","v":0},null,null,null,0]
["module 4",null,"module 4",null,{"$f":"SUMIF(C$8:C$373,4,E$8:E$373)+SUMIF(G$8:G$373,4,I$8:I$373)","v":36},null,null,null,0,null,"ok",null,{"$f":"SUMIF(K$8:K$373,4,M$8:M$373)+SUMIF(O$8:O$373,4,Q$8:Q$373)","v":0},null,null,null,0]
["module 5",null,"ok",null,{"$f":"SUMIF(C$8:C$373,5,E$8:E$373)+SUMIF(G$8:G$373,5,I$8:I$373)","v":0},null,null,null,0,null,"ok",null,{"$f":"SUMIF(K$8:K$373,5,M$8:M$373)+SUMIF(O$8:O$373,5,Q$8:Q$373)","v":0},null,null,null,0]
["module 6",null,"ok",null,{"$f":"SUMIF(C$8:C$373,6,E$8:E$373)+SUMIF(G$8:G$373,6,I$8:I$373)","v":0},null,null,null,0,null,"ok",null,{"$f":"SUMIF(K$8:K$373,6,M$8:M$373)+SUMIF(O$8:O$373,6,Q$8:Q$373)","v":0},null,null,null,0]
["module 7",null,"ok",null,{"$f":"SUMIF(C$8:C$373,7,E$8:E$373)+SUMIF(G$8:G$373,7,I$8:I$373)","v":0},null,null,null,0,null,"ok",null,{"$f":"SUMIF(K$8:K$373,7,M$8:M$373)+SUMIF(O$8:O$373,7,Q$8:Q$373)","v":0},null,null,null,0]
["module 8",null,"ok",null,{"$f":"SUMIF(C$8:C$373,8,E$8:E$373)+SUMIF(G$8:G$373,8,I$8:I$373)","v":0},null,null,null,0,null,"ok",null,{"$f":"SUMIF(K$8:K$373,8,M$8:M$373)+SUMIF(O$8:O$373,8,Q$8:Q$373)","v":0},null,null,null,0]
["module 9",null,"ok",null,{"$f":"SUMIF(C$8:C$373,9,E$8:E$373)+SUMIF(G$8:G$373,9,I$8:I$373)","v":0},null,null,null,0,null,"ok",null,{"$f":"SUMIF(K$8:K$373,9,M$8:M$373)+SUMIF(O$8:O$373,9,Q$8:Q$373)","v":0},null,null,null,0]
["module 10",null,"ok",null,{"$f":"SUMIF(C$8:C$373,10,E$8:E$373)+SUMIF(G$8:G$373,10,I$8:I$373)","v":0},null,null,null,0,null,"ok",null,{"$f":"SUMIF(K$8:K$373,10,M$8:M$373)+SUMIF(O$8:O$373,10,Q$8:Q$373)","v":0},null,null,null,0]
["module 11",null,"module 11",null,{"$f":"SUMIF(C$8:C$373,11,E$8:E$373)+SUMIF(G$8:G$373,11,I$8:I$373)","v":24},null,null,null,0,null,"ok",null,{"$f":"SUMIF(K$8:K$373,11,M$8:M$373)+SUMIF(O$8:O$373,11,Q$8:Q$373)","v":0},null,null,null,0]
["module 12",null,"module 12",null,{"$f":"SUMIF(C$8:C$373,12,E$8:E$373)+SUMIF(G$8:G$373,12,I$8:I$373)","v":6},null,null,null,0,null,"ok",null,{"$f":"SUMIF(K$8:K$373,12,M$8:M$373)+SUMIF(O$8:O$373,12,Q$8:Q$373)","v":0},null,null,null,0]
["module 13",null,"module 13",null,{"$f":"SUMIF(C$8:C$373,13,E$8:E$373)+SUMIF(G$8:G$373,13,I$8:I$373)","v":6},null,null,null,0,null,"ok",null,{"$f":"SUMIF(K$8:K$373,13,M$8:M$373)+SUMIF(O$8:O$373,13,Q$8:Q$373)","v":0},null,null,null,0]
["module 14",null,"ok",null,{"$f":"SUMIF(C$8:C$373,14,E$8:E$373)+SUMIF(G$8:G$373,14,I$8:I$373)","v":0},null,null,null,0,null,"ok",null,{"$f":"SUMIF(K$8:K$373,14,M$8:M$373)+SUMIF(O$8:O$373,14,Q$8:Q$373)","v":0},null,null,null,0]
["module 15",null,"module 15",null,{"$f":"SUMIF(C$8:C$373,15,E$8:E$373)+SUMIF(G$8:G$373,15,I$8:I$373)","v":48},null,null,null,0,null,"ok",null,{"$f":"SUMIF(K$8:K$373,15,M$8:M$373)+SUMIF(O$8:O$373,15,Q$8:Q$373)","v":0},null,null,null,0]
["module 16",null,"ok",null,{"$f":"SUMIF(C$8:C$373,16,E$8:E$373)+SUMIF(G$8:G$373,16,I$8:I$373)","v":0},null,null,null,0,null,"ok",null,{"$f":"SUMIF(K$8:K$373,16,M$8:M$373)+SUMIF(O$8:O$373,16,Q$8:Q$373)","v":0},null,null,null,0]
["module 17",null,"module 17",null,{"$f":"SUMIF(C$8:C$373,17,E$8:E$373)+SUMIF(G$8:G$373,17,I$8:I$373)","v":30},null,null,null,0,null,"ok",null,{"$f":"SUMIF(K$8:K$373,17,M$8:M$373)+SUMIF(O$8:O$373,17,Q$8:Q$373)","v":0},null,null,null,0]
["module 18",null,"ok",null,{"$f":"SUMIF(C$8:C$373,18,E$8:E$373)+SUMIF(G$8:G$373,18,I$8:I$373)","v":0},null,null,null,0,null,"ok",null,{"$f":"SUMIF(K$8:K$373,18,M$8:M$373)+SUMIF(O$8:O$373,18,Q$8:Q$373)","v":0},null,null,null,0]
["module 19",null,"ok",null,{"$f":"SUMIF(C$8:C$373,19,E$8:E$373)+SUMIF(G$8:G$373,19,I$8:I$373)","v":0},null,null,null,0,null,"ok",null,{"$f":"SUMIF(K$8:K$373,19,M$8:M$373)+SUMIF(O$8:O$373,19,Q$8:Q$373)","v":0},null,null,null,0]
["module 20",null,"ok",null,{"$f":"SUMIF(C$8:C$373,20,E$8:E$373)+SUMIF(G$8:G$373,20,I$8:I$373)","v":0},null,null,null,0,null,"ok",null,{"$f":"SUMIF(K$8:K$373,20,M$8:M$373)+SUMIF(O$8:O$373,20,Q$8:Q$373)","v":0},null,null,null,0]
["module 21",null,"ok",null,{"$f":"SUMIF(C$8:C$373,21,E$8:E$373)+SUMIF(G$8:G$373,21,I$8:I$373)","v":0},null,null,null,0,null,"ok",null,{"$f":"SUMIF(K$8:K$373,21,M$8:M$373)+SUMIF(O$8:O$373,21,Q$8:Q$373)","v":0},null,null,null,0]
["module 22",null,"ok",null,{"$f":"SUMIF(C$8:C$373,22,E$8:E$373)+SUMIF(G$8:G$373,22,I$8:I$373)","v":0},null,null,null,0,null,"ok",null,{"$f":"SUMIF(K$8:K$373,22,M$8:M$373)+SUMIF(O$8:O$373,22,Q$8:Q$373)","v":0},null,null,null,0]
["module 23",null,"ok",null,{"$f":"SUMIF(C$8:C$373,23,E$8:E$373)+SUMIF(G$8:G$373,23,I$8:I$373)","v":0},null,null,null,0,null,"ok",null,{"$f":"SUMIF(K$8:K$373,23,M$8:M$373)+SUMIF(O$8:O$373,23,Q$8:Q$373)","v":0},null,null,null,0]
["module 24",null,"ok",null,{"$f":"SUMIF(C$8:C$373,24,E$8:E$373)+SUMIF(G$8:G$373,24,I$8:I$373)","v":0},null,null,null,0,null,"ok",null,{"$f":"SUMIF(K$8:K$373,24,M$8:M$373)+SUMIF(O$8:O$373,24,Q$8:Q$373)","v":0},null,null,null,0]
["module 25",null,"ok",null,{"$f":"SUMIF(C$8:C$373,25,E$8:E$373)+SUMIF(G$8:G$373,25,I$8:I$373)","v":0},null,null,null,0,null,"ok",null,{"$f":"SUMIF(K$8:K$373,25,M$8:M$373)+SUMIF(O$8:O$373,25,Q$8:Q$373)","v":0},null,null,null,0]
["module 26",null,"ok",null,{"$f":"SUMIF(C$8:C$373,26,E$8:E$373)+SUMIF(G$8:G$373,26,I$8:I$373)","v":0},null,null,null,0,null,"ok",null,{"$f":"SUMIF(K$8:K$373,26,M$8:M$373)+SUMIF(O$8:O$373,26,Q$8:Q$373)","v":0},null,null,null,0]
["module 27",null,"ok",null,{"$f":"SUMIF(C$8:C$373,27,E$8:E$373)+SUMIF(G$8:G$373,27,I$8:I$373)","v":0},null,null,null,0,null,"ok",null,{"$f":"SUMIF(K$8:K$373,27,M$8:M$373)+SUMIF(O$8:O$373,27,Q$8:Q$373)","v":0},null,null,null,0]
["module 28",null,"ok",null,{"$f":"SUMIF(C$8:C$373,28,E$8:E$373)+SUMIF(G$8:G$373,28,I$8:I$373)","v":0},null,null,null,0,null,"ok",null,{"$f":"SUMIF(K$8:K$373,28,M$8:M$373)+SUMIF(O$8:O$373,28,Q$8:Q$373)","v":0},null,null,null,0]
["module 29",null,"ok",null,{"$f":"SUMIF(C$8:C$373,29,E$8:E$373)+SUMIF(G$8:G$373,29,I$8:I$373)","v":0},null,null,null,0,null,"ok",null,{"$f":"SUMIF(K$8:K$373,29,M$8:M$373)+SUMIF(O$8:O$373,29,Q$8:Q$373)","v":0},null,null,null,0]
["module 30",null,"ok",null,{"$f":"SUMIF(C$8:C$373,30,E$8:E$373)+SUMIF(G$8:G$373,30,I$8:I$373)","v":0},null,null,null,0,null,"ok",null,{"$f":"SUMIF(K$8:K$373,30,M$8:M$373)+SUMIF(O$8:O$373,30,Q$8:Q$373)","v":0},null,null,null,0]
["module 31",null,"ok",null,{"$f":"SUMIF(C$8:C$373,31,E$8:E$373)+SUMIF(G$8:G$373,31,I$8:I$373)","v":0},null,null,null,0,null,"ok",null,{"$f":"SUMIF(K$8:K$373,31,M$8:M$373)+SUMIF(O$8:O$373,31,Q$8:Q$373)","v":0},null,null,null,0]
["module 32",null,"ok",null,{"$f":"SUMIF(C$8:C$373,32,E$8:E$373)+SUMIF(G$8:G$373,32,I$8:I$373)","v":0},null,null,null,0,null,"ok",null,{"$f":"SUMIF(K$8:K$373,32,M$8:M$373)+SUMIF(O$8:O$373,32,Q$8:Q$373)","v":0},null,null,null,0]
["module 33",null,"module 33",null,{"$f":"SUMIF(C$8:C$373,33,E$8:E$373)+SUMIF(G$8:G$373,33,I$8:I$373)","v":12},null,null,null,0,null,"ok",null,{"$f":"SUMIF(K$8:K$373,33,M$8:M$373)+SUMIF(O$8:O$373,33,Q$8:Q$373)","v":0},null,null,null,0]
["module 34",null,"ok",null,{"$f":"SUMIF(C$8:C$373,34,E$8:E$373)+SUMIF(G$8:G$373,34,I$8:I$373)","v":0},null,null,null,0,null,"ok",null,{"$f":"SUMIF(K$8:K$373,34,M$8:M$373)+SUMIF(O$8:O$373,34,Q$8:Q$373)","v":0},null,null,null,0]
["module 35",null,"TE",null,{"$f":"SUMIF(C$8:C$373,35,E$8:E$373)+SUMIF(G$8:G$373,35,I$8:I$373)","v":36},null,null,null,85,null,"TE",null,{"$f":"SUMIF(K$8:K$373,35,M$8:M$373)+SUMIF(O$8:O$373,35,Q$8:Q$373)","v":0},null,null,null,85,null,"=","Pédago"]
["module 36",null,"TA",null,{"$f":"SUMIF(C$8:C$373,36,E$8:E$373)+SUMIF(G$8:G$373,36,I$8:I$373)","v":0},null,null,null,360,null,"TA",null,{"$f":"SUMIF(K$8:K$373,36,M$8:M$373)+SUMIF(O$8:O$373,36,Q$8:Q$373)","v":0},null,null,null,360,null,"=","TACHES DE DISPO"]
["module 37",null,"TNP",null,{"$f":"SUMIF(C$8:C$373,37,E$8:E$373)+SUMIF(G$8:G$373,37,I$8:I$373)","v":41},null,null,null,200,null,"TNP",null,{"$f":"SUMIF(K$8:K$373,37,M$8:M$373)+SUMIF(O$8:O$373,37,Q$8:Q$373)","v":0},null,null,null,200,null,"=","TACHES DE NATURE PERSONNEL"]
["module 90",null,"module 90",null,{"$f":"SUMIF(C$8:C$373,90,E$8:E$373)+SUMIF(G$8:G$373,90,I$8:I$373)","v":60},null,null,null,0,null,"ok",null,{"$f":"SUMIF(K$8:K$373,38,M$8:M$373)+SUMIF(O$8:O$373,38,Q$8:Q$373)","v":0},null,null,null,0]
["module 39",null,"ok",null,{"$f":"SUMIF(C$8:C$373,39,E$8:E$373)+SUMIF(G$8:G$373,39,I$8:I$373)","v":0},null,null,null,0,null,"ok",null,{"$f":"SUMIF(K$8:K$373,39,M$8:M$373)+SUMIF(O$8:O$373,39,Q$8:Q$373)","v":0},null,null,null,0]
["module 89",null,"ok",null,{"$f":"SUMIF(C$8:C$373,40,E$8:E$373)+SUMIF(G$8:G$373,40,I$8:I$373)","v":0},null,null,null,0,null,"ok",null,{"$f":"SUMIF(K$8:K$373,40,M$8:M$373)+SUMIF(O$8:O$373,40,Q$8:Q$373)","v":0},null,null,null,0]
["module 90",null,"module 90",null,{"$f":"SUMIF(C$8:C$373,90,E$8:E$373)+SUMIF(G$8:G$373,90,I$8:I$373)","v":60},null,null,null,0,null,"ok",null,{"$f":"SUMIF(K$8:K$373,90,M$8:M$373)+SUMIF(O$8:O$373,90,Q$8:Q$373)","v":0},null,null,null,0,null,"=","RECUPERATION"]
["module 91",null,"ok",null,{"$f":"SUMIF(C$8:C$373,91,E$8:E$373)+SUMIF(G$8:G$373,91,I$8:I$373)","v":0},null,null,null,0,null,"ok",null,{"$f":"SUMIF(K$8:K$373,91,M$8:M$373)+SUMIF(O$8:O$373,91,Q$8:Q$373)","v":0},null,null,null,0]
["module 92",null,"ok",null,{"$f":"SUMIF(C$8:C$373,92,E$8:E$373)+SUMIF(G$8:G$373,92,I$8:I$373)","v":0},null,null,null,0,null,"ok",null,{"$f":"SUMIF(K$8:K$373,92,M$8:M$373)+SUMIF(O$8:O$373,92,Q$8:Q$373)","v":0},null,null,null,0]
["module 93",null,"ok",null,{"$f":"SUMIF(C$8:C$373,93,E$8:E$373)+SUMIF(G$8:G$373,93,I$8:I$373)","v":0},null,null,null,0,null,"ok",null,{"$f":"SUMIF(K$8:K$373,93,M$8:M$373)+SUMIF(O$8:O$373,93,Q$8:Q$373)","v":0},null,null,null,0]
["module 94",null,"ok",null,{"$f":"SUMIF(C$8:C$373,94,E$8:E$373)+SUMIF(G$8:G$373,94,I$8:I$373)","v":0},null,null,null,0,null,"ok",null,{"$f":"SUMIF(K$8:K$373,94,M$8:M$373)+SUMIF(O$8:O$373,94,Q$8:Q$373)","v":0},null,null,null,0]
["module 95",null,"ok",null,{"$f":"SUMIF(C$8:C$373,95,E$8:E$373)+SUMIF(G$8:G$373,95,I$8:I$373)","v":0},null,null,null,0,null,"ok",null,{"$f":"SUMIF(K$8:K$373,95,M$8:M$373)+SUMIF(O$8:O$373,95,Q$8:Q$373)","v":0},null,null,null,0,null," "]
["module 96",null,"ok",null,{"$f":"SUMIF(C$8:C$373,96,E$8:E$373)+SUMIF(G$8:G$373,96,I$8:I$373)","v":0},null,null,null,0,null,"ok",null,{"$f":"SUMIF(K$8:K$373,96,M$8:M$373)+SUMIF(O$8:O$373,96,Q$8:Q$373)","v":0},null,null,null,0]
["module 97",null,"ok",null,{"$f":"SUMIF(C$8:C$373,97,E$8:E$373)+SUMIF(G$8:G$373,97,I$8:I$373)","v":0},null,null,null,0,null,"ok",null,{"$f":"SUMIF(K$8:K$373,97,M$8:M$373)+SUMIF(O$8:O$373,97,Q$8:Q$373)","v":0},null,null,null,0]
["module 98",null,"ok",null,{"$f":"SUMIF(C$8:C$373,98,E$8:E$373)+SUMIF(G$8:G$373,98,I$8:I$373)","v":0},null,null,null,0,null,"ok",null,{"$f":"SUMIF(K$8:K$373,98,M$8:M$373)+SUMIF(O$8:O$373,98,Q$8:Q$373)","v":0},null,null,null,0]
["module 99",null,"ok",null,{"$f":"SUMIF(C$8:C$373,99,E$8:E$373)+SUMIF(G$8:G$373,99,I$8:I$373)","v":0},null,null,null,0,null,"ok",null,{"$f":"SUMIF(K$8:K$373,99,M$8:M$373)+SUMIF(O$8:O$373,99,Q$8:Q$373)","v":0},null,null,null,0]
["Totaux",null,{"$f":"IF(E429=(I429),\"ok\",($A$429))","v":"Totaux"},null,{"$f":"SUM(E379:F410)","v":162},null,null,null,{"$f":"SUM(I379:J410)","v":0},null,{"$f":"IF(M429=(Q429),\"ok\",($A$429))","v":"ok"},null,{"$f":"SUM(M379:N410)","v":0},null,null,null,{"$f":"SUM(Q379:R410)","v":0}]
[]
[]
["Calculateur de période / enseignants"]
["Enseignants",null,{"$f":"C4","v":" Roch Gauthier"}]
[null,null,{"$f":"\"Heures \"& RIGHT($A4,9)","v":"Heures 2024-2025"},null,null,null,{"$f":"\"Heures été \"& RIGHT($A4,9)","v":"Heures été 2024-2025"},null,null,null,{"$f":"\"Heures \"& RIGHT($A4,9)","v":"Heures 2024-2025"},null,null,null,{"$f":"\"Heures été \"& RIGHT($A4,9)","v":"Heures été 2024-2025"}]
["rg","Roch Gauthier",{"$f":"SUMIF(D$65:D$374,A435,E$65:E$374)+SUMIF(H$65:H$374,A435,I$65:I$374)","v":189},null,null,null,{"$f":"SUMIF(D$8:D$64,A435,E$8:E$64)+SUMIF(H$8:H$64,A435,I$8:I$64)","v":45},null,null,null,{"$f":"SUMIF(L$65:L$374,A435,M$65:M$374)+SUMIF(P$65:P$374,A435,Q$65:Q$374)","v":0},null,null,null,{"$f":"SUMIF(L$8:L$64,#REF!,M$8:M$64)+SUMIF(P$8:P$64,#REF!,Q$8:Q$64)","v":0}]
[]
[]
["Total des hrs"]
[null,{"$f":"SUM(W441,S441,O441,K441,G441,C441)","v":286},"ENSEIGNEMENT",null,null,null,"PERMANENT",null,null,null,"DISPO",null,null,null,"NATURE PERSO",null,null,null,"TUTORAT+RECUP",null,null,null,"AUTRE"]
[null,null,"Heures 2012-2013",null,null,null,"TE = 85 HRS",null,null,null,"TA = 360 HRS",null,null,null,"TNP = 200 HRS"]
[null,null,{"$f":"SUM(C435+K435)","v":189},null,null,null,{"$f":"SUM(E413+M413)","v":36},null,null,null,{"$f":"SUM(E414+M414)","v":0},null,null,null,{"$f":"SUM(E415+M415)","v":41},null,null,null,20,null,null,null,0]
[null,null,null,null,null,null,null,72,null,null,null,null,null,null,null,200]
[null,null,null,null,null,null,"Pédago"]

{"sheet":"Nicolas Privé","index":39,"n_rows":441,"n_cols":23,"rows_kept":441,"cut":false,"hidden":false,"merged":[[367,2,367,9],[367,10,367,17],[368,2,368,9],[368,10,368,17],[371,2,371,9],[371,10,371,17],[364,2,364,9],[364,10,364,17],[365,2,365,9],[365,10,365,17],[366,2,366,9],[366,10,366,17],[359,2,359,9],[359,10,359,17],[360,2,360,9],[360,10,360,17],[361,2,361,9],[361,10,361,17],[354,2,354,9],[354,10,354,17],[357,2,357,9],[357,10,357,17],[358,2,358,9],[358,10,358,17],[351,2,351,9],[351,10,351,17],[352,2,352,9],[352,10,352,17],[353,2,353,9],[353,10,353,17],[346,2,346,9],[346,10,346,17],[347,2,347,9],[347,10,347,17],[350,2,350,9],[350,10,350,17],[343,2,343,9],[343,10,343,17],[344,2,344,9],[344,10,344,17],[345,2,345,9],[345,10,345,17],[338,2,338,9],[338,10,338,17],[339,2,339,9],[339,10,339,17],[340,2,340,9],[340,10,340,17],[333,2,333,9],[333,10,333,17],[336,2,336,9],[336,10,336,17],[337,2,337,9],[337,10,337,17],[330,2,330,9],[330,10,330,17],[331,2,331,9],[331,10,331,17],[332,2,332,9],[332,10,332,17],[325,2,325,9],[325,10,325,17],[326,2,326,9],[326,10,326,17],[329,2,329,9],[329,10,329,17],[322,2,322,9],[322,10,322,17],[323,2,323,9],[323,10,323,17],[324,2,324,9],[324,10,324,17],[280,2,280,9],[280,10,280,17],[298,2,298,9],[298,10,298,17],[317,2,317,9],[317,10,317,17],[235,2,235,9],[235,10,235,17],[238,2,238,9],[238,10,238,17],[263,2,263,9],[263,10,263,17],[172,2,172,9],[172,10,172,17],[198,2,198,9],[198,10,198,17],[214,2,214,9],[214,10,214,17],[134,10,134,17],[143,2,143,9],[143,10,143,17],[144,2,144,9],[144,10,144,17],[147,2,147,9],[147,10,147,17],[140,2,140,9],[140,10,140,17],[141,2,141,9],[141,10,141,17],[142,2,142,9],[142,10,142,17],[418,19,418,27],[72,2,72,9],[72,10,72,17],[87,2,87,9],[87,10,87,17],[88,2,88,9],[88,10,88,17],[14,2,14,9],[14,10,14,17],[21,2,21,9],[21,10,21,17],[63,2,63,9],[63,10,63,17],[135,2,135,9],[135,10,135,17],[136,2,136,9],[136,10,136,17],[137,2,137,9],[137,10,137,17],[101,2,101,9],[101,10,101,17],[133,2,133,9],[133,10,133,17],[134,2,134,9],[428,2,428,3],[428,4,428,7],[428,8,428,9],[428,10,428,11],[428,12,428,15],[428,16,428,17],[426,16,426,17],[424,16,424,17],[422,16,422,17],[440,22,440,25],[438,18,438,21],[438,22,438,25],[439,2,439,5],[439,6,439,9],[439,10,439,13],[439,14,439,17],[439,18,439,21],[439,22,439,25],[440,10,440,13],[440,14,440,17],[440,18,440,21],[438,1,440,1],[438,6,438,9],[438,10,438,13],[438,14,438,17],[440,2,440,5],[440,6,440,9],[432,0,433,1],[432,2,432,17],[433,2,433,5],[433,6,433,9],[433,10,433,13],[433,14,433,17],[434,2,434,5],[434,6,434,9],[434,10,434,13],[434,14,434,17],[427,0,427,1],[427,2,427,3],[427,4,427,7],[427,8,427,9],[427,10,427,11],[427,12,427,15],[427,16,427,17],[426,0,426,1],[426,2,426,3],[426,4,426,7],[426,8,426,9],[426,10,426,11],[426,12,426,15],[425,0,425,1],[425,2,425,3],[425,4,425,7],[425,8,425,9],[425,10,425,11],[425,12,425,15],[425,16,425,17],[424,0,424,1],[424,2,424,3],[424,4,424,7],[424,8,424,9],[424,10,424,11],[424,12,424,15],[423,0,423,1],[423,2,423,3],[423,4,423,7],[423,8,423,9],[423,10,423,11],[423,12,423,15],[423,16,423,17],[422,0,422,1],[422,2,422,3],[422,4,422,7],[422,8,422,9],[422,10,422,11],[422,12,422,15],[421,0,421,1],[421,2,421,3],[421,4,421,7],[421,8,421,9],[421,10,421,11],[421,12,421,15],[421,16,421,17],[420,0,420,1],[420,2,420,3],[420,4,420,7],[420,8,420,9],[420,10,420,11],[420,12,420,15],[420,16,420,17],[419,0,419,1],[419,2,419,3],[419,4,419,7],[419,8,419,9],[419,10,419,11],[419,12,419,15],[419,16,419,17],[418,0,418,1],[418,2,418,3],[418,4,418,7],[418,8,418,9],[418,10,418,11],[418,12,418,15],[416,16,416,17],[417,16,417,17],[418,16,418,17],[417,0,417,1],[417,2,417,3],[417,4,417,7],[417,8,417,9],[417,10,417,11],[417,12,417,15],[416,0,416,1],[416,2,416,3],[416,4,416,7],[416,8,416,9],[416,10,416,11],[416,12,416,15],[414,16,414,17],[414,19,414,27],[415,0,415,1],[415,2,415,3],[415,4,415,7],[415,8,415,9],[415,10,415,11],[415,12,415,15],[415,16,415,17],[414,0,414,1],[414,2,414,3],[414,4,414,7],[414,8,414,9],[414,10,414,11],[414,12,414,15],[412,16,412,17],[412,2,412,3],[412,4,412,7],[412,8,412,9],[412,10,412,11],[412,19,412,29],[413,0,413,1],[413,2,413,3],[413,4,413,7],[413,8,413,9],[413,10,413,11],[413,12,413,15],[413,16,413,17],[413,19,413,27],[412,0,412,1],[412,12,412,15],[410,16,410,17],[411,0,411,1],[411,2,411,3],[411,4,411,7],[411,8,411,9],[411,10,411,11],[411,12,411,15],[411,16,411,17],[410,0,410,1],[410,2,410,3],[410,4,410,7],[410,8,410,9],[410,10,410,11],[410,12,410,15],[408,16,408,17],[409,16,409,17],[409,0,409,1],[409,2,409,3],[409,4,409,7],[409,8,409,9],[409,10,409,11],[409,12,409,15],[408,0,408,1],[408,2,408,3],[408,4,408,7],[408,8,408,9],[408,10,408,11],[408,12,408,15],[406,16,406,17],[407,0,407,1],[407,2,407,3],[407,4,407,7],[407,8,407,9],[407,10,407,11],[407,12,407,15],[407,16,407,17],[406,0,406,1],[406,2,406,3],[406,4,406,7],[406,8,406,9],[406,10,406,11],[406,12,406,15],[404,16,404,17],[405,0,405,1],[405,2,405,3],[405,4,405,7],[405,8,405,9],[405,10,405,11],[405,12,405,15],[405,16,405,17],[404,0,404,1],[404,2,404,3],[404,4,404,7],[404,8,404,9],[404,10,404,11],[404,12,404,15],[402,16,402,17],[403,0,403,1],[403,2,403,3],[403,4,403,7],[403,8,403,9],[403,10,403,11],[403,12,403,15],[403,16,403,17],[402,0,402,1],[402,2,402,3],[402,4,402,7],[402,8,402,9],[402,10,402,11],[402,12,402,15],[400,16,400,17],[401,0,401,1],[401,2,401,3],[401,4,401,7],[401,8,401,9],[401,10,401,11],[401,12,401,15],[401,16,401,17],[400,0,400,1],[400,2,400,3],[400,4,400,7],[400,8,400,9],[400,10,400,11],[400,12,400,15],[398,16,398,17],[399,0,399,1],[399,2,399,3],[399,4,399,7],[399,8,399,9],[399,10,399,11],[399,12,399,15],[399,16,399,17],[398,0,398,1],[398,2,398,3],[398,4,398,7],[398,8,398,9],[398,10,398,11],[398,12,398,15],[396,16,396,17],[397,0,397,1],[397,2,397,3],[397,4,397,7],[397,8,397,9],[397,10,397,11],[397,12,397,15],[397,16,397,17],[396,0,396,1],[396,2,396,3],[396,4,396,7],[396,8,396,9],[396,10,396,11],[396,12,396,15],[394,16,394,17],[395,0,395,1],[395,2,395,3],[395,4,395,7],[395,8,395,9],[395,10,395,11],[395,12,395,15],[395,16,395,17],[394,0,394,1],[394,2,394,3],[394,4,394,7],[394,8,394,9],[394,10,394,11],[394,12,394,15],[392,16,392,17],[393,0,393,1],[393,2,393,3],[393,4,393,7],[393,8,393,9],[393,10,393,11],[393,12,393,15],[393,16,393,17],[392,0,392,1],[392,2,392,3],[392,4,392,7],[392,8,392,9],[392,10,392,11],[392,12,392,15],[390,16,390,17],[391,0,391,1],[391,2,391,3],[391,4,391,7],[391,8,391,9],[391,10,391,11],[391,12,391,15],[391,16,391,17],[390,0,390,1],[390,2,390,3],[390,4,390,7],[390,8,390,9],[390,10,390,11],[390,12,390,15],[388,16,388,17],[389,0,389,1],[389,2,389,3],[389,4,389,7],[389,8,389,9],[389,10,389,11],[389,12,389,15],[389,16,389,17],[388,0,388,1],[388,2,388,3],[388,4,388,7],[388,8,388,9],[388,10,388,11],[388,12,388,15],[386,16,386,17],[387,0,387,1],[387,2,387,3],[387,4,387,7],[387,8,387,9],[387,10,387,11],[387,12,387,15],[387,16,387,17],[386,0,386,1],[386,2,386,3],[386,4,386,7],[386,8,386,9],[386,10,386,11],[386,12,386,15],[384,16,384,17],[385,0,385,1],[385,2,385,3],[385,4,385,7],[385,8,385,9],[385,10,385,11],[385,12,385,15],[385,16,385,17],[384,0,384,1],[384,2,384,3],[384,4,384,7],[384,8,384,9],[384,10,384,11],[384,12,384,15],[382,16,382,17],[383,0,383,1],[383,2,383,3],[383,4,383,7],[383,8,383,9],[383,10,383,11],[383,12,383,15],[383,16,383,17],[382,0,382,1],[382,2,382,3],[382,4,382,7],[382,8,382,9],[382,10,382,11],[382,12,382,15],[379,0,379,1],[379,2,379,3],[379,4,379,7],[379,8,379,9],[379,10,379,11],[379,12,379,15],[379,16,379,17],[380,16,380,17],[381,0,381,1],[381,2,381,3],[381,4,381,7],[381,8,381,9],[381,10,381,11],[381,12,381,15],[381,16,381,17],[380,0,380,1],[380,2,380,3],[380,4,380,7],[380,8,380,9],[380,10,380,11],[380,12,380,15],[371,19,371,29],[372,19,372,29],[376,0,377,1],[377,4,377,7],[377,12,377,15],[378,0,378,1],[378,2,378,3],[378,4,378,7],[378,8,378,9],[378,10,378,11],[378,12,378,15],[378,16,378,17],[372,2,372,9],[372,10,372,17],[373,2,373,9],[373,10,373,17],[365,19,365,29],[366,19,366,29],[367,19,367,29],[368,19,368,29],[369,19,369,29],[370,19,370,29],[359,19,359,29],[360,19,360,29],[361,19,361,29],[362,19,362,29],[363,19,363,29],[364,19,364,29],[353,19,353,29],[354,19,354,29],[355,19,355,29],[356,19,356,29],[357,19,357,29],[358,19,358,29],[347,19,347,29],[348,19,348,29],[349,19,349,29],[350,19,350,29],[351,19,351,29],[352,19,352,29],[341,19,341,29],[342,19,342,29],[343,19,343,29],[344,19,344,29],[345,19,345,29],[346,19,346,29],[335,19,335,29],[336,19,336,29],[337,19,337,29],[338,19,338,29],[339,19,339,29],[340,19,340,29],[329,19,329,29],[330,19,330,29],[331,19,331,29],[332,19,332,29],[333,19,333,29],[334,19,334,29],[323,19,323,29],[324,19,324,29],[325,19,325,29],[326,19,326,29],[327,19,327,29],[328,19,328,29],[317,19,317,29],[318,19,318,29],[319,19,319,29],[320,19,320,29],[321,19,321,29],[322,19,322,29],[311,19,311,29],[312,19,312,29],[313,19,313,29],[314,19,314,29],[315,19,315,29],[316,19,316,29],[305,19,305,29],[306,19,306,29],[307,19,307,29],[308,19,308,29],[309,19,309,29],[310,19,310,29],[299,19,299,29],[300,19,300,29],[301,19,301,29],[302,19,302,29],[303,19,303,29],[304,19,304,29],[293,19,293,29],[294,19,294,29],[295,19,295,29],[296,19,296,29],[297,19,297,29],[298,19,298,29],[287,19,287,29],[288,19,288,29],[289,19,289,29],[290,19,290,29],[291,19,291,29],[292,19,292,29],[281,19,281,29],[282,19,282,29],[283,19,283,29],[284,19,284,29],[285,19,285,29],[286,19,286,29],[275,19,275,29],[276,19,276,29],[277,19,277,29],[278,19,278,29],[279,19,279,29],[280,19,280,29],[269,19,269,29],[270,19,270,29],[271,19,271,29],[272,19,272,29],[273,19,273,29],[274,19,274,29],[263,19,263,29],[264,19,264,29],[265,19,265,29],[266,19,266,29],[267,19,267,29],[268,19,268,29],[257,19,257,29],[258,19,258,29],[259,19,259,29],[260,19,260,29],[261,19,261,29],[262,19,262,29],[251,19,251,29],[252,19,252,29],[253,19,253,29],[254,19,254,29],[255,19,255,29],[256,19,256,29],[245,19,245,29],[246,19,246,29],[247,19,247,29],[248,19,248,29],[249,19,249,29],[250,19,250,29],[239,19,239,29],[240,19,240,29],[241,19,241,29],[242,19,242,29],[243,19,243,29],[244,19,244,29],[233,19,233,29],[234,19,234,29],[235,19,235,29],[236,19,236,29],[237,19,237,29],[238,19,238,29],[227,19,227,29],[228,19,228,29],[229,19,229,29],[230,19,230,29],[231,19,231,29],[232,19,232,29],[221,19,221,29],[222,19,222,29],[223,19,223,29],[224,19,224,29],[225,19,225,29],[226,19,226,29],[215,19,215,29],[216,19,216,29],[217,19,217,29],[218,19,218,29],[219,19,219,29],[220,19,220,29],[209,19,209,29],[210,19,210,29],[211,19,211,29],[212,19,212,29],[213,19,213,29],[214,19,214,29],[203,19,203,29],[204,19,204,29],[205,19,205,29],[206,19,206,29],[207,19,207,29],[208,19,208,29],[197,19,197,29],[198,19,198,29],[199,19,199,29],[200,19,200,29],[201,19,201,29],[202,19,202,29],[191,19,191,29],[192,19,192,29],[193,19,193,29],[194,19,194,29],[195,19,195,29],[196,19,196,29],[185,19,185,29],[186,19,186,29],[187,19,187,29],[188,19,188,29],[189,19,189,29],[190,19,190,29],[179,19,179,29],[180,19,180,29],[181,19,181,29],[182,19,182,29],[183,19,183,29],[184,19,184,29],[173,19,173,29],[174,19,174,29],[175,19,175,29],[176,19,176,29],[177,19,177,29],[178,19,178,29],[167,19,167,29],[168,19,168,29],[169,19,169,29],[170,19,170,29],[171,19,171,29],[172,19,172,29],[161,19,161,29],[162,19,162,29],[163,19,163,29],[164,19,164,29],[165,19,165,29],[166,19,166,29],[155,19,155,29],[156,19,156,29],[157,19,157,29],[158,19,158,29],[159,19,159,29],[160,19,160,29],[149,19,149,29],[150,19,150,29],[151,19,151,29],[152,19,152,29],[153,19,153,29],[154,19,154,29],[143,19,143,29],[144,19,144,29],[145,19,145,29],[146,19,146,29],[147,19,147,29],[148,19,148,29],[137,19,137,29],[138,19,138,29],[139,19,139,29],[140,19,140,29],[141,19,141,29],[142,19,142,29],[131,19,131,29],[132,19,132,29],[133,19,133,29],[134,19,134,29],[135,19,135,29],[136,19,136,29],[125,19,125,29],[126,19,126,29],[127,19,127,29],[128,19,128,29],[129,19,129,29],[130,19,130,29],[119,19,119,29],[120,19,120,29],[121,19,121,29],[122,19,122,29],[123,19,123,29],[124,19,124,29],[113,19,113,29],[114,19,114,29],[115,19,115,29],[116,19,116,29],[117,19,117,29],[118,19,118,29],[107,19,107,29],[108,19,108,29],[109,19,109,29],[110,19,110,29],[111,19,111,29],[112,19,112,29],[101,19,101,29],[102,19,102,29],[103,19,103,29],[104,19,104,29],[105,19,105,29],[106,19,106,29],[95,19,95,29],[96,19,96,29],[97,19,97,29],[98,19,98,29],[99,19,99,29],[100,19,100,29],[89,19,89,29],[90,19,90,29],[91,19,91,29],[92,19,92,29],[93,19,93,29],[94,19,94,29],[83,19,83,29],[84,19,84,29],[85,19,85,29],[86,19,86,29],[87,19,87,29],[88,19,88,29],[77,19,77,29],[78,19,78,29],[79,19,79,29],[80,19,80,29],[81,19,81,29],[82,19,82,29],[71,19,71,29],[72,19,72,29],[73,19,73,29],[74,19,74,29],[75,19,75,29],[76,19,76,29],[65,19,65,29],[66,19,66,29],[67,19,67,29],[68,19,68,29],[69,19,69,29],[70,19,70,29],[59,19,59,29],[60,19,60,29],[61,19,61,29],[62,19,62,29],[63,19,63,29],[64,19,64,29],[53,19,53,29],[54,19,54,29],[55,19,55,29],[56,19,56,29],[57,19,57,29],[58,19,58,29],[47,19,47,29],[48,19,48,29],[49,19,49,29],[50,19,50,29],[51,19,51,29],[52,19,52,29],[41,19,41,29],[42,19,42,29],[43,19,43,29],[44,19,44,29],[45,19,45,29],[46,19,46,29],[35,19,35,29],[36,19,36,29],[37,19,37,29],[38,19,38,29],[39,19,39,29],[40,19,40,29],[29,19,29,29],[30,19,30,29],[31,19,31,29],[32,19,32,29],[33,19,33,29],[34,19,34,29],[23,19,23,29],[24,19,24,29],[25,19,25,29],[26,19,26,29],[27,19,27,29],[28,19,28,29],[19,19,19,29],[20,19,20,29],[21,19,21,29],[22,19,22,29],[11,19,11,29],[12,19,12,29],[13,19,13,29],[14,19,14,29],[15,19,15,29],[16,19,16,29],[8,19,8,29],[9,19,9,29],[10,19,10,29],[7,2,7,9],[7,10,7,17],[8,2,8,9],[8,10,8,17],[17,19,17,29],[18,19,18,29],[9,2,9,9],[9,10,9,17],[10,2,10,9],[10,10,10,17],[11,2,11,9],[11,10,11,17],[3,0,3,1],[3,2,3,17],[3,19,3,29],[4,0,4,1],[4,2,4,9],[4,10,4,17],[5,2,5,9],[5,10,5,17],[7,19,7,29]]}
[]
["Horaire prof Mécanique de véhicules lourds routiers"]
[" "]
["Année scolaire 2024-2025",null," Nicolas Privé",null,null,null,null,null,null,null,null,null,null,null,null,null,null,null,null,"Commentaires"]
[null,null," Intensif 1800",null,null,null,null,null,null,null," Intensif 1800"]
[9,null,"Jour    ",null,null,null,null,null,null,null,"Soir    "]
[null,null,"M","P","H","L","M","P","H","L","M","P","H","L","M","P","H","L"]
[{"$f":"WEEKDAY(B8,2)","v":1},"2025-08-18","                   Vacances          ",null,null,null,null,null,null,null,"                   Vacances          "]
[2,"2025-08-19","                   Vacances          ",null,null,null,null,null,null,null,"                   Vacances          "]
[3,{"$f":"B9+1","v":"2025-08-20"},"                   Vacances          ",null,null,null,null,null,null,null,"                   Vacances          "]
[4,{"$f":"B10+1","v":"2025-08-21"},"                   Vacances          ",null,null,null,null,null,null,null,"                   Vacances          "]
[5,"2025-08-22","     Pédagogique Commune",null,null,null,null,null,null,null,"     Pédagogique Commune"]
[6,"2025-08-23","                       WEEK-END                       ",null,null,null,null,null,null,null,"                       WEEK-END                       "]
[7,"2025-08-24","                       WEEK-END                       ",null,null,null,null,null,null,null,"                       WEEK-END                       "]
[1,"2025-08-25","     Pédagogique",null,null,null,null,null,null,null,"     Pédagogique"]
[2,"2025-08-26"]
[3,"2025-08-27"]
[4,"2025-08-28"]
[5,"2025-08-29"]
[6,"2025-08-30","                       WEEK-END                       ",null,null,null,null,null,null,null,"                       WEEK-END                       "]
[7,"2025-08-31","                       WEEK-END                       ",null,null,null,null,null,null,null,"                       WEEK-END                       "]
[1,"2025-09-01","Congé",null,null,null,null,null,null,null,"Congé"]
[2,"2025-09-02"]
[3,"2025-09-03"]
[4,"2025-09-04"]
[5,"2025-09-05"]
[6,"2025-09-06","                       WEEK-END                       ",null,null,null,null,null,null,null,"                       WEEK-END                       "]
[7,"2025-09-07","                       WEEK-END                       ",null,null,null,null,null,null,null,"                       WEEK-END                       "]
[1,"2025-09-08"]
[2,"2025-09-09"]
[3,"2025-09-10"]
[4,"2025-09-11"]
[5,"2025-09-12"]
[6,"2025-09-13","                       WEEK-END                       ",null,null,null,null,null,null,null,"                       WEEK-END                       "]
[7,"2025-09-14","                       WEEK-END                       ",null,null,null,null,null,null,null,"                       WEEK-END                       "]
[1,"2025-09-15"]
[2,"2025-09-16"]
[3,"2025-09-17"]
[4,"2025-09-18"]
[5,"2025-09-19"]
[6,"2025-09-20","                       WEEK-END                       ",null,null,null,null,null,null,null,"                       WEEK-END                       "]
[7,"2025-09-21","                       WEEK-END                       ",null,null,null,null,null,null,null,"                       WEEK-END                       "]
[1,"2025-09-22"]
[2,"2025-09-23"]
[3,"2025-09-24"]
[4,"2025-09-25"]
[5,"2025-09-26"]
[6,"2025-09-27","                       WEEK-END                       ",null,null,null,null,null,null,null,"                       WEEK-END                       "]
[7,"2025-09-28","                       WEEK-END                       ",null,null,null,null,null,null,null,"                       WEEK-END                       "]
[1,"2025-09-29"]
[2,"2025-09-30"]
[3,"2025-10-01"]
[4,"2025-10-02"]
[5,"2025-10-03"]
[6,"2025-10-04","                       WEEK-END                       ",null,null,null,null,null,null,null,"                       WEEK-END                       "]
[7,"2025-10-05","                       WEEK-END                       ",null,null,null,null,null,null,null,"                       WEEK-END                       "]
[1,"2025-10-06"]
[2,"2025-10-07"]
[3,"2025-10-08"]
[4,"2025-10-09"]
[5,"2025-10-10"]
[6,"2025-10-11","                       WEEK-END                       ",null,null,null,null,null,null,null,"                       WEEK-END                       "]
[7,"2025-10-12","                       WEEK-END                       ",null,null,null,null,null,null,null,"                       WEEK-END                       "]
[1,"2025-10-13","Congé",null,null,null,null,null,null,null,"Congé"]
[2,"2025-10-14"]
[3,"2025-10-15"]
[4,"2025-10-16"]
[5,"2025-10-17"]
[6,"2025-10-18","                       WEEK-END                       ",null,null,null,null,null,null,null,"                       WEEK-END                       "]
[7,"2025-10-19","                       WEEK-END                       ",null,null,null,null,null,null,null,"                       WEEK-END                       "]
[1,"2025-10-20"]
[{"$f":"WEEKDAY(B72,2)","v":2},"2025-10-21"]
[3,"2025-10-22","     Pédagogique",null,null,null,null,null,null,null,"     Pédagogique"]
[4,"2025-10-23"]
[5,{"$f":"B74+1","v":"2025-10-24"}]
[6,"2025-10-25","                       WEEK-END                       ",null,null,null,null,null,null,null,"                       WEEK-END                       "]
[7,"2025-10-26","                       WEEK-END                       ",null,null,null,null,null,null,null,"                       WEEK-END                       "]
[1,"2025-10-27"]
[2,"2025-10-28"]
[3,"2025-10-29"]
[4,"2025-10-30"]
[5,"2025-10-31"]
[6,"2025-11-01","                       WEEK-END                       ",null,null,null,null,null,null,null,"                       WEEK-END                       "]
[7,"2025-11-02","                       WEEK-END                       ",null,null,null,null,null,null,null,"                       WEEK-END                       "]
[1,"2025-11-03"]
[2,"2025-11-04"]
[3,"2025-11-05"]
[4,"2025-11-06","     Pédagogique",null,null,null,null,null,null,null,"     Pédagogique"]
[5,"2025-11-07","     Pédagogique",null,null,null,null,null,null,null,"     Pédagogique"]
[6,"2025-11-08","                       WEEK-END                       ",null,null,null,null,null,null,null,"                       WEEK-END                       "]
[7,"2025-11-09","                       WEEK-END                       ",null,null,null,null,null,null,null,"                       WEEK-END                       "]
[1,"2025-11-10"]
[2,"2025-11-11"]
[3,"2025-11-12"]
[4,"2025-11-13"]
[5,"2025-11-14"]
[6,"2025-11-15","                       WEEK-END                       ",null,null,null,null,null,null,null,"                       WEEK-END                       "]
[7,"2025-11-16","                       WEEK-END                       ",null,null,null,null,null,null,null,"                       WEEK-END                       "]
[1,"2025-11-17"]
[2,"2025-11-18"]
[3,"2025-11-19"]
[4,"2025-11-20","     Pédagogique Commune",null,null,null,null,null,null,null,"     Pédagogique Commune"]
[5,"2025-11-21"]
[6,"2025-11-22","                       WEEK-END                       ",null,null,null,null,null,null,null,"                       WEEK-END                       "]
[7,"2025-11-23","                       WEEK-END                       ",null,null,null,null,null,null,null,"                       WEEK-END                       "]
[1,"2025-11-24"]
[2,"2025-11-25"]
[3,"2025-11-26"]
[4,"2025-11-27"]
[5,"2025-11-28"]
[6,"2025-11-29","                       WEEK-END                       ",null,null,null,null,null,null,null,"                       WEEK-END                       "]
[7,"2025-11-30","                       WEEK-END                       ",null,null,null,null,null,null,null,"                       WEEK-END                       "]
[1,"2025-12-01"]
[2,"2025-12-02"]
[3,"2025-12-03"]
[4,"2025-12-04"]
[5,"2025-12-05"]
[6,"2025-12-06","                       WEEK-END                       ",null,null,null,null,null,null,null,"                       WEEK-END                       "]
[7,"2025-12-07","                       WEEK-END                       ",null,null,null,null,null,null,null,"                       WEEK-END                       "]
[1,"2025-12-08"]
[2,"2025-12-09"]
[3,"2025-12-10"]
[4,"2025-12-11"]
[5,"2025-12-12"]
[6,"2025-12-13","                       WEEK-END                       ",null,null,null,null,null,null,null,"                       WEEK-END                       "]
[7,"2025-12-14","                       WEEK-END                       ",null,null,null,null,null,null,null,"                       WEEK-END                       "]
[1,"2025-12-15"]
[2,"2025-12-16"]
[3,"2025-12-17"]
[4,"2025-12-18"]
[5,"2025-12-19"]
[6,"2025-12-20","                       WEEK-END                       ",null,null,null,null,null,null,null,"                       WEEK-END                       "]
[7,"2025-12-21","                       WEEK-END                       ",null,null,null,null,null,null,null,"                       WEEK-END                       "]
[1,"2025-12-22","Congé Noël",null,null,null,null,null,null,null,"Congé Noël"]
[2,"2025-12-23","Congé Noël",null,null,null,null,null,null,null,"Congé Noël"]
[{"$f":"WEEKDAY(B136,2)","v":3},"2025-12-24","Congé Noël",null,null,null,null,null,null,null,"Congé Noël"]
[4,"2025-12-25","Congé Noël",null,null,null,null,null,null,null,"Congé Noël"]
[5,"2025-12-26","Congé Noël",null,null,null,null,null,null,null,"Congé Noël"]
[6,{"$f":"B138+1","v":"2025-12-27"},"                       WEEK-END                       ",null,null,null,null,null,null,null,"                       WEEK-END                       "]
[7,"2025-12-28","                       WEEK-END                       ",null,null,null,null,null,null,null,"                       WEEK-END                       "]
[1,"2025-12-29","Congé Noël",null,null,null,null,null,null,null,"Congé Noël"]
[2,"2025-12-30","Congé Noël",null,null,null,null,null,null,null,"Congé Noël"]
[3,"2025-12-31","Congé Noël",null,null,null,null,null,null,null,"Congé Noël"]
[4,"2026-01-01","Congé Noël",null,null,null,null,null,null,null,"Congé Noël"]
[5,"2026-01-02","Congé Noël",null,null,null,null,null,null,null,"Congé Noël"]
[6,"2026-01-03","                       WEEK-END                       ",null,null,null,null,null,null,null,"                       WEEK-END                       "]
[7,"2026-01-04","                       WEEK-END                       ",null,null,null,null,null,null,null,"                       WEEK-END                       "]
[1,"2026-01-05","     Pédagogique Commune",null,null,null,null,null,null,null,"     Pédagogique Commune"]
[2,"2026-01-06"]
[3,"2026-01-07"]
[4,"2026-01-08"]
[5,"2026-01-09"]
[6,"2026-01-10","                       WEEK-END                       ",null,null,null,null,null,null,null,"                       WEEK-END                       "]
[7,"2026-01-11","                       WEEK-END                       ",null,null,null,null,null,null,null,"                       WEEK-END                       "]
[1,"2026-01-12"]
[2,"2026-01-13"]
[3,"2026-01-14"]
[4,"2026-01-15"]
[5,"2026-01-16"]
[6,"2026-01-17","                       WEEK-END                       ",null,null,null,null,null,null,null,"                       WEEK-END                       "]
[7,"2026-01-18","                       WEEK-END                       ",null,null,null,null,null,null,null,"                       WEEK-END                       "]
[1,"2026-01-19"]
[2,"2026-01-20"]
[3,"2026-01-21"]
[4,"2026-01-22"]
[5,"2026-01-23"]
[6,"2026-01-24","                       WEEK-END                       ",null,null,null,null,null,null,null,"                       WEEK-END                       "]
[7,"2026-01-25","                       WEEK-END                       ",null,null,null,null,null,null,null,"                       WEEK-END                       "]
[1,"2026-01-26"]
[2,"2026-01-27"]
[3,"2026-01-28"]
[4,"2026-01-29"]
[5,"2026-01-30","     Pédagogique",null,null,null,null,null,null,null,"     Pédagogique"]
[6,"2026-01-31","                       WEEK-END                       ",null,null,null,null,null,null,null,"                       WEEK-END                       "]
[7,"2026-02-01","                       WEEK-END                       ",null,null,null,null,null,null,null,"                       WEEK-END                       "]
[1,"2026-02-02"]
[2,"2026-02-03"]
[3,"2026-02-04"]
[4,"2026-02-05"]
[5,"2026-02-06"]
[6,"2026-02-07","                       WEEK-END                       ",null,null,null,null,null,null,null,"                       WEEK-END                       "]
[7,"2026-02-08","                       WEEK-END                       ",null,null,null,null,null,null,null,"                       WEEK-END                       "]
[1,"2026-02-09"]
[2,"2026-02-10"]
[3,"2026-02-11"]
[4,"2026-02-12"]
[5,"2026-02-13"]
[6,"2026-02-14","                       WEEK-END                       ",null,null,null,null,null,null,null,"                       WEEK-END                       "]
[7,"2026-02-15","                       WEEK-END                       ",null,null,null,null,null,null,null,"                       WEEK-END                       "]
[1,"2026-02-16"]
[2,"2026-02-17"]
[3,"2026-02-18"]
[4,"2026-02-19"]
[5,"2026-02-20"]
[6,"2026-02-21","                       WEEK-END                       ",null,null,null,null,null,null,null,"                       WEEK-END                       "]
[7,"2026-02-22","                       WEEK-END                       ",null,null,null,null,null,null,null,"                       WEEK-END                       "]
[1,"2026-02-23"]
[2,"2026-02-24"]
[3,"2026-02-25","     Pédagogique",null,null,null,null,null,null,null,"     Pédagogique"]
[{"$f":"WEEKDAY(B200,2)","v":4},"2026-02-26"]
[5,"2026-02-27"]
[6,"2026-02-28","                       WEEK-END                       ",null,null,null,null,null,null,null,"                       WEEK-END                       "]
[7,{"$f":"B202+1","v":"2026-03-01"},"                       WEEK-END                       ",null,null,null,null,null,null,null,"                       WEEK-END                       "]
[1,"2026-03-02"]
[2,"2026-03-03"]
[3,"2026-03-04"]
[4,"2026-03-05"]
[5,"2026-03-06"]
[6,"2026-03-07","                       WEEK-END                       ",null,null,null,null,null,null,null,"                       WEEK-END                       "]
[7,"2026-03-08","                       WEEK-END                       ",null,null,null,null,null,null,null,"                       WEEK-END                       "]
[1,"2026-03-09"]
[2,"2026-03-10"]
[3,"2026-03-11"]
[4,"2026-03-12"]
[5,"2026-03-13","     Pédagogique",null,null,null,null,null,null,null,"     Pédagogique"]
[6,"2026-03-14","                       WEEK-END                       ",null,null,null,null,null,null,null,"                       WEEK-END                       "]
[7,"2026-03-15","                       WEEK-END                       ",null,null,null,null,null,null,null,"                       WEEK-END                       "]
[1,"2026-03-16"]
[2,"2026-03-17"]
[3,"2026-03-18"]
[4,"2026-03-19"]
[5,"2026-03-20"]
[6,"2026-03-21","                       WEEK-END                       ",null,null,null,null,null,null,null,"                       WEEK-END                       "]
[7,"2026-03-22","                       WEEK-END                       ",null,null,null,null,null,null,null,"                       WEEK-END                       "]
[1,"2026-03-23"]
[2,"2026-03-24"]
[3,"2026-03-25"]
[4,"2026-03-26"]
[5,"2026-03-27"]
[6,"2026-03-28","                       WEEK-END                       ",null,null,null,null,null,null,null,"                       WEEK-END                       "]
[7,"2026-03-29","                       WEEK-END                       ",null,null,null,null,null,null,null,"                       WEEK-END                       "]
[1,"2026-03-30"]
[2,"2026-03-31"]
[3,"2026-04-01"]
[4,"2026-04-02"]
[5,"2026-04-03","Congé",null,null,null,null,null,null,null,"Congé"]
[6,"2026-04-04","                       WEEK-END                       ",null,null,null,null,null,null,null,"                       WEEK-END                       "]
[7,"2026-04-05","                       WEEK-END                       ",null,null,null,null,null,null,null,"                       WEEK-END                       "]
[1,"2026-04-06","Congé",null,null,null,null,null,null,null,"Congé"]
[2,"2026-04-07"]
[3,"2026-04-08"]
[4,"2026-04-09"]
[5,"2026-04-10"]
[6,"2026-04-11","                       WEEK-END                       ",null,null,null,null,null,null,null,"                       WEEK-END                       "]
[7,"2026-04-12","                       WEEK-END                       ",null,null,null,null,null,null,null,"                       WEEK-END                       "]
[1,"2026-04-13"]
[2,"2026-04-14"]
[3,"2026-04-15"]
[4,"2026-04-16"]
[5,"2026-04-17"]
[6,"2026-04-18","                       WEEK-END                       ",null,null,null,null,null,null,null,"                       WEEK-END                       "]
[7,"2026-04-19","                       WEEK-END                       ",null,null,null,null,null,null,null,"                       WEEK-END                       "]
[1,"2026-04-20"]
[2,"2026-04-21"]
[3,"2026-04-22"]
[4,"2026-04-23"]
[5,"2026-04-24"]
[6,"2026-04-25","                       WEEK-END                       ",null,null,null,null,null,null,null,"                       WEEK-END                       "]
[7,"2026-04-26","                       WEEK-END                       ",null,null,null,null,null,null,null,"                       WEEK-END                       "]
[1,"2026-04-27"]
[2,"2026-04-28"]
[3,"2026-04-29"]
[4,"2026-04-30"]
[{"$f":"WEEKDAY(B264,2)","v":5},"2026-05-01","     Pédagogique Commune",null,null,null,null,null,null,null,"     Pédagogique Commune"]
[6,"2026-05-02","                       WEEK-END                       ",null,null,null,null,null,null,null,"                       WEEK-END                       "]
[7,"2026-05-03","                       WEEK-END                       ",null,null,null,null,null,null,null,"                       WEEK-END                       "]
[1,{"$f":"B266+1","v":"2026-05-04"}]
[2,"2026-05-05"]
[3,"2026-05-06"]
[4,"2026-05-07"]
[5,"2026-05-08"]
[6,"2026-05-09","                       WEEK-END                       ",null,null,null,null,null,null,null,"                       WEEK-END                       "]
[7,"2026-05-10","                       WEEK-END                       ",null,null,null,null,null,null,null,"                       WEEK-END                       "]
[1,"2026-05-11"]
[2,"2026-05-12"]
[3,"2026-05-13"]
[4,"2026-05-14"]
[5,"2026-05-15"]
[6,"2026-05-16","                       WEEK-END                       ",null,null,null,null,null,null,null,"                       WEEK-END                       "]
[7,"2026-05-17","                       WEEK-END                       ",null,null,null,null,null,null,null,"                       WEEK-END                       "]
[1,"2026-05-18","Congé",null,null,null,null,null,null,null,"Congé"]
[2,"2026-05-19"]
[3,"2026-05-20"]
[4,"2026-05-21"]
[5,"2026-05-22"]
[6,"2026-05-23","                       WEEK-END                       ",null,null,null,null,null,null,null,"                       WEEK-END                       "]
[7,"2026-05-24","                       WEEK-END                       ",null,null,null,null,null,null,null,"                       WEEK-END                       "]
[1,"2026-05-25"]
[2,"2026-05-26"]
[3,"2026-05-27"]
[4,"2026-05-28"]
[5,"2026-05-29"]
[6,"2026-05-30","                       WEEK-END                       ",null,null,null,null,null,null,null,"                       WEEK-END                       "]
[7,"2026-05-31","                       WEEK-END                       ",null,null,null,null,null,null,null,"                       WEEK-END                       "]
[1,"2026-06-01"]
[2,"2026-06-02"]
[3,"2026-06-03"]
[4,"2026-06-04"]
[5,"2026-06-05","     Pédagogique",null,null,null,null,null,null,null,"     Pédagogique"]
[6,"2026-06-06","                       WEEK-END                       ",null,null,null,null,null,null,null,"                       WEEK-END                       "]
[7,"2026-06-07","                       WEEK-END                       ",null,null,null,null,null,null,null,"                       WEEK-END                       "]
[1,"2026-06-08"]
[2,"2026-06-09"]
[3,"2026-06-10"]
[4,"2026-06-11"]
[5,"2026-06-12"]
[6,"2026-06-13","                       WEEK-END                       ",null,null,null,null,null,null,null,"                       WEEK-END                       "]
[7,"2026-06-14","                       WEEK-END                       ",null,null,null,null,null,null,null,"                       WEEK-END                       "]
[1,"2026-06-15"]
[2,"2026-06-16"]
[3,"2026-06-17"]
[4,"2026-06-18"]
[5,"2026-06-19"]
[6,"2026-06-20","                       WEEK-END                       ",null,null,null,null,null,null,null,"                       WEEK-END                       "]
[7,"2026-06-21","                       WEEK-END                       ",null,null,null,null,null,null,null,"                       WEEK-END                       "]
[1,"2026-06-22"]
[2,"2026-06-23"]
[3,"2026-06-24","Congé",null,null,null,null,null,null,null,"Congé"]
[4,"2026-06-25"]
[5,"2026-06-26"]
[6,"2026-06-27","                       WEEK-END                       ",null,null,null,null,null,null,null,"                       WEEK-END                       "]
[7,"2026-06-28","                       WEEK-END                       ",null,null,null,null,null,null,null,"                       WEEK-END                       "]
[1,"2026-06-29","                   Vacances          ",null,null,null,null,null,null,null,"                   Vacances          "]
[2,"2026-06-30","                   Vacances          ",null,null,null,null,null,null,null,"                   Vacances          "]
[3,"2026-07-01","                   Vacances          ",null,null,null,null,null,null,null,"                   Vacances          "]
[4,"2026-07-02","                   Vacances          ",null,null,null,null,null,null,null,"                   Vacances          "]
[5,"2026-07-03","                   Vacances          ",null,null,null,null,null,null,null,"                   Vacances          "]
[{"$f":"WEEKDAY(B328,2)","v":6},"2026-07-04","                       WEEK-END                       ",null,null,null,null,null,null,null,"                       WEEK-END                       "]
[7,"2026-07-05","                       WEEK-END                       ",null,null,null,null,null,null,null,"                       WEEK-END                       "]
[1,"2026-07-06","                   Vacances          ",null,null,null,null,null,null,null,"                   Vacances          "]
[2,{"$f":"B330+1","v":"2026-07-07"},"                   Vacances          ",null,null,null,null,null,null,null,"                   Vacances          "]
[3,"2026-07-08","                   Vacances          ",null,null,null,null,null,null,null,"                   Vacances          "]
[4,"2026-07-09","                   Vacances          ",null,null,null,null,null,null,null,"                   Vacances          "]
[5,"2026-07-10","                   Vacances          ",null,null,null,null,null,null,null,"                   Vacances          "]
[6,"2026-07-11","                       WEEK-END                       ",null,null,null,null,null,null,null,"                       WEEK-END                       "]
[7,"2026-07-12","                       WEEK-END                       ",null,null,null,null,null,null,null,"                       WEEK-END                       "]
[1,"2026-07-13","                   Vacances          ",null,null,null,null,null,null,null,"                   Vacances          "]
[2,"2026-07-14","                   Vacances          ",null,null,null,null,null,null,null,"                   Vacances          "]
[3,"2026-07-15","                   Vacances          ",null,null,null,null,null,null,null,"                   Vacances          "]
[4,"2026-07-16","                   Vacances          ",null,null,null,null,null,null,null,"                   Vacances          "]
[5,"2026-07-17","                   Vacances          ",null,null,null,null,null,null,null,"                   Vacances          "]
[6,"2026-07-18","                       WEEK-END                       ",null,null,null,null,null,null,null,"                       WEEK-END                       "]
[7,"2026-07-19","                       WEEK-END                       ",null,null,null,null,null,null,null,"                       WEEK-END                       "]
[1,"2026-07-20","                   Vacances          ",null,null,null,null,null,null,null,"                   Vacances          "]
[2,"2026-07-21","                   Vacances          ",null,null,null,null,null,null,null,"                   Vacances          "]
[3,"2026-07-22","                   Vacances          ",null,null,null,null,null,null,null,"                   Vacances          "]
[4,"2026-07-23","                   Vacances          ",null,null,null,null,null,null,null,"                   Vacances          "]
[5,"2026-07-24","                   Vacances          ",null,null,null,null,null,null,null,"                   Vacances          "]
[6,"2026-07-25","                       WEEK-END                       ",null,null,null,null,null,null,null,"                       WEEK-END                       "]
[7,"2026-07-26","                       WEEK-END                       ",null,null,null,null,null,null,null,"                       WEEK-END                       "]
[1,"2026-07-27","                   Vacances          ",null,null,null,null,null,null,null,"                   Vacances          "]
[2,"2026-07-28","                   Vacances          ",null,null,null,null,null,null,null,"                   Vacances          "]
[3,"2026-07-29","                   Vacances          ",null,null,null,null,null,null,null,"                   Vacances          "]
[4,"2026-07-30","                   Vacances          ",null,null,null,null,null,null,null,"                   Vacances          "]
[5,"2026-07-31","                   Vacances          ",null,null,null,null,null,null,null,"                   Vacances          "]
[6,"2026-08-01","                       WEEK-END                       ",null,null,null,null,null,null,null,"                       WEEK-END                       "]
[7,"2026-08-02","                       WEEK-END                       ",null,null,null,null,null,null,null,"                       WEEK-END                       "]
[1,"2026-08-03","                   Vacances          ",null,null,null,null,null,null,null,"                   Vacances          "]
[2,"2026-08-04","                   Vacances          ",null,null,null,null,null,null,null,"                   Vacances          "]
[3,"2026-08-05","                   Vacances          ",null,null,null,null,null,null,null,"                   Vacances          "]
[4,"2026-08-06","                   Vacances          ",null,null,null,null,null,null,null,"                   Vacances          "]
[5,"2026-08-07","                   Vacances          ",null,null,null,null,null,null,null,"                   Vacances          "]
[6,"2026-08-08","                       WEEK-END                       ",null,null,null,null,null,null,null,"                       WEEK-END                       "]
[7,"2026-08-09","                       WEEK-END                       ",null,null,null,null,null,null,null,"                       WEEK-END                       "]
[1,"2026-08-10","                   Vacances          ",null,null,null,null,null,null,null,"                   Vacances          "]
[2,"2026-08-11","                   Vacances          ",null,null,null,null,null,null,null,"                   Vacances          "]
[3,"2026-08-12","                   Vacances          ",null,null,null,null,null,null,null,"                   Vacances          "]
[4,"2026-08-13","                   Vacances          ",null,null,null,null,null,null,null,"                   Vacances          "]
[5,"2026-08-14","                   Vacances          ",null,null,null,null,null,null,null,"                   Vacances          "]
[6,"2026-08-15","                       WEEK-END                       ",null,null,null,null,null,null,null,"                       WEEK-END                       "]
[7,"2026-08-16","                       WEEK-END                       ",null,null,null,null,null,null,null,"                       WEEK-END                       "]
[1,"2026-08-17","                   Vacances          ",null,null,null,null,null,null,null,"                   Vacances          "]
[2,"2026-08-18","                   Vacances          ",null,null,null,null,null,null,null,"                   Vacances          "]
[null,"2026-08-19","                   Vacances          ",null,null,null,null,null,null,null,"                   Vacances          "]
[]
["Calculateur de période par module"]
["Modules",null," ",null,null,null,null,null,null,null," "]
[null,null,"à prog.",null,"entrées",null,null,null,"à faire",null,"à prog.",null,"entrées",null,null,null,"à faire"]
["module 1",null,{"$f":"IF(E379=(I379),\"ok\",($A379))","v":"ok"},null,{"$f":"SUMIF(C$8:C$373,1,E$8:E$373)+SUMIF(G$8:G$373,1,I$8:I$373)","v":0},null,null,null,0,null,{"$f":"IF(M379=(Q379),\"ok\",($A379))","v":"ok"},null,{"$f":"SUMIF(K$8:K$373,1,M$8:M$373)+SUMIF(O$8:O$373,1,Q$8:Q$373)","v":0},null,null,null,0]
["module 2",null,"ok",null,{"$f":"SUMIF(C$8:C$373,2,E$8:E$373)+SUMIF(G$8:G$373,2,I$8:I$373)","v":0},null,null,null,0,null,"ok",null,{"$f":"SUMIF(K$8:K$373,2,M$8:M$373)+SUMIF(O$8:O$373,2,Q$8:Q$373)","v":0},null,null,null,0]
["module 3",null,"ok",null,{"$f":"SUMIF(C$8:C$373,3,E$8:E$373)+SUMIF(G$8:G$373,3,I$8:I$373)","v":0},null,null,null,0,null,"ok",null,{"$f":"SUMIF(K$8:K$373,3,M$8:M$373)+SUMIF(O$8:O$373,3,Q$8:Q$373)","v":0},null,null,null,0]
["module 4",null,"ok",null,{"$f":"SUMIF(C$8:C$373,4,E$8:E$373)+SUMIF(G$8:G$373,4,I$8:I$373)","v":0},null,null,null,0,null,"ok",null,{"$f":"SUMIF(K$8:K$373,4,M$8:M$373)+SUMIF(O$8:O$373,4,Q$8:Q$373)","v":0},null,null,null,0]
["module 5",null,"ok",null,{"$f":"SUMIF(C$8:C$373,5,E$8:E$373)+SUMIF(G$8:G$373,5,I$8:I$373)","v":0},null,null,null,0,null,"ok",null,{"$f":"SUMIF(K$8:K$373,5,M$8:M$373)+SUMIF(O$8:O$373,5,Q$8:Q$373)","v":0},null,null,null,0]
["module 6",null,"ok",null,{"$f":"SUMIF(C$8:C$373,6,E$8:E$373)+SUMIF(G$8:G$373,6,I$8:I$373)","v":0},null,null,null,0,null,"ok",null,{"$f":"SUMIF(K$8:K$373,6,M$8:M$373)+SUMIF(O$8:O$373,6,Q$8:Q$373)","v":0},null,null,null,0]
["module 7",null,"ok",null,{"$f":"SUMIF(C$8:C$373,7,E$8:E$373)+SUMIF(G$8:G$373,7,I$8:I$373)","v":0},null,null,null,0,null,"ok",null,{"$f":"SUMIF(K$8:K$373,7,M$8:M$373)+SUMIF(O$8:O$373,7,Q$8:Q$373)","v":0},null,null,null,0]
["module 8",null,"ok",null,{"$f":"SUMIF(C$8:C$373,8,E$8:E$373)+SUMIF(G$8:G$373,8,I$8:I$373)","v":0},null,null,null,0,null,"ok",null,{"$f":"SUMIF(K$8:K$373,8,M$8:M$373)+SUMIF(O$8:O$373,8,Q$8:Q$373)","v":0},null,null,null,0]
["module 9",null,"ok",null,{"$f":"SUMIF(C$8:C$373,9,E$8:E$373)+SUMIF(G$8:G$373,9,I$8:I$373)","v":0},null,null,null,0,null,"ok",null,{"$f":"SUMIF(K$8:K$373,9,M$8:M$373)+SUMIF(O$8:O$373,9,Q$8:Q$373)","v":0},null,null,null,0]
["module 10",null,"ok",null,{"$f":"SUMIF(C$8:C$373,10,E$8:E$373)+SUMIF(G$8:G$373,10,I$8:I$373)","v":0},null,null,null,0,null,"ok",null,{"$f":"SUMIF(K$8:K$373,10,M$8:M$373)+SUMIF(O$8:O$373,10,Q$8:Q$373)","v":0},null,null,null,0]
["module 11",null,"ok",null,{"$f":"SUMIF(C$8:C$373,11,E$8:E$373)+SUMIF(G$8:G$373,11,I$8:I$373)","v":0},null,null,null,0,null,"ok",null,{"$f":"SUMIF(K$8:K$373,11,M$8:M$373)+SUMIF(O$8:O$373,11,Q$8:Q$373)","v":0},null,null,null,0]
["module 12",null,"ok",null,{"$f":"SUMIF(C$8:C$373,12,E$8:E$373)+SUMIF(G$8:G$373,12,I$8:I$373)","v":0},null,null,null,0,null,"ok",null,{"$f":"SUMIF(K$8:K$373,12,M$8:M$373)+SUMIF(O$8:O$373,12,Q$8:Q$373)","v":0},null,null,null,0]
["module 13",null,"ok",null,{"$f":"SUMIF(C$8:C$373,13,E$8:E$373)+SUMIF(G$8:G$373,13,I$8:I$373)","v":0},null,null,null,0,null,"ok",null,{"$f":"SUMIF(K$8:K$373,13,M$8:M$373)+SUMIF(O$8:O$373,13,Q$8:Q$373)","v":0},null,null,null,0]
["module 14",null,"ok",null,{"$f":"SUMIF(C$8:C$373,14,E$8:E$373)+SUMIF(G$8:G$373,14,I$8:I$373)","v":0},null,null,null,0,null,"ok",null,{"$f":"SUMIF(K$8:K$373,14,M$8:M$373)+SUMIF(O$8:O$373,14,Q$8:Q$373)","v":0},null,null,null,0]
["module 15",null,"ok",null,{"$f":"SUMIF(C$8:C$373,15,E$8:E$373)+SUMIF(G$8:G$373,15,I$8:I$373)","v":0},null,null,null,0,null,"ok",null,{"$f":"SUMIF(K$8:K$373,15,M$8:M$373)+SUMIF(O$8:O$373,15,Q$8:Q$373)","v":0},null,null,null,0]
["module 16",null,"ok",null,{"$f":"SUMIF(C$8:C$373,16,E$8:E$373)+SUMIF(G$8:G$373,16,I$8:I$373)","v":0},null,null,null,0,null,"ok",null,{"$f":"SUMIF(K$8:K$373,16,M$8:M$373)+SUMIF(O$8:O$373,16,Q$8:Q$373)","v":0},null,null,null,0]
["module 17",null,"ok",null,{"$f":"SUMIF(C$8:C$373,17,E$8:E$373)+SUMIF(G$8:G$373,17,I$8:I$373)","v":0},null,null,null,0,null,"ok",null,{"$f":"SUMIF(K$8:K$373,17,M$8:M$373)+SUMIF(O$8:O$373,17,Q$8:Q$373)","v":0},null,null,null,0]
["module 18",null,"ok",null,{"$f":"SUMIF(C$8:C$373,18,E$8:E$373)+SUMIF(G$8:G$373,18,I$8:I$373)","v":0},null,null,null,0,null,"ok",null,{"$f":"SUMIF(K$8:K$373,18,M$8:M$373)+SUMIF(O$8:O$373,18,Q$8:Q$373)","v":0},null,null,null,0]
["module 19",null,"ok",null,{"$f":"SUMIF(C$8:C$373,19,E$8:E$373)+SUMIF(G$8:G$373,19,I$8:I$373)","v":0},null,null,null,0,null,"ok",null,{"$f":"SUMIF(K$8:K$373,19,M$8:M$373)+SUMIF(O$8:O$373,19,Q$8:Q$373)","v":0},null,null,null,0]
["module 20",null,"ok",null,{"$f":"SUMIF(C$8:C$373,20,E$8:E$373)+SUMIF(G$8:G$373,20,I$8:I$373)","v":0},null,null,null,0,null,"ok",null,{"$f":"SUMIF(K$8:K$373,20,M$8:M$373)+SUMIF(O$8:O$373,20,Q$8:Q$373)","v":0},null,null,null,0]
["module 21",null,"ok",null,{"$f":"SUMIF(C$8:C$373,21,E$8:E$373)+SUMIF(G$8:G$373,21,I$8:I$373)","v":0},null,null,null,0,null,"ok",null,{"$f":"SUMIF(K$8:K$373,21,M$8:M$373)+SUMIF(O$8:O$373,21,Q$8:Q$373)","v":0},null,null,null,0]
["module 22",null,"ok",null,{"$f":"SUMIF(C$8:C$373,22,E$8:E$373)+SUMIF(G$8:G$373,22,I$8:I$373)","v":0},null,null,null,0,null,"ok",null,{"$f":"SUMIF(K$8:K$373,22,M$8:M$373)+SUMIF(O$8:O$373,22,Q$8:Q$373)","v":0},null,null,null,0]
["module 23",null,"ok",null,{"$f":"SUMIF(C$8:C$373,23,E$8:E$373)+SUMIF(G$8:G$373,23,I$8:I$373)","v":0},null,null,null,0,null,"ok",null,{"$f":"SUMIF(K$8:K$373,23,M$8:M$373)+SUMIF(O$8:O$373,23,Q$8:Q$373)","v":0},null,null,null,0]
["module 24",null,"ok",null,{"$f":"SUMIF(C$8:C$373,24,E$8:E$373)+SUMIF(G$8:G$373,24,I$8:I$373)","v":0},null,null,null,0,null,"ok",null,{"$f":"SUMIF(K$8:K$373,24,M$8:M$373)+SUMIF(O$8:O$373,24,Q$8:Q$373)","v":0},null,null,null,0]
["module 25",null,"ok",null,{"$f":"SUMIF(C$8:C$373,25,E$8:E$373)+SUMIF(G$8:G$373,25,I$8:I$373)","v":0},null,null,null,0,null,"ok",null,{"$f":"SUMIF(K$8:K$373,25,M$8:M$373)+SUMIF(O$8:O$373,25,Q$8:Q$373)","v":0},null,null,null,0]
["module 26",null,"ok",null,{"$f":"SUMIF(C$8:C$373,26,E$8:E$373)+SUMIF(G$8:G$373,26,I$8:I$373)","v":0},null,null,null,0,null,"ok",null,{"$f":"SUMIF(K$8:K$373,26,M$8:M$373)+SUMIF(O$8:O$373,26,Q$8:Q$373)","v":0},null,null,null,0]
["module 27",null,"ok",null,{"$f":"SUMIF(C$8:C$373,27,E$8:E$373)+SUMIF(G$8:G$373,27,I$8:I$373)","v":0},null,null,null,0,null,"ok",null,{"$f":"SUMIF(K$8:K$373,27,M$8:M$373)+SUMIF(O$8:O$373,27,Q$8:Q$373)","v":0},null,null,null,0]
["module 28",null,"ok",null,{"$f":"SUMIF(C$8:C$373,28,E$8:E$373)+SUMIF(G$8:G$373,28,I$8:I$373)","v":0},null,null,null,0,null,"ok",null,{"$f":"SUMIF(K$8:K$373,28,M$8:M$373)+SUMIF(O$8:O$373,28,Q$8:Q$373)","v":0},null,null,null,0]
["module 29",null,"ok",null,{"$f":"SUMIF(C$8:C$373,29,E$8:E$373)+SUMIF(G$8:G$373,29,I$8:I$373)","v":0},null,null,null,0,null,"ok",null,{"$f":"SUMIF(K$8:K$373,29,M$8:M$373)+SUMIF(O$8:O$373,29,Q$8:Q$373)","v":0},null,null,null,0]
["module 30",null,"ok",null,{"$f":"SUMIF(C$8:C$373,30,E$8:E$373)+SUMIF(G$8:G$373,30,I$8:I$373)","v":0},null,null,null,0,null,"ok",null,{"$f":"SUMIF(K$8:K$373,30,M$8:M$373)+SUMIF(O$8:O$373,30,Q$8:Q$373)","v":0},null,null,null,0]
["module 31",null,"ok",null,{"$f":"SUMIF(C$8:C$373,31,E$8:E$373)+SUMIF(G$8:G$373,31,I$8:I$373)","v":0},null,null,null,0,null,"ok",null,{"$f":"SUMIF(K$8:K$373,31,M$8:M$373)+SUMIF(O$8:O$373,31,Q$8:Q$373)","v":0},null,null,null,0]
["module 32",null,"ok",null,{"$f":"SUMIF(C$8:C$373,32,E$8:E$373)+SUMIF(G$8:G$373,32,I$8:I$373)","v":0},null,null,null,0,null,"ok",null,{"$f":"SUMIF(K$8:K$373,32,M$8:M$373)+SUMIF(O$8:O$373,32,Q$8:Q$373)","v":0},null,null,null,0]
["module 33",null,"ok",null,{"$f":"SUMIF(C$8:C$373,33,E$8:E$373)+SUMIF(G$8:G$373,33,I$8:I$373)","v":0},null,null,null,0,null,"ok",null,{"$f":"SUMIF(K$8:K$373,33,M$8:M$373)+SUMIF(O$8:O$373,33,Q$8:Q$373)","v":0},null,null,null,0]
["module 34",null,"ok",null,{"$f":"SUMIF(C$8:C$373,34,E$8:E$373)+SUMIF(G$8:G$373,34,I$8:I$373)","v":0},null,null,null,0,null,"ok",null,{"$f":"SUMIF(K$8:K$373,34,M$8:M$373)+SUMIF(O$8:O$373,34,Q$8:Q$373)","v":0},null,null,null,0]
["module 35",null,"TE",null,{"$f":"SUMIF(C$8:C$373,35,E$8:E$373)+SUMIF(G$8:G$373,35,I$8:I$373)","v":0},null,null,null,85,null,"TE",null,{"$f":"SUMIF(K$8:K$373,35,M$8:M$373)+SUMIF(O$8:O$373,35,Q$8:Q$373)","v":0},null,null,null,85,null,"=","TACHES PRÉSENCE ÉLÈVE (PERMANENT)"]
["module 36",null,"TA",null,{"$f":"SUMIF(C$8:C$373,36,E$8:E$373)+SUMIF(G$8:G$373,36,I$8:I$373)","v":0},null,null,null,360,null,"TA",null,{"$f":"SUMIF(K$8:K$373,36,M$8:M$373)+SUMIF(O$8:O$373,36,Q$8:Q$373)","v":0},null,null,null,360,null,"=","TACHES DE DISPO"]
["module 37",null,"TNP",null,{"$f":"SUMIF(C$8:C$373,37,E$8:E$373)+SUMIF(G$8:G$373,37,I$8:I$373)","v":0},null,null,null,200,null,"TNP",null,{"$f":"SUMIF(K$8:K$373,37,M$8:M$373)+SUMIF(O$8:O$373,37,Q$8:Q$373)","v":0},null,null,null,200,null,"=","TACHES DE NATURE PERSONNEL"]
["module 90",null,"ok",null,{"$f":"SUMIF(C$8:C$373,90,E$8:E$373)+SUMIF(G$8:G$373,90,I$8:I$373)","v":0},null,null,null,0,null,"ok",null,{"$f":"SUMIF(K$8:K$373,38,M$8:M$373)+SUMIF(O$8:O$373,38,Q$8:Q$373)","v":0},null,null,null,0]
["module 39",null,"ok",null,{"$f":"SUMIF(C$8:C$373,39,E$8:E$373)+SUMIF(G$8:G$373,39,I$8:I$373)","v":0},null,null,null,0,null,"ok",null,{"$f":"SUMIF(K$8:K$373,39,M$8:M$373)+SUMIF(O$8:O$373,39,Q$8:Q$373)","v":0},null,null,null,0]
["module 89",null,"ok",null,{"$f":"SUMIF(C$8:C$373,40,E$8:E$373)+SUMIF(G$8:G$373,40,I$8:I$373)","v":0},null,null,null,0,null,"ok",null,{"$f":"SUMIF(K$8:K$373,40,M$8:M$373)+SUMIF(O$8:O$373,40,Q$8:Q$373)","v":0},null,null,null,0]
["module 90",null,"ok",null,{"$f":"SUMIF(C$8:C$373,90,E$8:E$373)+SUMIF(G$8:G$373,90,I$8:I$373)","v":0},null,null,null,0,null,"ok",null,{"$f":"SUMIF(K$8:K$373,90,M$8:M$373)+SUMIF(O$8:O$373,90,Q$8:Q$373)","v":0},null,null,null,0,null,"=","RECUPERATION"]
["module 91",null,"ok",null,{"$f":"SUMIF(C$8:C$373,91,E$8:E$373)+SUMIF(G$8:G$373,91,I$8:I$373)","v":0},null,null,null,0,null,"ok",null,{"$f":"SUMIF(K$8:K$373,91,M$8:M$373)+SUMIF(O$8:O$373,91,Q$8:Q$373)","v":0},null,null,null,0]
["module 92",null,"ok",null,{"$f":"SUMIF(C$8:C$373,92,E$8:E$373)+SUMIF(G$8:G$373,92,I$8:I$373)","v":0},null,null,null,0,null,"ok",null,{"$f":"SUMIF(K$8:K$373,92,M$8:M$373)+SUMIF(O$8:O$373,92,Q$8:Q$373)","v":0},null,null,null,0]
["module 93",null,"ok",null,{"$f":"SUMIF(C$8:C$373,93,E$8:E$373)+SUMIF(G$8:G$373,93,I$8:I$373)","v":0},null,null,null,0,null,"ok",null,{"$f":"SUMIF(K$8:K$373,93,M$8:M$373)+SUMIF(O$8:O$373,93,Q$8:Q$373)","v":0},null,null,null,0]
["module 94",null,"ok",null,{"$f":"SUMIF(C$8:C$373,94,E$8:E$373)+SUMIF(G$8:G$373,94,I$8:I$373)","v":0},null,null,null,0,null,"ok",null,{"$f":"SUMIF(K$8:K$373,94,M$8:M$373)+SUMIF(O$8:O$373,94,Q$8:Q$373)","v":0},null,null,null,0]
["module 95",null,"ok",null,{"$f":"SUMIF(C$8:C$373,95,E$8:E$373)+SUMIF(G$8:G$373,95,I$8:I$373)","v":0},null,null,null,0,null,"ok",null,{"$f":"SUMIF(K$8:K$373,95,M$8:M$373)+SUMIF(O$8:O$373,95,Q$8:Q$373)","v":0},null,null,null,0,null," "]
["module 96",null,"ok",null,{"$f":"SUMIF(C$8:C$373,96,E$8:E$373)+SUMIF(G$8:G$373,96,I$8:I$373)","v":0},null,null,null,0,null,"ok",null,{"$f":"SUMIF(K$8:K$373,96,M$8:M$373)+SUMIF(O$8:O$373,96,Q$8:Q$373)","v":0},null,null,null,0]
["module 97",null,"ok",null,{"$f":"SUMIF(C$8:C$373,97,E$8:E$373)+SUMIF(G$8:G$373,97,I$8:I$373)","v":0},null,null,null,0,null,"ok",null,{"$f":"SUMIF(K$8:K$373,97,M$8:M$373)+SUMIF(O$8:O$373,97,Q$8:Q$373)","v":0},null,null,null,0]
["module 98",null,"ok",null,{"$f":"SUMIF(C$8:C$373,98,E$8:E$373)+SUMIF(G$8:G$373,98,I$8:I$373)","v":0},null,null,null,0,null,"ok",null,{"$f":"SUMIF(K$8:K$373,98,M$8:M$373)+SUMIF(O$8:O$373,98,Q$8:Q$373)","v":0},null,null,null,0]
["module 99",null,"ok",null,{"$f":"SUMIF(C$8:C$373,99,E$8:E$373)+SUMIF(G$8:G$373,99,I$8:I$373)","v":0},null,null,null,0,null,"ok",null,{"$f":"SUMIF(K$8:K$373,99,M$8:M$373)+SUMIF(O$8:O$373,99,Q$8:Q$373)","v":0},null,null,null,0]
["Totaux",null,{"$f":"IF(E429=(I429),\"ok\",($A$429))","v":"ok"},null,{"$f":"SUM(E379:F410)","v":0},null,null,null,{"$f":"SUM(I379:J410)","v":0},null,{"$f":"IF(M429=(Q429),\"ok\",($A$429))","v":"ok"},null,{"$f":"SUM(M379:N410)","v":0},null,null,null,{"$f":"SUM(Q379:R410)","v":0}]
[]
[]
["Calculateur de période / enseignants"]
["Enseignants",null,{"$f":"C4","v":" Nicolas Privé"}]
[null,null,{"$f":"\"Heures \"& RIGHT($A4,9)","v":"Heures 2024-2025"},null,null,null,{"$f":"\"Heures été \"& RIGHT($A4,9)","v":"Heures été 2024-2025"},null,null,null,{"$f":"\"Heures \"& RIGHT($A4,9)","v":"Heures 2024-2025"},null,null,null,{"$f":"\"Heures été \"& RIGHT($A4,9)","v":"Heures été 2024-2025"}]
["np","Nicolas Privé",{"$f":"SUMIF(D$65:D$374,A435,E$65:E$374)+SUMIF(H$65:H$374,A435,I$65:I$374)","v":0},null,null,null,{"$f":"SUMIF(D$8:D$64,A435,E$8:E$64)+SUMIF(H$8:H$64,A435,I$8:I$64)","v":0},null,null,null,{"$f":"SUMIF(L$65:L$374,A435,M$65:M$374)+SUMIF(P$65:P$374,A435,Q$65:Q$374)","v":0},null,null,null,{"$f":"SUMIF(L$8:L$64,#REF!,M$8:M$64)+SUMIF(P$8:P$64,#REF!,Q$8:Q$64)","v":0}]
[]
[]
["Total des hrs"]
[null,{"$f":"SUM(W441,S441,O441,K441,G441,C441)","v":0},"ENSEIGNEMENT",null,null,null,"PERMANENT",null,null,null,"DISPO",null,null,null,"NATURE PERSO",null,null,null,"TUTORAT+RECUP",null,null,null,"AUTRE"]
[null,null,"Heures 2012-2013",null,null,null,"TE = 85 HRS",null,null,null,"TA = 360 HRS",null,null,null,"TNP = 200 HRS"]
[null,null,{"$f":"SUM(C435+K435)","v":0},null,null,null,{"$f":"SUM(E413+M413)","v":0},null,null,null,{"$f":"SUM(E414+M414)","v":0},null,null,null,{"$f":"SUM(E415+M415)","v":0},null,null,null,0,null,null,null,0]

{"sheet":"Mathieu Chenard","index":40,"n_rows":441,"n_cols":23,"rows_kept":441,"cut":false,"hidden":false,"merged":[[361,2,361,9],[361,10,361,17],[368,2,368,9],[368,10,368,17],[373,2,373,9],[373,10,373,17],[371,2,371,9],[371,10,371,17],[372,2,372,9],[372,10,372,17],[366,2,366,9],[366,10,366,17],[367,2,367,9],[367,10,367,17],[364,2,364,9],[364,10,364,17],[365,2,365,9],[365,10,365,17],[347,2,347,9],[347,10,347,17],[354,2,354,9],[354,10,354,17],[353,2,353,9],[353,10,353,17],[345,2,345,9],[345,10,345,17],[346,2,346,9],[346,10,346,17],[298,2,298,9],[298,10,298,17],[323,2,323,9],[323,10,323,17],[337,2,337,9],[337,10,337,17],[338,2,338,9],[338,10,338,17],[339,2,339,9],[339,10,339,17],[336,2,336,9],[336,10,336,17],[329,2,329,9],[329,10,329,17],[330,2,330,9],[330,10,330,17],[326,2,326,9],[326,10,326,17],[333,2,333,9],[333,10,333,17],[317,2,317,9],[317,10,317,17],[322,2,322,9],[322,10,322,17],[343,2,343,9],[343,10,343,17],[344,2,344,9],[344,10,344,17],[324,2,324,9],[324,10,324,17],[325,2,325,9],[325,10,325,17],[340,2,340,9],[340,10,340,17],[331,2,331,9],[331,10,331,17],[332,2,332,9],[332,10,332,17],[147,2,147,9],[147,10,147,17],[140,2,140,9],[140,10,140,17],[141,2,141,9],[141,10,141,17],[263,2,263,9],[263,10,263,17],[280,2,280,9],[280,10,280,17],[214,2,214,9],[214,10,214,17],[235,2,235,9],[235,10,235,17],[238,2,238,9],[238,10,238,17],[63,2,63,9],[63,10,63,17],[72,2,72,9],[72,10,72,17],[88,2,88,9],[88,10,88,17],[11,2,11,9],[11,10,11,17],[14,2,14,9],[14,10,14,17],[21,2,21,9],[21,10,21,17],[358,2,358,9],[358,10,358,17],[359,2,359,9],[359,10,359,17],[360,2,360,9],[360,10,360,17],[357,2,357,9],[357,10,357,17],[350,2,350,9],[350,10,350,17],[351,2,351,9],[351,10,351,17],[352,2,352,9],[352,10,352,17],[133,2,133,9],[133,10,133,17],[101,2,101,9],[101,10,101,17],[87,2,87,9],[87,10,87,17],[172,2,172,9],[172,10,172,17],[198,2,198,9],[198,10,198,17],[142,2,142,9],[142,10,142,17],[143,2,143,9],[143,10,143,17],[134,2,134,9],[134,10,134,17],[135,2,135,9],[135,10,135,17],[136,2,136,9],[136,10,136,17],[137,2,137,9],[137,10,137,17],[144,2,144,9],[144,10,144,17],[428,2,428,3],[428,4,428,7],[428,8,428,9],[428,10,428,11],[428,12,428,15],[428,16,428,17],[440,18,440,21],[440,22,440,25],[438,18,438,21],[438,22,438,25],[439,2,439,5],[439,6,439,9],[439,10,439,13],[439,14,439,17],[439,18,439,21],[439,22,439,25],[438,1,440,1],[438,6,438,9],[438,10,438,13],[438,14,438,17],[440,2,440,5],[440,6,440,9],[440,10,440,13],[440,14,440,17],[432,0,433,1],[432,2,432,17],[433,2,433,5],[433,6,433,9],[433,10,433,13],[433,14,433,17],[434,2,434,5],[434,6,434,9],[434,10,434,13],[434,14,434,17],[426,16,426,17],[427,0,427,1],[427,2,427,3],[427,4,427,7],[427,8,427,9],[427,10,427,11],[427,12,427,15],[427,16,427,17],[426,0,426,1],[426,2,426,3],[426,4,426,7],[426,8,426,9],[426,10,426,11],[426,12,426,15],[424,16,424,17],[425,0,425,1],[425,2,425,3],[425,4,425,7],[425,8,425,9],[425,10,425,11],[425,12,425,15],[425,16,425,17],[424,0,424,1],[424,2,424,3],[424,4,424,7],[424,8,424,9],[424,10,424,11],[424,12,424,15],[422,16,422,17],[423,0,423,1],[423,2,423,3],[423,4,423,7],[423,8,423,9],[423,10,423,11],[423,12,423,15],[423,16,423,17],[422,0,422,1],[422,2,422,3],[422,4,422,7],[422,8,422,9],[422,10,422,11],[422,12,422,15],[420,16,420,17],[421,0,421,1],[421,2,421,3],[421,4,421,7],[421,8,421,9],[421,10,421,11],[421,12,421,15],[421,16,421,17],[420,0,420,1],[420,2,420,3],[420,4,420,7],[420,8,420,9],[420,10,420,11],[420,12,420,15],[418,19,418,27],[419,0,419,1],[419,2,419,3],[419,4,419,7],[419,8,419,9],[419,10,419,11],[419,12,419,15],[419,16,419,17],[418,0,418,1],[418,2,418,3],[418,4,418,7],[418,8,418,9],[418,10,418,11],[418,12,418,15],[416,16,416,17],[417,16,417,17],[418,16,418,17],[417,0,417,1],[417,2,417,3],[417,4,417,7],[417,8,417,9],[417,10,417,11],[417,12,417,15],[416,0,416,1],[416,2,416,3],[416,4,416,7],[416,8,416,9],[416,10,416,11],[416,12,416,15],[414,16,414,17],[414,19,414,27],[415,0,415,1],[415,2,415,3],[415,4,415,7],[415,8,415,9],[415,10,415,11],[415,12,415,15],[415,16,415,17],[414,0,414,1],[414,2,414,3],[414,4,414,7],[414,8,414,9],[414,10,414,11],[414,12,414,15],[412,16,412,17],[412,2,412,3],[412,4,412,7],[412,8,412,9],[412,10,412,11],[412,19,412,29],[413,0,413,1],[413,2,413,3],[413,4,413,7],[413,8,413,9],[413,10,413,11],[413,12,413,15],[413,16,413,17],[413,19,413,27],[412,0,412,1],[412,12,412,15],[410,16,410,17],[411,0,411,1],[411,2,411,3],[411,4,411,7],[411,8,411,9],[411,10,411,11],[411,12,411,15],[411,16,411,17],[410,0,410,1],[410,2,410,3],[410,4,410,7],[410,8,410,9],[410,10,410,11],[410,12,410,15],[408,16,408,17],[409,16,409,17],[409,0,409,1],[409,2,409,3],[409,4,409,7],[409,8,409,9],[409,10,409,11],[409,12,409,15],[408,0,408,1],[408,2,408,3],[408,4,408,7],[408,8,408,9],[408,10,408,11],[408,12,408,15],[406,16,406,17],[407,0,407,1],[407,2,407,3],[407,4,407,7],[407,8,407,9],[407,10,407,11],[407,12,407,15],[407,16,407,17],[406,0,406,1],[406,2,406,3],[406,4,406,7],[406,8,406,9],[406,10,406,11],[406,12,406,15],[404,16,404,17],[405,0,405,1],[405,2,405,3],[405,4,405,7],[405,8,405,9],[405,10,405,11],[405,12,405,15],[405,16,405,17],[404,0,404,1],[404,2,404,3],[404,4,404,7],[404,8,404,9],[404,10,404,11],[404,12,404,15],[402,16,402,17],[403,0,403,1],[403,2,403,3],[403,4,403,7],[403,8,403,9],[403,10,403,11],[403,12,403,15],[403,16,403,17],[402,0,402,1],[402,2,402,3],[402,4,402,7],[402,8,402,9],[402,10,402,11],[402,12,402,15],[400,16,400,17],[401,0,401,1],[401,2,401,3],[401,4,401,7],[401,8,401,9],[401,10,401,11],[401,12,401,15],[401,16,401,17],[400,0,400,1],[400,2,400,3],[400,4,400,7],[400,8,400,9],[400,10,400,11],[400,12,400,15],[398,16,398,17],[399,0,399,1],[399,2,399,3],[399,4,399,7],[399,8,399,9],[399,10,399,11],[399,12,399,15],[399,16,399,17],[398,0,398,1],[398,2,398,3],[398,4,398,7],[398,8,398,9],[398,10,398,11],[398,12,398,15],[396,16,396,17],[397,0,397,1],[397,2,397,3],[397,4,397,7],[397,8,397,9],[397,10,397,11],[397,12,397,15],[397,16,397,17],[396,0,396,1],[396,2,396,3],[396,4,396,7],[396,8,396,9],[396,10,396,11],[396,12,396,15],[394,16,394,17],[395,0,395,1],[395,2,395,3],[395,4,395,7],[395,8,395,9],[395,10,395,11],[395,12,395,15],[395,16,395,17],[394,0,394,1],[394,2,394,3],[394,4,394,7],[394,8,394,9],[394,10,394,11],[394,12,394,15],[392,16,392,17],[393,0,393,1],[393,2,393,3],[393,4,393,7],[393,8,393,9],[393,10,393,11],[393,12,393,15],[393,16,393,17],[392,0,392,1],[392,2,392,3],[392,4,392,7],[392,8,392,9],[392,10,392,11],[392,12,392,15],[390,16,390,17],[391,0,391,1],[391,2,391,3],[391,4,391,7],[391,8,391,9],[391,10,391,11],[391,12,391,15],[391,16,391,17],[390,0,390,1],[390,2,390,3],[390,4,390,7],[390,8,390,9],[390,10,390,11],[390,12,390,15],[388,16,388,17],[389,0,389,1],[389,2,389,3],[389,4,389,7],[389,8,389,9],[389,10,389,11],[389,12,389,15],[389,16,389,17],[388,0,388,1],[388,2,388,3],[388,4,388,7],[388,8,388,9],[388,10,388,11],[388,12,388,15],[386,16,386,17],[387,0,387,1],[387,2,387,3],[387,4,387,7],[387,8,387,9],[387,10,387,11],[387,12,387,15],[387,16,387,17],[386,0,386,1],[386,2,386,3],[386,4,386,7],[386,8,386,9],[386,10,386,11],[386,12,386,15],[384,16,384,17],[385,0,385,1],[385,2,385,3],[385,4,385,7],[385,8,385,9],[385,10,385,11],[385,12,385,15],[385,16,385,17],[384,0,384,1],[384,2,384,3],[384,4,384,7],[384,8,384,9],[384,10,384,11],[384,12,384,15],[382,16,382,17],[383,0,383,1],[383,2,383,3],[383,4,383,7],[383,8,383,9],[383,10,383,11],[383,12,383,15],[383,16,383,17],[382,0,382,1],[382,2,382,3],[382,4,382,7],[382,8,382,9],[382,10,382,11],[382,12,382,15],[379,0,379,1],[379,2,379,3],[379,4,379,7],[379,8,379,9],[379,10,379,11],[379,12,379,15],[379,16,379,17],[380,16,380,17],[381,0,381,1],[381,2,381,3],[381,4,381,7],[381,8,381,9],[381,10,381,11],[381,12,381,15],[381,16,381,17],[380,0,380,1],[380,2,380,3],[380,4,380,7],[380,8,380,9],[380,10,380,11],[380,12,380,15],[371,19,371,29],[372,19,372,29],[376,0,377,1],[377,4,377,7],[377,12,377,15],[378,0,378,1],[378,2,378,3],[378,4,378,7],[378,8,378,9],[378,10,378,11],[378,12,378,15],[378,16,378,17],[365,19,365,29],[366,19,366,29],[367,19,367,29],[368,19,368,29],[369,19,369,29],[370,19,370,29],[359,19,359,29],[360,19,360,29],[361,19,361,29],[362,19,362,29],[363,19,363,29],[364,19,364,29],[353,19,353,29],[354,19,354,29],[355,19,355,29],[356,19,356,29],[357,19,357,29],[358,19,358,29],[347,19,347,29],[348,19,348,29],[349,19,349,29],[350,19,350,29],[351,19,351,29],[352,19,352,29],[341,19,341,29],[342,19,342,29],[343,19,343,29],[344,19,344,29],[345,19,345,29],[346,19,346,29],[335,19,335,29],[336,19,336,29],[337,19,337,29],[338,19,338,29],[339,19,339,29],[340,19,340,29],[329,19,329,29],[330,19,330,29],[331,19,331,29],[332,19,332,29],[333,19,333,29],[334,19,334,29],[323,19,323,29],[324,19,324,29],[325,19,325,29],[326,19,326,29],[327,19,327,29],[328,19,328,29],[317,19,317,29],[318,19,318,29],[319,19,319,29],[320,19,320,29],[321,19,321,29],[322,19,322,29],[311,19,311,29],[312,19,312,29],[313,19,313,29],[314,19,314,29],[315,19,315,29],[316,19,316,29],[305,19,305,29],[306,19,306,29],[307,19,307,29],[308,19,308,29],[309,19,309,29],[310,19,310,29],[299,19,299,29],[300,19,300,29],[301,19,301,29],[302,19,302,29],[303,19,303,29],[304,19,304,29],[293,19,293,29],[294,19,294,29],[295,19,295,29],[296,19,296,29],[297,19,297,29],[298,19,298,29],[287,19,287,29],[288,19,288,29],[289,19,289,29],[290,19,290,29],[291,19,291,29],[292,19,292,29],[281,19,281,29],[282,19,282,29],[283,19,283,29],[284,19,284,29],[285,19,285,29],[286,19,286,29],[275,19,275,29],[276,19,276,29],[277,19,277,29],[278,19,278,29],[279,19,279,29],[280,19,280,29],[269,19,269,29],[270,19,270,29],[271,19,271,29],[272,19,272,29],[273,19,273,29],[274,19,274,29],[263,19,263,29],[264,19,264,29],[265,19,265,29],[266,19,266,29],[267,19,267,29],[268,19,268,29],[257,19,257,29],[258,19,258,29],[259,19,259,29],[260,19,260,29],[261,19,261,29],[262,19,262,29],[251,19,251,29],[252,19,252,29],[253,19,253,29],[254,19,254,29],[255,19,255,29],[256,19,256,29],[245,19,245,29],[246,19,246,29],[247,19,247,29],[248,19,248,29],[249,19,249,29],[250,19,250,29],[239,19,239,29],[240,19,240,29],[241,19,241,29],[242,19,242,29],[243,19,243,29],[244,19,244,29],[233,19,233,29],[234,19,234,29],[235,19,235,29],[236,19,236,29],[237,19,237,29],[238,19,238,29],[227,19,227,29],[228,19,228,29],[229,19,229,29],[230,19,230,29],[231,19,231,29],[232,19,232,29],[221,19,221,29],[222,19,222,29],[223,19,223,29],[224,19,224,29],[225,19,225,29],[226,19,226,29],[215,19,215,29],[216,19,216,29],[217,19,217,29],[218,19,218,29],[219,19,219,29],[220,19,220,29],[209,19,209,29],[210,19,210,29],[211,19,211,29],[212,19,212,29],[213,19,213,29],[214,19,214,29],[203,19,203,29],[204,19,204,29],[205,19,205,29],[206,19,206,29],[207,19,207,29],[208,19,208,29],[197,19,197,29],[198,19,198,29],[199,19,199,29],[200,19,200,29],[201,19,201,29],[202,19,202,29],[191,19,191,29],[192,19,192,29],[193,19,193,29],[194,19,194,29],[195,19,195,29],[196,19,196,29],[185,19,185,29],[186,19,186,29],[187,19,187,29],[188,19,188,29],[189,19,189,29],[190,19,190,29],[179,19,179,29],[180,19,180,29],[181,19,181,29],[182,19,182,29],[183,19,183,29],[184,19,184,29],[173,19,173,29],[174,19,174,29],[175,19,175,29],[176,19,176,29],[177,19,177,29],[178,19,178,29],[167,19,167,29],[168,19,168,29],[169,19,169,29],[170,19,170,29],[171,19,171,29],[172,19,172,29],[161,19,161,29],[162,19,162,29],[163,19,163,29],[164,19,164,29],[165,19,165,29],[166,19,166,29],[155,19,155,29],[156,19,156,29],[157,19,157,29],[158,19,158,29],[159,19,159,29],[160,19,160,29],[149,19,149,29],[150,19,150,29],[151,19,151,29],[152,19,152,29],[153,19,153,29],[154,19,154,29],[143,19,143,29],[144,19,144,29],[145,19,145,29],[146,19,146,29],[147,19,147,29],[148,19,148,29],[137,19,137,29],[138,19,138,29],[139,19,139,29],[140,19,140,29],[141,19,141,29],[142,19,142,29],[131,19,131,29],[132,19,132,29],[133,19,133,29],[134,19,134,29],[135,19,135,29],[136,19,136,29],[125,19,125,29],[126,19,126,29],[127,19,127,29],[128,19,128,29],[129,19,129,29],[130,19,130,29],[119,19,119,29],[120,19,120,29],[121,19,121,29],[122,19,122,29],[123,19,123,29],[124,19,124,29],[113,19,113,29],[114,19,114,29],[115,19,115,29],[116,19,116,29],[117,19,117,29],[118,19,118,29],[107,19,107,29],[108,19,108,29],[109,19,109,29],[110,19,110,29],[111,19,111,29],[112,19,112,29],[101,19,101,29],[102,19,102,29],[103,19,103,29],[104,19,104,29],[105,19,105,29],[106,19,106,29],[95,19,95,29],[96,19,96,29],[97,19,97,29],[98,19,98,29],[99,19,99,29],[100,19,100,29],[89,19,89,29],[90,19,90,29],[91,19,91,29],[92,19,92,29],[93,19,93,29],[94,19,94,29],[83,19,83,29],[84,19,84,29],[85,19,85,29],[86,19,86,29],[87,19,87,29],[88,19,88,29],[77,19,77,29],[78,19,78,29],[79,19,79,29],[80,19,80,29],[81,19,81,29],[82,19,82,29],[71,19,71,29],[72,19,72,29],[73,19,73,29],[74,19,74,29],[75,19,75,29],[76,19,76,29],[65,19,65,29],[66,19,66,29],[67,19,67,29],[68,19,68,29],[69,19,69,29],[70,19,70,29],[59,19,59,29],[60,19,60,29],[61,19,61,29],[62,19,62,29],[63,19,63,29],[64,19,64,29],[53,19,53,29],[54,19,54,29],[55,19,55,29],[56,19,56,29],[57,19,57,29],[58,19,58,29],[47,19,47,29],[48,19,48,29],[49,19,49,29],[50,19,50,29],[51,19,51,29],[52,19,52,29],[41,19,41,29],[42,19,42,29],[43,19,43,29],[44,19,44,29],[45,19,45,29],[46,19,46,29],[35,19,35,29],[36,19,36,29],[37,19,37,29],[38,19,38,29],[39,19,39,29],[40,19,40,29],[29,19,29,29],[30,19,30,29],[31,19,31,29],[32,19,32,29],[33,19,33,29],[34,19,34,29],[23,19,23,29],[24,19,24,29],[25,19,25,29],[26,19,26,29],[27,19,27,29],[28,19,28,29],[19,19,19,29],[20,19,20,29],[21,19,21,29],[22,19,22,29],[11,19,11,29],[12,19,12,29],[13,19,13,29],[14,19,14,29],[15,19,15,29],[16,19,16,29],[8,19,8,29],[9,19,9,29],[10,19,10,29],[7,2,7,9],[7,10,7,17],[8,2,8,9],[8,10,8,17],[17,19,17,29],[18,19,18,29],[9,2,9,9],[9,10,9,17],[10,2,10,9],[10,10,10,17],[3,0,3,1],[3,2,3,17],[3,19,3,29],[4,0,4,1],[4,2,4,9],[4,10,4,17],[5,2,5,9],[5,10,5,17],[7,19,7,29]]}
[]
["Horaire prof Mécanique de véhicules lourds routiers"]
[" "]
["Année scolaire 2024-2025",null," Mathieu Chenard",null,null,null,null,null,null,null,null,null,null,null,null,null,null,null,null,"Commentaires"]
[null,null," Intensif 1800",null,null,null,null,null,null,null," Intensif 1800"]
[7,null,"Jour    ",null,null,null,null,null,null,null,"Soir    "]
[null,null,"                       Vacance                       ",null,null,null,null,null,null,null,"                       Vacance                       "]
[{"$f":"WEEKDAY(B8,2)","v":1},"2025-08-18","                   Vacances          ",null,null,null,null,null,null,null,"                   Vacances          "]
[2,"2025-08-19","                   Vacances          ",null,null,null,null,null,null,null,"                   Vacances          "]
[3,{"$f":"B9+1","v":"2025-08-20"},"                   Vacances          ",null,null,null,null,null,null,null,"                   Vacances          "]
[4,{"$f":"B10+1","v":"2025-08-21"},"                   Vacances          ",null,null,null,null,null,null,null,"                   Vacances          "]
[5,"2025-08-22","     Pédagogique Commune",null,null,null,null,null,null,null,"     Pédagogique Commune",null,null,null,null,null,null,null,null,6]
[6,"2025-08-23","                       WEEK-END                       ",null,null,null,null,null,null,null,"                       WEEK-END                       "]
[7,"2025-08-24","                       WEEK-END                       ",null,null,null,null,null,null,null,"                       WEEK-END                       "]
[1,"2025-08-25","     Pédagogique",null,null,null,null,null,null,null,"     Pédagogique",null,null,null,null,null,null,null,null,6]
[2,"2025-08-26",null,null,null,null,null,null,null,null,null,null,null,null,null,null,null,null,null,"6 meeting (15 min )"]
[3,"2025-08-27",null,null,null,null,null,null,null,null,null,null,null,null,null,null,null,null,null,6]
[4,"2025-08-28",null,null,null,null,null,null,null,null,null,null,null,null,null,null,null,null,null,6]
[5,"2025-08-29",null,null,null,null,null,null,null,null,null,null,null,null,null,null,null,null,null,6]
[6,"2025-08-30","                       WEEK-END                       ",null,null,null,null,null,null,null,"                       WEEK-END                       "]
[7,"2025-08-31","                       WEEK-END                       ",null,null,null,null,null,null,null,"                       WEEK-END                       "]
[1,"2025-09-01","Congé",null,null,null,null,null,null,null,"Congé"]
[2,"2025-09-02",null,null,null,null,null,null,null,null,null,null,null,null,null,null,null,null,null,6]
[3,"2025-09-03",null,null,null,null,null,null,null,null,null,null,null,null,null,null,null,null,null,6]
[4,"2025-09-04",null,null,null,null,null,null,null,null,null,null,null,null,null,null,null,null,null,6]
[5,"2025-09-05",null,null,null,null,null,null,null,null,null,null,null,null,null,null,null,null,null,6]
[6,"2025-09-06","                       WEEK-END                       ",null,null,null,null,null,null,null,"                       WEEK-END                       "]
[7,"2025-09-07","                       WEEK-END                       ",null,null,null,null,null,null,null,"                       WEEK-END                       "]
[1,"2025-09-08",null,null,null,null,null,null,null,null,null,null,null,null,null,null,null,null,null,6]
[2,"2025-09-09",null,null,null,null,null,null,null,null,null,null,null,null,null,null,null,null,null,"7 meeting"]
[3,"2025-09-10",null,null,null,null,null,null,null,null,null,null,null,null,null,null,null,null,null,6]
[4,"2025-09-11",null,null,null,null,null,null,null,null,null,null,null,null,null,null,null,null,null,6]
[5,"2025-09-12",null,null,null,null,null,null,null,null,null,null,null,null,null,null,null,null,null,6]
[6,"2025-09-13","                       WEEK-END                       ",null,null,null,null,null,null,null,"                       WEEK-END                       "]
[7,"2025-09-14","                       WEEK-END                       ",null,null,null,null,null,null,null,"                       WEEK-END                       "]
[1,"2025-09-15",null,null,null,null,null,null,null,null,null,null,null,null,null,null,null,null,null,6]
[2,"2025-09-16",null,null,null,null,null,null,null,null,null,null,null,null,null,null,null,null,null,6]
[3,"2025-09-17"]
[4,"2025-09-18",null,null,null,null,null,null,null,null,null,null,null,null,null,null,null,null,null,6]
[5,"2025-09-19",null,null,null,null,null,null,null,null,null,null,null,null,null,null,null,null,null,6]
[6,"2025-09-20","                       WEEK-END                       ",null,null,null,null,null,null,null,"                       WEEK-END                       "]
[7,"2025-09-21","                       WEEK-END                       ",null,null,null,null,null,null,null,"                       WEEK-END                       "]
[1,"2025-09-22",null,null,null,null,null,null,null,null,null,null,null,null,null,null,null,null,null,6]
[2,"2025-09-23",null,null,null,null,null,null,null,null,null,null,null,null,null,null,null,null,null,"7 meeting"]
[3,"2025-09-24",null,null,null,null,null,null,null,null,null,null,null,null,null,null,null,null,null,6]
[4,"2025-09-25",null,null,null,null,null,null,null,null,null,null,null,null,null,null,null,null,null,6]
[5,"2025-09-26",null,null,null,null,null,null,null,null,null,null,null,null,null,null,null,null,null,6]
[6,"2025-09-27","                       WEEK-END                       ",null,null,null,null,null,null,null,"                       WEEK-END                       "]
[7,"2025-09-28","                       WEEK-END                       ",null,null,null,null,null,null,null,"                       WEEK-END                       "]
[1,"2025-09-29",null,null,null,null,null,null,null,null,null,null,null,null,null,null,null,null,null,6]
[2,"2025-09-30",null,null,null,null,null,null,null,null,null,null,null,null,null,null,null,null,null,6]
[3,"2025-10-01",null,null,null,null,null,null,null,null,null,null,null,null,null,null,null,null,null,6]
[4,"2025-10-02",null,null,null,null,null,null,null,null,null,null,null,null,null,null,null,null,null,6]
[5,"2025-10-03",null,null,null,null,null,null,null,null,null,null,null,null,null,null,null,null,null,6]
[6,"2025-10-04","                       WEEK-END                       ",null,null,null,null,null,null,null,"                       WEEK-END                       "]
[7,"2025-10-05","                       WEEK-END                       ",null,null,null,null,null,null,null,"                       WEEK-END                       "]
[1,"2025-10-06",null,null,null,null,null,null,null,null,null,null,null,null,null,null,null,null,null,6]
[2,"2025-10-07"]
[3,"2025-10-08"]
[4,"2025-10-09"]
[5,"2025-10-10"]
[6,"2025-10-11","                       WEEK-END                       ",null,null,null,null,null,null,null,"                       WEEK-END                       "]
[7,"2025-10-12","                       WEEK-END                       ",null,null,null,null,null,null,null,"                       WEEK-END                       "]
[1,"2025-10-13","Congé",null,null,null,null,null,null,null,"Congé"]
[2,"2025-10-14"]
[3,"2025-10-15"]
[4,"2025-10-16"]
[5,"2025-10-17"]
[6,"2025-10-18","                       WEEK-END                       ",null,null,null,null,null,null,null,"                       WEEK-END                       "]
[7,"2025-10-19","                       WEEK-END                       ",null,null,null,null,null,null,null,"                       WEEK-END                       "]
[1,"2025-10-20"]
[{"$f":"WEEKDAY(B72,2)","v":2},"2025-10-21"]
[3,"2025-10-22","     Pédagogique",null,null,null,null,null,null,null,"     Pédagogique"]
[4,"2025-10-23"]
[5,{"$f":"B74+1","v":"2025-10-24"}]
[6,"2025-10-25","                       WEEK-END                       ",null,null,null,null,null,null,null,"                       WEEK-END                       "]
[7,"2025-10-26","                       WEEK-END                       ",null,null,null,null,null,null,null,"                       WEEK-END                       "]
[1,"2025-10-27"]
[2,"2025-10-28"]
[3,"2025-10-29"]
[4,"2025-10-30"]
[5,"2025-10-31"]
[6,"2025-11-01","                       WEEK-END                       ",null,null,null,null,null,null,null,"                       WEEK-END                       "]
[7,"2025-11-02","                       WEEK-END                       ",null,null,null,null,null,null,null,"                       WEEK-END                       "]
[1,"2025-11-03"]
[2,"2025-11-04"]
[3,"2025-11-05"]
[4,"2025-11-06","     Pédagogique",null,null,null,null,null,null,null,"     Pédagogique"]
[5,"2025-11-07","     Pédagogique",null,null,null,null,null,null,null,"     Pédagogique"]
[6,"2025-11-08","                       WEEK-END                       ",null,null,null,null,null,null,null,"                       WEEK-END                       "]
[7,"2025-11-09","                       WEEK-END                       ",null,null,null,null,null,null,null,"                       WEEK-END                       "]
[1,"2025-11-10"]
[2,"2025-11-11"]
[3,"2025-11-12"]
[4,"2025-11-13"]
[5,"2025-11-14"]
[6,"2025-11-15","                       WEEK-END                       ",null,null,null,null,null,null,null,"                       WEEK-END                       "]
[7,"2025-11-16","                       WEEK-END                       ",null,null,null,null,null,null,null,"                       WEEK-END                       "]
[1,"2025-11-17"]
[2,"2025-11-18"]
[3,"2025-11-19"]
[4,"2025-11-20","     Pédagogique Commune",null,null,null,null,null,null,null,"     Pédagogique Commune"]
[5,"2025-11-21"]
[6,"2025-11-22","                       WEEK-END                       ",null,null,null,null,null,null,null,"                       WEEK-END                       "]
[7,"2025-11-23","                       WEEK-END                       ",null,null,null,null,null,null,null,"                       WEEK-END                       "]
[1,"2025-11-24"]
[2,"2025-11-25"]
[3,"2025-11-26"]
[4,"2025-11-27"]
[5,"2025-11-28"]
[6,"2025-11-29","                       WEEK-END                       ",null,null,null,null,null,null,null,"                       WEEK-END                       "]
[7,"2025-11-30","                       WEEK-END                       ",null,null,null,null,null,null,null,"                       WEEK-END                       "]
[1,"2025-12-01"]
[2,"2025-12-02"]
[3,"2025-12-03"]
[4,"2025-12-04"]
[5,"2025-12-05"]
[6,"2025-12-06","                       WEEK-END                       ",null,null,null,null,null,null,null,"                       WEEK-END                       "]
[7,"2025-12-07","                       WEEK-END                       ",null,null,null,null,null,null,null,"                       WEEK-END                       "]
[1,"2025-12-08"]
[2,"2025-12-09"]
[3,"2025-12-10"]
[4,"2025-12-11"]
[5,"2025-12-12"]
[6,"2025-12-13","                       WEEK-END                       ",null,null,null,null,null,null,null,"                       WEEK-END                       "]
[7,"2025-12-14","                       WEEK-END                       ",null,null,null,null,null,null,null,"                       WEEK-END                       "]
[1,"2025-12-15"]
[2,"2025-12-16"]
[3,"2025-12-17"]
[4,"2025-12-18"]
[5,"2025-12-19"]
[6,"2025-12-20","                       WEEK-END                       ",null,null,null,null,null,null,null,"                       WEEK-END                       "]
[7,"2025-12-21","                       WEEK-END                       ",null,null,null,null,null,null,null,"                       WEEK-END                       "]
[1,"2025-12-22","Congé Noël",null,null,null,null,null,null,null,"Congé Noël"]
[2,"2025-12-23","Congé Noël",null,null,null,null,null,null,null,"Congé Noël"]
[{"$f":"WEEKDAY(B136,2)","v":3},"2025-12-24","Congé Noël",null,null,null,null,null,null,null,"Congé Noël"]
[4,"2025-12-25","Congé Noël",null,null,null,null,null,null,null,"Congé Noël"]
[5,"2025-12-26","Congé Noël",null,null,null,null,null,null,null,"Congé Noël"]
[6,{"$f":"B138+1","v":"2025-12-27"},"                       WEEK-END                       ",null,null,null,null,null,null,null,"                       WEEK-END                       "]
[7,"2025-12-28","                       WEEK-END                       ",null,null,null,null,null,null,null,"                       WEEK-END                       "]
[1,"2025-12-29","Congé Noël",null,null,null,null,null,null,null,"Congé Noël"]
[2,"2025-12-30","Congé Noël",null,null,null,null,null,null,null,"Congé Noël"]
[3,"2025-12-31","Congé Noël",null,null,null,null,null,null,null,"Congé Noël"]
[4,"2026-01-01","Congé Noël",null,null,null,null,null,null,null,"Congé Noël"]
[5,"2026-01-02","Congé Noël",null,null,null,null,null,null,null,"Congé Noël"]
[6,"2026-01-03","                       WEEK-END                       ",null,null,null,null,null,null,null,"                       WEEK-END                       "]
[7,"2026-01-04","                       WEEK-END                       ",null,null,null,null,null,null,null,"                       WEEK-END                       "]
[1,"2026-01-05","     Pédagogique Commune",null,null,null,null,null,null,null,"     Pédagogique Commune"]
[2,"2026-01-06"]
[3,"2026-01-07"]
[4,"2026-01-08"]
[5,"2026-01-09"]
[6,"2026-01-10","                       WEEK-END                       ",null,null,null,null,null,null,null,"                       WEEK-END                       "]
[7,"2026-01-11","                       WEEK-END                       ",null,null,null,null,null,null,null,"                       WEEK-END                       "]
[1,"2026-01-12"]
[2,"2026-01-13"]
[3,"2026-01-14"]
[4,"2026-01-15"]
[5,"2026-01-16"]
[6,"2026-01-17","                       WEEK-END                       ",null,null,null,null,null,null,null,"                       WEEK-END                       "]
[7,"2026-01-18","                       WEEK-END                       ",null,null,null,null,null,null,null,"                       WEEK-END                       "]
[1,"2026-01-19"]
[2,"2026-01-20"]
[3,"2026-01-21"]
[4,"2026-01-22"]
[5,"2026-01-23"]
[6,"2026-01-24","                       WEEK-END                       ",null,null,null,null,null,null,null,"                       WEEK-END                       "]
[7,"2026-01-25","                       WEEK-END                       ",null,null,null,null,null,null,null,"                       WEEK-END                       "]
[1,"2026-01-26"]
[2,"2026-01-27"]
[3,"2026-01-28"]
[4,"2026-01-29"]
[5,"2026-01-30","     Pédagogique",null,null,null,null,null,null,null,"     Pédagogique"]
[6,"2026-01-31","                       WEEK-END                       ",null,null,null,null,null,null,null,"                       WEEK-END                       "]
[7,"2026-02-01","                       WEEK-END                       ",null,null,null,null,null,null,null,"                       WEEK-END                       "]
[1,"2026-02-02"]
[2,"2026-02-03"]
[3,"2026-02-04"]
[4,"2026-02-05"]
[5,"2026-02-06"]
[6,"2026-02-07","                       WEEK-END                       ",null,null,null,null,null,null,null,"                       WEEK-END                       "]
[7,"2026-02-08","                       WEEK-END                       ",null,null,null,null,null,null,null,"                       WEEK-END                       "]
[1,"2026-02-09"]
[2,"2026-02-10"]
[3,"2026-02-11"]
[4,"2026-02-12"]
[5,"2026-02-13"]
[6,"2026-02-14","                       WEEK-END                       ",null,null,null,null,null,null,null,"                       WEEK-END                       "]
[7,"2026-02-15","                       WEEK-END                       ",null,null,null,null,null,null,null,"                       WEEK-END                       "]
[1,"2026-02-16"]
[2,"2026-02-17"]
[3,"2026-02-18"]
[4,"2026-02-19"]
[5,"2026-02-20"]
[6,"2026-02-21","                       WEEK-END                       ",null,null,null,null,null,null,null,"                       WEEK-END                       "]
[7,"2026-02-22","                       WEEK-END                       ",null,null,null,null,null,null,null,"                       WEEK-END                       "]
[1,"2026-02-23"]
[2,"2026-02-24"]
[3,"2026-02-25","     Pédagogique",null,null,null,null,null,null,null,"     Pédagogique"]
[{"$f":"WEEKDAY(B200,2)","v":4},"2026-02-26"]
[5,"2026-02-27"]
[6,"2026-02-28","                       WEEK-END                       ",null,null,null,null,null,null,null,"                       WEEK-END                       "]
[7,{"$f":"B202+1","v":"2026-03-01"},"                       WEEK-END                       ",null,null,null,null,null,null,null,"                       WEEK-END                       "]
[1,"2026-03-02"]
[2,"2026-03-03"]
[3,"2026-03-04"]
[4,"2026-03-05"]
[5,"2026-03-06"]
[6,"2026-03-07","                       WEEK-END                       ",null,null,null,null,null,null,null,"                       WEEK-END                       "]
[7,"2026-03-08","                       WEEK-END                       ",null,null,null,null,null,null,null,"                       WEEK-END                       "]
[1,"2026-03-09"]
[2,"2026-03-10"]
[3,"2026-03-11"]
[4,"2026-03-12"]
[5,"2026-03-13","     Pédagogique",null,null,null,null,null,null,null,"     Pédagogique"]
[6,"2026-03-14","                       WEEK-END                       ",null,null,null,null,null,null,null,"                       WEEK-END                       "]
[7,"2026-03-15","                       WEEK-END                       ",null,null,null,null,null,null,null,"                       WEEK-END                       "]
[1,"2026-03-16"]
[2,"2026-03-17"]
[3,"2026-03-18"]
[4,"2026-03-19"]
[5,"2026-03-20"]
[6,"2026-03-21","                       WEEK-END                       ",null,null,null,null,null,null,null,"                       WEEK-END                       "]
[7,"2026-03-22","                       WEEK-END                       ",null,null,null,null,null,null,null,"                       WEEK-END                       "]
[1,"2026-03-23"]
[2,"2026-03-24"]
[3,"2026-03-25"]
[4,"2026-03-26"]
[5,"2026-03-27"]
[6,"2026-03-28","                       WEEK-END                       ",null,null,null,null,null,null,null,"                       WEEK-END                       "]
[7,"2026-03-29","                       WEEK-END                       ",null,null,null,null,null,null,null,"                       WEEK-END                       "]
[1,"2026-03-30"]
[2,"2026-03-31"]
[3,"2026-04-01"]
[4,"2026-04-02"]
[5,"2026-04-03","Congé",null,null,null,null,null,null,null,"Congé"]
[6,"2026-04-04","                       WEEK-END                       ",null,null,null,null,null,null,null,"                       WEEK-END                       "]
[7,"2026-04-05","                       WEEK-END                       ",null,null,null,null,null,null,null,"                       WEEK-END                       "]
[1,"2026-04-06","Congé",null,null,null,null,null,null,null,"Congé"]
[2,"2026-04-07"]
[3,"2026-04-08"]
[4,"2026-04-09"]
[5,"2026-04-10"]
[6,"2026-04-11","                       WEEK-END                       ",null,null,null,null,null,null,null,"                       WEEK-END                       "]
[7,"2026-04-12","                       WEEK-END                       ",null,null,null,null,null,null,null,"                       WEEK-END                       "]
[1,"2026-04-13"]
[2,"2026-04-14"]
[3,"2026-04-15"]
[4,"2026-04-16"]
[5,"2026-04-17"]
[6,"2026-04-18","                       WEEK-END                       ",null,null,null,null,null,null,null,"                       WEEK-END                       "]
[7,"2026-04-19","                       WEEK-END                       ",null,null,null,null,null,null,null,"                       WEEK-END                       "]
[1,"2026-04-20"]
[2,"2026-04-21"]
[3,"2026-04-22"]
[4,"2026-04-23"]
[5,"2026-04-24"]
[6,"2026-04-25","                       WEEK-END                       ",null,null,null,null,null,null,null,"                       WEEK-END                       "]
[7,"2026-04-26","                       WEEK-END                       ",null,null,null,null,null,null,null,"                       WEEK-END                       "]
[1,"2026-04-27"]
[2,"2026-04-28"]
[3,"2026-04-29"]
[4,"2026-04-30"]
[{"$f":"WEEKDAY(B264,2)","v":5},"2026-05-01","     Pédagogique Commune",null,null,null,null,null,null,null,"     Pédagogique Commune"]
[6,"2026-05-02","                       WEEK-END                       ",null,null,null,null,null,null,null,"                       WEEK-END                       "]
[7,"2026-05-03","                       WEEK-END                       ",null,null,null,null,null,null,null,"                       WEEK-END                       "]
[1,{"$f":"B266+1","v":"2026-05-04"}]
[2,"2026-05-05"]
[3,"2026-05-06"]
[4,"2026-05-07"]
[5,"2026-05-08"]
[6,"2026-05-09","                       WEEK-END                       ",null,null,null,null,null,null,null,"                       WEEK-END                       "]
[7,"2026-05-10","                       WEEK-END                       ",null,null,null,null,null,null,null,"                       WEEK-END                       "]
[1,"2026-05-11"]
[2,"2026-05-12"]
[3,"2026-05-13"]
[4,"2026-05-14"]
[5,"2026-05-15"]
[6,"2026-05-16","                       WEEK-END                       ",null,null,null,null,null,null,null,"                       WEEK-END                       "]
[7,"2026-05-17","                       WEEK-END                       ",null,null,null,null,null,null,null,"                       WEEK-END                       "]
[1,"2026-05-18","Congé",null,null,null,null,null,null,null,"Congé"]
[2,"2026-05-19"]
[3,"2026-05-20"]
[4,"2026-05-21"]
[5,"2026-05-22"]
[6,"2026-05-23","                       WEEK-END                       ",null,null,null,null,null,null,null,"                       WEEK-END                       "]
[7,"2026-05-24","                       WEEK-END                       ",null,null,null,null,null,null,null,"                       WEEK-END                       "]
[1,"2026-05-25"]
[2,"2026-05-26"]
[3,"2026-05-27"]
[4,"2026-05-28"]
[5,"2026-05-29"]
[6,"2026-05-30","                       WEEK-END                       ",null,null,null,null,null,null,null,"                       WEEK-END                       "]
[7,"2026-05-31","                       WEEK-END                       ",null,null,null,null,null,null,null,"                       WEEK-END                       "]
[1,"2026-06-01"]
[2,"2026-06-02"]
[3,"2026-06-03"]
[4,"2026-06-04"]
[5,"2026-06-05","     Pédagogique",null,null,null,null,null,null,null,"     Pédagogique"]
[6,"2026-06-06","                       WEEK-END                       ",null,null,null,null,null,null,null,"                       WEEK-END                       "]
[7,"2026-06-07","                       WEEK-END                       ",null,null,null,null,null,null,null,"                       WEEK-END                       "]
[1,"2026-06-08"]
[2,"2026-06-09"]
[3,"2026-06-10"]
[4,"2026-06-11"]
[5,"2026-06-12"]
[6,"2026-06-13","                       WEEK-END                       ",null,null,null,null,null,null,null,"                       WEEK-END                       "]
[7,"2026-06-14","                       WEEK-END                       ",null,null,null,null,null,null,null,"                       WEEK-END                       "]
[1,"2026-06-15"]
[2,"2026-06-16"]
[3,"2026-06-17"]
[4,"2026-06-18"]
[5,"2026-06-19"]
[6,"2026-06-20","                       WEEK-END                       ",null,null,null,null,null,null,null,"                       WEEK-END                       "]
[7,"2026-06-21","                       WEEK-END                       ",null,null,null,null,null,null,null,"                       WEEK-END                       "]
[1,"2026-06-22"]
[2,"2026-06-23"]
[3,"2026-06-24","Congé",null,null,null,null,null,null,null,"Congé"]
[4,"2026-06-25"]
[5,"2026-06-26"]
[6,"2026-06-27","                       WEEK-END                       ",null,null,null,null,null,null,null,"                       WEEK-END                       "]
[7,"2026-06-28","                       WEEK-END                       ",null,null,null,null,null,null,null,"                       WEEK-END                       "]
[1,"2026-06-29","                   Vacances          ",null,null,null,null,null,null,null,"                   Vacances          "]
[2,"2026-06-30","                   Vacances          ",null,null,null,null,null,null,null,"                   Vacances          "]
[3,"2026-07-01","                   Vacances          ",null,null,null,null,null,null,null,"                   Vacances          "]
[4,"2026-07-02","                   Vacances          ",null,null,null,null,null,null,null,"                   Vacances          "]
[5,"2026-07-03","                   Vacances          ",null,null,null,null,null,null,null,"                   Vacances          "]
[{"$f":"WEEKDAY(B328,2)","v":6},"2026-07-04","                       WEEK-END                       ",null,null,null,null,null,null,null,"                       WEEK-END                       "]
[7,"2026-07-05","                       WEEK-END                       ",null,null,null,null,null,null,null,"                       WEEK-END                       "]
[1,"2026-07-06","                   Vacances          ",null,null,null,null,null,null,null,"                   Vacances          "]
[2,{"$f":"B330+1","v":"2026-07-07"},"                   Vacances          ",null,null,null,null,null,null,null,"                   Vacances          "]
[3,"2026-07-08","                   Vacances          ",null,null,null,null,null,null,null,"                   Vacances          "]
[4,"2026-07-09","                   Vacances          ",null,null,null,null,null,null,null,"                   Vacances          "]
[5,"2026-07-10","                   Vacances          ",null,null,null,null,null,null,null,"                   Vacances          "]
[6,"2026-07-11","                       WEEK-END                       ",null,null,null,null,null,null,null,"                       WEEK-END                       "]
[7,"2026-07-12","                       WEEK-END                       ",null,null,null,null,null,null,null,"                       WEEK-END                       "]
[1,"2026-07-13","                   Vacances          ",null,null,null,null,null,null,null,"                   Vacances          "]
[2,"2026-07-14","                   Vacances          ",null,null,null,null,null,null,null,"                   Vacances          "]
[3,"2026-07-15","                   Vacances          ",null,null,null,null,null,null,null,"                   Vacances          "]
[4,"2026-07-16","                   Vacances          ",null,null,null,null,null,null,null,"                   Vacances          "]
[5,"2026-07-17","                   Vacances          ",null,null,null,null,null,null,null,"                   Vacances          "]
[6,"2026-07-18","                       WEEK-END                       ",null,null,null,null,null,null,null,"                       WEEK-END                       "]
[7,"2026-07-19","                       WEEK-END                       ",null,null,null,null,null,null,null,"                       WEEK-END                       "]
[1,"2026-07-20","                   Vacances          ",null,null,null,null,null,null,null,"                   Vacances          "]
[2,"2026-07-21","                   Vacances          ",null,null,null,null,null,null,null,"                   Vacances          "]
[3,"2026-07-22","                   Vacances          ",null,null,null,null,null,null,null,"                   Vacances          "]
[4,"2026-07-23","                   Vacances          ",null,null,null,null,null,null,null,"                   Vacances          "]
[5,"2026-07-24","                   Vacances          ",null,null,null,null,null,null,null,"                   Vacances          "]
[6,"2026-07-25","                       WEEK-END                       ",null,null,null,null,null,null,null,"                       WEEK-END                       "]
[7,"2026-07-26","                       WEEK-END                       ",null,null,null,null,null,null,null,"                       WEEK-END                       "]
[1,"2026-07-27","                   Vacances          ",null,null,null,null,null,null,null,"                   Vacances          "]
[2,"2026-07-28","                   Vacances          ",null,null,null,null,null,null,null,"                   Vacances          "]
[3,"2026-07-29","                   Vacances          ",null,null,null,null,null,null,null,"                   Vacances          "]
[4,"2026-07-30","                   Vacances          ",null,null,null,null,null,null,null,"                   Vacances          "]
[5,"2026-07-31","                   Vacances          ",null,null,null,null,null,null,null,"                   Vacances          "]
[6,"2026-08-01","                       WEEK-END                       ",null,null,null,null,null,null,null,"                       WEEK-END                       "]
[7,"2026-08-02","                       WEEK-END                       ",null,null,null,null,null,null,null,"                       WEEK-END                       "]
[1,"2026-08-03","                   Vacances          ",null,null,null,null,null,null,null,"                   Vacances          "]
[2,"2026-08-04","                   Vacances          ",null,null,null,null,null,null,null,"                   Vacances          "]
[3,"2026-08-05","                   Vacances          ",null,null,null,null,null,null,null,"                   Vacances          "]
[4,"2026-08-06","                   Vacances          ",null,null,null,null,null,null,null,"                   Vacances          "]
[5,"2026-08-07","                   Vacances          ",null,null,null,null,null,null,null,"                   Vacances          "]
[6,"2026-08-08","                       WEEK-END                       ",null,null,null,null,null,null,null,"                       WEEK-END                       "]
[7,"2026-08-09","                       WEEK-END                       ",null,null,null,null,null,null,null,"                       WEEK-END                       "]
[1,"2026-08-10","                   Vacances          ",null,null,null,null,null,null,null,"                   Vacances          "]
[2,"2026-08-11","                   Vacances          ",null,null,null,null,null,null,null,"                   Vacances          "]
[3,"2026-08-12","                   Vacances          ",null,null,null,null,null,null,null,"                   Vacances          "]
[4,"2026-08-13","                   Vacances          ",null,null,null,null,null,null,null,"                   Vacances          "]
[5,"2026-08-14","                   Vacances          ",null,null,null,null,null,null,null,"                   Vacances          "]
[6,"2026-08-15","                       WEEK-END                       ",null,null,null,null,null,null,null,"                       WEEK-END                       "]
[7,"2026-08-16","                       WEEK-END                       ",null,null,null,null,null,null,null,"                       WEEK-END                       "]
[1,"2026-08-17","                   Vacances          ",null,null,null,null,null,null,null,"                   Vacances          "]
[2,"2026-08-18","                   Vacances          ",null,null,null,null,null,null,null,"                   Vacances          "]
[null,"2026-08-19","                   Vacances          ",null,null,null,null,null,null,null,"                   Vacances          "]
[]
["Calculateur de période par module"]
["Modules",null," ",null,null,null,null,null,null,null," "]
[null,null,"à prog.",null,"entrées",null,null,null,"à faire",null,"à prog.",null,"entrées",null,null,null,"à faire"]
["module 1",null,{"$f":"IF(E379=(I379),\"ok\",($A379))","v":"ok"},null,{"$f":"SUMIF(C$8:C$373,1,E$8:E$373)+SUMIF(G$8:G$373,1,I$8:I$373)","v":0},null,null,null,0,null,{"$f":"IF(M379=(Q379),\"ok\",($A379))","v":"ok"},null,{"$f":"SUMIF(K$8:K$373,1,M$8:M$373)+SUMIF(O$8:O$373,1,Q$8:Q$373)","v":0},null,null,null,0]
["module 2",null,"ok",null,{"$f":"SUMIF(C$8:C$373,2,E$8:E$373)+SUMIF(G$8:G$373,2,I$8:I$373)","v":0},null,null,null,0,null,"ok",null,{"$f":"SUMIF(K$8:K$373,2,M$8:M$373)+SUMIF(O$8:O$373,2,Q$8:Q$373)","v":0},null,null,null,0]
["module 3",null,"ok",null,{"$f":"SUMIF(C$8:C$373,3,E$8:E$373)+SUMIF(G$8:G$373,3,I$8:I$373)","v":0},null,null,null,0,null,"ok",null,{"$f":"SUMIF(K$8:K$373,3,M$8:M$373)+SUMIF(O$8:O$373,3,Q$8:Q$373)","v":0},null,null,null,0]
["module 4",null,"ok",null,{"$f":"SUMIF(C$8:C$373,4,E$8:E$373)+SUMIF(G$8:G$373,4,I$8:I$373)","v":0},null,null,null,0,null,"ok",null,{"$f":"SUMIF(K$8:K$373,4,M$8:M$373)+SUMIF(O$8:O$373,4,Q$8:Q$373)","v":0},null,null,null,0]
["module 5",null,"ok",null,{"$f":"SUMIF(C$8:C$373,5,E$8:E$373)+SUMIF(G$8:G$373,5,I$8:I$373)","v":0},null,null,null,0,null,"ok",null,{"$f":"SUMIF(K$8:K$373,5,M$8:M$373)+SUMIF(O$8:O$373,5,Q$8:Q$373)","v":0},null,null,null,0]
["module 6",null,"ok",null,{"$f":"SUMIF(C$8:C$373,6,E$8:E$373)+SUMIF(G$8:G$373,6,I$8:I$373)","v":0},null,null,null,0,null,"ok",null,{"$f":"SUMIF(K$8:K$373,6,M$8:M$373)+SUMIF(O$8:O$373,6,Q$8:Q$373)","v":0},null,null,null,0]
["module 7",null,"ok",null,{"$f":"SUMIF(C$8:C$373,7,E$8:E$373)+SUMIF(G$8:G$373,7,I$8:I$373)","v":0},null,null,null,0,null,"ok",null,{"$f":"SUMIF(K$8:K$373,7,M$8:M$373)+SUMIF(O$8:O$373,7,Q$8:Q$373)","v":0},null,null,null,0]
["module 8",null,"ok",null,{"$f":"SUMIF(C$8:C$373,8,E$8:E$373)+SUMIF(G$8:G$373,8,I$8:I$373)","v":0},null,null,null,0,null,"ok",null,{"$f":"SUMIF(K$8:K$373,8,M$8:M$373)+SUMIF(O$8:O$373,8,Q$8:Q$373)","v":0},null,null,null,0]
["module 9",null,"ok",null,{"$f":"SUMIF(C$8:C$373,9,E$8:E$373)+SUMIF(G$8:G$373,9,I$8:I$373)","v":0},null,null,null,0,null,"ok",null,{"$f":"SUMIF(K$8:K$373,9,M$8:M$373)+SUMIF(O$8:O$373,9,Q$8:Q$373)","v":0},null,null,null,0]
["module 10",null,"ok",null,{"$f":"SUMIF(C$8:C$373,10,E$8:E$373)+SUMIF(G$8:G$373,10,I$8:I$373)","v":0},null,null,null,0,null,"ok",null,{"$f":"SUMIF(K$8:K$373,10,M$8:M$373)+SUMIF(O$8:O$373,10,Q$8:Q$373)","v":0},null,null,null,0]
["module 11",null,"ok",null,{"$f":"SUMIF(C$8:C$373,11,E$8:E$373)+SUMIF(G$8:G$373,11,I$8:I$373)","v":0},null,null,null,0,null,"ok",null,{"$f":"SUMIF(K$8:K$373,11,M$8:M$373)+SUMIF(O$8:O$373,11,Q$8:Q$373)","v":0},null,null,null,0]
["module 12",null,"ok",null,{"$f":"SUMIF(C$8:C$373,12,E$8:E$373)+SUMIF(G$8:G$373,12,I$8:I$373)","v":0},null,null,null,0,null,"ok",null,{"$f":"SUMIF(K$8:K$373,12,M$8:M$373)+SUMIF(O$8:O$373,12,Q$8:Q$373)","v":0},null,null,null,0]
["module 13",null,"ok",null,{"$f":"SUMIF(C$8:C$373,13,E$8:E$373)+SUMIF(G$8:G$373,13,I$8:I$373)","v":0},null,null,null,0,null,"ok",null,{"$f":"SUMIF(K$8:K$373,13,M$8:M$373)+SUMIF(O$8:O$373,13,Q$8:Q$373)","v":0},null,null,null,0]
["module 14",null,"ok",null,{"$f":"SUMIF(C$8:C$373,14,E$8:E$373)+SUMIF(G$8:G$373,14,I$8:I$373)","v":0},null,null,null,0,null,"ok",null,{"$f":"SUMIF(K$8:K$373,14,M$8:M$373)+SUMIF(O$8:O$373,14,Q$8:Q$373)","v":0},null,null,null,0]
["module 15",null,"ok",null,{"$f":"SUMIF(C$8:C$373,15,E$8:E$373)+SUMIF(G$8:G$373,15,I$8:I$373)","v":0},null,null,null,0,null,"ok",null,{"$f":"SUMIF(K$8:K$373,15,M$8:M$373)+SUMIF(O$8:O$373,15,Q$8:Q$373)","v":0},null,null,null,0]
["module 16",null,"ok",null,{"$f":"SUMIF(C$8:C$373,16,E$8:E$373)+SUMIF(G$8:G$373,16,I$8:I$373)","v":0},null,null,null,0,null,"ok",null,{"$f":"SUMIF(K$8:K$373,16,M$8:M$373)+SUMIF(O$8:O$373,16,Q$8:Q$373)","v":0},null,null,null,0]
["module 17",null,"ok",null,{"$f":"SUMIF(C$8:C$373,17,E$8:E$373)+SUMIF(G$8:G$373,17,I$8:I$373)","v":0},null,null,null,0,null,"ok",null,{"$f":"SUMIF(K$8:K$373,17,M$8:M$373)+SUMIF(O$8:O$373,17,Q$8:Q$373)","v":0},null,null,null,0]
["module 18",null,"ok",null,{"$f":"SUMIF(C$8:C$373,18,E$8:E$373)+SUMIF(G$8:G$373,18,I$8:I$373)","v":0},null,null,null,0,null,"ok",null,{"$f":"SUMIF(K$8:K$373,18,M$8:M$373)+SUMIF(O$8:O$373,18,Q$8:Q$373)","v":0},null,null,null,0]
["module 19",null,"ok",null,{"$f":"SUMIF(C$8:C$373,19,E$8:E$373)+SUMIF(G$8:G$373,19,I$8:I$373)","v":0},null,null,null,0,null,"ok",null,{"$f":"SUMIF(K$8:K$373,19,M$8:M$373)+SUMIF(O$8:O$373,19,Q$8:Q$373)","v":0},null,null,null,0]
["module 20",null,"ok",null,{"$f":"SUMIF(C$8:C$373,20,E$8:E$373)+SUMIF(G$8:G$373,20,I$8:I$373)","v":0},null,null,null,0,null,"ok",null,{"$f":"SUMIF(K$8:K$373,20,M$8:M$373)+SUMIF(O$8:O$373,20,Q$8:Q$373)","v":0},null,null,null,0]
["module 21",null,"ok",null,{"$f":"SUMIF(C$8:C$373,21,E$8:E$373)+SUMIF(G$8:G$373,21,I$8:I$373)","v":0},null,null,null,0,null,"ok",null,{"$f":"SUMIF(K$8:K$373,21,M$8:M$373)+SUMIF(O$8:O$373,21,Q$8:Q$373)","v":0},null,null,null,0]
["module 22",null,"ok",null,{"$f":"SUMIF(C$8:C$373,22,E$8:E$373)+SUMIF(G$8:G$373,22,I$8:I$373)","v":0},null,null,null,0,null,"ok",null,{"$f":"SUMIF(K$8:K$373,22,M$8:M$373)+SUMIF(O$8:O$373,22,Q$8:Q$373)","v":0},null,null,null,0]
["module 23",null,"ok",null,{"$f":"SUMIF(C$8:C$373,23,E$8:E$373)+SUMIF(G$8:G$373,23,I$8:I$373)","v":0},null,null,null,0,null,"ok",null,{"$f":"SUMIF(K$8:K$373,23,M$8:M$373)+SUMIF(O$8:O$373,23,Q$8:Q$373)","v":0},null,null,null,0]
["module 24",null,"ok",null,{"$f":"SUMIF(C$8:C$373,24,E$8:E$373)+SUMIF(G$8:G$373,24,I$8:I$373)","v":0},null,null,null,0,null,"ok",null,{"$f":"SUMIF(K$8:K$373,24,M$8:M$373)+SUMIF(O$8:O$373,24,Q$8:Q$373)","v":0},null,null,null,0]
["module 25",null,"ok",null,{"$f":"SUMIF(C$8:C$373,25,E$8:E$373)+SUMIF(G$8:G$373,25,I$8:I$373)","v":0},null,null,null,0,null,"ok",null,{"$f":"SUMIF(K$8:K$373,25,M$8:M$373)+SUMIF(O$8:O$373,25,Q$8:Q$373)","v":0},null,null,null,0]
["module 26",null,"ok",null,{"$f":"SUMIF(C$8:C$373,26,E$8:E$373)+SUMIF(G$8:G$373,26,I$8:I$373)","v":0},null,null,null,0,null,"ok",null,{"$f":"SUMIF(K$8:K$373,26,M$8:M$373)+SUMIF(O$8:O$373,26,Q$8:Q$373)","v":0},null,null,null,0]
["module 27",null,"ok",null,{"$f":"SUMIF(C$8:C$373,27,E$8:E$373)+SUMIF(G$8:G$373,27,I$8:I$373)","v":0},null,null,null,0,null,"ok",null,{"$f":"SUMIF(K$8:K$373,27,M$8:M$373)+SUMIF(O$8:O$373,27,Q$8:Q$373)","v":0},null,null,null,0]
["module 28",null,"ok",null,{"$f":"SUMIF(C$8:C$373,28,E$8:E$373)+SUMIF(G$8:G$373,28,I$8:I$373)","v":0},null,null,null,0,null,"ok",null,{"$f":"SUMIF(K$8:K$373,28,M$8:M$373)+SUMIF(O$8:O$373,28,Q$8:Q$373)","v":0},null,null,null,0]
["module 29",null,"ok",null,{"$f":"SUMIF(C$8:C$373,29,E$8:E$373)+SUMIF(G$8:G$373,29,I$8:I$373)","v":0},null,null,null,0,null,"ok",null,{"$f":"SUMIF(K$8:K$373,29,M$8:M$373)+SUMIF(O$8:O$373,29,Q$8:Q$373)","v":0},null,null,null,0]
["module 30",null,"ok",null,{"$f":"SUMIF(C$8:C$373,30,E$8:E$373)+SUMIF(G$8:G$373,30,I$8:I$373)","v":0},null,null,null,0,null,"ok",null,{"$f":"SUMIF(K$8:K$373,30,M$8:M$373)+SUMIF(O$8:O$373,30,Q$8:Q$373)","v":0},null,null,null,0]
["module 31",null,"ok",null,{"$f":"SUMIF(C$8:C$373,31,E$8:E$373)+SUMIF(G$8:G$373,31,I$8:I$373)","v":0},null,null,null,0,null,"ok",null,{"$f":"SUMIF(K$8:K$373,31,M$8:M$373)+SUMIF(O$8:O$373,31,Q$8:Q$373)","v":0},null,null,null,0]
["module 32",null,"ok",null,{"$f":"SUMIF(C$8:C$373,32,E$8:E$373)+SUMIF(G$8:G$373,32,I$8:I$373)","v":0},null,null,null,0,null,"ok",null,{"$f":"SUMIF(K$8:K$373,32,M$8:M$373)+SUMIF(O$8:O$373,32,Q$8:Q$373)","v":0},null,null,null,0]
["module 33",null,"ok",null,{"$f":"SUMIF(C$8:C$373,33,E$8:E$373)+SUMIF(G$8:G$373,33,I$8:I$373)","v":0},null,null,null,0,null,"ok",null,{"$f":"SUMIF(K$8:K$373,33,M$8:M$373)+SUMIF(O$8:O$373,33,Q$8:Q$373)","v":0},null,null,null,0]
["module 34",null,"ok",null,{"$f":"SUMIF(C$8:C$373,34,E$8:E$373)+SUMIF(G$8:G$373,34,I$8:I$373)","v":0},null,null,null,0,null,"ok",null,{"$f":"SUMIF(K$8:K$373,34,M$8:M$373)+SUMIF(O$8:O$373,34,Q$8:Q$373)","v":0},null,null,null,0]
["module 35",null,"TE",null,{"$f":"SUMIF(C$8:C$373,35,E$8:E$373)+SUMIF(G$8:G$373,35,I$8:I$373)","v":0},null,null,null,85,null,"TE",null,{"$f":"SUMIF(K$8:K$373,35,M$8:M$373)+SUMIF(O$8:O$373,35,Q$8:Q$373)","v":0},null,null,null,85,null,"=","TACHES PRÉSENCE ÉLÈVE (PERMANENT)"]
["module 36",null,"TA",null,{"$f":"SUMIF(C$8:C$373,36,E$8:E$373)+SUMIF(G$8:G$373,36,I$8:I$373)","v":0},null,null,null,360,null,"TA",null,{"$f":"SUMIF(K$8:K$373,36,M$8:M$373)+SUMIF(O$8:O$373,36,Q$8:Q$373)","v":0},null,null,null,360,null,"=","TACHES DE DISPO"]
["module 37",null,"TNP",null,{"$f":"SUMIF(C$8:C$373,37,E$8:E$373)+SUMIF(G$8:G$373,37,I$8:I$373)","v":0},null,null,null,200,null,"TNP",null,{"$f":"SUMIF(K$8:K$373,37,M$8:M$373)+SUMIF(O$8:O$373,37,Q$8:Q$373)","v":0},null,null,null,200,null,"=","TACHES DE NATURE PERSONNEL"]
["module 90",null,"ok",null,{"$f":"SUMIF(C$8:C$373,90,E$8:E$373)+SUMIF(G$8:G$373,90,I$8:I$373)","v":0},null,null,null,0,null,"ok",null,{"$f":"SUMIF(K$8:K$373,38,M$8:M$373)+SUMIF(O$8:O$373,38,Q$8:Q$373)","v":0},null,null,null,0]
["module 39",null,"ok",null,{"$f":"SUMIF(C$8:C$373,39,E$8:E$373)+SUMIF(G$8:G$373,39,I$8:I$373)","v":0},null,null,null,0,null,"ok",null,{"$f":"SUMIF(K$8:K$373,39,M$8:M$373)+SUMIF(O$8:O$373,39,Q$8:Q$373)","v":0},null,null,null,0]
["module 89",null,"ok",null,{"$f":"SUMIF(C$8:C$373,40,E$8:E$373)+SUMIF(G$8:G$373,40,I$8:I$373)","v":0},null,null,null,0,null,"ok",null,{"$f":"SUMIF(K$8:K$373,40,M$8:M$373)+SUMIF(O$8:O$373,40,Q$8:Q$373)","v":0},null,null,null,0]
["module 90",null,"ok",null,{"$f":"SUMIF(C$8:C$373,90,E$8:E$373)+SUMIF(G$8:G$373,90,I$8:I$373)","v":0},null,null,null,0,null,"ok",null,{"$f":"SUMIF(K$8:K$373,90,M$8:M$373)+SUMIF(O$8:O$373,90,Q$8:Q$373)","v":0},null,null,null,0,null,"=","RECUPERATION"]
["module 91",null,"ok",null,{"$f":"SUMIF(C$8:C$373,91,E$8:E$373)+SUMIF(G$8:G$373,91,I$8:I$373)","v":0},null,null,null,0,null,"ok",null,{"$f":"SUMIF(K$8:K$373,91,M$8:M$373)+SUMIF(O$8:O$373,91,Q$8:Q$373)","v":0},null,null,null,0]
["module 92",null,"ok",null,{"$f":"SUMIF(C$8:C$373,92,E$8:E$373)+SUMIF(G$8:G$373,92,I$8:I$373)","v":0},null,null,null,0,null,"ok",null,{"$f":"SUMIF(K$8:K$373,92,M$8:M$373)+SUMIF(O$8:O$373,92,Q$8:Q$373)","v":0},null,null,null,0]
["module 93",null,"ok",null,{"$f":"SUMIF(C$8:C$373,93,E$8:E$373)+SUMIF(G$8:G$373,93,I$8:I$373)","v":0},null,null,null,0,null,"ok",null,{"$f":"SUMIF(K$8:K$373,93,M$8:M$373)+SUMIF(O$8:O$373,93,Q$8:Q$373)","v":0},null,null,null,0]
["module 94",null,"ok",null,{"$f":"SUMIF(C$8:C$373,94,E$8:E$373)+SUMIF(G$8:G$373,94,I$8:I$373)","v":0},null,null,null,0,null,"ok",null,{"$f":"SUMIF(K$8:K$373,94,M$8:M$373)+SUMIF(O$8:O$373,94,Q$8:Q$373)","v":0},null,null,null,0]
["module 95",null,"ok",null,{"$f":"SUMIF(C$8:C$373,95,E$8:E$373)+SUMIF(G$8:G$373,95,I$8:I$373)","v":0},null,null,null,0,null,"ok",null,{"$f":"SUMIF(K$8:K$373,95,M$8:M$373)+SUMIF(O$8:O$373,95,Q$8:Q$373)","v":0},null,null,null,0,null," "]
["module 96",null,"ok",null,{"$f":"SUMIF(C$8:C$373,96,E$8:E$373)+SUMIF(G$8:G$373,96,I$8:I$373)","v":0},null,null,null,0,null,"ok",null,{"$f":"SUMIF(K$8:K$373,96,M$8:M$373)+SUMIF(O$8:O$373,96,Q$8:Q$373)","v":0},null,null,null,0]
["module 97",null,"ok",null,{"$f":"SUMIF(C$8:C$373,97,E$8:E$373)+SUMIF(G$8:G$373,97,I$8:I$373)","v":0},null,null,null,0,null,"ok",null,{"$f":"SUMIF(K$8:K$373,97,M$8:M$373)+SUMIF(O$8:O$373,97,Q$8:Q$373)","v":0},null,null,null,0]
["module 98",null,"ok",null,{"$f":"SUMIF(C$8:C$373,98,E$8:E$373)+SUMIF(G$8:G$373,98,I$8:I$373)","v":0},null,null,null,0,null,"ok",null,{"$f":"SUMIF(K$8:K$373,98,M$8:M$373)+SUMIF(O$8:O$373,98,Q$8:Q$373)","v":0},null,null,null,0]
["module 99",null,"ok",null,{"$f":"SUMIF(C$8:C$373,99,E$8:E$373)+SUMIF(G$8:G$373,99,I$8:I$373)","v":0},null,null,null,0,null,"ok",null,{"$f":"SUMIF(K$8:K$373,99,M$8:M$373)+SUMIF(O$8:O$373,99,Q$8:Q$373)","v":0},null,null,null,0]
["Totaux",null,{"$f":"IF(E429=(I429),\"ok\",($A$429))","v":"ok"},null,{"$f":"SUM(E379:F410)","v":0},null,null,null,{"$f":"SUM(I379:J410)","v":0},null,{"$f":"IF(M429=(Q429),\"ok\",($A$429))","v":"ok"},null,{"$f":"SUM(M379:N410)","v":0},null,null,null,{"$f":"SUM(Q379:R410)","v":0}]
[]
[]
["Calculateur de période / enseignants"]
["Enseignants",null,{"$f":"C4","v":" Mathieu Chenard"}]
[null,null,{"$f":"\"Heures \"& RIGHT($A4,9)","v":"Heures 2024-2025"},null,null,null,{"$f":"\"Heures été \"& RIGHT($A4,9)","v":"Heures été 2024-2025"},null,null,null,{"$f":"\"Heures \"& RIGHT($A4,9)","v":"Heures 2024-2025"},null,null,null,{"$f":"\"Heures été \"& RIGHT($A4,9)","v":"Heures été 2024-2025"}]
["mc","Mathieu Chenard",{"$f":"SUMIF(D$65:D$374,A435,E$65:E$374)+SUMIF(H$65:H$374,A435,I$65:I$374)","v":0},null,null,null,{"$f":"SUMIF(D$8:D$64,A435,E$8:E$64)+SUMIF(H$8:H$64,A435,I$8:I$64)","v":0},null,null,null,{"$f":"SUMIF(L$65:L$374,A435,M$65:M$374)+SUMIF(P$65:P$374,A435,Q$65:Q$374)","v":0},null,null,null,{"$f":"SUMIF(L$8:L$64,#REF!,M$8:M$64)+SUMIF(P$8:P$64,#REF!,Q$8:Q$64)","v":0}]
[]
[]
["Total des hrs"]
[null,{"$f":"SUM(W441,S441,O441,K441,G441,C441)","v":0},"ENSEIGNEMENT",null,null,null,"PERMANENT",null,null,null,"DISPO",null,null,null,"NATURE PERSO",null,null,null,"TUTORAT+RECUP",null,null,null,"AUTRE"]
[null,null,"Heures 2012-2013",null,null,null,"TE = 85 HRS",null,null,null,"TA = 360 HRS",null,null,null,"TNP = 200 HRS"]
[null,null,{"$f":"SUM(C435+K435)","v":0},null,null,null,{"$f":"SUM(E413+M413)","v":0},null,null,null,{"$f":"SUM(E414+M414)","v":0},null,null,null,{"$f":"SUM(E415+M415)","v":0},null,null,null,0,null,null,null,0]

{"sheet":"Yanik Corbeil","index":41,"n_rows":441,"n_cols":23,"rows_kept":441,"cut":false,"hidden":false,"merged":[[367,2,367,9],[367,10,367,17],[368,2,368,9],[368,10,368,17],[371,2,371,9],[371,10,371,17],[364,2,364,9],[364,10,364,17],[365,2,365,9],[365,10,365,17],[366,2,366,9],[366,10,366,17],[359,2,359,9],[359,10,359,17],[360,2,360,9],[360,10,360,17],[361,2,361,9],[361,10,361,17],[354,2,354,9],[354,10,354,17],[357,2,357,9],[357,10,357,17],[358,2,358,9],[358,10,358,17],[351,2,351,9],[351,10,351,17],[352,2,352,9],[352,10,352,17],[353,2,353,9],[353,10,353,17],[346,2,346,9],[346,10,346,17],[347,2,347,9],[347,10,347,17],[350,2,350,9],[350,10,350,17],[343,2,343,9],[343,10,343,17],[344,2,344,9],[344,10,344,17],[345,2,345,9],[345,10,345,17],[338,2,338,9],[338,10,338,17],[339,2,339,9],[339,10,339,17],[340,2,340,9],[340,10,340,17],[333,2,333,9],[333,10,333,17],[336,2,336,9],[336,10,336,17],[337,2,337,9],[337,10,337,17],[330,2,330,9],[330,10,330,17],[331,2,331,9],[331,10,331,17],[332,2,332,9],[332,10,332,17],[325,2,325,9],[325,10,325,17],[326,2,326,9],[326,10,326,17],[329,2,329,9],[329,10,329,17],[322,2,322,9],[322,10,322,17],[323,2,323,9],[323,10,323,17],[324,2,324,9],[324,10,324,17],[280,2,280,9],[280,10,280,17],[298,2,298,9],[298,10,298,17],[317,2,317,9],[317,10,317,17],[235,2,235,9],[235,10,235,17],[238,2,238,9],[238,10,238,17],[263,2,263,9],[263,10,263,17],[172,2,172,9],[172,10,172,17],[198,2,198,9],[198,10,198,17],[214,2,214,9],[214,10,214,17],[134,10,134,17],[143,2,143,9],[143,10,143,17],[144,2,144,9],[144,10,144,17],[147,2,147,9],[147,10,147,17],[140,2,140,9],[140,10,140,17],[141,2,141,9],[141,10,141,17],[142,2,142,9],[142,10,142,17],[418,19,418,27],[72,2,72,9],[72,10,72,17],[87,2,87,9],[87,10,87,17],[88,2,88,9],[88,10,88,17],[14,2,14,9],[14,10,14,17],[21,2,21,9],[21,10,21,17],[63,2,63,9],[63,10,63,17],[135,2,135,9],[135,10,135,17],[136,2,136,9],[136,10,136,17],[137,2,137,9],[137,10,137,17],[101,2,101,9],[101,10,101,17],[133,2,133,9],[133,10,133,17],[134,2,134,9],[428,2,428,3],[428,4,428,7],[428,8,428,9],[428,10,428,11],[428,12,428,15],[428,16,428,17],[426,16,426,17],[424,16,424,17],[422,16,422,17],[440,22,440,25],[438,18,438,21],[438,22,438,25],[439,2,439,5],[439,6,439,9],[439,10,439,13],[439,14,439,17],[439,18,439,21],[439,22,439,25],[440,10,440,13],[440,14,440,17],[440,18,440,21],[438,1,440,1],[438,6,438,9],[438,10,438,13],[438,14,438,17],[440,2,440,5],[440,6,440,9],[432,0,433,1],[432,2,432,17],[433,2,433,5],[433,6,433,9],[433,10,433,13],[433,14,433,17],[434,2,434,5],[434,6,434,9],[434,10,434,13],[434,14,434,17],[427,0,427,1],[427,2,427,3],[427,4,427,7],[427,8,427,9],[427,10,427,11],[427,12,427,15],[427,16,427,17],[426,0,426,1],[426,2,426,3],[426,4,426,7],[426,8,426,9],[426,10,426,11],[426,12,426,15],[425,0,425,1],[425,2,425,3],[425,4,425,7],[425,8,425,9],[425,10,425,11],[425,12,425,15],[425,16,425,17],[424,0,424,1],[424,2,424,3],[424,4,424,7],[424,8,424,9],[424,10,424,11],[424,12,424,15],[423,0,423,1],[423,2,423,3],[423,4,423,7],[423,8,423,9],[423,10,423,11],[423,12,423,15],[423,16,423,17],[422,0,422,1],[422,2,422,3],[422,4,422,7],[422,8,422,9],[422,10,422,11],[422,12,422,15],[421,0,421,1],[421,2,421,3],[421,4,421,7],[421,8,421,9],[421,10,421,11],[421,12,421,15],[421,16,421,17],[420,0,420,1],[420,2,420,3],[420,4,420,7],[420,8,420,9],[420,10,420,11],[420,12,420,15],[420,16,420,17],[419,0,419,1],[419,2,419,3],[419,4,419,7],[419,8,419,9],[419,10,419,11],[419,12,419,15],[419,16,419,17],[418,0,418,1],[418,2,418,3],[418,4,418,7],[418,8,418,9],[418,10,418,11],[418,12,418,15],[416,16,416,17],[417,16,417,17],[418,16,418,17],[417,0,417,1],[417,2,417,3],[417,4,417,7],[417,8,417,9],[417,10,417,11],[417,12,417,15],[416,0,416,1],[416,2,416,3],[416,4,416,7],[416,8,416,9],[416,10,416,11],[416,12,416,15],[414,16,414,17],[414,19,414,27],[415,0,415,1],[415,2,415,3],[415,4,415,7],[415,8,415,9],[415,10,415,11],[415,12,415,15],[415,16,415,17],[414,0,414,1],[414,2,414,3],[414,4,414,7],[414,8,414,9],[414,10,414,11],[414,12,414,15],[412,16,412,17],[412,2,412,3],[412,4,412,7],[412,8,412,9],[412,10,412,11],[412,19,412,29],[413,0,413,1],[413,2,413,3],[413,4,413,7],[413,8,413,9],[413,10,413,11],[413,12,413,15],[413,16,413,17],[413,19,413,27],[412,0,412,1],[412,12,412,15],[410,16,410,17],[411,0,411,1],[411,2,411,3],[411,4,411,7],[411,8,411,9],[411,10,411,11],[411,12,411,15],[411,16,411,17],[410,0,410,1],[410,2,410,3],[410,4,410,7],[410,8,410,9],[410,10,410,11],[410,12,410,15],[408,16,408,17],[409,16,409,17],[409,0,409,1],[409,2,409,3],[409,4,409,7],[409,8,409,9],[409,10,409,11],[409,12,409,15],[408,0,408,1],[408,2,408,3],[408,4,408,7],[408,8,408,9],[408,10,408,11],[408,12,408,15],[406,16,406,17],[407,0,407,1],[407,2,407,3],[407,4,407,7],[407,8,407,9],[407,10,407,11],[407,12,407,15],[407,16,407,17],[406,0,406,1],[406,2,406,3],[406,4,406,7],[406,8,406,9],[406,10,406,11],[406,12,406,15],[404,16,404,17],[405,0,405,1],[405,2,405,3],[405,4,405,7],[405,8,405,9],[405,10,405,11],[405,12,405,15],[405,16,405,17],[404,0,404,1],[404,2,404,3],[404,4,404,7],[404,8,404,9],[404,10,404,11],[404,12,404,15],[402,16,402,17],[403,0,403,1],[403,2,403,3],[403,4,403,7],[403,8,403,9],[403,10,403,11],[403,12,403,15],[403,16,403,17],[402,0,402,1],[402,2,402,3],[402,4,402,7],[402,8,402,9],[402,10,402,11],[402,12,402,15],[400,16,400,17],[401,0,401,1],[401,2,401,3],[401,4,401,7],[401,8,401,9],[401,10,401,11],[401,12,401,15],[401,16,401,17],[400,0,400,1],[400,2,400,3],[400,4,400,7],[400,8,400,9],[400,10,400,11],[400,12,400,15],[398,16,398,17],[399,0,399,1],[399,2,399,3],[399,4,399,7],[399,8,399,9],[399,10,399,11],[399,12,399,15],[399,16,399,17],[398,0,398,1],[398,2,398,3],[398,4,398,7],[398,8,398,9],[398,10,398,11],[398,12,398,15],[396,16,396,17],[397,0,397,1],[397,2,397,3],[397,4,397,7],[397,8,397,9],[397,10,397,11],[397,12,397,15],[397,16,397,17],[396,0,396,1],[396,2,396,3],[396,4,396,7],[396,8,396,9],[396,10,396,11],[396,12,396,15],[394,16,394,17],[395,0,395,1],[395,2,395,3],[395,4,395,7],[395,8,395,9],[395,10,395,11],[395,12,395,15],[395,16,395,17],[394,0,394,1],[394,2,394,3],[394,4,394,7],[394,8,394,9],[394,10,394,11],[394,12,394,15],[392,16,392,17],[393,0,393,1],[393,2,393,3],[393,4,393,7],[393,8,393,9],[393,10,393,11],[393,12,393,15],[393,16,393,17],[392,0,392,1],[392,2,392,3],[392,4,392,7],[392,8,392,9],[392,10,392,11],[392,12,392,15],[390,16,390,17],[391,0,391,1],[391,2,391,3],[391,4,391,7],[391,8,391,9],[391,10,391,11],[391,12,391,15],[391,16,391,17],[390,0,390,1],[390,2,390,3],[390,4,390,7],[390,8,390,9],[390,10,390,11],[390,12,390,15],[388,16,388,17],[389,0,389,1],[389,2,389,3],[389,4,389,7],[389,8,389,9],[389,10,389,11],[389,12,389,15],[389,16,389,17],[388,0,388,1],[388,2,388,3],[388,4,388,7],[388,8,388,9],[388,10,388,11],[388,12,388,15],[386,16,386,17],[387,0,387,1],[387,2,387,3],[387,4,387,7],[387,8,387,9],[387,10,387,11],[387,12,387,15],[387,16,387,17],[386,0,386,1],[386,2,386,3],[386,4,386,7],[386,8,386,9],[386,10,386,11],[386,12,386,15],[384,16,384,17],[385,0,385,1],[385,2,385,3],[385,4,385,7],[385,8,385,9],[385,10,385,11],[385,12,385,15],[385,16,385,17],[384,0,384,1],[384,2,384,3],[384,4,384,7],[384,8,384,9],[384,10,384,11],[384,12,384,15],[382,16,382,17],[383,0,383,1],[383,2,383,3],[383,4,383,7],[383,8,383,9],[383,10,383,11],[383,12,383,15],[383,16,383,17],[382,0,382,1],[382,2,382,3],[382,4,382,7],[382,8,382,9],[382,10,382,11],[382,12,382,15],[379,0,379,1],[379,2,379,3],[379,4,379,7],[379,8,379,9],[379,10,379,11],[379,12,379,15],[379,16,379,17],[380,16,380,17],[381,0,381,1],[381,2,381,3],[381,4,381,7],[381,8,381,9],[381,10,381,11],[381,12,381,15],[381,16,381,17],[380,0,380,1],[380,2,380,3],[380,4,380,7],[380,8,380,9],[380,10,380,11],[380,12,380,15],[371,19,371,29],[372,19,372,29],[376,0,377,1],[377,4,377,7],[377,12,377,15],[378,0,378,1],[378,2,378,3],[378,4,378,7],[378,8,378,9],[378,10,378,11],[378,12,378,15],[378,16,378,17],[372,2,372,9],[372,10,372,17],[373,2,373,9],[373,10,373,17],[365,19,365,29],[366,19,366,29],[367,19,367,29],[368,19,368,29],[369,19,369,29],[370,19,370,29],[359,19,359,29],[360,19,360,29],[361,19,361,29],[362,19,362,29],[363,19,363,29],[364,19,364,29],[353,19,353,29],[354,19,354,29],[355,19,355,29],[356,19,356,29],[357,19,357,29],[358,19,358,29],[347,19,347,29],[348,19,348,29],[349,19,349,29],[350,19,350,29],[351,19,351,29],[352,19,352,29],[341,19,341,29],[342,19,342,29],[343,19,343,29],[344,19,344,29],[345,19,345,29],[346,19,346,29],[335,19,335,29],[336,19,336,29],[337,19,337,29],[338,19,338,29],[339,19,339,29],[340,19,340,29],[329,19,329,29],[330,19,330,29],[331,19,331,29],[332,19,332,29],[333,19,333,29],[334,19,334,29],[323,19,323,29],[324,19,324,29],[325,19,325,29],[326,19,326,29],[327,19,327,29],[328,19,328,29],[317,19,317,29],[318,19,318,29],[319,19,319,29],[320,19,320,29],[321,19,321,29],[322,19,322,29],[311,19,311,29],[312,19,312,29],[313,19,313,29],[314,19,314,29],[315,19,315,29],[316,19,316,29],[305,19,305,29],[306,19,306,29],[307,19,307,29],[308,19,308,29],[309,19,309,29],[310,19,310,29],[299,19,299,29],[300,19,300,29],[301,19,301,29],[302,19,302,29],[303,19,303,29],[304,19,304,29],[293,19,293,29],[294,19,294,29],[295,19,295,29],[296,19,296,29],[297,19,297,29],[298,19,298,29],[287,19,287,29],[288,19,288,29],[289,19,289,29],[290,19,290,29],[291,19,291,29],[292,19,292,29],[281,19,281,29],[282,19,282,29],[283,19,283,29],[284,19,284,29],[285,19,285,29],[286,19,286,29],[275,19,275,29],[276,19,276,29],[277,19,277,29],[278,19,278,29],[279,19,279,29],[280,19,280,29],[269,19,269,29],[270,19,270,29],[271,19,271,29],[272,19,272,29],[273,19,273,29],[274,19,274,29],[263,19,263,29],[264,19,264,29],[265,19,265,29],[266,19,266,29],[267,19,267,29],[268,19,268,29],[257,19,257,29],[258,19,258,29],[259,19,259,29],[260,19,260,29],[261,19,261,29],[262,19,262,29],[251,19,251,29],[252,19,252,29],[253,19,253,29],[254,19,254,29],[255,19,255,29],[256,19,256,29],[245,19,245,29],[246,19,246,29],[247,19,247,29],[248,19,248,29],[249,19,249,29],[250,19,250,29],[239,19,239,29],[240,19,240,29],[241,19,241,29],[242,19,242,29],[243,19,243,29],[244,19,244,29],[233,19,233,29],[234,19,234,29],[235,19,235,29],[236,19,236,29],[237,19,237,29],[238,19,238,29],[227,19,227,29],[228,19,228,29],[229,19,229,29],[230,19,230,29],[231,19,231,29],[232,19,232,29],[221,19,221,29],[222,19,222,29],[223,19,223,29],[224,19,224,29],[225,19,225,29],[226,19,226,29],[215,19,215,29],[216,19,216,29],[217,19,217,29],[218,19,218,29],[219,19,219,29],[220,19,220,29],[209,19,209,29],[210,19,210,29],[211,19,211,29],[212,19,212,29],[213,19,213,29],[214,19,214,29],[203,19,203,29],[204,19,204,29],[205,19,205,29],[206,19,206,29],[207,19,207,29],[208,19,208,29],[197,19,197,29],[198,19,198,29],[199,19,199,29],[200,19,200,29],[201,19,201,29],[202,19,202,29],[191,19,191,29],[192,19,192,29],[193,19,193,29],[194,19,194,29],[195,19,195,29],[196,19,196,29],[185,19,185,29],[186,19,186,29],[187,19,187,29],[188,19,188,29],[189,19,189,29],[190,19,190,29],[179,19,179,29],[180,19,180,29],[181,19,181,29],[182,19,182,29],[183,19,183,29],[184,19,184,29],[173,19,173,29],[174,19,174,29],[175,19,175,29],[176,19,176,29],[177,19,177,29],[178,19,178,29],[167,19,167,29],[168,19,168,29],[169,19,169,29],[170,19,170,29],[171,19,171,29],[172,19,172,29],[161,19,161,29],[162,19,162,29],[163,19,163,29],[164,19,164,29],[165,19,165,29],[166,19,166,29],[155,19,155,29],[156,19,156,29],[157,19,157,29],[158,19,158,29],[159,19,159,29],[160,19,160,29],[149,19,149,29],[150,19,150,29],[151,19,151,29],[152,19,152,29],[153,19,153,29],[154,19,154,29],[143,19,143,29],[144,19,144,29],[145,19,145,29],[146,19,146,29],[147,19,147,29],[148,19,148,29],[137,19,137,29],[138,19,138,29],[139,19,139,29],[140,19,140,29],[141,19,141,29],[142,19,142,29],[131,19,131,29],[132,19,132,29],[133,19,133,29],[134,19,134,29],[135,19,135,29],[136,19,136,29],[125,19,125,29],[126,19,126,29],[127,19,127,29],[128,19,128,29],[129,19,129,29],[130,19,130,29],[119,19,119,29],[120,19,120,29],[121,19,121,29],[122,19,122,29],[123,19,123,29],[124,19,124,29],[113,19,113,29],[114,19,114,29],[115,19,115,29],[116,19,116,29],[117,19,117,29],[118,19,118,29],[107,19,107,29],[108,19,108,29],[109,19,109,29],[110,19,110,29],[111,19,111,29],[112,19,112,29],[101,19,101,29],[102,19,102,29],[103,19,103,29],[104,19,104,29],[105,19,105,29],[106,19,106,29],[95,19,95,29],[96,19,96,29],[97,19,97,29],[98,19,98,29],[99,19,99,29],[100,19,100,29],[89,19,89,29],[90,19,90,29],[91,19,91,29],[92,19,92,29],[93,19,93,29],[94,19,94,29],[83,19,83,29],[84,19,84,29],[85,19,85,29],[86,19,86,29],[87,19,87,29],[88,19,88,29],[77,19,77,29],[78,19,78,29],[79,19,79,29],[80,19,80,29],[81,19,81,29],[82,19,82,29],[71,19,71,29],[72,19,72,29],[73,19,73,29],[74,19,74,29],[75,19,75,29],[76,19,76,29],[65,19,65,29],[66,19,66,29],[67,19,67,29],[68,19,68,29],[69,19,69,29],[70,19,70,29],[59,19,59,29],[60,19,60,29],[61,19,61,29],[62,19,62,29],[63,19,63,29],[64,19,64,29],[53,19,53,29],[54,19,54,29],[55,19,55,29],[56,19,56,29],[57,19,57,29],[58,19,58,29],[47,19,47,29],[48,19,48,29],[49,19,49,29],[50,19,50,29],[51,19,51,29],[52,19,52,29],[41,19,41,29],[42,19,42,29],[43,19,43,29],[44,19,44,29],[45,19,45,29],[46,19,46,29],[35,19,35,29],[36,19,36,29],[37,19,37,29],[38,19,38,29],[39,19,39,29],[40,19,40,29],[29,19,29,29],[30,19,30,29],[31,19,31,29],[32,19,32,29],[33,19,33,29],[34,19,34,29],[23,19,23,29],[24,19,24,29],[25,19,25,29],[26,19,26,29],[27,19,27,29],[28,19,28,29],[19,19,19,29],[20,19,20,29],[21,19,21,29],[22,19,22,29],[11,19,11,29],[12,19,12,29],[13,19,13,29],[14,19,14,29],[15,19,15,29],[16,19,16,29],[8,19,8,29],[9,19,9,29],[10,19,10,29],[7,2,7,9],[7,10,7,17],[8,2,8,9],[8,10,8,17],[17,19,17,29],[18,19,18,29],[9,2,9,9],[9,10,9,17],[10,2,10,9],[10,10,10,17],[11,2,11,9],[11,10,11,17],[3,0,3,1],[3,2,3,17],[3,19,3,29],[4,0,4,1],[4,2,4,9],[4,10,4,17],[5,2,5,9],[5,10,5,17],[7,19,7,29]]}
[]
["Horaire prof Mécanique de véhicules lourds routiers"]
[" "]
["Année scolaire 2024-2025",null," Yanik Corbeil",null,null,null,null,null,null,null,null,null,null,null,null,null,null,null,null,"Commentaires"]
[null,null," Intensif 1800",null,null,null,null,null,null,null," Intensif 1800"]
[6,null,"Jour    ",null,null,null,null,null,null,null,"Soir    "]
[null,null,"M","P","H","L","M","P","H","L","M","P","H","L","M","P","H","L"]
[{"$f":"WEEKDAY(B8,2)","v":1},"2025-08-18","                   Vacances          ",null,null,null,null,null,null,null,"                   Vacances          "]
[2,"2025-08-19","                   Vacances          ",null,null,null,null,null,null,null,"                   Vacances          "]
[3,{"$f":"B9+1","v":"2025-08-20"},"                   Vacances          ",null,null,null,null,null,null,null,"                   Vacances          "]
[4,{"$f":"B10+1","v":"2025-08-21"},"                   Vacances          ",null,null,null,null,null,null,null,"                   Vacances          "]
[5,"2025-08-22","     Pédagogique Commune",null,null,null,null,null,null,null,"     Pédagogique Commune"]
[6,"2025-08-23","                       WEEK-END                       ",null,null,null,null,null,null,null,"                       WEEK-END                       "]
[7,"2025-08-24","                       WEEK-END                       ",null,null,null,null,null,null,null,"                       WEEK-END                       "]
[1,"2025-08-25","     Pédagogique",null,null,null,null,null,null,null,"     Pédagogique"]
[2,"2025-08-26"]
[3,"2025-08-27"]
[4,"2025-08-28"]
[5,"2025-08-29"]
[6,"2025-08-30","                       WEEK-END                       ",null,null,null,null,null,null,null,"                       WEEK-END                       "]
[7,"2025-08-31","                       WEEK-END                       ",null,null,null,null,null,null,null,"                       WEEK-END                       "]
[1,"2025-09-01","Congé",null,null,null,null,null,null,null,"Congé"]
[2,"2025-09-02"]
[3,"2025-09-03"]
[4,"2025-09-04"]
[5,"2025-09-05"]
[6,"2025-09-06","                       WEEK-END                       ",null,null,null,null,null,null,null,"                       WEEK-END                       "]
[7,"2025-09-07","                       WEEK-END                       ",null,null,null,null,null,null,null,"                       WEEK-END                       "]
[1,"2025-09-08"]
[2,"2025-09-09"]
[3,"2025-09-10"]
[4,"2025-09-11"]
[5,"2025-09-12"]
[6,"2025-09-13","                       WEEK-END                       ",null,null,null,null,null,null,null,"                       WEEK-END                       "]
[7,"2025-09-14","                       WEEK-END                       ",null,null,null,null,null,null,null,"                       WEEK-END                       "]
[1,"2025-09-15"]
[2,"2025-09-16"]
[3,"2025-09-17"]
[4,"2025-09-18"]
[5,"2025-09-19"]
[6,"2025-09-20","                       WEEK-END                       ",null,null,null,null,null,null,null,"                       WEEK-END                       "]
[7,"2025-09-21","                       WEEK-END                       ",null,null,null,null,null,null,null,"                       WEEK-END                       "]
[1,"2025-09-22"]
[2,"2025-09-23"]
[3,"2025-09-24"]
[4,"2025-09-25"]
[5,"2025-09-26"]
[6,"2025-09-27","                       WEEK-END                       ",null,null,null,null,null,null,null,"                       WEEK-END                       "]
[7,"2025-09-28","                       WEEK-END                       ",null,null,null,null,null,null,null,"                       WEEK-END                       "]
[1,"2025-09-29"]
[2,"2025-09-30"]
[3,"2025-10-01"]
[4,"2025-10-02"]
[5,"2025-10-03"]
[6,"2025-10-04","                       WEEK-END                       ",null,null,null,null,null,null,null,"                       WEEK-END                       "]
[7,"2025-10-05","                       WEEK-END                       ",null,null,null,null,null,null,null,"                       WEEK-END                       "]
[1,"2025-10-06"]
[2,"2025-10-07"]
[3,"2025-10-08"]
[4,"2025-10-09"]
[5,"2025-10-10"]
[6,"2025-10-11","                       WEEK-END                       ",null,null,null,null,null,null,null,"                       WEEK-END                       "]
[7,"2025-10-12","                       WEEK-END                       ",null,null,null,null,null,null,null,"                       WEEK-END                       "]
[1,"2025-10-13","Congé",null,null,null,null,null,null,null,"Congé"]
[2,"2025-10-14"]
[3,"2025-10-15"]
[4,"2025-10-16"]
[5,"2025-10-17"]
[6,"2025-10-18","                       WEEK-END                       ",null,null,null,null,null,null,null,"                       WEEK-END                       "]
[7,"2025-10-19","                       WEEK-END                       ",null,null,null,null,null,null,null,"                       WEEK-END                       "]
[1,"2025-10-20"]
[{"$f":"WEEKDAY(B72,2)","v":2},"2025-10-21"]
[3,"2025-10-22","     Pédagogique",null,null,null,null,null,null,null,"     Pédagogique"]
[4,"2025-10-23"]
[5,{"$f":"B74+1","v":"2025-10-24"}]
[6,"2025-10-25","                       WEEK-END                       ",null,null,null,null,null,null,null,"                       WEEK-END                       "]
[7,"2025-10-26","                       WEEK-END                       ",null,null,null,null,null,null,null,"                       WEEK-END                       "]
[1,"2025-10-27"]
[2,"2025-10-28"]
[3,"2025-10-29"]
[4,"2025-10-30"]
[5,"2025-10-31"]
[6,"2025-11-01","                       WEEK-END                       ",null,null,null,null,null,null,null,"                       WEEK-END                       "]
[7,"2025-11-02","                       WEEK-END                       ",null,null,null,null,null,null,null,"                       WEEK-END                       "]
[1,"2025-11-03"]
[2,"2025-11-04"]
[3,"2025-11-05"]
[4,"2025-11-06","     Pédagogique",null,null,null,null,null,null,null,"     Pédagogique"]
[5,"2025-11-07","     Pédagogique",null,null,null,null,null,null,null,"     Pédagogique"]
[6,"2025-11-08","                       WEEK-END                       ",null,null,null,null,null,null,null,"                       WEEK-END                       "]
[7,"2025-11-09","                       WEEK-END                       ",null,null,null,null,null,null,null,"                       WEEK-END                       "]
[1,"2025-11-10"]
[2,"2025-11-11"]
[3,"2025-11-12"]
[4,"2025-11-13"]
[5,"2025-11-14"]
[6,"2025-11-15","                       WEEK-END                       ",null,null,null,null,null,null,null,"                       WEEK-END                       "]
[7,"2025-11-16","                       WEEK-END                       ",null,null,null,null,null,null,null,"                       WEEK-END                       "]
[1,"2025-11-17"]
[2,"2025-11-18"]
[3,"2025-11-19"]
[4,"2025-11-20","     Pédagogique Commune",null,null,null,null,null,null,null,"     Pédagogique Commune"]
[5,"2025-11-21"]
[6,"2025-11-22","                       WEEK-END                       ",null,null,null,null,null,null,null,"                       WEEK-END                       "]
[7,"2025-11-23","                       WEEK-END                       ",null,null,null,null,null,null,null,"                       WEEK-END                       "]
[1,"2025-11-24"]
[2,"2025-11-25"]
[3,"2025-11-26"]
[4,"2025-11-27"]
[5,"2025-11-28"]
[6,"2025-11-29","                       WEEK-END                       ",null,null,null,null,null,null,null,"                       WEEK-END                       "]
[7,"2025-11-30","                       WEEK-END                       ",null,null,null,null,null,null,null,"                       WEEK-END                       "]
[1,"2025-12-01"]
[2,"2025-12-02"]
[3,"2025-12-03"]
[4,"2025-12-04"]
[5,"2025-12-05"]
[6,"2025-12-06","                       WEEK-END                       ",null,null,null,null,null,null,null,"                       WEEK-END                       "]
[7,"2025-12-07","                       WEEK-END                       ",null,null,null,null,null,null,null,"                       WEEK-END                       "]
[1,"2025-12-08"]
[2,"2025-12-09"]
[3,"2025-12-10"]
[4,"2025-12-11"]
[5,"2025-12-12"]
[6,"2025-12-13","                       WEEK-END                       ",null,null,null,null,null,null,null,"                       WEEK-END                       "]
[7,"2025-12-14","                       WEEK-END                       ",null,null,null,null,null,null,null,"                       WEEK-END                       "]
[1,"2025-12-15"]
[2,"2025-12-16"]
[3,"2025-12-17"]
[4,"2025-12-18"]
[5,"2025-12-19"]
[6,"2025-12-20","                       WEEK-END                       ",null,null,null,null,null,null,null,"                       WEEK-END                       "]
[7,"2025-12-21","                       WEEK-END                       ",null,null,null,null,null,null,null,"                       WEEK-END                       "]
[1,"2025-12-22","Congé Noël",null,null,null,null,null,null,null,"Congé Noël"]
[2,"2025-12-23","Congé Noël",null,null,null,null,null,null,null,"Congé Noël"]
[{"$f":"WEEKDAY(B136,2)","v":3},"2025-12-24","Congé Noël",null,null,null,null,null,null,null,"Congé Noël"]
[4,"2025-12-25","Congé Noël",null,null,null,null,null,null,null,"Congé Noël"]
[5,"2025-12-26","Congé Noël",null,null,null,null,null,null,null,"Congé Noël"]
[6,{"$f":"B138+1","v":"2025-12-27"},"                       WEEK-END                       ",null,null,null,null,null,null,null,"                       WEEK-END                       "]
[7,"2025-12-28","                       WEEK-END                       ",null,null,null,null,null,null,null,"                       WEEK-END                       "]
[1,"2025-12-29","Congé Noël",null,null,null,null,null,null,null,"Congé Noël"]
[2,"2025-12-30","Congé Noël",null,null,null,null,null,null,null,"Congé Noël"]
[3,"2025-12-31","Congé Noël",null,null,null,null,null,null,null,"Congé Noël"]
[4,"2026-01-01","Congé Noël",null,null,null,null,null,null,null,"Congé Noël"]
[5,"2026-01-02","Congé Noël",null,null,null,null,null,null,null,"Congé Noël"]
[6,"2026-01-03","                       WEEK-END                       ",null,null,null,null,null,null,null,"                       WEEK-END                       "]
[7,"2026-01-04","                       WEEK-END                       ",null,null,null,null,null,null,null,"                       WEEK-END                       "]
[1,"2026-01-05","     Pédagogique Commune",null,null,null,null,null,null,null,"     Pédagogique Commune"]
[2,"2026-01-06"]
[3,"2026-01-07"]
[4,"2026-01-08"]
[5,"2026-01-09"]
[6,"2026-01-10","                       WEEK-END                       ",null,null,null,null,null,null,null,"                       WEEK-END                       "]
[7,"2026-01-11","                       WEEK-END                       ",null,null,null,null,null,null,null,"                       WEEK-END                       "]
[1,"2026-01-12"]
[2,"2026-01-13"]
[3,"2026-01-14"]
[4,"2026-01-15"]
[5,"2026-01-16"]
[6,"2026-01-17","                       WEEK-END                       ",null,null,null,null,null,null,null,"                       WEEK-END                       "]
[7,"2026-01-18","                       WEEK-END                       ",null,null,null,null,null,null,null,"                       WEEK-END                       "]
[1,"2026-01-19"]
[2,"2026-01-20"]
[3,"2026-01-21"]
[4,"2026-01-22"]
[5,"2026-01-23"]
[6,"2026-01-24","                       WEEK-END                       ",null,null,null,null,null,null,null,"                       WEEK-END                       "]
[7,"2026-01-25","                       WEEK-END                       ",null,null,null,null,null,null,null,"                       WEEK-END                       "]
[1,"2026-01-26"]
[2,"2026-01-27"]
[3,"2026-01-28"]
[4,"2026-01-29"]
[5,"2026-01-30","     Pédagogique",null,null,null,null,null,null,null,"     Pédagogique"]
[6,"2026-01-31","                       WEEK-END                       ",null,null,null,null,null,null,null,"                       WEEK-END                       "]
[7,"2026-02-01","                       WEEK-END                       ",null,null,null,null,null,null,null,"                       WEEK-END                       "]
[1,"2026-02-02"]
[2,"2026-02-03"]
[3,"2026-02-04"]
[4,"2026-02-05"]
[5,"2026-02-06"]
[6,"2026-02-07","                       WEEK-END                       ",null,null,null,null,null,null,null,"                       WEEK-END                       "]
[7,"2026-02-08","                       WEEK-END                       ",null,null,null,null,null,null,null,"                       WEEK-END                       "]
[1,"2026-02-09"]
[2,"2026-02-10"]
[3,"2026-02-11"]
[4,"2026-02-12"]
[5,"2026-02-13"]
[6,"2026-02-14","                       WEEK-END                       ",null,null,null,null,null,null,null,"                       WEEK-END                       "]
[7,"2026-02-15","                       WEEK-END                       ",null,null,null,null,null,null,null,"                       WEEK-END                       "]
[1,"2026-02-16"]
[2,"2026-02-17"]
[3,"2026-02-18"]
[4,"2026-02-19"]
[5,"2026-02-20"]
[6,"2026-02-21","                       WEEK-END                       ",null,null,null,null,null,null,null,"                       WEEK-END                       "]
[7,"2026-02-22","                       WEEK-END                       ",null,null,null,null,null,null,null,"                       WEEK-END                       "]
[1,"2026-02-23"]
[2,"2026-02-24"]
[3,"2026-02-25","     Pédagogique",null,null,null,null,null,null,null,"     Pédagogique"]
[{"$f":"WEEKDAY(B200,2)","v":4},"2026-02-26"]
[5,"2026-02-27"]
[6,"2026-02-28","                       WEEK-END                       ",null,null,null,null,null,null,null,"                       WEEK-END                       "]
[7,{"$f":"B202+1","v":"2026-03-01"},"                       WEEK-END                       ",null,null,null,null,null,null,null,"                       WEEK-END                       "]
[1,"2026-03-02"]
[2,"2026-03-03"]
[3,"2026-03-04"]
[4,"2026-03-05"]
[5,"2026-03-06"]
[6,"2026-03-07","                       WEEK-END                       ",null,null,null,null,null,null,null,"                       WEEK-END                       "]
[7,"2026-03-08","                       WEEK-END                       ",null,null,null,null,null,null,null,"                       WEEK-END                       "]
[1,"2026-03-09"]
[2,"2026-03-10"]
[3,"2026-03-11"]
[4,"2026-03-12"]
[5,"2026-03-13","     Pédagogique",null,null,null,null,null,null,null,"     Pédagogique"]
[6,"2026-03-14","                       WEEK-END                       ",null,null,null,null,null,null,null,"                       WEEK-END                       "]
[7,"2026-03-15","                       WEEK-END                       ",null,null,null,null,null,null,null,"                       WEEK-END                       "]
[1,"2026-03-16"]
[2,"2026-03-17"]
[3,"2026-03-18"]
[4,"2026-03-19"]
[5,"2026-03-20"]
[6,"2026-03-21","                       WEEK-END                       ",null,null,null,null,null,null,null,"                       WEEK-END                       "]
[7,"2026-03-22","                       WEEK-END                       ",null,null,null,null,null,null,null,"                       WEEK-END                       "]
[1,"2026-03-23"]
[2,"2026-03-24"]
[3,"2026-03-25"]
[4,"2026-03-26"]
[5,"2026-03-27"]
[6,"2026-03-28","                       WEEK-END                       ",null,null,null,null,null,null,null,"                       WEEK-END                       "]
[7,"2026-03-29","                       WEEK-END                       ",null,null,null,null,null,null,null,"                       WEEK-END                       "]
[1,"2026-03-30"]
[2,"2026-03-31"]
[3,"2026-04-01"]
[4,"2026-04-02"]
[5,"2026-04-03","Congé",null,null,null,null,null,null,null,"Congé"]
[6,"2026-04-04","                       WEEK-END                       ",null,null,null,null,null,null,null,"                       WEEK-END                       "]
[7,"2026-04-05","                       WEEK-END                       ",null,null,null,null,null,null,null,"                       WEEK-END                       "]
[1,"2026-04-06","Congé",null,null,null,null,null,null,null,"Congé"]
[2,"2026-04-07"]
[3,"2026-04-08"]
[4,"2026-04-09"]
[5,"2026-04-10"]
[6,"2026-04-11","                       WEEK-END                       ",null,null,null,null,null,null,null,"                       WEEK-END                       "]
[7,"2026-04-12","                       WEEK-END                       ",null,null,null,null,null,null,null,"                       WEEK-END                       "]
[1,"2026-04-13"]
[2,"2026-04-14"]
[3,"2026-04-15"]
[4,"2026-04-16"]
[5,"2026-04-17"]
[6,"2026-04-18","                       WEEK-END                       ",null,null,null,null,null,null,null,"                       WEEK-END                       "]
[7,"2026-04-19","                       WEEK-END                       ",null,null,null,null,null,null,null,"                       WEEK-END                       "]
[1,"2026-04-20"]
[2,"2026-04-21"]
[3,"2026-04-22"]
[4,"2026-04-23"]
[5,"2026-04-24"]
[6,"2026-04-25","                       WEEK-END                       ",null,null,null,null,null,null,null,"                       WEEK-END                       "]
[7,"2026-04-26","                       WEEK-END                       ",null,null,null,null,null,null,null,"                       WEEK-END                       "]
[1,"2026-04-27"]
[2,"2026-04-28"]
[3,"2026-04-29"]
[4,"2026-04-30"]
[{"$f":"WEEKDAY(B264,2)","v":5},"2026-05-01","     Pédagogique Commune",null,null,null,null,null,null,null,"     Pédagogique Commune"]
[6,"2026-05-02","                       WEEK-END                       ",null,null,null,null,null,null,null,"                       WEEK-END                       "]
[7,"2026-05-03","                       WEEK-END                       ",null,null,null,null,null,null,null,"                       WEEK-END                       "]
[1,{"$f":"B266+1","v":"2026-05-04"}]
[2,"2026-05-05"]
[3,"2026-05-06"]
[4,"2026-05-07"]
[5,"2026-05-08"]
[6,"2026-05-09","                       WEEK-END                       ",null,null,null,null,null,null,null,"                       WEEK-END                       "]
[7,"2026-05-10","                       WEEK-END                       ",null,null,null,null,null,null,null,"                       WEEK-END                       "]
[1,"2026-05-11"]
[2,"2026-05-12"]
[3,"2026-05-13"]
[4,"2026-05-14"]
[5,"2026-05-15"]
[6,"2026-05-16","                       WEEK-END                       ",null,null,null,null,null,null,null,"                       WEEK-END                       "]
[7,"2026-05-17","                       WEEK-END                       ",null,null,null,null,null,null,null,"                       WEEK-END                       "]
[1,"2026-05-18","Congé",null,null,null,null,null,null,null,"Congé"]
[2,"2026-05-19"]
[3,"2026-05-20"]
[4,"2026-05-21"]
[5,"2026-05-22"]
[6,"2026-05-23","                       WEEK-END                       ",null,null,null,null,null,null,null,"                       WEEK-END                       "]
[7,"2026-05-24","                       WEEK-END                       ",null,null,null,null,null,null,null,"                       WEEK-END                       "]
[1,"2026-05-25"]
[2,"2026-05-26"]
[3,"2026-05-27"]
[4,"2026-05-28"]
[5,"2026-05-29"]
[6,"2026-05-30","                       WEEK-END                       ",null,null,null,null,null,null,null,"                       WEEK-END                       "]
[7,"2026-05-31","                       WEEK-END                       ",null,null,null,null,null,null,null,"                       WEEK-END                       "]
[1,"2026-06-01"]
[2,"2026-06-02"]
[3,"2026-06-03"]
[4,"2026-06-04"]
[5,"2026-06-05","     Pédagogique",null,null,null,null,null,null,null,"     Pédagogique"]
[6,"2026-06-06","                       WEEK-END                       ",null,null,null,null,null,null,null,"                       WEEK-END                       "]
[7,"2026-06-07","                       WEEK-END                       ",null,null,null,null,null,null,null,"                       WEEK-END                       "]
[1,"2026-06-08"]
[2,"2026-06-09"]
[3,"2026-06-10"]
[4,"2026-06-11"]
[5,"2026-06-12"]
[6,"2026-06-13","                       WEEK-END                       ",null,null,null,null,null,null,null,"                       WEEK-END                       "]
[7,"2026-06-14","                       WEEK-END                       ",null,null,null,null,null,null,null,"                       WEEK-END                       "]
[1,"2026-06-15"]
[2,"2026-06-16"]
[3,"2026-06-17"]
[4,"2026-06-18"]
[5,"2026-06-19"]
[6,"2026-06-20","                       WEEK-END                       ",null,null,null,null,null,null,null,"                       WEEK-END                       "]
[7,"2026-06-21","                       WEEK-END                       ",null,null,null,null,null,null,null,"                       WEEK-END                       "]
[1,"2026-06-22"]
[2,"2026-06-23"]
[3,"2026-06-24","Congé",null,null,null,null,null,null,null,"Congé"]
[4,"2026-06-25"]
[5,"2026-06-26"]
[6,"2026-06-27","                       WEEK-END                       ",null,null,null,null,null,null,null,"                       WEEK-END                       "]
[7,"2026-06-28","                       WEEK-END                       ",null,null,null,null,null,null,null,"                       WEEK-END                       "]
[1,"2026-06-29","                   Vacances          ",null,null,null,null,null,null,null,"                   Vacances          "]
[2,"2026-06-30","                   Vacances          ",null,null,null,null,null,null,null,"                   Vacances          "]
[3,"2026-07-01","                   Vacances          ",null,null,null,null,null,null,null,"                   Vacances          "]
[4,"2026-07-02","                   Vacances          ",null,null,null,null,null,null,null,"                   Vacances          "]
[5,"2026-07-03","                   Vacances          ",null,null,null,null,null,null,null,"                   Vacances          "]
[{"$f":"WEEKDAY(B328,2)","v":6},"2026-07-04","                       WEEK-END                       ",null,null,null,null,null,null,null,"                       WEEK-END                       "]
[7,"2026-07-05","                       WEEK-END                       ",null,null,null,null,null,null,null,"                       WEEK-END                       "]
[1,"2026-07-06","                   Vacances          ",null,null,null,null,null,null,null,"                   Vacances          "]
[2,{"$f":"B330+1","v":"2026-07-07"},"                   Vacances          ",null,null,null,null,null,null,null,"                   Vacances          "]
[3,"2026-07-08","                   Vacances          ",null,null,null,null,null,null,null,"                   Vacances          "]
[4,"2026-07-09","                   Vacances          ",null,null,null,null,null,null,null,"                   Vacances          "]
[5,"2026-07-10","                   Vacances          ",null,null,null,null,null,null,null,"                   Vacances          "]
[6,"2026-07-11","                       WEEK-END                       ",null,null,null,null,null,null,null,"                       WEEK-END                       "]
[7,"2026-07-12","                       WEEK-END                       ",null,null,null,null,null,null,null,"                       WEEK-END                       "]
[1,"2026-07-13","                   Vacances          ",null,null,null,null,null,null,null,"                   Vacances          "]
[2,"2026-07-14","                   Vacances          ",null,null,null,null,null,null,null,"                   Vacances          "]
[3,"2026-07-15","                   Vacances          ",null,null,null,null,null,null,null,"                   Vacances          "]
[4,"2026-07-16","                   Vacances          ",null,null,null,null,null,null,null,"                   Vacances          "]
[5,"2026-07-17","                   Vacances          ",null,null,null,null,null,null,null,"                   Vacances          "]
[6,"2026-07-18","                       WEEK-END                       ",null,null,null,null,null,null,null,"                       WEEK-END                       "]
[7,"2026-07-19","                       WEEK-END                       ",null,null,null,null,null,null,null,"                       WEEK-END                       "]
[1,"2026-07-20","                   Vacances          ",null,null,null,null,null,null,null,"                   Vacances          "]
[2,"2026-07-21","                   Vacances          ",null,null,null,null,null,null,null,"                   Vacances          "]
[3,"2026-07-22","                   Vacances          ",null,null,null,null,null,null,null,"                   Vacances          "]
[4,"2026-07-23","                   Vacances          ",null,null,null,null,null,null,null,"                   Vacances          "]
[5,"2026-07-24","                   Vacances          ",null,null,null,null,null,null,null,"                   Vacances          "]
[6,"2026-07-25","                       WEEK-END                       ",null,null,null,null,null,null,null,"                       WEEK-END                       "]
[7,"2026-07-26","                       WEEK-END                       ",null,null,null,null,null,null,null,"                       WEEK-END                       "]
[1,"2026-07-27","                   Vacances          ",null,null,null,null,null,null,null,"                   Vacances          "]
[2,"2026-07-28","                   Vacances          ",null,null,null,null,null,null,null,"                   Vacances          "]
[3,"2026-07-29","                   Vacances          ",null,null,null,null,null,null,null,"                   Vacances          "]
[4,"2026-07-30","                   Vacances          ",null,null,null,null,null,null,null,"                   Vacances          "]
[5,"2026-07-31","                   Vacances          ",null,null,null,null,null,null,null,"                   Vacances          "]
[6,"2026-08-01","                       WEEK-END                       ",null,null,null,null,null,null,null,"                       WEEK-END                       "]
[7,"2026-08-02","                       WEEK-END                       ",null,null,null,null,null,null,null,"                       WEEK-END                       "]
[1,"2026-08-03","                   Vacances          ",null,null,null,null,null,null,null,"                   Vacances          "]
[2,"2026-08-04","                   Vacances          ",null,null,null,null,null,null,null,"                   Vacances          "]
[3,"2026-08-05","                   Vacances          ",null,null,null,null,null,null,null,"                   Vacances          "]
[4,"2026-08-06","                   Vacances          ",null,null,null,null,null,null,null,"                   Vacances          "]
[5,"2026-08-07","                   Vacances          ",null,null,null,null,null,null,null,"                   Vacances          "]
[6,"2026-08-08","                       WEEK-END                       ",null,null,null,null,null,null,null,"                       WEEK-END                       "]
[7,"2026-08-09","                       WEEK-END                       ",null,null,null,null,null,null,null,"                       WEEK-END                       "]
[1,"2026-08-10","                   Vacances          ",null,null,null,null,null,null,null,"                   Vacances          "]
[2,"2026-08-11","                   Vacances          ",null,null,null,null,null,null,null,"                   Vacances          "]
[3,"2026-08-12","                   Vacances          ",null,null,null,null,null,null,null,"                   Vacances          "]
[4,"2026-08-13","                   Vacances          ",null,null,null,null,null,null,null,"                   Vacances          "]
[5,"2026-08-14","                   Vacances          ",null,null,null,null,null,null,null,"                   Vacances          "]
[6,"2026-08-15","                       WEEK-END                       ",null,null,null,null,null,null,null,"                       WEEK-END                       "]
[7,"2026-08-16","                       WEEK-END                       ",null,null,null,null,null,null,null,"                       WEEK-END                       "]
[1,"2026-08-17","                   Vacances          ",null,null,null,null,null,null,null,"                   Vacances          "]
[2,"2026-08-18","                   Vacances          ",null,null,null,null,null,null,null,"                   Vacances          "]
[null,"2026-08-19","                   Vacances          ",null,null,null,null,null,null,null,"                   Vacances          "]
[]
["Calculateur de période par module"]
["Modules",null," ",null,null,null,null,null,null,null," "]
[null,null,"à prog.",null,"entrées",null,null,null,"à faire",null,"à prog.",null,"entrées",null,null,null,"à faire"]
["module 1",null,{"$f":"IF(E379=(I379),\"ok\",($A379))","v":"ok"},null,{"$f":"SUMIF(C$8:C$373,1,E$8:E$373)+SUMIF(G$8:G$373,1,I$8:I$373)","v":0},null,null,null,0,null,{"$f":"IF(M379=(Q379),\"ok\",($A379))","v":"ok"},null,{"$f":"SUMIF(K$8:K$373,1,M$8:M$373)+SUMIF(O$8:O$373,1,Q$8:Q$373)","v":0},null,null,null,0]
["module 2",null,"ok",null,{"$f":"SUMIF(C$8:C$373,2,E$8:E$373)+SUMIF(G$8:G$373,2,I$8:I$373)","v":0},null,null,null,0,null,"ok",null,{"$f":"SUMIF(K$8:K$373,2,M$8:M$373)+SUMIF(O$8:O$373,2,Q$8:Q$373)","v":0},null,null,null,0]
["module 3",null,"ok",null,{"$f":"SUMIF(C$8:C$373,3,E$8:E$373)+SUMIF(G$8:G$373,3,I$8:I$373)","v":0},null,null,null,0,null,"ok",null,{"$f":"SUMIF(K$8:K$373,3,M$8:M$373)+SUMIF(O$8:O$373,3,Q$8:Q$373)","v":0},null,null,null,0]
["module 4",null,"ok",null,{"$f":"SUMIF(C$8:C$373,4,E$8:E$373)+SUMIF(G$8:G$373,4,I$8:I$373)","v":0},null,null,null,0,null,"ok",null,{"$f":"SUMIF(K$8:K$373,4,M$8:M$373)+SUMIF(O$8:O$373,4,Q$8:Q$373)","v":0},null,null,null,0]
["module 5",null,"ok",null,{"$f":"SUMIF(C$8:C$373,5,E$8:E$373)+SUMIF(G$8:G$373,5,I$8:I$373)","v":0},null,null,null,0,null,"ok",null,{"$f":"SUMIF(K$8:K$373,5,M$8:M$373)+SUMIF(O$8:O$373,5,Q$8:Q$373)","v":0},null,null,null,0]
["module 6",null,"ok",null,{"$f":"SUMIF(C$8:C$373,6,E$8:E$373)+SUMIF(G$8:G$373,6,I$8:I$373)","v":0},null,null,null,0,null,"ok",null,{"$f":"SUMIF(K$8:K$373,6,M$8:M$373)+SUMIF(O$8:O$373,6,Q$8:Q$373)","v":0},null,null,null,0]
["module 7",null,"ok",null,{"$f":"SUMIF(C$8:C$373,7,E$8:E$373)+SUMIF(G$8:G$373,7,I$8:I$373)","v":0},null,null,null,0,null,"ok",null,{"$f":"SUMIF(K$8:K$373,7,M$8:M$373)+SUMIF(O$8:O$373,7,Q$8:Q$373)","v":0},null,null,null,0]
["module 8",null,"ok",null,{"$f":"SUMIF(C$8:C$373,8,E$8:E$373)+SUMIF(G$8:G$373,8,I$8:I$373)","v":0},null,null,null,0,null,"ok",null,{"$f":"SUMIF(K$8:K$373,8,M$8:M$373)+SUMIF(O$8:O$373,8,Q$8:Q$373)","v":0},null,null,null,0]
["module 9",null,"ok",null,{"$f":"SUMIF(C$8:C$373,9,E$8:E$373)+SUMIF(G$8:G$373,9,I$8:I$373)","v":0},null,null,null,0,null,"ok",null,{"$f":"SUMIF(K$8:K$373,9,M$8:M$373)+SUMIF(O$8:O$373,9,Q$8:Q$373)","v":0},null,null,null,0]
["module 10",null,"ok",null,{"$f":"SUMIF(C$8:C$373,10,E$8:E$373)+SUMIF(G$8:G$373,10,I$8:I$373)","v":0},null,null,null,0,null,"ok",null,{"$f":"SUMIF(K$8:K$373,10,M$8:M$373)+SUMIF(O$8:O$373,10,Q$8:Q$373)","v":0},null,null,null,0]
["module 11",null,"ok",null,{"$f":"SUMIF(C$8:C$373,11,E$8:E$373)+SUMIF(G$8:G$373,11,I$8:I$373)","v":0},null,null,null,0,null,"ok",null,{"$f":"SUMIF(K$8:K$373,11,M$8:M$373)+SUMIF(O$8:O$373,11,Q$8:Q$373)","v":0},null,null,null,0]
["module 12",null,"ok",null,{"$f":"SUMIF(C$8:C$373,12,E$8:E$373)+SUMIF(G$8:G$373,12,I$8:I$373)","v":0},null,null,null,0,null,"ok",null,{"$f":"SUMIF(K$8:K$373,12,M$8:M$373)+SUMIF(O$8:O$373,12,Q$8:Q$373)","v":0},null,null,null,0]
["module 13",null,"ok",null,{"$f":"SUMIF(C$8:C$373,13,E$8:E$373)+SUMIF(G$8:G$373,13,I$8:I$373)","v":0},null,null,null,0,null,"ok",null,{"$f":"SUMIF(K$8:K$373,13,M$8:M$373)+SUMIF(O$8:O$373,13,Q$8:Q$373)","v":0},null,null,null,0]
["module 14",null,"ok",null,{"$f":"SUMIF(C$8:C$373,14,E$8:E$373)+SUMIF(G$8:G$373,14,I$8:I$373)","v":0},null,null,null,0,null,"ok",null,{"$f":"SUMIF(K$8:K$373,14,M$8:M$373)+SUMIF(O$8:O$373,14,Q$8:Q$373)","v":0},null,null,null,0]
["module 15",null,"ok",null,{"$f":"SUMIF(C$8:C$373,15,E$8:E$373)+SUMIF(G$8:G$373,15,I$8:I$373)","v":0},null,null,null,0,null,"ok",null,{"$f":"SUMIF(K$8:K$373,15,M$8:M$373)+SUMIF(O$8:O$373,15,Q$8:Q$373)","v":0},null,null,null,0]
["module 16",null,"ok",null,{"$f":"SUMIF(C$8:C$373,16,E$8:E$373)+SUMIF(G$8:G$373,16,I$8:I$373)","v":0},null,null,null,0,null,"ok",null,{"$f":"SUMIF(K$8:K$373,16,M$8:M$373)+SUMIF(O$8:O$373,16,Q$8:Q$373)","v":0},null,null,null,0]
["module 17",null,"ok",null,{"$f":"SUMIF(C$8:C$373,17,E$8:E$373)+SUMIF(G$8:G$373,17,I$8:I$373)","v":0},null,null,null,0,null,"ok",null,{"$f":"SUMIF(K$8:K$373,17,M$8:M$373)+SUMIF(O$8:O$373,17,Q$8:Q$373)","v":0},null,null,null,0]
["module 18",null,"ok",null,{"$f":"SUMIF(C$8:C$373,18,E$8:E$373)+SUMIF(G$8:G$373,18,I$8:I$373)","v":0},null,null,null,0,null,"ok",null,{"$f":"SUMIF(K$8:K$373,18,M$8:M$373)+SUMIF(O$8:O$373,18,Q$8:Q$373)","v":0},null,null,null,0]
["module 19",null,"ok",null,{"$f":"SUMIF(C$8:C$373,19,E$8:E$373)+SUMIF(G$8:G$373,19,I$8:I$373)","v":0},null,null,null,0,null,"ok",null,{"$f":"SUMIF(K$8:K$373,19,M$8:M$373)+SUMIF(O$8:O$373,19,Q$8:Q$373)","v":0},null,null,null,0]
["module 20",null,"ok",null,{"$f":"SUMIF(C$8:C$373,20,E$8:E$373)+SUMIF(G$8:G$373,20,I$8:I$373)","v":0},null,null,null,0,null,"ok",null,{"$f":"SUMIF(K$8:K$373,20,M$8:M$373)+SUMIF(O$8:O$373,20,Q$8:Q$373)","v":0},null,null,null,0]
["module 21",null,"ok",null,{"$f":"SUMIF(C$8:C$373,21,E$8:E$373)+SUMIF(G$8:G$373,21,I$8:I$373)","v":0},null,null,null,0,null,"ok",null,{"$f":"SUMIF(K$8:K$373,21,M$8:M$373)+SUMIF(O$8:O$373,21,Q$8:Q$373)","v":0},null,null,null,0]
["module 22",null,"ok",null,{"$f":"SUMIF(C$8:C$373,22,E$8:E$373)+SUMIF(G$8:G$373,22,I$8:I$373)","v":0},null,null,null,0,null,"ok",null,{"$f":"SUMIF(K$8:K$373,22,M$8:M$373)+SUMIF(O$8:O$373,22,Q$8:Q$373)","v":0},null,null,null,0]
["module 23",null,"ok",null,{"$f":"SUMIF(C$8:C$373,23,E$8:E$373)+SUMIF(G$8:G$373,23,I$8:I$373)","v":0},null,null,null,0,null,"ok",null,{"$f":"SUMIF(K$8:K$373,23,M$8:M$373)+SUMIF(O$8:O$373,23,Q$8:Q$373)","v":0},null,null,null,0]
["module 24",null,"ok",null,{"$f":"SUMIF(C$8:C$373,24,E$8:E$373)+SUMIF(G$8:G$373,24,I$8:I$373)","v":0},null,null,null,0,null,"ok",null,{"$f":"SUMIF(K$8:K$373,24,M$8:M$373)+SUMIF(O$8:O$373,24,Q$8:Q$373)","v":0},null,null,null,0]
["module 25",null,"ok",null,{"$f":"SUMIF(C$8:C$373,25,E$8:E$373)+SUMIF(G$8:G$373,25,I$8:I$373)","v":0},null,null,null,0,null,"ok",null,{"$f":"SUMIF(K$8:K$373,25,M$8:M$373)+SUMIF(O$8:O$373,25,Q$8:Q$373)","v":0},null,null,null,0]
["module 26",null,"ok",null,{"$f":"SUMIF(C$8:C$373,26,E$8:E$373)+SUMIF(G$8:G$373,26,I$8:I$373)","v":0},null,null,null,0,null,"ok",null,{"$f":"SUMIF(K$8:K$373,26,M$8:M$373)+SUMIF(O$8:O$373,26,Q$8:Q$373)","v":0},null,null,null,0]
["module 27",null,"ok",null,{"$f":"SUMIF(C$8:C$373,27,E$8:E$373)+SUMIF(G$8:G$373,27,I$8:I$373)","v":0},null,null,null,0,null,"ok",null,{"$f":"SUMIF(K$8:K$373,27,M$8:M$373)+SUMIF(O$8:O$373,27,Q$8:Q$373)","v":0},null,null,null,0]
["module 28",null,"ok",null,{"$f":"SUMIF(C$8:C$373,28,E$8:E$373)+SUMIF(G$8:G$373,28,I$8:I$373)","v":0},null,null,null,0,null,"ok",null,{"$f":"SUMIF(K$8:K$373,28,M$8:M$373)+SUMIF(O$8:O$373,28,Q$8:Q$373)","v":0},null,null,null,0]
["module 29",null,"ok",null,{"$f":"SUMIF(C$8:C$373,29,E$8:E$373)+SUMIF(G$8:G$373,29,I$8:I$373)","v":0},null,null,null,0,null,"ok",null,{"$f":"SUMIF(K$8:K$373,29,M$8:M$373)+SUMIF(O$8:O$373,29,Q$8:Q$373)","v":0},null,null,null,0]
["module 30",null,"ok",null,{"$f":"SUMIF(C$8:C$373,30,E$8:E$373)+SUMIF(G$8:G$373,30,I$8:I$373)","v":0},null,null,null,0,null,"ok",null,{"$f":"SUMIF(K$8:K$373,30,M$8:M$373)+SUMIF(O$8:O$373,30,Q$8:Q$373)","v":0},null,null,null,0]
["module 31",null,"ok",null,{"$f":"SUMIF(C$8:C$373,31,E$8:E$373)+SUMIF(G$8:G$373,31,I$8:I$373)","v":0},null,null,null,0,null,"ok",null,{"$f":"SUMIF(K$8:K$373,31,M$8:M$373)+SUMIF(O$8:O$373,31,Q$8:Q$373)","v":0},null,null,null,0]
["module 32",null,"ok",null,{"$f":"SUMIF(C$8:C$373,32,E$8:E$373)+SUMIF(G$8:G$373,32,I$8:I$373)","v":0},null,null,null,0,null,"ok",null,{"$f":"SUMIF(K$8:K$373,32,M$8:M$373)+SUMIF(O$8:O$373,32,Q$8:Q$373)","v":0},null,null,null,0]
["module 33",null,"ok",null,{"$f":"SUMIF(C$8:C$373,33,E$8:E$373)+SUMIF(G$8:G$373,33,I$8:I$373)","v":0},null,null,null,0,null,"ok",null,{"$f":"SUMIF(K$8:K$373,33,M$8:M$373)+SUMIF(O$8:O$373,33,Q$8:Q$373)","v":0},null,null,null,0]
["module 34",null,"ok",null,{"$f":"SUMIF(C$8:C$373,34,E$8:E$373)+SUMIF(G$8:G$373,34,I$8:I$373)","v":0},null,null,null,0,null,"ok",null,{"$f":"SUMIF(K$8:K$373,34,M$8:M$373)+SUMIF(O$8:O$373,34,Q$8:Q$373)","v":0},null,null,null,0]
["module 35",null,"TE",null,{"$f":"SUMIF(C$8:C$373,35,E$8:E$373)+SUMIF(G$8:G$373,35,I$8:I$373)","v":0},null,null,null,85,null,"TE",null,{"$f":"SUMIF(K$8:K$373,35,M$8:M$373)+SUMIF(O$8:O$373,35,Q$8:Q$373)","v":0},null,null,null,85,null,"=","TACHES PRÉSENCE ÉLÈVE (PERMANENT)"]
["module 36",null,"TA",null,{"$f":"SUMIF(C$8:C$373,36,E$8:E$373)+SUMIF(G$8:G$373,36,I$8:I$373)","v":0},null,null,null,360,null,"TA",null,{"$f":"SUMIF(K$8:K$373,36,M$8:M$373)+SUMIF(O$8:O$373,36,Q$8:Q$373)","v":0},null,null,null,360,null,"=","TACHES DE DISPO"]
["module 37",null,"TNP",null,{"$f":"SUMIF(C$8:C$373,37,E$8:E$373)+SUMIF(G$8:G$373,37,I$8:I$373)","v":0},null,null,null,200,null,"TNP",null,{"$f":"SUMIF(K$8:K$373,37,M$8:M$373)+SUMIF(O$8:O$373,37,Q$8:Q$373)","v":0},null,null,null,200,null,"=","TACHES DE NATURE PERSONNEL"]
["module 90",null,"ok",null,{"$f":"SUMIF(C$8:C$373,90,E$8:E$373)+SUMIF(G$8:G$373,90,I$8:I$373)","v":0},null,null,null,0,null,"ok",null,{"$f":"SUMIF(K$8:K$373,38,M$8:M$373)+SUMIF(O$8:O$373,38,Q$8:Q$373)","v":0},null,null,null,0]
["module 39",null,"ok",null,{"$f":"SUMIF(C$8:C$373,39,E$8:E$373)+SUMIF(G$8:G$373,39,I$8:I$373)","v":0},null,null,null,0,null,"ok",null,{"$f":"SUMIF(K$8:K$373,39,M$8:M$373)+SUMIF(O$8:O$373,39,Q$8:Q$373)","v":0},null,null,null,0]
["module 89",null,"ok",null,{"$f":"SUMIF(C$8:C$373,40,E$8:E$373)+SUMIF(G$8:G$373,40,I$8:I$373)","v":0},null,null,null,0,null,"ok",null,{"$f":"SUMIF(K$8:K$373,40,M$8:M$373)+SUMIF(O$8:O$373,40,Q$8:Q$373)","v":0},null,null,null,0]
["module 90",null,"ok",null,{"$f":"SUMIF(C$8:C$373,90,E$8:E$373)+SUMIF(G$8:G$373,90,I$8:I$373)","v":0},null,null,null,0,null,"ok",null,{"$f":"SUMIF(K$8:K$373,90,M$8:M$373)+SUMIF(O$8:O$373,90,Q$8:Q$373)","v":0},null,null,null,0,null,"=","RECUPERATION"]
["module 91",null,"ok",null,{"$f":"SUMIF(C$8:C$373,91,E$8:E$373)+SUMIF(G$8:G$373,91,I$8:I$373)","v":0},null,null,null,0,null,"ok",null,{"$f":"SUMIF(K$8:K$373,91,M$8:M$373)+SUMIF(O$8:O$373,91,Q$8:Q$373)","v":0},null,null,null,0]
["module 92",null,"ok",null,{"$f":"SUMIF(C$8:C$373,92,E$8:E$373)+SUMIF(G$8:G$373,92,I$8:I$373)","v":0},null,null,null,0,null,"ok",null,{"$f":"SUMIF(K$8:K$373,92,M$8:M$373)+SUMIF(O$8:O$373,92,Q$8:Q$373)","v":0},null,null,null,0]
["module 93",null,"ok",null,{"$f":"SUMIF(C$8:C$373,93,E$8:E$373)+SUMIF(G$8:G$373,93,I$8:I$373)","v":0},null,null,null,0,null,"ok",null,{"$f":"SUMIF(K$8:K$373,93,M$8:M$373)+SUMIF(O$8:O$373,93,Q$8:Q$373)","v":0},null,null,null,0]
["module 94",null,"ok",null,{"$f":"SUMIF(C$8:C$373,94,E$8:E$373)+SUMIF(G$8:G$373,94,I$8:I$373)","v":0},null,null,null,0,null,"ok",null,{"$f":"SUMIF(K$8:K$373,94,M$8:M$373)+SUMIF(O$8:O$373,94,Q$8:Q$373)","v":0},null,null,null,0]
["module 95",null,"ok",null,{"$f":"SUMIF(C$8:C$373,95,E$8:E$373)+SUMIF(G$8:G$373,95,I$8:I$373)","v":0},null,null,null,0,null,"ok",null,{"$f":"SUMIF(K$8:K$373,95,M$8:M$373)+SUMIF(O$8:O$373,95,Q$8:Q$373)","v":0},null,null,null,0,null," "]
["module 96",null,"ok",null,{"$f":"SUMIF(C$8:C$373,96,E$8:E$373)+SUMIF(G$8:G$373,96,I$8:I$373)","v":0},null,null,null,0,null,"ok",null,{"$f":"SUMIF(K$8:K$373,96,M$8:M$373)+SUMIF(O$8:O$373,96,Q$8:Q$373)","v":0},null,null,null,0]
["module 97",null,"ok",null,{"$f":"SUMIF(C$8:C$373,97,E$8:E$373)+SUMIF(G$8:G$373,97,I$8:I$373)","v":0},null,null,null,0,null,"ok",null,{"$f":"SUMIF(K$8:K$373,97,M$8:M$373)+SUMIF(O$8:O$373,97,Q$8:Q$373)","v":0},null,null,null,0]
["module 98",null,"ok",null,{"$f":"SUMIF(C$8:C$373,98,E$8:E$373)+SUMIF(G$8:G$373,98,I$8:I$373)","v":0},null,null,null,0,null,"ok",null,{"$f":"SUMIF(K$8:K$373,98,M$8:M$373)+SUMIF(O$8:O$373,98,Q$8:Q$373)","v":0},null,null,null,0]
["module 99",null,"ok",null,{"$f":"SUMIF(C$8:C$373,99,E$8:E$373)+SUMIF(G$8:G$373,99,I$8:I$373)","v":0},null,null,null,0,null,"ok",null,{"$f":"SUMIF(K$8:K$373,99,M$8:M$373)+SUMIF(O$8:O$373,99,Q$8:Q$373)","v":0},null,null,null,0]
["Totaux",null,{"$f":"IF(E429=(I429),\"ok\",($A$429))","v":"ok"},null,{"$f":"SUM(E379:F410)","v":0},null,null,null,{"$f":"SUM(I379:J410)","v":0},null,{"$f":"IF(M429=(Q429),\"ok\",($A$429))","v":"ok"},null,{"$f":"SUM(M379:N410)","v":0},null,null,null,{"$f":"SUM(Q379:R410)","v":0}]
[]
[]
["Calculateur de période / enseignants"]
["Enseignants",null,{"$f":"C4","v":" Yanik Corbeil"}]
[null,null,{"$f":"\"Heures \"& RIGHT($A4,9)","v":"Heures 2024-2025"},null,null,null,{"$f":"\"Heures été \"& RIGHT($A4,9)","v":"Heures été 2024-2025"},null,null,null,{"$f":"\"Heures \"& RIGHT($A4,9)","v":"Heures 2024-2025"},null,null,null,{"$f":"\"Heures été \"& RIGHT($A4,9)","v":"Heures été 2024-2025"}]
["yc","Yanik Corbeil",{"$f":"SUMIF(D$65:D$374,A435,E$65:E$374)+SUMIF(H$65:H$374,A435,I$65:I$374)","v":0},null,null,null,{"$f":"SUMIF(D$8:D$64,A435,E$8:E$64)+SUMIF(H$8:H$64,A435,I$8:I$64)","v":0},null,null,null,{"$f":"SUMIF(L$65:L$374,A435,M$65:M$374)+SUMIF(P$65:P$374,A435,Q$65:Q$374)","v":0},null,null,null,{"$f":"SUMIF(L$8:L$64,#REF!,M$8:M$64)+SUMIF(P$8:P$64,#REF!,Q$8:Q$64)","v":0}]
[]
[]
["Total des hrs"]
[null,{"$f":"SUM(W441,S441,O441,K441,G441,C441)","v":0},"ENSEIGNEMENT",null,null,null,"PERMANENT",null,null,null,"DISPO",null,null,null,"NATURE PERSO",null,null,null,"TUTORAT+RECUP",null,null,null,"AUTRE"]
[null,null,"Heures 2012-2013",null,null,null,"TE = 85 HRS",null,null,null,"TA = 360 HRS",null,null,null,"TNP = 200 HRS"]
[null,null,{"$f":"SUM(C435+K435)","v":0},null,null,null,{"$f":"SUM(E413+M413)","v":0},null,null,null,{"$f":"SUM(E414+M414)","v":0},null,null,null,{"$f":"SUM(E415+M415)","v":0},null,null,null,0,null,null,null,0]

{"sheet":"Clément Gauthier","index":42,"n_rows":441,"n_cols":23,"rows_kept":441,"cut":false,"hidden":false,"merged":[[367,2,367,9],[367,10,367,17],[368,2,368,9],[368,10,368,17],[371,2,371,9],[371,10,371,17],[364,2,364,9],[364,10,364,17],[365,2,365,9],[365,10,365,17],[366,2,366,9],[366,10,366,17],[359,2,359,9],[359,10,359,17],[360,2,360,9],[360,10,360,17],[361,2,361,9],[361,10,361,17],[354,2,354,9],[354,10,354,17],[357,2,357,9],[357,10,357,17],[358,2,358,9],[358,10,358,17],[351,2,351,9],[351,10,351,17],[352,2,352,9],[352,10,352,17],[353,2,353,9],[353,10,353,17],[346,2,346,9],[346,10,346,17],[347,2,347,9],[347,10,347,17],[350,2,350,9],[350,10,350,17],[343,2,343,9],[343,10,343,17],[344,2,344,9],[344,10,344,17],[345,2,345,9],[345,10,345,17],[338,2,338,9],[338,10,338,17],[339,2,339,9],[339,10,339,17],[340,2,340,9],[340,10,340,17],[333,2,333,9],[333,10,333,17],[336,2,336,9],[336,10,336,17],[337,2,337,9],[337,10,337,17],[330,2,330,9],[330,10,330,17],[331,2,331,9],[331,10,331,17],[332,2,332,9],[332,10,332,17],[325,2,325,9],[325,10,325,17],[326,2,326,9],[326,10,326,17],[329,2,329,9],[329,10,329,17],[322,2,322,9],[322,10,322,17],[323,2,323,9],[323,10,323,17],[324,2,324,9],[324,10,324,17],[280,2,280,9],[280,10,280,17],[298,2,298,9],[298,10,298,17],[317,2,317,9],[317,10,317,17],[235,2,235,9],[235,10,235,17],[238,2,238,9],[238,10,238,17],[263,2,263,9],[263,10,263,17],[172,2,172,9],[172,10,172,17],[198,2,198,9],[198,10,198,17],[214,2,214,9],[214,10,214,17],[134,10,134,17],[143,2,143,9],[143,10,143,17],[144,2,144,9],[144,10,144,17],[147,2,147,9],[147,10,147,17],[140,2,140,9],[140,10,140,17],[141,2,141,9],[141,10,141,17],[142,2,142,9],[142,10,142,17],[418,19,418,27],[72,2,72,9],[72,10,72,17],[87,2,87,9],[87,10,87,17],[88,2,88,9],[88,10,88,17],[14,2,14,9],[14,10,14,17],[21,2,21,9],[21,10,21,17],[63,2,63,9],[63,10,63,17],[135,2,135,9],[135,10,135,17],[136,2,136,9],[136,10,136,17],[137,2,137,9],[137,10,137,17],[101,2,101,9],[101,10,101,17],[133,2,133,9],[133,10,133,17],[134,2,134,9],[428,2,428,3],[428,4,428,7],[428,8,428,9],[428,10,428,11],[428,12,428,15],[428,16,428,17],[426,16,426,17],[424,16,424,17],[422,16,422,17],[440,22,440,25],[438,18,438,21],[438,22,438,25],[439,2,439,5],[439,6,439,9],[439,10,439,13],[439,14,439,17],[439,18,439,21],[439,22,439,25],[440,10,440,13],[440,14,440,17],[440,18,440,21],[438,1,440,1],[438,6,438,9],[438,10,438,13],[438,14,438,17],[440,2,440,5],[440,6,440,9],[432,0,433,1],[432,2,432,17],[433,2,433,5],[433,6,433,9],[433,10,433,13],[433,14,433,17],[434,2,434,5],[434,6,434,9],[434,10,434,13],[434,14,434,17],[427,0,427,1],[427,2,427,3],[427,4,427,7],[427,8,427,9],[427,10,427,11],[427,12,427,15],[427,16,427,17],[426,0,426,1],[426,2,426,3],[426,4,426,7],[426,8,426,9],[426,10,426,11],[426,12,426,15],[425,0,425,1],[425,2,425,3],[425,4,425,7],[425,8,425,9],[425,10,425,11],[425,12,425,15],[425,16,425,17],[424,0,424,1],[424,2,424,3],[424,4,424,7],[424,8,424,9],[424,10,424,11],[424,12,424,15],[423,0,423,1],[423,2,423,3],[423,4,423,7],[423,8,423,9],[423,10,423,11],[423,12,423,15],[423,16,423,17],[422,0,422,1],[422,2,422,3],[422,4,422,7],[422,8,422,9],[422,10,422,11],[422,12,422,15],[421,0,421,1],[421,2,421,3],[421,4,421,7],[421,8,421,9],[421,10,421,11],[421,12,421,15],[421,16,421,17],[420,0,420,1],[420,2,420,3],[420,4,420,7],[420,8,420,9],[420,10,420,11],[420,12,420,15],[420,16,420,17],[419,0,419,1],[419,2,419,3],[419,4,419,7],[419,8,419,9],[419,10,419,11],[419,12,419,15],[419,16,419,17],[418,0,418,1],[418,2,418,3],[418,4,418,7],[418,8,418,9],[418,10,418,11],[418,12,418,15],[416,16,416,17],[417,16,417,17],[418,16,418,17],[417,0,417,1],[417,2,417,3],[417,4,417,7],[417,8,417,9],[417,10,417,11],[417,12,417,15],[416,0,416,1],[416,2,416,3],[416,4,416,7],[416,8,416,9],[416,10,416,11],[416,12,416,15],[414,16,414,17],[414,19,414,27],[415,0,415,1],[415,2,415,3],[415,4,415,7],[415,8,415,9],[415,10,415,11],[415,12,415,15],[415,16,415,17],[414,0,414,1],[414,2,414,3],[414,4,414,7],[414,8,414,9],[414,10,414,11],[414,12,414,15],[412,16,412,17],[412,2,412,3],[412,4,412,7],[412,8,412,9],[412,10,412,11],[412,19,412,29],[413,0,413,1],[413,2,413,3],[413,4,413,7],[413,8,413,9],[413,10,413,11],[413,12,413,15],[413,16,413,17],[413,19,413,27],[412,0,412,1],[412,12,412,15],[410,16,410,17],[411,0,411,1],[411,2,411,3],[411,4,411,7],[411,8,411,9],[411,10,411,11],[411,12,411,15],[411,16,411,17],[410,0,410,1],[410,2,410,3],[410,4,410,7],[410,8,410,9],[410,10,410,11],[410,12,410,15],[408,16,408,17],[409,16,409,17],[409,0,409,1],[409,2,409,3],[409,4,409,7],[409,8,409,9],[409,10,409,11],[409,12,409,15],[408,0,408,1],[408,2,408,3],[408,4,408,7],[408,8,408,9],[408,10,408,11],[408,12,408,15],[406,16,406,17],[407,0,407,1],[407,2,407,3],[407,4,407,7],[407,8,407,9],[407,10,407,11],[407,12,407,15],[407,16,407,17],[406,0,406,1],[406,2,406,3],[406,4,406,7],[406,8,406,9],[406,10,406,11],[406,12,406,15],[404,16,404,17],[405,0,405,1],[405,2,405,3],[405,4,405,7],[405,8,405,9],[405,10,405,11],[405,12,405,15],[405,16,405,17],[404,0,404,1],[404,2,404,3],[404,4,404,7],[404,8,404,9],[404,10,404,11],[404,12,404,15],[402,16,402,17],[403,0,403,1],[403,2,403,3],[403,4,403,7],[403,8,403,9],[403,10,403,11],[403,12,403,15],[403,16,403,17],[402,0,402,1],[402,2,402,3],[402,4,402,7],[402,8,402,9],[402,10,402,11],[402,12,402,15],[400,16,400,17],[401,0,401,1],[401,2,401,3],[401,4,401,7],[401,8,401,9],[401,10,401,11],[401,12,401,15],[401,16,401,17],[400,0,400,1],[400,2,400,3],[400,4,400,7],[400,8,400,9],[400,10,400,11],[400,12,400,15],[398,16,398,17],[399,0,399,1],[399,2,399,3],[399,4,399,7],[399,8,399,9],[399,10,399,11],[399,12,399,15],[399,16,399,17],[398,0,398,1],[398,2,398,3],[398,4,398,7],[398,8,398,9],[398,10,398,11],[398,12,398,15],[396,16,396,17],[397,0,397,1],[397,2,397,3],[397,4,397,7],[397,8,397,9],[397,10,397,11],[397,12,397,15],[397,16,397,17],[396,0,396,1],[396,2,396,3],[396,4,396,7],[396,8,396,9],[396,10,396,11],[396,12,396,15],[394,16,394,17],[395,0,395,1],[395,2,395,3],[395,4,395,7],[395,8,395,9],[395,10,395,11],[395,12,395,15],[395,16,395,17],[394,0,394,1],[394,2,394,3],[394,4,394,7],[394,8,394,9],[394,10,394,11],[394,12,394,15],[392,16,392,17],[393,0,393,1],[393,2,393,3],[393,4,393,7],[393,8,393,9],[393,10,393,11],[393,12,393,15],[393,16,393,17],[392,0,392,1],[392,2,392,3],[392,4,392,7],[392,8,392,9],[392,10,392,11],[392,12,392,15],[390,16,390,17],[391,0,391,1],[391,2,391,3],[391,4,391,7],[391,8,391,9],[391,10,391,11],[391,12,391,15],[391,16,391,17],[390,0,390,1],[390,2,390,3],[390,4,390,7],[390,8,390,9],[390,10,390,11],[390,12,390,15],[388,16,388,17],[389,0,389,1],[389,2,389,3],[389,4,389,7],[389,8,389,9],[389,10,389,11],[389,12,389,15],[389,16,389,17],[388,0,388,1],[388,2,388,3],[388,4,388,7],[388,8,388,9],[388,10,388,11],[388,12,388,15],[386,16,386,17],[387,0,387,1],[387,2,387,3],[387,4,387,7],[387,8,387,9],[387,10,387,11],[387,12,387,15],[387,16,387,17],[386,0,386,1],[386,2,386,3],[386,4,386,7],[386,8,386,9],[386,10,386,11],[386,12,386,15],[384,16,384,17],[385,0,385,1],[385,2,385,3],[385,4,385,7],[385,8,385,9],[385,10,385,11],[385,12,385,15],[385,16,385,17],[384,0,384,1],[384,2,384,3],[384,4,384,7],[384,8,384,9],[384,10,384,11],[384,12,384,15],[382,16,382,17],[383,0,383,1],[383,2,383,3],[383,4,383,7],[383,8,383,9],[383,10,383,11],[383,12,383,15],[383,16,383,17],[382,0,382,1],[382,2,382,3],[382,4,382,7],[382,8,382,9],[382,10,382,11],[382,12,382,15],[379,0,379,1],[379,2,379,3],[379,4,379,7],[379,8,379,9],[379,10,379,11],[379,12,379,15],[379,16,379,17],[380,16,380,17],[381,0,381,1],[381,2,381,3],[381,4,381,7],[381,8,381,9],[381,10,381,11],[381,12,381,15],[381,16,381,17],[380,0,380,1],[380,2,380,3],[380,4,380,7],[380,8,380,9],[380,10,380,11],[380,12,380,15],[371,19,371,29],[372,19,372,29],[376,0,377,1],[377,4,377,7],[377,12,377,15],[378,0,378,1],[378,2,378,3],[378,4,378,7],[378,8,378,9],[378,10,378,11],[378,12,378,15],[378,16,378,17],[372,2,372,9],[372,10,372,17],[373,2,373,9],[373,10,373,17],[365,19,365,29],[366,19,366,29],[367,19,367,29],[368,19,368,29],[369,19,369,29],[370,19,370,29],[359,19,359,29],[360,19,360,29],[361,19,361,29],[362,19,362,29],[363,19,363,29],[364,19,364,29],[353,19,353,29],[354,19,354,29],[355,19,355,29],[356,19,356,29],[357,19,357,29],[358,19,358,29],[347,19,347,29],[348,19,348,29],[349,19,349,29],[350,19,350,29],[351,19,351,29],[352,19,352,29],[341,19,341,29],[342,19,342,29],[343,19,343,29],[344,19,344,29],[345,19,345,29],[346,19,346,29],[335,19,335,29],[336,19,336,29],[337,19,337,29],[338,19,338,29],[339,19,339,29],[340,19,340,29],[329,19,329,29],[330,19,330,29],[331,19,331,29],[332,19,332,29],[333,19,333,29],[334,19,334,29],[323,19,323,29],[324,19,324,29],[325,19,325,29],[326,19,326,29],[327,19,327,29],[328,19,328,29],[317,19,317,29],[318,19,318,29],[319,19,319,29],[320,19,320,29],[321,19,321,29],[322,19,322,29],[311,19,311,29],[312,19,312,29],[313,19,313,29],[314,19,314,29],[315,19,315,29],[316,19,316,29],[305,19,305,29],[306,19,306,29],[307,19,307,29],[308,19,308,29],[309,19,309,29],[310,19,310,29],[299,19,299,29],[300,19,300,29],[301,19,301,29],[302,19,302,29],[303,19,303,29],[304,19,304,29],[293,19,293,29],[294,19,294,29],[295,19,295,29],[296,19,296,29],[297,19,297,29],[298,19,298,29],[287,19,287,29],[288,19,288,29],[289,19,289,29],[290,19,290,29],[291,19,291,29],[292,19,292,29],[281,19,281,29],[282,19,282,29],[283,19,283,29],[284,19,284,29],[285,19,285,29],[286,19,286,29],[275,19,275,29],[276,19,276,29],[277,19,277,29],[278,19,278,29],[279,19,279,29],[280,19,280,29],[269,19,269,29],[270,19,270,29],[271,19,271,29],[272,19,272,29],[273,19,273,29],[274,19,274,29],[263,19,263,29],[264,19,264,29],[265,19,265,29],[266,19,266,29],[267,19,267,29],[268,19,268,29],[257,19,257,29],[258,19,258,29],[259,19,259,29],[260,19,260,29],[261,19,261,29],[262,19,262,29],[251,19,251,29],[252,19,252,29],[253,19,253,29],[254,19,254,29],[255,19,255,29],[256,19,256,29],[245,19,245,29],[246,19,246,29],[247,19,247,29],[248,19,248,29],[249,19,249,29],[250,19,250,29],[239,19,239,29],[240,19,240,29],[241,19,241,29],[242,19,242,29],[243,19,243,29],[244,19,244,29],[233,19,233,29],[234,19,234,29],[235,19,235,29],[236,19,236,29],[237,19,237,29],[238,19,238,29],[227,19,227,29],[228,19,228,29],[229,19,229,29],[230,19,230,29],[231,19,231,29],[232,19,232,29],[221,19,221,29],[222,19,222,29],[223,19,223,29],[224,19,224,29],[225,19,225,29],[226,19,226,29],[215,19,215,29],[216,19,216,29],[217,19,217,29],[218,19,218,29],[219,19,219,29],[220,19,220,29],[209,19,209,29],[210,19,210,29],[211,19,211,29],[212,19,212,29],[213,19,213,29],[214,19,214,29],[203,19,203,29],[204,19,204,29],[205,19,205,29],[206,19,206,29],[207,19,207,29],[208,19,208,29],[197,19,197,29],[198,19,198,29],[199,19,199,29],[200,19,200,29],[201,19,201,29],[202,19,202,29],[191,19,191,29],[192,19,192,29],[193,19,193,29],[194,19,194,29],[195,19,195,29],[196,19,196,29],[185,19,185,29],[186,19,186,29],[187,19,187,29],[188,19,188,29],[189,19,189,29],[190,19,190,29],[179,19,179,29],[180,19,180,29],[181,19,181,29],[182,19,182,29],[183,19,183,29],[184,19,184,29],[173,19,173,29],[174,19,174,29],[175,19,175,29],[176,19,176,29],[177,19,177,29],[178,19,178,29],[167,19,167,29],[168,19,168,29],[169,19,169,29],[170,19,170,29],[171,19,171,29],[172,19,172,29],[161,19,161,29],[162,19,162,29],[163,19,163,29],[164,19,164,29],[165,19,165,29],[166,19,166,29],[155,19,155,29],[156,19,156,29],[157,19,157,29],[158,19,158,29],[159,19,159,29],[160,19,160,29],[149,19,149,29],[150,19,150,29],[151,19,151,29],[152,19,152,29],[153,19,153,29],[154,19,154,29],[143,19,143,29],[144,19,144,29],[145,19,145,29],[146,19,146,29],[147,19,147,29],[148,19,148,29],[137,19,137,29],[138,19,138,29],[139,19,139,29],[140,19,140,29],[141,19,141,29],[142,19,142,29],[131,19,131,29],[132,19,132,29],[133,19,133,29],[134,19,134,29],[135,19,135,29],[136,19,136,29],[125,19,125,29],[126,19,126,29],[127,19,127,29],[128,19,128,29],[129,19,129,29],[130,19,130,29],[119,19,119,29],[120,19,120,29],[121,19,121,29],[122,19,122,29],[123,19,123,29],[124,19,124,29],[113,19,113,29],[114,19,114,29],[115,19,115,29],[116,19,116,29],[117,19,117,29],[118,19,118,29],[107,19,107,29],[108,19,108,29],[109,19,109,29],[110,19,110,29],[111,19,111,29],[112,19,112,29],[101,19,101,29],[102,19,102,29],[103,19,103,29],[104,19,104,29],[105,19,105,29],[106,19,106,29],[95,19,95,29],[96,19,96,29],[97,19,97,29],[98,19,98,29],[99,19,99,29],[100,19,100,29],[89,19,89,29],[90,19,90,29],[91,19,91,29],[92,19,92,29],[93,19,93,29],[94,19,94,29],[83,19,83,29],[84,19,84,29],[85,19,85,29],[86,19,86,29],[87,19,87,29],[88,19,88,29],[77,19,77,29],[78,19,78,29],[79,19,79,29],[80,19,80,29],[81,19,81,29],[82,19,82,29],[71,19,71,29],[72,19,72,29],[73,19,73,29],[74,19,74,29],[75,19,75,29],[76,19,76,29],[65,19,65,29],[66,19,66,29],[67,19,67,29],[68,19,68,29],[69,19,69,29],[70,19,70,29],[59,19,59,29],[60,19,60,29],[61,19,61,29],[62,19,62,29],[63,19,63,29],[64,19,64,29],[53,19,53,29],[54,19,54,29],[55,19,55,29],[56,19,56,29],[57,19,57,29],[58,19,58,29],[47,19,47,29],[48,19,48,29],[49,19,49,29],[50,19,50,29],[51,19,51,29],[52,19,52,29],[41,19,41,29],[42,19,42,29],[43,19,43,29],[44,19,44,29],[45,19,45,29],[46,19,46,29],[35,19,35,29],[36,19,36,29],[37,19,37,29],[38,19,38,29],[39,19,39,29],[40,19,40,29],[29,19,29,29],[30,19,30,29],[31,19,31,29],[32,19,32,29],[33,19,33,29],[34,19,34,29],[23,19,23,29],[24,19,24,29],[25,19,25,29],[26,19,26,29],[27,19,27,29],[28,19,28,29],[19,19,19,29],[20,19,20,29],[21,19,21,29],[22,19,22,29],[11,19,11,29],[12,19,12,29],[13,19,13,29],[14,19,14,29],[15,19,15,29],[16,19,16,29],[8,19,8,29],[9,19,9,29],[10,19,10,29],[7,2,7,9],[7,10,7,17],[8,2,8,9],[8,10,8,17],[17,19,17,29],[18,19,18,29],[9,2,9,9],[9,10,9,17],[10,2,10,9],[10,10,10,17],[11,2,11,9],[11,10,11,17],[3,0,3,1],[3,2,3,17],[3,19,3,29],[4,0,4,1],[4,2,4,9],[4,10,4,17],[5,2,5,9],[5,10,5,17],[7,19,7,29]]}
[]
["Horaire prof Mécanique de véhicules lourds routiers"]
[" "]
["Année scolaire 2024-2025",null," Clément Gauthier",null,null,null,null,null,null,null,null,null,null,null,null,null,null,null,null,"Commentaires"]
[null,null," Intensif 1800",null,null,null,null,null,null,null," Intensif 1800"]
[4,null,"Jour    ",null,null,null,null,null,null,null,"Soir    "]
[null,null,"M","P","H","L","M","P","H","L","M","P","H","L","M","P","H","L"]
[{"$f":"WEEKDAY(B8,2)","v":1},"2025-08-18","                   Vacances          ",null,null,null,null,null,null,null,"                   Vacances          "]
[2,"2025-08-19","                   Vacances          ",null,null,null,null,null,null,null,"                   Vacances          "]
[3,{"$f":"B9+1","v":"2025-08-20"},"                   Vacances          ",null,null,null,null,null,null,null,"                   Vacances          "]
[4,{"$f":"B10+1","v":"2025-08-21"},"                   Vacances          ",null,null,null,null,null,null,null,"                   Vacances          "]
[5,"2025-08-22","     Pédagogique Commune",null,null,null,null,null,null,null,"     Pédagogique Commune"]
[6,"2025-08-23","                       WEEK-END                       ",null,null,null,null,null,null,null,"                       WEEK-END                       "]
[7,"2025-08-24","                       WEEK-END                       ",null,null,null,null,null,null,null,"                       WEEK-END                       "]
[1,"2025-08-25","     Pédagogique",null,null,null,null,null,null,null,"     Pédagogique"]
[2,"2025-08-26"]
[3,"2025-08-27"]
[4,"2025-08-28"]
[5,"2025-08-29"]
[6,"2025-08-30","                       WEEK-END                       ",null,null,null,null,null,null,null,"                       WEEK-END                       "]
[7,"2025-08-31","                       WEEK-END                       ",null,null,null,null,null,null,null,"                       WEEK-END                       "]
[1,"2025-09-01","Congé",null,null,null,null,null,null,null,"Congé"]
[2,"2025-09-02"]
[3,"2025-09-03"]
[4,"2025-09-04"]
[5,"2025-09-05"]
[6,"2025-09-06","                       WEEK-END                       ",null,null,null,null,null,null,null,"                       WEEK-END                       "]
[7,"2025-09-07","                       WEEK-END                       ",null,null,null,null,null,null,null,"                       WEEK-END                       "]
[1,"2025-09-08"]
[2,"2025-09-09"]
[3,"2025-09-10"]
[4,"2025-09-11"]
[5,"2025-09-12"]
[6,"2025-09-13","                       WEEK-END                       ",null,null,null,null,null,null,null,"                       WEEK-END                       "]
[7,"2025-09-14","                       WEEK-END                       ",null,null,null,null,null,null,null,"                       WEEK-END                       "]
[1,"2025-09-15"]
[2,"2025-09-16"]
[3,"2025-09-17"]
[4,"2025-09-18"]
[5,"2025-09-19"]
[6,"2025-09-20","                       WEEK-END                       ",null,null,null,null,null,null,null,"                       WEEK-END                       "]
[7,"2025-09-21","                       WEEK-END                       ",null,null,null,null,null,null,null,"                       WEEK-END                       "]
[1,"2025-09-22"]
[2,"2025-09-23"]
[3,"2025-09-24"]
[4,"2025-09-25"]
[5,"2025-09-26"]
[6,"2025-09-27","                       WEEK-END                       ",null,null,null,null,null,null,null,"                       WEEK-END                       "]
[7,"2025-09-28","                       WEEK-END                       ",null,null,null,null,null,null,null,"                       WEEK-END                       "]
[1,"2025-09-29"]
[2,"2025-09-30"]
[3,"2025-10-01"]
[4,"2025-10-02"]
[5,"2025-10-03"]
[6,"2025-10-04","                       WEEK-END                       ",null,null,null,null,null,null,null,"                       WEEK-END                       "]
[7,"2025-10-05","                       WEEK-END                       ",null,null,null,null,null,null,null,"                       WEEK-END                       "]
[1,"2025-10-06"]
[2,"2025-10-07"]
[3,"2025-10-08"]
[4,"2025-10-09"]
[5,"2025-10-10"]
[6,"2025-10-11","                       WEEK-END                       ",null,null,null,null,null,null,null,"                       WEEK-END                       "]
[7,"2025-10-12","                       WEEK-END                       ",null,null,null,null,null,null,null,"                       WEEK-END                       "]
[1,"2025-10-13","Congé",null,null,null,null,null,null,null,"Congé"]
[2,"2025-10-14"]
[3,"2025-10-15"]
[4,"2025-10-16"]
[5,"2025-10-17"]
[6,"2025-10-18","                       WEEK-END                       ",null,null,null,null,null,null,null,"                       WEEK-END                       "]
[7,"2025-10-19","                       WEEK-END                       ",null,null,null,null,null,null,null,"                       WEEK-END                       "]
[1,"2025-10-20"]
[{"$f":"WEEKDAY(B72,2)","v":2},"2025-10-21"]
[3,"2025-10-22","     Pédagogique",null,null,null,null,null,null,null,"     Pédagogique"]
[4,"2025-10-23"]
[5,{"$f":"B74+1","v":"2025-10-24"}]
[6,"2025-10-25","                       WEEK-END                       ",null,null,null,null,null,null,null,"                       WEEK-END                       "]
[7,"2025-10-26","                       WEEK-END                       ",null,null,null,null,null,null,null,"                       WEEK-END                       "]
[1,"2025-10-27"]
[2,"2025-10-28"]
[3,"2025-10-29"]
[4,"2025-10-30"]
[5,"2025-10-31"]
[6,"2025-11-01","                       WEEK-END                       ",null,null,null,null,null,null,null,"                       WEEK-END                       "]
[7,"2025-11-02","                       WEEK-END                       ",null,null,null,null,null,null,null,"                       WEEK-END                       "]
[1,"2025-11-03"]
[2,"2025-11-04"]
[3,"2025-11-05"]
[4,"2025-11-06","     Pédagogique",null,null,null,null,null,null,null,"     Pédagogique"]
[5,"2025-11-07","     Pédagogique",null,null,null,null,null,null,null,"     Pédagogique"]
[6,"2025-11-08","                       WEEK-END                       ",null,null,null,null,null,null,null,"                       WEEK-END                       "]
[7,"2025-11-09","                       WEEK-END                       ",null,null,null,null,null,null,null,"                       WEEK-END                       "]
[1,"2025-11-10"]
[2,"2025-11-11"]
[3,"2025-11-12"]
[4,"2025-11-13"]
[5,"2025-11-14"]
[6,"2025-11-15","                       WEEK-END                       ",null,null,null,null,null,null,null,"                       WEEK-END                       "]
[7,"2025-11-16","                       WEEK-END                       ",null,null,null,null,null,null,null,"                       WEEK-END                       "]
[1,"2025-11-17"]
[2,"2025-11-18"]
[3,"2025-11-19"]
[4,"2025-11-20","     Pédagogique Commune",null,null,null,null,null,null,null,"     Pédagogique Commune"]
[5,"2025-11-21"]
[6,"2025-11-22","                       WEEK-END                       ",null,null,null,null,null,null,null,"                       WEEK-END                       "]
[7,"2025-11-23","                       WEEK-END                       ",null,null,null,null,null,null,null,"                       WEEK-END                       "]
[1,"2025-11-24"]
[2,"2025-11-25"]
[3,"2025-11-26"]
[4,"2025-11-27"]
[5,"2025-11-28"]
[6,"2025-11-29","                       WEEK-END                       ",null,null,null,null,null,null,null,"                       WEEK-END                       "]
[7,"2025-11-30","                       WEEK-END                       ",null,null,null,null,null,null,null,"                       WEEK-END                       "]
[1,"2025-12-01"]
[2,"2025-12-02"]
[3,"2025-12-03"]
[4,"2025-12-04"]
[5,"2025-12-05"]
[6,"2025-12-06","                       WEEK-END                       ",null,null,null,null,null,null,null,"                       WEEK-END                       "]
[7,"2025-12-07","                       WEEK-END                       ",null,null,null,null,null,null,null,"                       WEEK-END                       "]
[1,"2025-12-08"]
[2,"2025-12-09"]
[3,"2025-12-10"]
[4,"2025-12-11"]
[5,"2025-12-12"]
[6,"2025-12-13","                       WEEK-END                       ",null,null,null,null,null,null,null,"                       WEEK-END                       "]
[7,"2025-12-14","                       WEEK-END                       ",null,null,null,null,null,null,null,"                       WEEK-END                       "]
[1,"2025-12-15"]
[2,"2025-12-16"]
[3,"2025-12-17"]
[4,"2025-12-18"]
[5,"2025-12-19"]
[6,"2025-12-20","                       WEEK-END                       ",null,null,null,null,null,null,null,"                       WEEK-END                       "]
[7,"2025-12-21","                       WEEK-END                       ",null,null,null,null,null,null,null,"                       WEEK-END                       "]
[1,"2025-12-22","Congé Noël",null,null,null,null,null,null,null,"Congé Noël"]
[2,"2025-12-23","Congé Noël",null,null,null,null,null,null,null,"Congé Noël"]
[{"$f":"WEEKDAY(B136,2)","v":3},"2025-12-24","Congé Noël",null,null,null,null,null,null,null,"Congé Noël"]
[4,"2025-12-25","Congé Noël",null,null,null,null,null,null,null,"Congé Noël"]
[5,"2025-12-26","Congé Noël",null,null,null,null,null,null,null,"Congé Noël"]
[6,{"$f":"B138+1","v":"2025-12-27"},"                       WEEK-END                       ",null,null,null,null,null,null,null,"                       WEEK-END                       "]
[7,"2025-12-28","                       WEEK-END                       ",null,null,null,null,null,null,null,"                       WEEK-END                       "]
[1,"2025-12-29","Congé Noël",null,null,null,null,null,null,null,"Congé Noël"]
[2,"2025-12-30","Congé Noël",null,null,null,null,null,null,null,"Congé Noël"]
[3,"2025-12-31","Congé Noël",null,null,null,null,null,null,null,"Congé Noël"]
[4,"2026-01-01","Congé Noël",null,null,null,null,null,null,null,"Congé Noël"]
[5,"2026-01-02","Congé Noël",null,null,null,null,null,null,null,"Congé Noël"]
[6,"2026-01-03","                       WEEK-END                       ",null,null,null,null,null,null,null,"                       WEEK-END                       "]
[7,"2026-01-04","                       WEEK-END                       ",null,null,null,null,null,null,null,"                       WEEK-END                       "]
[1,"2026-01-05","     Pédagogique Commune",null,null,null,null,null,null,null,"     Pédagogique Commune"]
[2,"2026-01-06"]
[3,"2026-01-07"]
[4,"2026-01-08"]
[5,"2026-01-09"]
[6,"2026-01-10","                       WEEK-END                       ",null,null,null,null,null,null,null,"                       WEEK-END                       "]
[7,"2026-01-11","                       WEEK-END                       ",null,null,null,null,null,null,null,"                       WEEK-END                       "]
[1,"2026-01-12"]
[2,"2026-01-13"]
[3,"2026-01-14"]
[4,"2026-01-15"]
[5,"2026-01-16"]
[6,"2026-01-17","                       WEEK-END                       ",null,null,null,null,null,null,null,"                       WEEK-END                       "]
[7,"2026-01-18","                       WEEK-END                       ",null,null,null,null,null,null,null,"                       WEEK-END                       "]
[1,"2026-01-19"]
[2,"2026-01-20"]
[3,"2026-01-21"]
[4,"2026-01-22"]
[5,"2026-01-23"]
[6,"2026-01-24","                       WEEK-END                       ",null,null,null,null,null,null,null,"                       WEEK-END                       "]
[7,"2026-01-25","                       WEEK-END                       ",null,null,null,null,null,null,null,"                       WEEK-END                       "]
[1,"2026-01-26"]
[2,"2026-01-27"]
[3,"2026-01-28"]
[4,"2026-01-29"]
[5,"2026-01-30","     Pédagogique",null,null,null,null,null,null,null,"     Pédagogique"]
[6,"2026-01-31","                       WEEK-END                       ",null,null,null,null,null,null,null,"                       WEEK-END                       "]
[7,"2026-02-01","                       WEEK-END                       ",null,null,null,null,null,null,null,"                       WEEK-END                       "]
[1,"2026-02-02"]
[2,"2026-02-03"]
[3,"2026-02-04"]
[4,"2026-02-05"]
[5,"2026-02-06"]
[6,"2026-02-07","                       WEEK-END                       ",null,null,null,null,null,null,null,"                       WEEK-END                       "]
[7,"2026-02-08","                       WEEK-END                       ",null,null,null,null,null,null,null,"                       WEEK-END                       "]
[1,"2026-02-09"]
[2,"2026-02-10"]
[3,"2026-02-11"]
[4,"2026-02-12"]
[5,"2026-02-13"]
[6,"2026-02-14","                       WEEK-END                       ",null,null,null,null,null,null,null,"                       WEEK-END                       "]
[7,"2026-02-15","                       WEEK-END                       ",null,null,null,null,null,null,null,"                       WEEK-END                       "]
[1,"2026-02-16"]
[2,"2026-02-17"]
[3,"2026-02-18"]
[4,"2026-02-19"]
[5,"2026-02-20"]
[6,"2026-02-21","                       WEEK-END                       ",null,null,null,null,null,null,null,"                       WEEK-END                       "]
[7,"2026-02-22","                       WEEK-END                       ",null,null,null,null,null,null,null,"                       WEEK-END                       "]
[1,"2026-02-23"]
[2,"2026-02-24"]
[3,"2026-02-25","     Pédagogique",null,null,null,null,null,null,null,"     Pédagogique"]
[{"$f":"WEEKDAY(B200,2)","v":4},"2026-02-26"]
[5,"2026-02-27"]
[6,"2026-02-28","                       WEEK-END                       ",null,null,null,null,null,null,null,"                       WEEK-END                       "]
[7,{"$f":"B202+1","v":"2026-03-01"},"                       WEEK-END                       ",null,null,null,null,null,null,null,"                       WEEK-END                       "]
[1,"2026-03-02"]
[2,"2026-03-03"]
[3,"2026-03-04"]
[4,"2026-03-05"]
[5,"2026-03-06"]
[6,"2026-03-07","                       WEEK-END                       ",null,null,null,null,null,null,null,"                       WEEK-END                       "]
[7,"2026-03-08","                       WEEK-END                       ",null,null,null,null,null,null,null,"                       WEEK-END                       "]
[1,"2026-03-09"]
[2,"2026-03-10"]
[3,"2026-03-11"]
[4,"2026-03-12"]
[5,"2026-03-13","     Pédagogique",null,null,null,null,null,null,null,"     Pédagogique"]
[6,"2026-03-14","                       WEEK-END                       ",null,null,null,null,null,null,null,"                       WEEK-END                       "]
[7,"2026-03-15","                       WEEK-END                       ",null,null,null,null,null,null,null,"                       WEEK-END                       "]
[1,"2026-03-16"]
[2,"2026-03-17"]
[3,"2026-03-18"]
[4,"2026-03-19"]
[5,"2026-03-20"]
[6,"2026-03-21","                       WEEK-END                       ",null,null,null,null,null,null,null,"                       WEEK-END                       "]
[7,"2026-03-22","                       WEEK-END                       ",null,null,null,null,null,null,null,"                       WEEK-END                       "]
[1,"2026-03-23"]
[2,"2026-03-24"]
[3,"2026-03-25"]
[4,"2026-03-26"]
[5,"2026-03-27"]
[6,"2026-03-28","                       WEEK-END                       ",null,null,null,null,null,null,null,"                       WEEK-END                       "]
[7,"2026-03-29","                       WEEK-END                       ",null,null,null,null,null,null,null,"                       WEEK-END                       "]
[1,"2026-03-30"]
[2,"2026-03-31"]
[3,"2026-04-01"]
[4,"2026-04-02"]
[5,"2026-04-03","Congé",null,null,null,null,null,null,null,"Congé"]
[6,"2026-04-04","                       WEEK-END                       ",null,null,null,null,null,null,null,"                       WEEK-END                       "]
[7,"2026-04-05","                       WEEK-END                       ",null,null,null,null,null,null,null,"                       WEEK-END                       "]
[1,"2026-04-06","Congé",null,null,null,null,null,null,null,"Congé"]
[2,"2026-04-07"]
[3,"2026-04-08"]
[4,"2026-04-09"]
[5,"2026-04-10"]
[6,"2026-04-11","                       WEEK-END                       ",null,null,null,null,null,null,null,"                       WEEK-END                       "]
[7,"2026-04-12","                       WEEK-END                       ",null,null,null,null,null,null,null,"                       WEEK-END                       "]
[1,"2026-04-13"]
[2,"2026-04-14"]
[3,"2026-04-15"]
[4,"2026-04-16"]
[5,"2026-04-17"]
[6,"2026-04-18","                       WEEK-END                       ",null,null,null,null,null,null,null,"                       WEEK-END                       "]
[7,"2026-04-19","                       WEEK-END                       ",null,null,null,null,null,null,null,"                       WEEK-END                       "]
[1,"2026-04-20"]
[2,"2026-04-21"]
[3,"2026-04-22"]
[4,"2026-04-23"]
[5,"2026-04-24"]
[6,"2026-04-25","                       WEEK-END                       ",null,null,null,null,null,null,null,"                       WEEK-END                       "]
[7,"2026-04-26","                       WEEK-END                       ",null,null,null,null,null,null,null,"                       WEEK-END                       "]
[1,"2026-04-27"]
[2,"2026-04-28"]
[3,"2026-04-29"]
[4,"2026-04-30"]
[{"$f":"WEEKDAY(B264,2)","v":5},"2026-05-01","     Pédagogique Commune",null,null,null,null,null,null,null,"     Pédagogique Commune"]
[6,"2026-05-02","                       WEEK-END                       ",null,null,null,null,null,null,null,"                       WEEK-END                       "]
[7,"2026-05-03","                       WEEK-END                       ",null,null,null,null,null,null,null,"                       WEEK-END                       "]
[1,{"$f":"B266+1","v":"2026-05-04"}]
[2,"2026-05-05"]
[3,"2026-05-06"]
[4,"2026-05-07"]
[5,"2026-05-08"]
[6,"2026-05-09","                       WEEK-END                       ",null,null,null,null,null,null,null,"                       WEEK-END                       "]
[7,"2026-05-10","                       WEEK-END                       ",null,null,null,null,null,null,null,"                       WEEK-END                       "]
[1,"2026-05-11"]
[2,"2026-05-12"]
[3,"2026-05-13"]
[4,"2026-05-14"]
[5,"2026-05-15"]
[6,"2026-05-16","                       WEEK-END                       ",null,null,null,null,null,null,null,"                       WEEK-END                       "]
[7,"2026-05-17","                       WEEK-END                       ",null,null,null,null,null,null,null,"                       WEEK-END                       "]
[1,"2026-05-18","Congé",null,null,null,null,null,null,null,"Congé"]
[2,"2026-05-19"]
[3,"2026-05-20"]
[4,"2026-05-21"]
[5,"2026-05-22"]
[6,"2026-05-23","                       WEEK-END                       ",null,null,null,null,null,null,null,"                       WEEK-END                       "]
[7,"2026-05-24","                       WEEK-END                       ",null,null,null,null,null,null,null,"                       WEEK-END                       "]
[1,"2026-05-25"]
[2,"2026-05-26"]
[3,"2026-05-27"]
[4,"2026-05-28"]
[5,"2026-05-29"]
[6,"2026-05-30","                       WEEK-END                       ",null,null,null,null,null,null,null,"                       WEEK-END                       "]
[7,"2026-05-31","                       WEEK-END                       ",null,null,null,null,null,null,null,"                       WEEK-END                       "]
[1,"2026-06-01"]
[2,"2026-06-02"]
[3,"2026-06-03"]
[4,"2026-06-04"]
[5,"2026-06-05","     Pédagogique",null,null,null,null,null,null,null,"     Pédagogique"]
[6,"2026-06-06","                       WEEK-END                       ",null,null,null,null,null,null,null,"                       WEEK-END                       "]
[7,"2026-06-07","                       WEEK-END                       ",null,null,null,null,null,null,null,"                       WEEK-END                       "]
[1,"2026-06-08"]
[2,"2026-06-09"]
[3,"2026-06-10"]
[4,"2026-06-11"]
[5,"2026-06-12"]
[6,"2026-06-13","                       WEEK-END                       ",null,null,null,null,null,null,null,"                       WEEK-END                       "]
[7,"2026-06-14","                       WEEK-END                       ",null,null,null,null,null,null,null,"                       WEEK-END                       "]
[1,"2026-06-15"]
[2,"2026-06-16"]
[3,"2026-06-17"]
[4,"2026-06-18"]
[5,"2026-06-19"]
[6,"2026-06-20","                       WEEK-END                       ",null,null,null,null,null,null,null,"                       WEEK-END                       "]
[7,"2026-06-21","                       WEEK-END                       ",null,null,null,null,null,null,null,"                       WEEK-END                       "]
[1,"2026-06-22"]
[2,"2026-06-23"]
[3,"2026-06-24","Congé",null,null,null,null,null,null,null,"Congé"]
[4,"2026-06-25"]
[5,"2026-06-26"]
[6,"2026-06-27","                       WEEK-END                       ",null,null,null,null,null,null,null,"                       WEEK-END                       "]
[7,"2026-06-28","                       WEEK-END                       ",null,null,null,null,null,null,null,"                       WEEK-END                       "]
[1,"2026-06-29","                   Vacances          ",null,null,null,null,null,null,null,"                   Vacances          "]
[2,"2026-06-30","                   Vacances          ",null,null,null,null,null,null,null,"                   Vacances          "]
[3,"2026-07-01","                   Vacances          ",null,null,null,null,null,null,null,"                   Vacances          "]
[4,"2026-07-02","                   Vacances          ",null,null,null,null,null,null,null,"                   Vacances          "]
[5,"2026-07-03","                   Vacances          ",null,null,null,null,null,null,null,"                   Vacances          "]
[{"$f":"WEEKDAY(B328,2)","v":6},"2026-07-04","                       WEEK-END                       ",null,null,null,null,null,null,null,"                       WEEK-END                       "]
[7,"2026-07-05","                       WEEK-END                       ",null,null,null,null,null,null,null,"                       WEEK-END                       "]
[1,"2026-07-06","                   Vacances          ",null,null,null,null,null,null,null,"                   Vacances          "]
[2,{"$f":"B330+1","v":"2026-07-07"},"                   Vacances          ",null,null,null,null,null,null,null,"                   Vacances          "]
[3,"2026-07-08","                   Vacances          ",null,null,null,null,null,null,null,"                   Vacances          "]
[4,"2026-07-09","                   Vacances          ",null,null,null,null,null,null,null,"                   Vacances          "]
[5,"2026-07-10","                   Vacances          ",null,null,null,null,null,null,null,"                   Vacances          "]
[6,"2026-07-11","                       WEEK-END                       ",null,null,null,null,null,null,null,"                       WEEK-END                       "]
[7,"2026-07-12","                       WEEK-END                       ",null,null,null,null,null,null,null,"                       WEEK-END                       "]
[1,"2026-07-13","                   Vacances          ",null,null,null,null,null,null,null,"                   Vacances          "]
[2,"2026-07-14","                   Vacances          ",null,null,null,null,null,null,null,"                   Vacances          "]
[3,"2026-07-15","                   Vacances          ",null,null,null,null,null,null,null,"                   Vacances          "]
[4,"2026-07-16","                   Vacances          ",null,null,null,null,null,null,null,"                   Vacances          "]
[5,"2026-07-17","                   Vacances          ",null,null,null,null,null,null,null,"                   Vacances          "]
[6,"2026-07-18","                       WEEK-END                       ",null,null,null,null,null,null,null,"                       WEEK-END                       "]
[7,"2026-07-19","                       WEEK-END                       ",null,null,null,null,null,null,null,"                       WEEK-END                       "]
[1,"2026-07-20","                   Vacances          ",null,null,null,null,null,null,null,"                   Vacances          "]
[2,"2026-07-21","                   Vacances          ",null,null,null,null,null,null,null,"                   Vacances          "]
[3,"2026-07-22","                   Vacances          ",null,null,null,null,null,null,null,"                   Vacances          "]
[4,"2026-07-23","                   Vacances          ",null,null,null,null,null,null,null,"                   Vacances          "]
[5,"2026-07-24","                   Vacances          ",null,null,null,null,null,null,null,"                   Vacances          "]
[6,"2026-07-25","                       WEEK-END                       ",null,null,null,null,null,null,null,"                       WEEK-END                       "]
[7,"2026-07-26","                       WEEK-END                       ",null,null,null,null,null,null,null,"                       WEEK-END                       "]
[1,"2026-07-27","                   Vacances          ",null,null,null,null,null,null,null,"                   Vacances          "]
[2,"2026-07-28","                   Vacances          ",null,null,null,null,null,null,null,"                   Vacances          "]
[3,"2026-07-29","                   Vacances          ",null,null,null,null,null,null,null,"                   Vacances          "]
[4,"2026-07-30","                   Vacances          ",null,null,null,null,null,null,null,"                   Vacances          "]
[5,"2026-07-31","                   Vacances          ",null,null,null,null,null,null,null,"                   Vacances          "]
[6,"2026-08-01","                       WEEK-END                       ",null,null,null,null,null,null,null,"                       WEEK-END                       "]
[7,"2026-08-02","                       WEEK-END                       ",null,null,null,null,null,null,null,"                       WEEK-END                       "]
[1,"2026-08-03","                   Vacances          ",null,null,null,null,null,null,null,"                   Vacances          "]
[2,"2026-08-04","                   Vacances          ",null,null,null,null,null,null,null,"                   Vacances          "]
[3,"2026-08-05","                   Vacances          ",null,null,null,null,null,null,null,"                   Vacances          "]
[4,"2026-08-06","                   Vacances          ",null,null,null,null,null,null,null,"                   Vacances          "]
[5,"2026-08-07","                   Vacances          ",null,null,null,null,null,null,null,"                   Vacances          "]
[6,"2026-08-08","                       WEEK-END                       ",null,null,null,null,null,null,null,"                       WEEK-END                       "]
[7,"2026-08-09","                       WEEK-END                       ",null,null,null,null,null,null,null,"                       WEEK-END                       "]
[1,"2026-08-10","                   Vacances          ",null,null,null,null,null,null,null,"                   Vacances          "]
[2,"2026-08-11","                   Vacances          ",null,null,null,null,null,null,null,"                   Vacances          "]
[3,"2026-08-12","                   Vacances          ",null,null,null,null,null,null,null,"                   Vacances          "]
[4,"2026-08-13","                   Vacances          ",null,null,null,null,null,null,null,"                   Vacances          "]
[5,"2026-08-14","                   Vacances          ",null,null,null,null,null,null,null,"                   Vacances          "]
[6,"2026-08-15","                       WEEK-END                       ",null,null,null,null,null,null,null,"                       WEEK-END                       "]
[7,"2026-08-16","                       WEEK-END                       ",null,null,null,null,null,null,null,"                       WEEK-END                       "]
[1,"2026-08-17","                   Vacances          ",null,null,null,null,null,null,null,"                   Vacances          "]
[2,"2026-08-18","                   Vacances          ",null,null,null,null,null,null,null,"                   Vacances          "]
[null,"2026-08-19","                   Vacances          ",null,null,null,null,null,null,null,"                   Vacances          "]
[]
["Calculateur de période par module"]
["Modules",null," ",null,null,null,null,null,null,null," "]
[null,null,"à prog.",null,"entrées",null,null,null,"à faire",null,"à prog.",null,"entrées",null,null,null,"à faire"]
["module 1",null,{"$f":"IF(E379=(I379),\"ok\",($A379))","v":"ok"},null,{"$f":"SUMIF(C$8:C$373,1,E$8:E$373)+SUMIF(G$8:G$373,1,I$8:I$373)","v":0},null,null,null,0,null,{"$f":"IF(M379=(Q379),\"ok\",($A379))","v":"ok"},null,{"$f":"SUMIF(K$8:K$373,1,M$8:M$373)+SUMIF(O$8:O$373,1,Q$8:Q$373)","v":0},null,null,null,0]
["module 2",null,"ok",null,{"$f":"SUMIF(C$8:C$373,2,E$8:E$373)+SUMIF(G$8:G$373,2,I$8:I$373)","v":0},null,null,null,0,null,"ok",null,{"$f":"SUMIF(K$8:K$373,2,M$8:M$373)+SUMIF(O$8:O$373,2,Q$8:Q$373)","v":0},null,null,null,0]
["module 3",null,"ok",null,{"$f":"SUMIF(C$8:C$373,3,E$8:E$373)+SUMIF(G$8:G$373,3,I$8:I$373)","v":0},null,null,null,0,null,"ok",null,{"$f":"SUMIF(K$8:K$373,3,M$8:M$373)+SUMIF(O$8:O$373,3,Q$8:Q$373)","v":0},null,null,null,0]
["module 4",null,"ok",null,{"$f":"SUMIF(C$8:C$373,4,E$8:E$373)+SUMIF(G$8:G$373,4,I$8:I$373)","v":0},null,null,null,0,null,"ok",null,{"$f":"SUMIF(K$8:K$373,4,M$8:M$373)+SUMIF(O$8:O$373,4,Q$8:Q$373)","v":0},null,null,null,0]
["module 5",null,"ok",null,{"$f":"SUMIF(C$8:C$373,5,E$8:E$373)+SUMIF(G$8:G$373,5,I$8:I$373)","v":0},null,null,null,0,null,"ok",null,{"$f":"SUMIF(K$8:K$373,5,M$8:M$373)+SUMIF(O$8:O$373,5,Q$8:Q$373)","v":0},null,null,null,0]
["module 6",null,"ok",null,{"$f":"SUMIF(C$8:C$373,6,E$8:E$373)+SUMIF(G$8:G$373,6,I$8:I$373)","v":0},null,null,null,0,null,"ok",null,{"$f":"SUMIF(K$8:K$373,6,M$8:M$373)+SUMIF(O$8:O$373,6,Q$8:Q$373)","v":0},null,null,null,0]
["module 7",null,"ok",null,{"$f":"SUMIF(C$8:C$373,7,E$8:E$373)+SUMIF(G$8:G$373,7,I$8:I$373)","v":0},null,null,null,0,null,"ok",null,{"$f":"SUMIF(K$8:K$373,7,M$8:M$373)+SUMIF(O$8:O$373,7,Q$8:Q$373)","v":0},null,null,null,0]
["module 8",null,"ok",null,{"$f":"SUMIF(C$8:C$373,8,E$8:E$373)+SUMIF(G$8:G$373,8,I$8:I$373)","v":0},null,null,null,0,null,"ok",null,{"$f":"SUMIF(K$8:K$373,8,M$8:M$373)+SUMIF(O$8:O$373,8,Q$8:Q$373)","v":0},null,null,null,0]
["module 9",null,"ok",null,{"$f":"SUMIF(C$8:C$373,9,E$8:E$373)+SUMIF(G$8:G$373,9,I$8:I$373)","v":0},null,null,null,0,null,"ok",null,{"$f":"SUMIF(K$8:K$373,9,M$8:M$373)+SUMIF(O$8:O$373,9,Q$8:Q$373)","v":0},null,null,null,0]
["module 10",null,"ok",null,{"$f":"SUMIF(C$8:C$373,10,E$8:E$373)+SUMIF(G$8:G$373,10,I$8:I$373)","v":0},null,null,null,0,null,"ok",null,{"$f":"SUMIF(K$8:K$373,10,M$8:M$373)+SUMIF(O$8:O$373,10,Q$8:Q$373)","v":0},null,null,null,0]
["module 11",null,"ok",null,{"$f":"SUMIF(C$8:C$373,11,E$8:E$373)+SUMIF(G$8:G$373,11,I$8:I$373)","v":0},null,null,null,0,null,"ok",null,{"$f":"SUMIF(K$8:K$373,11,M$8:M$373)+SUMIF(O$8:O$373,11,Q$8:Q$373)","v":0},null,null,null,0]
["module 12",null,"ok",null,{"$f":"SUMIF(C$8:C$373,12,E$8:E$373)+SUMIF(G$8:G$373,12,I$8:I$373)","v":0},null,null,null,0,null,"ok",null,{"$f":"SUMIF(K$8:K$373,12,M$8:M$373)+SUMIF(O$8:O$373,12,Q$8:Q$373)","v":0},null,null,null,0]
["module 13",null,"ok",null,{"$f":"SUMIF(C$8:C$373,13,E$8:E$373)+SUMIF(G$8:G$373,13,I$8:I$373)","v":0},null,null,null,0,null,"ok",null,{"$f":"SUMIF(K$8:K$373,13,M$8:M$373)+SUMIF(O$8:O$373,13,Q$8:Q$373)","v":0},null,null,null,0]
["module 14",null,"ok",null,{"$f":"SUMIF(C$8:C$373,14,E$8:E$373)+SUMIF(G$8:G$373,14,I$8:I$373)","v":0},null,null,null,0,null,"ok",null,{"$f":"SUMIF(K$8:K$373,14,M$8:M$373)+SUMIF(O$8:O$373,14,Q$8:Q$373)","v":0},null,null,null,0]
["module 15",null,"ok",null,{"$f":"SUMIF(C$8:C$373,15,E$8:E$373)+SUMIF(G$8:G$373,15,I$8:I$373)","v":0},null,null,null,0,null,"ok",null,{"$f":"SUMIF(K$8:K$373,15,M$8:M$373)+SUMIF(O$8:O$373,15,Q$8:Q$373)","v":0},null,null,null,0]
["module 16",null,"ok",null,{"$f":"SUMIF(C$8:C$373,16,E$8:E$373)+SUMIF(G$8:G$373,16,I$8:I$373)","v":0},null,null,null,0,null,"ok",null,{"$f":"SUMIF(K$8:K$373,16,M$8:M$373)+SUMIF(O$8:O$373,16,Q$8:Q$373)","v":0},null,null,null,0]
["module 17",null,"ok",null,{"$f":"SUMIF(C$8:C$373,17,E$8:E$373)+SUMIF(G$8:G$373,17,I$8:I$373)","v":0},null,null,null,0,null,"ok",null,{"$f":"SUMIF(K$8:K$373,17,M$8:M$373)+SUMIF(O$8:O$373,17,Q$8:Q$373)","v":0},null,null,null,0]
["module 18",null,"ok",null,{"$f":"SUMIF(C$8:C$373,18,E$8:E$373)+SUMIF(G$8:G$373,18,I$8:I$373)","v":0},null,null,null,0,null,"ok",null,{"$f":"SUMIF(K$8:K$373,18,M$8:M$373)+SUMIF(O$8:O$373,18,Q$8:Q$373)","v":0},null,null,null,0]
["module 19",null,"ok",null,{"$f":"SUMIF(C$8:C$373,19,E$8:E$373)+SUMIF(G$8:G$373,19,I$8:I$373)","v":0},null,null,null,0,null,"ok",null,{"$f":"SUMIF(K$8:K$373,19,M$8:M$373)+SUMIF(O$8:O$373,19,Q$8:Q$373)","v":0},null,null,null,0]
["module 20",null,"ok",null,{"$f":"SUMIF(C$8:C$373,20,E$8:E$373)+SUMIF(G$8:G$373,20,I$8:I$373)","v":0},null,null,null,0,null,"ok",null,{"$f":"SUMIF(K$8:K$373,20,M$8:M$373)+SUMIF(O$8:O$373,20,Q$8:Q$373)","v":0},null,null,null,0]
["module 21",null,"ok",null,{"$f":"SUMIF(C$8:C$373,21,E$8:E$373)+SUMIF(G$8:G$373,21,I$8:I$373)","v":0},null,null,null,0,null,"ok",null,{"$f":"SUMIF(K$8:K$373,21,M$8:M$373)+SUMIF(O$8:O$373,21,Q$8:Q$373)","v":0},null,null,null,0]
["module 22",null,"ok",null,{"$f":"SUMIF(C$8:C$373,22,E$8:E$373)+SUMIF(G$8:G$373,22,I$8:I$373)","v":0},null,null,null,0,null,"ok",null,{"$f":"SUMIF(K$8:K$373,22,M$8:M$373)+SUMIF(O$8:O$373,22,Q$8:Q$373)","v":0},null,null,null,0]
["module 23",null,"ok",null,{"$f":"SUMIF(C$8:C$373,23,E$8:E$373)+SUMIF(G$8:G$373,23,I$8:I$373)","v":0},null,null,null,0,null,"ok",null,{"$f":"SUMIF(K$8:K$373,23,M$8:M$373)+SUMIF(O$8:O$373,23,Q$8:Q$373)","v":0},null,null,null,0]
["module 24",null,"ok",null,{"$f":"SUMIF(C$8:C$373,24,E$8:E$373)+SUMIF(G$8:G$373,24,I$8:I$373)","v":0},null,null,null,0,null,"ok",null,{"$f":"SUMIF(K$8:K$373,24,M$8:M$373)+SUMIF(O$8:O$373,24,Q$8:Q$373)","v":0},null,null,null,0]
["module 25",null,"ok",null,{"$f":"SUMIF(C$8:C$373,25,E$8:E$373)+SUMIF(G$8:G$373,25,I$8:I$373)","v":0},null,null,null,0,null,"ok",null,{"$f":"SUMIF(K$8:K$373,25,M$8:M$373)+SUMIF(O$8:O$373,25,Q$8:Q$373)","v":0},null,null,null,0]
["module 26",null,"ok",null,{"$f":"SUMIF(C$8:C$373,26,E$8:E$373)+SUMIF(G$8:G$373,26,I$8:I$373)","v":0},null,null,null,0,null,"ok",null,{"$f":"SUMIF(K$8:K$373,26,M$8:M$373)+SUMIF(O$8:O$373,26,Q$8:Q$373)","v":0},null,null,null,0]
["module 27",null,"ok",null,{"$f":"SUMIF(C$8:C$373,27,E$8:E$373)+SUMIF(G$8:G$373,27,I$8:I$373)","v":0},null,null,null,0,null,"ok",null,{"$f":"SUMIF(K$8:K$373,27,M$8:M$373)+SUMIF(O$8:O$373,27,Q$8:Q$373)","v":0},null,null,null,0]
["module 28",null,"ok",null,{"$f":"SUMIF(C$8:C$373,28,E$8:E$373)+SUMIF(G$8:G$373,28,I$8:I$373)","v":0},null,null,null,0,null,"ok",null,{"$f":"SUMIF(K$8:K$373,28,M$8:M$373)+SUMIF(O$8:O$373,28,Q$8:Q$373)","v":0},null,null,null,0]
["module 29",null,"ok",null,{"$f":"SUMIF(C$8:C$373,29,E$8:E$373)+SUMIF(G$8:G$373,29,I$8:I$373)","v":0},null,null,null,0,null,"ok",null,{"$f":"SUMIF(K$8:K$373,29,M$8:M$373)+SUMIF(O$8:O$373,29,Q$8:Q$373)","v":0},null,null,null,0]
["module 30",null,"ok",null,{"$f":"SUMIF(C$8:C$373,30,E$8:E$373)+SUMIF(G$8:G$373,30,I$8:I$373)","v":0},null,null,null,0,null,"ok",null,{"$f":"SUMIF(K$8:K$373,30,M$8:M$373)+SUMIF(O$8:O$373,30,Q$8:Q$373)","v":0},null,null,null,0]
["module 31",null,"ok",null,{"$f":"SUMIF(C$8:C$373,31,E$8:E$373)+SUMIF(G$8:G$373,31,I$8:I$373)","v":0},null,null,null,0,null,"ok",null,{"$f":"SUMIF(K$8:K$373,31,M$8:M$373)+SUMIF(O$8:O$373,31,Q$8:Q$373)","v":0},null,null,null,0]
["module 32",null,"ok",null,{"$f":"SUMIF(C$8:C$373,32,E$8:E$373)+SUMIF(G$8:G$373,32,I$8:I$373)","v":0},null,null,null,0,null,"ok",null,{"$f":"SUMIF(K$8:K$373,32,M$8:M$373)+SUMIF(O$8:O$373,32,Q$8:Q$373)","v":0},null,null,null,0]
["module 33",null,"ok",null,{"$f":"SUMIF(C$8:C$373,33,E$8:E$373)+SUMIF(G$8:G$373,33,I$8:I$373)","v":0},null,null,null,0,null,"ok",null,{"$f":"SUMIF(K$8:K$373,33,M$8:M$373)+SUMIF(O$8:O$373,33,Q$8:Q$373)","v":0},null,null,null,0]
["module 34",null,"ok",null,{"$f":"SUMIF(C$8:C$373,34,E$8:E$373)+SUMIF(G$8:G$373,34,I$8:I$373)","v":0},null,null,null,0,null,"ok",null,{"$f":"SUMIF(K$8:K$373,34,M$8:M$373)+SUMIF(O$8:O$373,34,Q$8:Q$373)","v":0},null,null,null,0]
["module 35",null,"TE",null,{"$f":"SUMIF(C$8:C$373,35,E$8:E$373)+SUMIF(G$8:G$373,35,I$8:I$373)","v":0},null,null,null,85,null,"TE",null,{"$f":"SUMIF(K$8:K$373,35,M$8:M$373)+SUMIF(O$8:O$373,35,Q$8:Q$373)","v":0},null,null,null,85,null,"=","TACHES PRÉSENCE ÉLÈVE (PERMANENT)"]
["module 36",null,"TA",null,{"$f":"SUMIF(C$8:C$373,36,E$8:E$373)+SUMIF(G$8:G$373,36,I$8:I$373)","v":0},null,null,null,360,null,"TA",null,{"$f":"SUMIF(K$8:K$373,36,M$8:M$373)+SUMIF(O$8:O$373,36,Q$8:Q$373)","v":0},null,null,null,360,null,"=","TACHES DE DISPO"]
["module 37",null,"TNP",null,{"$f":"SUMIF(C$8:C$373,37,E$8:E$373)+SUMIF(G$8:G$373,37,I$8:I$373)","v":0},null,null,null,200,null,"TNP",null,{"$f":"SUMIF(K$8:K$373,37,M$8:M$373)+SUMIF(O$8:O$373,37,Q$8:Q$373)","v":0},null,null,null,200,null,"=","TACHES DE NATURE PERSONNEL"]
["module 90",null,"ok",null,{"$f":"SUMIF(C$8:C$373,90,E$8:E$373)+SUMIF(G$8:G$373,90,I$8:I$373)","v":0},null,null,null,0,null,"ok",null,{"$f":"SUMIF(K$8:K$373,38,M$8:M$373)+SUMIF(O$8:O$373,38,Q$8:Q$373)","v":0},null,null,null,0]
["module 39",null,"ok",null,{"$f":"SUMIF(C$8:C$373,39,E$8:E$373)+SUMIF(G$8:G$373,39,I$8:I$373)","v":0},null,null,null,0,null,"ok",null,{"$f":"SUMIF(K$8:K$373,39,M$8:M$373)+SUMIF(O$8:O$373,39,Q$8:Q$373)","v":0},null,null,null,0]
["module 89",null,"ok",null,{"$f":"SUMIF(C$8:C$373,40,E$8:E$373)+SUMIF(G$8:G$373,40,I$8:I$373)","v":0},null,null,null,0,null,"ok",null,{"$f":"SUMIF(K$8:K$373,40,M$8:M$373)+SUMIF(O$8:O$373,40,Q$8:Q$373)","v":0},null,null,null,0]
["module 90",null,"ok",null,{"$f":"SUMIF(C$8:C$373,90,E$8:E$373)+SUMIF(G$8:G$373,90,I$8:I$373)","v":0},null,null,null,0,null,"ok",null,{"$f":"SUMIF(K$8:K$373,90,M$8:M$373)+SUMIF(O$8:O$373,90,Q$8:Q$373)","v":0},null,null,null,0,null,"=","RECUPERATION"]
["module 91",null,"ok",null,{"$f":"SUMIF(C$8:C$373,91,E$8:E$373)+SUMIF(G$8:G$373,91,I$8:I$373)","v":0},null,null,null,0,null,"ok",null,{"$f":"SUMIF(K$8:K$373,91,M$8:M$373)+SUMIF(O$8:O$373,91,Q$8:Q$373)","v":0},null,null,null,0]
["module 92",null,"ok",null,{"$f":"SUMIF(C$8:C$373,92,E$8:E$373)+SUMIF(G$8:G$373,92,I$8:I$373)","v":0},null,null,null,0,null,"ok",null,{"$f":"SUMIF(K$8:K$373,92,M$8:M$373)+SUMIF(O$8:O$373,92,Q$8:Q$373)","v":0},null,null,null,0]
["module 93",null,"ok",null,{"$f":"SUMIF(C$8:C$373,93,E$8:E$373)+SUMIF(G$8:G$373,93,I$8:I$373)","v":0},null,null,null,0,null,"ok",null,{"$f":"SUMIF(K$8:K$373,93,M$8:M$373)+SUMIF(O$8:O$373,93,Q$8:Q$373)","v":0},null,null,null,0]
["module 94",null,"ok",null,{"$f":"SUMIF(C$8:C$373,94,E$8:E$373)+SUMIF(G$8:G$373,94,I$8:I$373)","v":0},null,null,null,0,null,"ok",null,{"$f":"SUMIF(K$8:K$373,94,M$8:M$373)+SUMIF(O$8:O$373,94,Q$8:Q$373)","v":0},null,null,null,0]
["module 95",null,"ok",null,{"$f":"SUMIF(C$8:C$373,95,E$8:E$373)+SUMIF(G$8:G$373,95,I$8:I$373)","v":0},null,null,null,0,null,"ok",null,{"$f":"SUMIF(K$8:K$373,95,M$8:M$373)+SUMIF(O$8:O$373,95,Q$8:Q$373)","v":0},null,null,null,0,null," "]
["module 96",null,"ok",null,{"$f":"SUMIF(C$8:C$373,96,E$8:E$373)+SUMIF(G$8:G$373,96,I$8:I$373)","v":0},null,null,null,0,null,"ok",null,{"$f":"SUMIF(K$8:K$373,96,M$8:M$373)+SUMIF(O$8:O$373,96,Q$8:Q$373)","v":0},null,null,null,0]
["module 97",null,"ok",null,{"$f":"SUMIF(C$8:C$373,97,E$8:E$373)+SUMIF(G$8:G$373,97,I$8:I$373)","v":0},null,null,null,0,null,"ok",null,{"$f":"SUMIF(K$8:K$373,97,M$8:M$373)+SUMIF(O$8:O$373,97,Q$8:Q$373)","v":0},null,null,null,0]
["module 98",null,"ok",null,{"$f":"SUMIF(C$8:C$373,98,E$8:E$373)+SUMIF(G$8:G$373,98,I$8:I$373)","v":0},null,null,null,0,null,"ok",null,{"$f":"SUMIF(K$8:K$373,98,M$8:M$373)+SUMIF(O$8:O$373,98,Q$8:Q$373)","v":0},null,null,null,0]
["module 99",null,"ok",null,{"$f":"SUMIF(C$8:C$373,99,E$8:E$373)+SUMIF(G$8:G$373,99,I$8:I$373)","v":0},null,null,null,0,null,"ok",null,{"$f":"SUMIF(K$8:K$373,99,M$8:M$373)+SUMIF(O$8:O$373,99,Q$8:Q$373)","v":0},null,null,null,0]
["Totaux",null,{"$f":"IF(E429=(I429),\"ok\",($A$429))","v":"ok"},null,{"$f":"SUM(E379:F410)","v":0},null,null,null,{"$f":"SUM(I379:J410)","v":0},null,{"$f":"IF(M429=(Q429),\"ok\",($A$429))","v":"ok"},null,{"$f":"SUM(M379:N410)","v":0},null,null,null,{"$f":"SUM(Q379:R410)","v":0}]
[]
[]
["Calculateur de période / enseignants"]
["Enseignants",null,{"$f":"C4","v":" Clément Gauthier"}]
[null,null,{"$f":"\"Heures \"& RIGHT($A4,9)","v":"Heures 2024-2025"},null,null,null,{"$f":"\"Heures été \"& RIGHT($A4,9)","v":"Heures été 2024-2025"},null,null,null,{"$f":"\"Heures \"& RIGHT($A4,9)","v":"Heures 2024-2025"},null,null,null,{"$f":"\"Heures été \"& RIGHT($A4,9)","v":"Heures été 2024-2025"}]
["cg","Clément Gauthier",{"$f":"SUMIF(D$65:D$374,A435,E$65:E$374)+SUMIF(H$65:H$374,A435,I$65:I$374)","v":0},null,null,null,{"$f":"SUMIF(D$8:D$64,A435,E$8:E$64)+SUMIF(H$8:H$64,A435,I$8:I$64)","v":0},null,null,null,{"$f":"SUMIF(L$65:L$374,A435,M$65:M$374)+SUMIF(P$65:P$374,A435,Q$65:Q$374)","v":0},null,null,null,{"$f":"SUMIF(L$8:L$64,#REF!,M$8:M$64)+SUMIF(P$8:P$64,#REF!,Q$8:Q$64)","v":0}]
[]
[]
["Total des hrs"]
[null,{"$f":"SUM(W441,S441,O441,K441,G441,C441)","v":0},"ENSEIGNEMENT",null,null,null,"PERMANENT",null,null,null,"DISPO",null,null,null,"NATURE PERSO",null,null,null,"TUTORAT+RECUP",null,null,null,"AUTRE"]
[null,null,"Heures 2012-2013",null,null,null,"TE = 85 HRS",null,null,null,"TA = 360 HRS",null,null,null,"TNP = 200 HRS"]
[null,null,{"$f":"SUM(C435+K435)","v":0},null,null,null,{"$f":"SUM(E413+M413)","v":0},null,null,null,{"$f":"SUM(E414+M414)","v":0},null,null,null,{"$f":"SUM(E415+M415)","v":0},null,null,null,0,null,null,null,0]

{"sheet":"Mathieu Primard","index":43,"n_rows":441,"n_cols":23,"rows_kept":441,"cut":false,"hidden":false,"merged":[[367,2,367,9],[367,10,367,17],[368,2,368,9],[368,10,368,17],[371,2,371,9],[371,10,371,17],[361,2,361,9],[361,10,361,17],[364,2,364,9],[364,10,364,17],[366,2,366,9],[366,10,366,17],[358,2,358,9],[358,10,358,17],[359,2,359,9],[359,10,359,17],[360,2,360,9],[360,10,360,17],[353,2,353,9],[353,10,353,17],[354,2,354,9],[354,10,354,17],[357,2,357,9],[357,10,357,17],[350,2,350,9],[350,10,350,17],[351,2,351,9],[351,10,351,17],[352,2,352,9],[352,10,352,17],[345,2,345,9],[345,10,345,17],[346,2,346,9],[346,10,346,17],[347,2,347,9],[347,10,347,17],[340,2,340,9],[340,10,340,17],[343,2,343,9],[343,10,343,17],[344,2,344,9],[344,10,344,17],[337,2,337,9],[337,10,337,17],[338,2,338,9],[338,10,338,17],[339,2,339,9],[339,10,339,17],[332,2,332,9],[332,10,332,17],[333,2,333,9],[333,10,333,17],[336,2,336,9],[336,10,336,17],[329,2,329,9],[329,10,329,17],[330,2,330,9],[330,10,330,17],[331,2,331,9],[331,10,331,17],[324,2,324,9],[324,10,324,17],[325,2,325,9],[325,10,325,17],[326,2,326,9],[326,10,326,17],[317,2,317,9],[317,10,317,17],[322,2,322,9],[322,10,322,17],[323,2,323,9],[323,10,323,17],[143,2,143,9],[143,10,143,17],[144,2,144,9],[144,10,144,17],[263,2,263,9],[263,10,263,17],[280,2,280,9],[280,10,280,17],[298,2,298,9],[298,10,298,17],[214,2,214,9],[214,10,214,17],[235,2,235,9],[235,10,235,17],[238,2,238,9],[238,10,238,17],[135,2,135,9],[135,10,135,17],[140,2,140,9],[140,10,140,17],[141,2,141,9],[141,10,141,17],[101,2,101,9],[101,10,101,17],[133,2,133,9],[133,10,133,17],[134,2,134,9],[134,10,134,17],[72,2,72,9],[72,10,72,17],[87,2,87,9],[87,10,87,17],[88,2,88,9],[88,10,88,17],[21,2,21,9],[21,10,21,17],[63,2,63,9],[63,10,63,17],[440,18,440,21],[440,22,440,25],[136,2,136,9],[137,2,137,9],[136,10,136,17],[137,10,137,17],[365,2,365,9],[365,10,365,17],[438,18,438,21],[438,22,438,25],[439,2,439,5],[439,6,439,9],[439,10,439,13],[439,14,439,17],[439,18,439,21],[439,22,439,25],[434,2,434,5],[434,6,434,9],[147,2,147,9],[147,10,147,17],[172,2,172,9],[172,10,172,17],[198,2,198,9],[198,10,198,17],[434,10,434,13],[434,14,434,17],[428,2,428,3],[428,4,428,7],[142,2,142,9],[142,10,142,17],[438,1,440,1],[438,6,438,9],[438,10,438,13],[438,14,438,17],[440,2,440,5],[440,6,440,9],[432,0,433,1],[432,2,432,17],[433,2,433,5],[433,6,433,9],[433,10,433,13],[433,14,433,17],[440,10,440,13],[440,14,440,17],[428,8,428,9],[428,10,428,11],[428,12,428,15],[428,16,428,17],[426,16,426,17],[427,0,427,1],[427,2,427,3],[427,4,427,7],[427,8,427,9],[427,10,427,11],[427,12,427,15],[427,16,427,17],[426,0,426,1],[426,2,426,3],[426,4,426,7],[426,8,426,9],[426,10,426,11],[426,12,426,15],[424,16,424,17],[425,0,425,1],[425,2,425,3],[425,4,425,7],[425,8,425,9],[425,10,425,11],[425,12,425,15],[425,16,425,17],[424,0,424,1],[424,2,424,3],[424,4,424,7],[424,8,424,9],[424,10,424,11],[424,12,424,15],[422,16,422,17],[423,0,423,1],[423,2,423,3],[423,4,423,7],[423,8,423,9],[423,10,423,11],[423,12,423,15],[423,16,423,17],[422,0,422,1],[422,2,422,3],[422,4,422,7],[422,8,422,9],[422,10,422,11],[422,12,422,15],[420,16,420,17],[421,0,421,1],[421,2,421,3],[421,4,421,7],[421,8,421,9],[421,10,421,11],[421,12,421,15],[421,16,421,17],[420,0,420,1],[420,2,420,3],[420,4,420,7],[420,8,420,9],[420,10,420,11],[420,12,420,15],[418,19,418,27],[419,0,419,1],[419,2,419,3],[419,4,419,7],[419,8,419,9],[419,10,419,11],[419,12,419,15],[419,16,419,17],[418,0,418,1],[418,2,418,3],[418,4,418,7],[418,8,418,9],[418,10,418,11],[418,12,418,15],[416,16,416,17],[417,16,417,17],[418,16,418,17],[417,0,417,1],[417,2,417,3],[417,4,417,7],[417,8,417,9],[417,10,417,11],[417,12,417,15],[416,0,416,1],[416,2,416,3],[416,4,416,7],[416,8,416,9],[416,10,416,11],[416,12,416,15],[414,16,414,17],[414,19,414,27],[415,0,415,1],[415,2,415,3],[415,4,415,7],[415,8,415,9],[415,10,415,11],[415,12,415,15],[415,16,415,17],[414,0,414,1],[414,2,414,3],[414,4,414,7],[414,8,414,9],[414,10,414,11],[414,12,414,15],[412,16,412,17],[412,2,412,3],[412,4,412,7],[412,8,412,9],[412,10,412,11],[412,19,412,29],[413,0,413,1],[413,2,413,3],[413,4,413,7],[413,8,413,9],[413,10,413,11],[413,12,413,15],[413,16,413,17],[413,19,413,27],[412,0,412,1],[412,12,412,15],[410,16,410,17],[411,0,411,1],[411,2,411,3],[411,4,411,7],[411,8,411,9],[411,10,411,11],[411,12,411,15],[411,16,411,17],[410,0,410,1],[410,2,410,3],[410,4,410,7],[410,8,410,9],[410,10,410,11],[410,12,410,15],[408,16,408,17],[409,16,409,17],[409,0,409,1],[409,2,409,3],[409,4,409,7],[409,8,409,9],[409,10,409,11],[409,12,409,15],[408,0,408,1],[408,2,408,3],[408,4,408,7],[408,8,408,9],[408,10,408,11],[408,12,408,15],[406,16,406,17],[407,0,407,1],[407,2,407,3],[407,4,407,7],[407,8,407,9],[407,10,407,11],[407,12,407,15],[407,16,407,17],[406,0,406,1],[406,2,406,3],[406,4,406,7],[406,8,406,9],[406,10,406,11],[406,12,406,15],[404,16,404,17],[405,0,405,1],[405,2,405,3],[405,4,405,7],[405,8,405,9],[405,10,405,11],[405,12,405,15],[405,16,405,17],[404,0,404,1],[404,2,404,3],[404,4,404,7],[404,8,404,9],[404,10,404,11],[404,12,404,15],[402,16,402,17],[403,0,403,1],[403,2,403,3],[403,4,403,7],[403,8,403,9],[403,10,403,11],[403,12,403,15],[403,16,403,17],[402,0,402,1],[402,2,402,3],[402,4,402,7],[402,8,402,9],[402,10,402,11],[402,12,402,15],[400,16,400,17],[401,0,401,1],[401,2,401,3],[401,4,401,7],[401,8,401,9],[401,10,401,11],[401,12,401,15],[401,16,401,17],[400,0,400,1],[400,2,400,3],[400,4,400,7],[400,8,400,9],[400,10,400,11],[400,12,400,15],[398,16,398,17],[399,0,399,1],[399,2,399,3],[399,4,399,7],[399,8,399,9],[399,10,399,11],[399,12,399,15],[399,16,399,17],[398,0,398,1],[398,2,398,3],[398,4,398,7],[398,8,398,9],[398,10,398,11],[398,12,398,15],[396,16,396,17],[397,0,397,1],[397,2,397,3],[397,4,397,7],[397,8,397,9],[397,10,397,11],[397,12,397,15],[397,16,397,17],[396,0,396,1],[396,2,396,3],[396,4,396,7],[396,8,396,9],[396,10,396,11],[396,12,396,15],[394,16,394,17],[395,0,395,1],[395,2,395,3],[395,4,395,7],[395,8,395,9],[395,10,395,11],[395,12,395,15],[395,16,395,17],[394,0,394,1],[394,2,394,3],[394,4,394,7],[394,8,394,9],[394,10,394,11],[394,12,394,15],[392,16,392,17],[393,0,393,1],[393,2,393,3],[393,4,393,7],[393,8,393,9],[393,10,393,11],[393,12,393,15],[393,16,393,17],[392,0,392,1],[392,2,392,3],[392,4,392,7],[392,8,392,9],[392,10,392,11],[392,12,392,15],[390,16,390,17],[391,0,391,1],[391,2,391,3],[391,4,391,7],[391,8,391,9],[391,10,391,11],[391,12,391,15],[391,16,391,17],[390,0,390,1],[390,2,390,3],[390,4,390,7],[390,8,390,9],[390,10,390,11],[390,12,390,15],[388,16,388,17],[389,0,389,1],[389,2,389,3],[389,4,389,7],[389,8,389,9],[389,10,389,11],[389,12,389,15],[389,16,389,17],[388,0,388,1],[388,2,388,3],[388,4,388,7],[388,8,388,9],[388,10,388,11],[388,12,388,15],[386,16,386,17],[387,0,387,1],[387,2,387,3],[387,4,387,7],[387,8,387,9],[387,10,387,11],[387,12,387,15],[387,16,387,17],[386,0,386,1],[386,2,386,3],[386,4,386,7],[386,8,386,9],[386,10,386,11],[386,12,386,15],[384,16,384,17],[385,0,385,1],[385,2,385,3],[385,4,385,7],[385,8,385,9],[385,10,385,11],[385,12,385,15],[385,16,385,17],[384,0,384,1],[384,2,384,3],[384,4,384,7],[384,8,384,9],[384,10,384,11],[384,12,384,15],[382,16,382,17],[383,0,383,1],[383,2,383,3],[383,4,383,7],[383,8,383,9],[383,10,383,11],[383,12,383,15],[383,16,383,17],[382,0,382,1],[382,2,382,3],[382,4,382,7],[382,8,382,9],[382,10,382,11],[382,12,382,15],[379,0,379,1],[379,2,379,3],[379,4,379,7],[379,8,379,9],[379,10,379,11],[379,12,379,15],[379,16,379,17],[380,16,380,17],[381,0,381,1],[381,2,381,3],[381,4,381,7],[381,8,381,9],[381,10,381,11],[381,12,381,15],[381,16,381,17],[380,0,380,1],[380,2,380,3],[380,4,380,7],[380,8,380,9],[380,10,380,11],[380,12,380,15],[371,19,371,29],[372,19,372,29],[376,0,377,1],[377,4,377,7],[377,12,377,15],[378,0,378,1],[378,2,378,3],[378,4,378,7],[378,8,378,9],[378,10,378,11],[378,12,378,15],[378,16,378,17],[372,2,372,9],[372,10,372,17],[373,2,373,9],[373,10,373,17],[365,19,365,29],[366,19,366,29],[367,19,367,29],[368,19,368,29],[369,19,369,29],[370,19,370,29],[359,19,359,29],[360,19,360,29],[361,19,361,29],[362,19,362,29],[363,19,363,29],[364,19,364,29],[353,19,353,29],[354,19,354,29],[355,19,355,29],[356,19,356,29],[357,19,357,29],[358,19,358,29],[347,19,347,29],[348,19,348,29],[349,19,349,29],[350,19,350,29],[351,19,351,29],[352,19,352,29],[341,19,341,29],[342,19,342,29],[343,19,343,29],[344,19,344,29],[345,19,345,29],[346,19,346,29],[335,19,335,29],[336,19,336,29],[337,19,337,29],[338,19,338,29],[339,19,339,29],[340,19,340,29],[329,19,329,29],[330,19,330,29],[331,19,331,29],[332,19,332,29],[333,19,333,29],[334,19,334,29],[323,19,323,29],[324,19,324,29],[325,19,325,29],[326,19,326,29],[327,19,327,29],[328,19,328,29],[317,19,317,29],[318,19,318,29],[319,19,319,29],[320,19,320,29],[321,19,321,29],[322,19,322,29],[311,19,311,29],[312,19,312,29],[313,19,313,29],[314,19,314,29],[315,19,315,29],[316,19,316,29],[305,19,305,29],[306,19,306,29],[307,19,307,29],[308,19,308,29],[309,19,309,29],[310,19,310,29],[299,19,299,29],[300,19,300,29],[301,19,301,29],[302,19,302,29],[303,19,303,29],[304,19,304,29],[293,19,293,29],[294,19,294,29],[295,19,295,29],[296,19,296,29],[297,19,297,29],[298,19,298,29],[287,19,287,29],[288,19,288,29],[289,19,289,29],[290,19,290,29],[291,19,291,29],[292,19,292,29],[281,19,281,29],[282,19,282,29],[283,19,283,29],[284,19,284,29],[285,19,285,29],[286,19,286,29],[275,19,275,29],[276,19,276,29],[277,19,277,29],[278,19,278,29],[279,19,279,29],[280,19,280,29],[269,19,269,29],[270,19,270,29],[271,19,271,29],[272,19,272,29],[273,19,273,29],[274,19,274,29],[263,19,263,29],[264,19,264,29],[265,19,265,29],[266,19,266,29],[267,19,267,29],[268,19,268,29],[257,19,257,29],[258,19,258,29],[259,19,259,29],[260,19,260,29],[261,19,261,29],[262,19,262,29],[251,19,251,29],[252,19,252,29],[253,19,253,29],[254,19,254,29],[255,19,255,29],[256,19,256,29],[245,19,245,29],[246,19,246,29],[247,19,247,29],[248,19,248,29],[249,19,249,29],[250,19,250,29],[239,19,239,29],[240,19,240,29],[241,19,241,29],[242,19,242,29],[243,19,243,29],[244,19,244,29],[233,19,233,29],[234,19,234,29],[235,19,235,29],[236,19,236,29],[237,19,237,29],[238,19,238,29],[227,19,227,29],[228,19,228,29],[229,19,229,29],[230,19,230,29],[231,19,231,29],[232,19,232,29],[221,19,221,29],[222,19,222,29],[223,19,223,29],[224,19,224,29],[225,19,225,29],[226,19,226,29],[215,19,215,29],[216,19,216,29],[217,19,217,29],[218,19,218,29],[219,19,219,29],[220,19,220,29],[209,19,209,29],[210,19,210,29],[211,19,211,29],[212,19,212,29],[213,19,213,29],[214,19,214,29],[203,19,203,29],[204,19,204,29],[205,19,205,29],[206,19,206,29],[207,19,207,29],[208,19,208,29],[197,19,197,29],[198,19,198,29],[199,19,199,29],[200,19,200,29],[201,19,201,29],[202,19,202,29],[191,19,191,29],[192,19,192,29],[193,19,193,29],[194,19,194,29],[195,19,195,29],[196,19,196,29],[185,19,185,29],[186,19,186,29],[187,19,187,29],[188,19,188,29],[189,19,189,29],[190,19,190,29],[179,19,179,29],[180,19,180,29],[181,19,181,29],[182,19,182,29],[183,19,183,29],[184,19,184,29],[173,19,173,29],[174,19,174,29],[175,19,175,29],[176,19,176,29],[177,19,177,29],[178,19,178,29],[167,19,167,29],[168,19,168,29],[169,19,169,29],[170,19,170,29],[171,19,171,29],[172,19,172,29],[161,19,161,29],[162,19,162,29],[163,19,163,29],[164,19,164,29],[165,19,165,29],[166,19,166,29],[155,19,155,29],[156,19,156,29],[157,19,157,29],[158,19,158,29],[159,19,159,29],[160,19,160,29],[149,19,149,29],[150,19,150,29],[151,19,151,29],[152,19,152,29],[153,19,153,29],[154,19,154,29],[143,19,143,29],[144,19,144,29],[145,19,145,29],[146,19,146,29],[147,19,147,29],[148,19,148,29],[137,19,137,29],[138,19,138,29],[139,19,139,29],[140,19,140,29],[141,19,141,29],[142,19,142,29],[131,19,131,29],[132,19,132,29],[133,19,133,29],[134,19,134,29],[135,19,135,29],[136,19,136,29],[125,19,125,29],[126,19,126,29],[127,19,127,29],[128,19,128,29],[129,19,129,29],[130,19,130,29],[119,19,119,29],[120,19,120,29],[121,19,121,29],[122,19,122,29],[123,19,123,29],[124,19,124,29],[113,19,113,29],[114,19,114,29],[115,19,115,29],[116,19,116,29],[117,19,117,29],[118,19,118,29],[107,19,107,29],[108,19,108,29],[109,19,109,29],[110,19,110,29],[111,19,111,29],[112,19,112,29],[101,19,101,29],[102,19,102,29],[103,19,103,29],[104,19,104,29],[105,19,105,29],[106,19,106,29],[95,19,95,29],[96,19,96,29],[97,19,97,29],[98,19,98,29],[99,19,99,29],[100,19,100,29],[89,19,89,29],[90,19,90,29],[91,19,91,29],[92,19,92,29],[93,19,93,29],[94,19,94,29],[83,19,83,29],[84,19,84,29],[85,19,85,29],[86,19,86,29],[87,19,87,29],[88,19,88,29],[77,19,77,29],[78,19,78,29],[79,19,79,29],[80,19,80,29],[81,19,81,29],[82,19,82,29],[71,19,71,29],[72,19,72,29],[73,19,73,29],[74,19,74,29],[75,19,75,29],[76,19,76,29],[65,19,65,29],[66,19,66,29],[67,19,67,29],[68,19,68,29],[69,19,69,29],[70,19,70,29],[59,19,59,29],[60,19,60,29],[61,19,61,29],[62,19,62,29],[63,19,63,29],[64,19,64,29],[53,19,53,29],[54,19,54,29],[55,19,55,29],[56,19,56,29],[57,19,57,29],[58,19,58,29],[47,19,47,29],[48,19,48,29],[49,19,49,29],[50,19,50,29],[51,19,51,29],[52,19,52,29],[41,19,41,29],[42,19,42,29],[43,19,43,29],[44,19,44,29],[45,19,45,29],[46,19,46,29],[35,19,35,29],[36,19,36,29],[37,19,37,29],[38,19,38,29],[39,19,39,29],[40,19,40,29],[29,19,29,29],[30,19,30,29],[31,19,31,29],[32,19,32,29],[33,19,33,29],[34,19,34,29],[23,19,23,29],[24,19,24,29],[25,19,25,29],[26,19,26,29],[27,19,27,29],[28,19,28,29],[19,19,19,29],[20,19,20,29],[21,19,21,29],[22,19,22,29],[11,19,11,29],[12,19,12,29],[13,19,13,29],[14,19,14,29],[15,19,15,29],[16,19,16,29],[8,19,8,29],[9,19,9,29],[10,19,10,29],[7,2,7,9],[7,10,7,17],[8,2,8,9],[8,10,8,17],[17,19,17,29],[18,19,18,29],[14,2,14,9],[14,10,14,17],[9,2,9,9],[9,10,9,17],[10,2,10,9],[10,10,10,17],[11,2,11,9],[11,10,11,17],[3,0,3,1],[3,2,3,17],[3,19,3,29],[4,0,4,1],[4,2,4,9],[4,10,4,17],[5,2,5,9],[5,10,5,17],[7,19,7,29]]}
[]
["Horaire prof Mécanique de véhicules lourds routiers"]
[" "]
["Année scolaire 2024-2025",null," Mathieu Primard",null,null,null,null,null,null,null,null,null,null,null,null,null,null,null,null,"Commentaires"]
[null,null," Intensif 1800",null,null,null,null,null,null,null," Intensif 1800"]
[3,null,"Jour    ",null,null,null,null,null,null,null,"Soir    "]
[null,null,"M","P","H","L","M","P","H","L","M","P","H","L","M","P","H","L"]
[{"$f":"WEEKDAY(B8,2)","v":1},"2025-08-18","                   Vacances          ",null,null,null,null,null,null,null,"                   Vacances          "]
[2,"2025-08-19","                   Vacances          ",null,null,null,null,null,null,null,"                   Vacances          "]
[3,{"$f":"B9+1","v":"2025-08-20"},"                   Vacances          ",null,null,null,null,null,null,null,"                   Vacances          "]
[4,{"$f":"B10+1","v":"2025-08-21"},"                   Vacances          ",null,null,null,null,null,null,null,"                   Vacances          "]
[5,"2025-08-22","     Pédagogique Commune",null,null,null,null,null,null,null,"     Pédagogique Commune"]
[6,"2025-08-23","                       WEEK-END                       ",null,null,null,null,null,null,null,"                       WEEK-END                       "]
[7,"2025-08-24","                       WEEK-END                       ",null,null,null,null,null,null,null,"                       WEEK-END                       "]
[1,"2025-08-25","     Pédagogique",null,null,null,null,null,null,null,"     Pédagogique"]
[2,"2025-08-26"]
[3,"2025-08-27"]
[4,"2025-08-28"]
[5,"2025-08-29"]
[6,"2025-08-30","                       WEEK-END                       ",null,null,null,null,null,null,null,"                       WEEK-END                       "]
[7,"2025-08-31","                       WEEK-END                       ",null,null,null,null,null,null,null,"                       WEEK-END                       "]
[1,"2025-09-01","Congé",null,null,null,null,null,null,null,"Congé"]
[2,"2025-09-02"]
[3,"2025-09-03"]
[4,"2025-09-04"]
[5,"2025-09-05"]
[6,"2025-09-06","                       WEEK-END                       ",null,null,null,null,null,null,null,"                       WEEK-END                       "]
[7,"2025-09-07","                       WEEK-END                       ",null,null,null,null,null,null,null,"                       WEEK-END                       "]
[1,"2025-09-08"]
[2,"2025-09-09"]
[3,"2025-09-10"]
[4,"2025-09-11"]
[5,"2025-09-12"]
[6,"2025-09-13","                       WEEK-END                       ",null,null,null,null,null,null,null,"                       WEEK-END                       "]
[7,"2025-09-14","                       WEEK-END                       ",null,null,null,null,null,null,null,"                       WEEK-END                       "]
[1,"2025-09-15"]
[2,"2025-09-16"]
[3,"2025-09-17"]
[4,"2025-09-18"]
[5,"2025-09-19"]
[6,"2025-09-20","                       WEEK-END                       ",null,null,null,null,null,null,null,"                       WEEK-END                       "]
[7,"2025-09-21","                       WEEK-END                       ",null,null,null,null,null,null,null,"                       WEEK-END                       "]
[1,"2025-09-22"]
[2,"2025-09-23"]
[3,"2025-09-24"]
[4,"2025-09-25"]
[5,"2025-09-26"]
[6,"2025-09-27","                       WEEK-END                       ",null,null,null,null,null,null,null,"                       WEEK-END                       "]
[7,"2025-09-28","                       WEEK-END                       ",null,null,null,null,null,null,null,"                       WEEK-END                       "]
[1,"2025-09-29"]
[2,"2025-09-30"]
[3,"2025-10-01"]
[4,"2025-10-02"]
[5,"2025-10-03"]
[6,"2025-10-04","                       WEEK-END                       ",null,null,null,null,null,null,null,"                       WEEK-END                       "]
[7,"2025-10-05","                       WEEK-END                       ",null,null,null,null,null,null,null,"                       WEEK-END                       "]
[1,"2025-10-06"]
[2,"2025-10-07"]
[3,"2025-10-08"]
[4,"2025-10-09"]
[5,"2025-10-10"]
[6,"2025-10-11","                       WEEK-END                       ",null,null,null,null,null,null,null,"                       WEEK-END                       "]
[7,"2025-10-12","                       WEEK-END                       ",null,null,null,null,null,null,null,"                       WEEK-END                       "]
[1,"2025-10-13","Congé",null,null,null,null,null,null,null,"Congé"]
[2,"2025-10-14"]
[3,"2025-10-15"]
[4,"2025-10-16"]
[5,"2025-10-17"]
[6,"2025-10-18","                       WEEK-END                       ",null,null,null,null,null,null,null,"                       WEEK-END                       "]
[7,"2025-10-19","                       WEEK-END                       ",null,null,null,null,null,null,null,"                       WEEK-END                       "]
[1,"2025-10-20"]
[{"$f":"WEEKDAY(B72,2)","v":2},"2025-10-21"]
[3,"2025-10-22","     Pédagogique",null,null,null,null,null,null,null,"     Pédagogique"]
[4,"2025-10-23"]
[5,{"$f":"B74+1","v":"2025-10-24"}]
[6,"2025-10-25","                       WEEK-END                       ",null,null,null,null,null,null,null,"                       WEEK-END                       "]
[7,"2025-10-26","                       WEEK-END                       ",null,null,null,null,null,null,null,"                       WEEK-END                       "]
[1,"2025-10-27"]
[2,"2025-10-28"]
[3,"2025-10-29"]
[4,"2025-10-30"]
[5,"2025-10-31"]
[6,"2025-11-01","                       WEEK-END                       ",null,null,null,null,null,null,null,"                       WEEK-END                       "]
[7,"2025-11-02","                       WEEK-END                       ",null,null,null,null,null,null,null,"                       WEEK-END                       "]
[1,"2025-11-03"]
[2,"2025-11-04"]
[3,"2025-11-05"]
[4,"2025-11-06","     Pédagogique",null,null,null,null,null,null,null,"     Pédagogique"]
[5,"2025-11-07","     Pédagogique",null,null,null,null,null,null,null,"     Pédagogique"]
[6,"2025-11-08","                       WEEK-END                       ",null,null,null,null,null,null,null,"                       WEEK-END                       "]
[7,"2025-11-09","                       WEEK-END                       ",null,null,null,null,null,null,null,"                       WEEK-END                       "]
[1,"2025-11-10"]
[2,"2025-11-11"]
[3,"2025-11-12"]
[4,"2025-11-13"]
[5,"2025-11-14"]
[6,"2025-11-15","                       WEEK-END                       ",null,null,null,null,null,null,null,"                       WEEK-END                       "]
[7,"2025-11-16","                       WEEK-END                       ",null,null,null,null,null,null,null,"                       WEEK-END                       "]
[1,"2025-11-17"]
[2,"2025-11-18"]
[3,"2025-11-19"]
[4,"2025-11-20","     Pédagogique Commune",null,null,null,null,null,null,null,"     Pédagogique Commune"]
[5,"2025-11-21"]
[6,"2025-11-22","                       WEEK-END                       ",null,null,null,null,null,null,null,"                       WEEK-END                       "]
[7,"2025-11-23","                       WEEK-END                       ",null,null,null,null,null,null,null,"                       WEEK-END                       "]
[1,"2025-11-24"]
[2,"2025-11-25"]
[3,"2025-11-26"]
[4,"2025-11-27"]
[5,"2025-11-28"]
[6,"2025-11-29","                       WEEK-END                       ",null,null,null,null,null,null,null,"                       WEEK-END                       "]
[7,"2025-11-30","                       WEEK-END                       ",null,null,null,null,null,null,null,"                       WEEK-END                       "]
[1,"2025-12-01"]
[2,"2025-12-02"]
[3,"2025-12-03"]
[4,"2025-12-04"]
[5,"2025-12-05"]
[6,"2025-12-06","                       WEEK-END                       ",null,null,null,null,null,null,null,"                       WEEK-END                       "]
[7,"2025-12-07","                       WEEK-END                       ",null,null,null,null,null,null,null,"                       WEEK-END                       "]
[1,"2025-12-08"]
[2,"2025-12-09"]
[3,"2025-12-10"]
[4,"2025-12-11"]
[5,"2025-12-12"]
[6,"2025-12-13","                       WEEK-END                       ",null,null,null,null,null,null,null,"                       WEEK-END                       "]
[7,"2025-12-14","                       WEEK-END                       ",null,null,null,null,null,null,null,"                       WEEK-END                       "]
[1,"2025-12-15"]
[2,"2025-12-16"]
[3,"2025-12-17"]
[4,"2025-12-18"]
[5,"2025-12-19"]
[6,"2025-12-20","                       WEEK-END                       ",null,null,null,null,null,null,null,"                       WEEK-END                       "]
[7,"2025-12-21","                       WEEK-END                       ",null,null,null,null,null,null,null,"                       WEEK-END                       "]
[1,"2025-12-22","Congé Noël",null,null,null,null,null,null,null,"Congé Noël"]
[2,"2025-12-23","Congé Noël",null,null,null,null,null,null,null,"Congé Noël"]
[{"$f":"WEEKDAY(B136,2)","v":3},"2025-12-24","Congé Noël",null,null,null,null,null,null,null,"Congé Noël"]
[4,"2025-12-25","Congé Noël",null,null,null,null,null,null,null,"Congé Noël"]
[5,"2025-12-26","Congé Noël",null,null,null,null,null,null,null,"Congé Noël"]
[6,{"$f":"B138+1","v":"2025-12-27"},"                       WEEK-END                       ",null,null,null,null,null,null,null,"                       WEEK-END                       "]
[7,"2025-12-28","                       WEEK-END                       ",null,null,null,null,null,null,null,"                       WEEK-END                       "]
[1,"2025-12-29","Congé Noël",null,null,null,null,null,null,null,"Congé Noël"]
[2,"2025-12-30","Congé Noël",null,null,null,null,null,null,null,"Congé Noël"]
[3,"2025-12-31","Congé Noël",null,null,null,null,null,null,null,"Congé Noël"]
[4,"2026-01-01","Congé Noël",null,null,null,null,null,null,null,"Congé Noël"]
[5,"2026-01-02","Congé Noël",null,null,null,null,null,null,null,"Congé Noël"]
[6,"2026-01-03","                       WEEK-END                       ",null,null,null,null,null,null,null,"                       WEEK-END                       "]
[7,"2026-01-04","                       WEEK-END                       ",null,null,null,null,null,null,null,"                       WEEK-END                       "]
[1,"2026-01-05","     Pédagogique Commune",null,null,null,null,null,null,null,"     Pédagogique Commune"]
[2,"2026-01-06"]
[3,"2026-01-07"]
[4,"2026-01-08"]
[5,"2026-01-09"]
[6,"2026-01-10","                       WEEK-END                       ",null,null,null,null,null,null,null,"                       WEEK-END                       "]
[7,"2026-01-11","                       WEEK-END                       ",null,null,null,null,null,null,null,"                       WEEK-END                       "]
[1,"2026-01-12"]
[2,"2026-01-13"]
[3,"2026-01-14"]
[4,"2026-01-15"]
[5,"2026-01-16"]
[6,"2026-01-17","                       WEEK-END                       ",null,null,null,null,null,null,null,"                       WEEK-END                       "]
[7,"2026-01-18","                       WEEK-END                       ",null,null,null,null,null,null,null,"                       WEEK-END                       "]
[1,"2026-01-19"]
[2,"2026-01-20"]
[3,"2026-01-21"]
[4,"2026-01-22"]
[5,"2026-01-23"]
[6,"2026-01-24","                       WEEK-END                       ",null,null,null,null,null,null,null,"                       WEEK-END                       "]
[7,"2026-01-25","                       WEEK-END                       ",null,null,null,null,null,null,null,"                       WEEK-END                       "]
[1,"2026-01-26"]
[2,"2026-01-27"]
[3,"2026-01-28"]
[4,"2026-01-29"]
[5,"2026-01-30","     Pédagogique",null,null,null,null,null,null,null,"     Pédagogique"]
[6,"2026-01-31","                       WEEK-END                       ",null,null,null,null,null,null,null,"                       WEEK-END                       "]
[7,"2026-02-01","                       WEEK-END                       ",null,null,null,null,null,null,null,"                       WEEK-END                       "]
[1,"2026-02-02"]
[2,"2026-02-03"]
[3,"2026-02-04"]
[4,"2026-02-05"]
[5,"2026-02-06"]
[6,"2026-02-07","                       WEEK-END                       ",null,null,null,null,null,null,null,"                       WEEK-END                       "]
[7,"2026-02-08","                       WEEK-END                       ",null,null,null,null,null,null,null,"                       WEEK-END                       "]
[1,"2026-02-09"]
[2,"2026-02-10"]
[3,"2026-02-11"]
[4,"2026-02-12"]
[5,"2026-02-13"]
[6,"2026-02-14","                       WEEK-END                       ",null,null,null,null,null,null,null,"                       WEEK-END                       "]
[7,"2026-02-15","                       WEEK-END                       ",null,null,null,null,null,null,null,"                       WEEK-END                       "]
[1,"2026-02-16"]
[2,"2026-02-17"]
[3,"2026-02-18"]
[4,"2026-02-19"]
[5,"2026-02-20"]
[6,"2026-02-21","                       WEEK-END                       ",null,null,null,null,null,null,null,"                       WEEK-END                       "]
[7,"2026-02-22","                       WEEK-END                       ",null,null,null,null,null,null,null,"                       WEEK-END                       "]
[1,"2026-02-23"]
[2,"2026-02-24"]
[3,"2026-02-25","     Pédagogique",null,null,null,null,null,null,null,"     Pédagogique"]
[{"$f":"WEEKDAY(B200,2)","v":4},"2026-02-26"]
[5,"2026-02-27"]
[6,"2026-02-28","                       WEEK-END                       ",null,null,null,null,null,null,null,"                       WEEK-END                       "]
[7,{"$f":"B202+1","v":"2026-03-01"},"                       WEEK-END                       ",null,null,null,null,null,null,null,"                       WEEK-END                       "]
[1,"2026-03-02"]
[2,"2026-03-03"]
[3,"2026-03-04"]
[4,"2026-03-05"]
[5,"2026-03-06"]
[6,"2026-03-07","                       WEEK-END                       ",null,null,null,null,null,null,null,"                       WEEK-END                       "]
[7,"2026-03-08","                       WEEK-END                       ",null,null,null,null,null,null,null,"                       WEEK-END                       "]
[1,"2026-03-09"]
[2,"2026-03-10"]
[3,"2026-03-11"]
[4,"2026-03-12"]
[5,"2026-03-13","     Pédagogique",null,null,null,null,null,null,null,"     Pédagogique"]
[6,"2026-03-14","                       WEEK-END                       ",null,null,null,null,null,null,null,"                       WEEK-END                       "]
[7,"2026-03-15","                       WEEK-END                       ",null,null,null,null,null,null,null,"                       WEEK-END                       "]
[1,"2026-03-16"]
[2,"2026-03-17"]
[3,"2026-03-18"]
[4,"2026-03-19"]
[5,"2026-03-20"]
[6,"2026-03-21","                       WEEK-END                       ",null,null,null,null,null,null,null,"                       WEEK-END                       "]
[7,"2026-03-22","                       WEEK-END                       ",null,null,null,null,null,null,null,"                       WEEK-END                       "]
[1,"2026-03-23"]
[2,"2026-03-24"]
[3,"2026-03-25"]
[4,"2026-03-26"]
[5,"2026-03-27"]
[6,"2026-03-28","                       WEEK-END                       ",null,null,null,null,null,null,null,"                       WEEK-END                       "]
[7,"2026-03-29","                       WEEK-END                       ",null,null,null,null,null,null,null,"                       WEEK-END                       "]
[1,"2026-03-30"]
[2,"2026-03-31"]
[3,"2026-04-01"]
[4,"2026-04-02"]
[5,"2026-04-03","Congé",null,null,null,null,null,null,null,"Congé"]
[6,"2026-04-04","                       WEEK-END                       ",null,null,null,null,null,null,null,"                       WEEK-END                       "]
[7,"2026-04-05","                       WEEK-END                       ",null,null,null,null,null,null,null,"                       WEEK-END                       "]
[1,"2026-04-06","Congé",null,null,null,null,null,null,null,"Congé"]
[2,"2026-04-07"]
[3,"2026-04-08"]
[4,"2026-04-09"]
[5,"2026-04-10"]
[6,"2026-04-11","                       WEEK-END                       ",null,null,null,null,null,null,null,"                       WEEK-END                       "]
[7,"2026-04-12","                       WEEK-END                       ",null,null,null,null,null,null,null,"                       WEEK-END                       "]
[1,"2026-04-13"]
[2,"2026-04-14"]
[3,"2026-04-15"]
[4,"2026-04-16"]
[5,"2026-04-17"]
[6,"2026-04-18","                       WEEK-END                       ",null,null,null,null,null,null,null,"                       WEEK-END                       "]
[7,"2026-04-19","                       WEEK-END                       ",null,null,null,null,null,null,null,"                       WEEK-END                       "]
[1,"2026-04-20"]
[2,"2026-04-21"]
[3,"2026-04-22"]
[4,"2026-04-23"]
[5,"2026-04-24"]
[6,"2026-04-25","                       WEEK-END                       ",null,null,null,null,null,null,null,"                       WEEK-END                       "]
[7,"2026-04-26","                       WEEK-END                       ",null,null,null,null,null,null,null,"                       WEEK-END                       "]
[1,"2026-04-27"]
[2,"2026-04-28"]
[3,"2026-04-29"]
[4,"2026-04-30"]
[{"$f":"WEEKDAY(B264,2)","v":5},"2026-05-01","     Pédagogique Commune",null,null,null,null,null,null,null,"     Pédagogique Commune"]
[6,"2026-05-02","                       WEEK-END                       ",null,null,null,null,null,null,null,"                       WEEK-END                       "]
[7,"2026-05-03","                       WEEK-END                       ",null,null,null,null,null,null,null,"                       WEEK-END                       "]
[1,{"$f":"B266+1","v":"2026-05-04"}]
[2,"2026-05-05"]
[3,"2026-05-06"]
[4,"2026-05-07"]
[5,"2026-05-08"]
[6,"2026-05-09","                       WEEK-END                       ",null,null,null,null,null,null,null,"                       WEEK-END                       "]
[7,"2026-05-10","                       WEEK-END                       ",null,null,null,null,null,null,null,"                       WEEK-END                       "]
[1,"2026-05-11"]
[2,"2026-05-12"]
[3,"2026-05-13"]
[4,"2026-05-14"]
[5,"2026-05-15"]
[6,"2026-05-16","                       WEEK-END                       ",null,null,null,null,null,null,null,"                       WEEK-END                       "]
[7,"2026-05-17","                       WEEK-END                       ",null,null,null,null,null,null,null,"                       WEEK-END                       "]
[1,"2026-05-18","Congé",null,null,null,null,null,null,null,"Congé"]
[2,"2026-05-19"]
[3,"2026-05-20"]
[4,"2026-05-21"]
[5,"2026-05-22"]
[6,"2026-05-23","                       WEEK-END                       ",null,null,null,null,null,null,null,"                       WEEK-END                       "]
[7,"2026-05-24","                       WEEK-END                       ",null,null,null,null,null,null,null,"                       WEEK-END                       "]
[1,"2026-05-25"]
[2,"2026-05-26"]
[3,"2026-05-27"]
[4,"2026-05-28"]
[5,"2026-05-29"]
[6,"2026-05-30","                       WEEK-END                       ",null,null,null,null,null,null,null,"                       WEEK-END                       "]
[7,"2026-05-31","                       WEEK-END                       ",null,null,null,null,null,null,null,"                       WEEK-END                       "]
[1,"2026-06-01"]
[2,"2026-06-02"]
[3,"2026-06-03"]
[4,"2026-06-04"]
[5,"2026-06-05","     Pédagogique",null,null,null,null,null,null,null,"     Pédagogique"]
[6,"2026-06-06","                       WEEK-END                       ",null,null,null,null,null,null,null,"                       WEEK-END                       "]
[7,"2026-06-07","                       WEEK-END                       ",null,null,null,null,null,null,null,"                       WEEK-END                       "]
[1,"2026-06-08"]
[2,"2026-06-09"]
[3,"2026-06-10"]
[4,"2026-06-11"]
[5,"2026-06-12"]
[6,"2026-06-13","                       WEEK-END                       ",null,null,null,null,null,null,null,"                       WEEK-END                       "]
[7,"2026-06-14","                       WEEK-END                       ",null,null,null,null,null,null,null,"                       WEEK-END                       "]
[1,"2026-06-15"]
[2,"2026-06-16"]
[3,"2026-06-17"]
[4,"2026-06-18"]
[5,"2026-06-19"]
[6,"2026-06-20","                       WEEK-END                       ",null,null,null,null,null,null,null,"                       WEEK-END                       "]
[7,"2026-06-21","                       WEEK-END                       ",null,null,null,null,null,null,null,"                       WEEK-END                       "]
[1,"2026-06-22"]
[2,"2026-06-23"]
[3,"2026-06-24","Congé",null,null,null,null,null,null,null,"Congé"]
[4,"2026-06-25"]
[5,"2026-06-26"]
[6,"2026-06-27","                       WEEK-END                       ",null,null,null,null,null,null,null,"                       WEEK-END                       "]
[7,"2026-06-28","                       WEEK-END                       ",null,null,null,null,null,null,null,"                       WEEK-END                       "]
[1,"2026-06-29","                   Vacances          ",null,null,null,null,null,null,null,"                   Vacances          "]
[2,"2026-06-30","                   Vacances          ",null,null,null,null,null,null,null,"                   Vacances          "]
[3,"2026-07-01","                   Vacances          ",null,null,null,null,null,null,null,"                   Vacances          "]
[4,"2026-07-02","                   Vacances          ",null,null,null,null,null,null,null,"                   Vacances          "]
[5,"2026-07-03","                   Vacances          ",null,null,null,null,null,null,null,"                   Vacances          "]
[{"$f":"WEEKDAY(B328,2)","v":6},"2026-07-04","                       WEEK-END                       ",null,null,null,null,null,null,null,"                       WEEK-END                       "]
[7,"2026-07-05","                       WEEK-END                       ",null,null,null,null,null,null,null,"                       WEEK-END                       "]
[1,"2026-07-06","                   Vacances          ",null,null,null,null,null,null,null,"                   Vacances          "]
[2,{"$f":"B330+1","v":"2026-07-07"},"                   Vacances          ",null,null,null,null,null,null,null,"                   Vacances          "]
[3,"2026-07-08","                   Vacances          ",null,null,null,null,null,null,null,"                   Vacances          "]
[4,"2026-07-09","                   Vacances          ",null,null,null,null,null,null,null,"                   Vacances          "]
[5,"2026-07-10","                   Vacances          ",null,null,null,null,null,null,null,"                   Vacances          "]
[6,"2026-07-11","                       WEEK-END                       ",null,null,null,null,null,null,null,"                       WEEK-END                       "]
[7,"2026-07-12","                       WEEK-END                       ",null,null,null,null,null,null,null,"                       WEEK-END                       "]
[1,"2026-07-13","                   Vacances          ",null,null,null,null,null,null,null,"                   Vacances          "]
[2,"2026-07-14","                   Vacances          ",null,null,null,null,null,null,null,"                   Vacances          "]
[3,"2026-07-15","                   Vacances          ",null,null,null,null,null,null,null,"                   Vacances          "]
[4,"2026-07-16","                   Vacances          ",null,null,null,null,null,null,null,"                   Vacances          "]
[5,"2026-07-17","                   Vacances          ",null,null,null,null,null,null,null,"                   Vacances          "]
[6,"2026-07-18","                       WEEK-END                       ",null,null,null,null,null,null,null,"                       WEEK-END                       "]
[7,"2026-07-19","                       WEEK-END                       ",null,null,null,null,null,null,null,"                       WEEK-END                       "]
[1,"2026-07-20","                   Vacances          ",null,null,null,null,null,null,null,"                   Vacances          "]
[2,"2026-07-21","                   Vacances          ",null,null,null,null,null,null,null,"                   Vacances          "]
[3,"2026-07-22","                   Vacances          ",null,null,null,null,null,null,null,"                   Vacances          "]
[4,"2026-07-23","                   Vacances          ",null,null,null,null,null,null,null,"                   Vacances          "]
[5,"2026-07-24","                   Vacances          ",null,null,null,null,null,null,null,"                   Vacances          "]
[6,"2026-07-25","                       WEEK-END                       ",null,null,null,null,null,null,null,"                       WEEK-END                       "]
[7,"2026-07-26","                       WEEK-END                       ",null,null,null,null,null,null,null,"                       WEEK-END                       "]
[1,"2026-07-27","                   Vacances          ",null,null,null,null,null,null,null,"                   Vacances          "]
[2,"2026-07-28","                   Vacances          ",null,null,null,null,null,null,null,"                   Vacances          "]
[3,"2026-07-29","                   Vacances          ",null,null,null,null,null,null,null,"                   Vacances          "]
[4,"2026-07-30","                   Vacances          ",null,null,null,null,null,null,null,"                   Vacances          "]
[5,"2026-07-31","                   Vacances          ",null,null,null,null,null,null,null,"                   Vacances          "]
[6,"2026-08-01","                       WEEK-END                       ",null,null,null,null,null,null,null,"                       WEEK-END                       "]
[7,"2026-08-02","                       WEEK-END                       ",null,null,null,null,null,null,null,"                       WEEK-END                       "]
[1,"2026-08-03","                   Vacances          ",null,null,null,null,null,null,null,"                   Vacances          "]
[2,"2026-08-04","                   Vacances          ",null,null,null,null,null,null,null,"                   Vacances          "]
[3,"2026-08-05","                   Vacances          ",null,null,null,null,null,null,null,"                   Vacances          "]
[4,"2026-08-06","                   Vacances          ",null,null,null,null,null,null,null,"                   Vacances          "]
[5,"2026-08-07","                   Vacances          ",null,null,null,null,null,null,null,"                   Vacances          "]
[6,"2026-08-08","                       WEEK-END                       ",null,null,null,null,null,null,null,"                       WEEK-END                       "]
[7,"2026-08-09","                       WEEK-END                       ",null,null,null,null,null,null,null,"                       WEEK-END                       "]
[1,"2026-08-10","                   Vacances          ",null,null,null,null,null,null,null,"                   Vacances          "]
[2,"2026-08-11","                   Vacances          ",null,null,null,null,null,null,null,"                   Vacances          "]
[3,"2026-08-12","                   Vacances          ",null,null,null,null,null,null,null,"                   Vacances          "]
[4,"2026-08-13","                   Vacances          ",null,null,null,null,null,null,null,"                   Vacances          "]
[5,"2026-08-14","                   Vacances          ",null,null,null,null,null,null,null,"                   Vacances          "]
[6,"2026-08-15","                       WEEK-END                       ",null,null,null,null,null,null,null,"                       WEEK-END                       "]
[7,"2026-08-16","                       WEEK-END                       ",null,null,null,null,null,null,null,"                       WEEK-END                       "]
[1,"2026-08-17","                   Vacances          ",null,null,null,null,null,null,null,"                   Vacances          "]
[2,"2026-08-18","                   Vacances          ",null,null,null,null,null,null,null,"                   Vacances          "]
[null,"2026-08-19","                   Vacances          ",null,null,null,null,null,null,null,"                   Vacances          "]
[]
["Calculateur de période par module"]
["Modules",null," ",null,null,null,null,null,null,null," "]
[null,null,"à prog.",null,"entrées",null,null,null,"à faire",null,"à prog.",null,"entrées",null,null,null,"à faire"]
["module 1",null,{"$f":"IF(E379=(I379),\"ok\",($A379))","v":"ok"},null,{"$f":"SUMIF(C$8:C$373,1,E$8:E$373)+SUMIF(G$8:G$373,1,I$8:I$373)","v":0},null,null,null,0,null,{"$f":"IF(M379=(Q379),\"ok\",($A379))","v":"ok"},null,{"$f":"SUMIF(K$8:K$373,1,M$8:M$373)+SUMIF(O$8:O$373,1,Q$8:Q$373)","v":0},null,null,null,0]
["module 2",null,"ok",null,{"$f":"SUMIF(C$8:C$373,2,E$8:E$373)+SUMIF(G$8:G$373,2,I$8:I$373)","v":0},null,null,null,0,null,"ok",null,{"$f":"SUMIF(K$8:K$373,2,M$8:M$373)+SUMIF(O$8:O$373,2,Q$8:Q$373)","v":0},null,null,null,0]
["module 3",null,"ok",null,{"$f":"SUMIF(C$8:C$373,3,E$8:E$373)+SUMIF(G$8:G$373,3,I$8:I$373)","v":0},null,null,null,0,null,"ok",null,{"$f":"SUMIF(K$8:K$373,3,M$8:M$373)+SUMIF(O$8:O$373,3,Q$8:Q$373)","v":0},null,null,null,0]
["module 4",null,"ok",null,{"$f":"SUMIF(C$8:C$373,4,E$8:E$373)+SUMIF(G$8:G$373,4,I$8:I$373)","v":0},null,null,null,0,null,"ok",null,{"$f":"SUMIF(K$8:K$373,4,M$8:M$373)+SUMIF(O$8:O$373,4,Q$8:Q$373)","v":0},null,null,null,0]
["module 5",null,"ok",null,{"$f":"SUMIF(C$8:C$373,5,E$8:E$373)+SUMIF(G$8:G$373,5,I$8:I$373)","v":0},null,null,null,0,null,"ok",null,{"$f":"SUMIF(K$8:K$373,5,M$8:M$373)+SUMIF(O$8:O$373,5,Q$8:Q$373)","v":0},null,null,null,0]
["module 6",null,"ok",null,{"$f":"SUMIF(C$8:C$373,6,E$8:E$373)+SUMIF(G$8:G$373,6,I$8:I$373)","v":0},null,null,null,0,null,"ok",null,{"$f":"SUMIF(K$8:K$373,6,M$8:M$373)+SUMIF(O$8:O$373,6,Q$8:Q$373)","v":0},null,null,null,0]
["module 7",null,"ok",null,{"$f":"SUMIF(C$8:C$373,7,E$8:E$373)+SUMIF(G$8:G$373,7,I$8:I$373)","v":0},null,null,null,0,null,"ok",null,{"$f":"SUMIF(K$8:K$373,7,M$8:M$373)+SUMIF(O$8:O$373,7,Q$8:Q$373)","v":0},null,null,null,0]
["module 8",null,"ok",null,{"$f":"SUMIF(C$8:C$373,8,E$8:E$373)+SUMIF(G$8:G$373,8,I$8:I$373)","v":0},null,null,null,0,null,"ok",null,{"$f":"SUMIF(K$8:K$373,8,M$8:M$373)+SUMIF(O$8:O$373,8,Q$8:Q$373)","v":0},null,null,null,0]
["module 9",null,"ok",null,{"$f":"SUMIF(C$8:C$373,9,E$8:E$373)+SUMIF(G$8:G$373,9,I$8:I$373)","v":0},null,null,null,0,null,"ok",null,{"$f":"SUMIF(K$8:K$373,9,M$8:M$373)+SUMIF(O$8:O$373,9,Q$8:Q$373)","v":0},null,null,null,0]
["module 10",null,"ok",null,{"$f":"SUMIF(C$8:C$373,10,E$8:E$373)+SUMIF(G$8:G$373,10,I$8:I$373)","v":0},null,null,null,0,null,"ok",null,{"$f":"SUMIF(K$8:K$373,10,M$8:M$373)+SUMIF(O$8:O$373,10,Q$8:Q$373)","v":0},null,null,null,0]
["module 11",null,"ok",null,{"$f":"SUMIF(C$8:C$373,11,E$8:E$373)+SUMIF(G$8:G$373,11,I$8:I$373)","v":0},null,null,null,0,null,"ok",null,{"$f":"SUMIF(K$8:K$373,11,M$8:M$373)+SUMIF(O$8:O$373,11,Q$8:Q$373)","v":0},null,null,null,0]
["module 12",null,"ok",null,{"$f":"SUMIF(C$8:C$373,12,E$8:E$373)+SUMIF(G$8:G$373,12,I$8:I$373)","v":0},null,null,null,0,null,"ok",null,{"$f":"SUMIF(K$8:K$373,12,M$8:M$373)+SUMIF(O$8:O$373,12,Q$8:Q$373)","v":0},null,null,null,0]
["module 13",null,"ok",null,{"$f":"SUMIF(C$8:C$373,13,E$8:E$373)+SUMIF(G$8:G$373,13,I$8:I$373)","v":0},null,null,null,0,null,"ok",null,{"$f":"SUMIF(K$8:K$373,13,M$8:M$373)+SUMIF(O$8:O$373,13,Q$8:Q$373)","v":0},null,null,null,0]
["module 14",null,"ok",null,{"$f":"SUMIF(C$8:C$373,14,E$8:E$373)+SUMIF(G$8:G$373,14,I$8:I$373)","v":0},null,null,null,0,null,"ok",null,{"$f":"SUMIF(K$8:K$373,14,M$8:M$373)+SUMIF(O$8:O$373,14,Q$8:Q$373)","v":0},null,null,null,0]
["module 15",null,"ok",null,{"$f":"SUMIF(C$8:C$373,15,E$8:E$373)+SUMIF(G$8:G$373,15,I$8:I$373)","v":0},null,null,null,0,null,"ok",null,{"$f":"SUMIF(K$8:K$373,15,M$8:M$373)+SUMIF(O$8:O$373,15,Q$8:Q$373)","v":0},null,null,null,0]
["module 16",null,"ok",null,{"$f":"SUMIF(C$8:C$373,16,E$8:E$373)+SUMIF(G$8:G$373,16,I$8:I$373)","v":0},null,null,null,0,null,"ok",null,{"$f":"SUMIF(K$8:K$373,16,M$8:M$373)+SUMIF(O$8:O$373,16,Q$8:Q$373)","v":0},null,null,null,0]
["module 17",null,"ok",null,{"$f":"SUMIF(C$8:C$373,17,E$8:E$373)+SUMIF(G$8:G$373,17,I$8:I$373)","v":0},null,null,null,0,null,"ok",null,{"$f":"SUMIF(K$8:K$373,17,M$8:M$373)+SUMIF(O$8:O$373,17,Q$8:Q$373)","v":0},null,null,null,0]
["module 18",null,"ok",null,{"$f":"SUMIF(C$8:C$373,18,E$8:E$373)+SUMIF(G$8:G$373,18,I$8:I$373)","v":0},null,null,null,0,null,"ok",null,{"$f":"SUMIF(K$8:K$373,18,M$8:M$373)+SUMIF(O$8:O$373,18,Q$8:Q$373)","v":0},null,null,null,0]
["module 19",null,"ok",null,{"$f":"SUMIF(C$8:C$373,19,E$8:E$373)+SUMIF(G$8:G$373,19,I$8:I$373)","v":0},null,null,null,0,null,"ok",null,{"$f":"SUMIF(K$8:K$373,19,M$8:M$373)+SUMIF(O$8:O$373,19,Q$8:Q$373)","v":0},null,null,null,0]
["module 20",null,"ok",null,{"$f":"SUMIF(C$8:C$373,20,E$8:E$373)+SUMIF(G$8:G$373,20,I$8:I$373)","v":0},null,null,null,0,null,"ok",null,{"$f":"SUMIF(K$8:K$373,20,M$8:M$373)+SUMIF(O$8:O$373,20,Q$8:Q$373)","v":0},null,null,null,0]
["module 21",null,"ok",null,{"$f":"SUMIF(C$8:C$373,21,E$8:E$373)+SUMIF(G$8:G$373,21,I$8:I$373)","v":0},null,null,null,0,null,"ok",null,{"$f":"SUMIF(K$8:K$373,21,M$8:M$373)+SUMIF(O$8:O$373,21,Q$8:Q$373)","v":0},null,null,null,0]
["module 22",null,"ok",null,{"$f":"SUMIF(C$8:C$373,22,E$8:E$373)+SUMIF(G$8:G$373,22,I$8:I$373)","v":0},null,null,null,0,null,"ok",null,{"$f":"SUMIF(K$8:K$373,22,M$8:M$373)+SUMIF(O$8:O$373,22,Q$8:Q$373)","v":0},null,null,null,0]
["module 23",null,"ok",null,{"$f":"SUMIF(C$8:C$373,23,E$8:E$373)+SUMIF(G$8:G$373,23,I$8:I$373)","v":0},null,null,null,0,null,"ok",null,{"$f":"SUMIF(K$8:K$373,23,M$8:M$373)+SUMIF(O$8:O$373,23,Q$8:Q$373)","v":0},null,null,null,0]
["module 24",null,"ok",null,{"$f":"SUMIF(C$8:C$373,24,E$8:E$373)+SUMIF(G$8:G$373,24,I$8:I$373)","v":0},null,null,null,0,null,"ok",null,{"$f":"SUMIF(K$8:K$373,24,M$8:M$373)+SUMIF(O$8:O$373,24,Q$8:Q$373)","v":0},null,null,null,0]
["module 25",null,"ok",null,{"$f":"SUMIF(C$8:C$373,25,E$8:E$373)+SUMIF(G$8:G$373,25,I$8:I$373)","v":0},null,null,null,0,null,"ok",null,{"$f":"SUMIF(K$8:K$373,25,M$8:M$373)+SUMIF(O$8:O$373,25,Q$8:Q$373)","v":0},null,null,null,0]
["module 26",null,"ok",null,{"$f":"SUMIF(C$8:C$373,26,E$8:E$373)+SUMIF(G$8:G$373,26,I$8:I$373)","v":0},null,null,null,0,null,"ok",null,{"$f":"SUMIF(K$8:K$373,26,M$8:M$373)+SUMIF(O$8:O$373,26,Q$8:Q$373)","v":0},null,null,null,0]
["module 27",null,"ok",null,{"$f":"SUMIF(C$8:C$373,27,E$8:E$373)+SUMIF(G$8:G$373,27,I$8:I$373)","v":0},null,null,null,0,null,"ok",null,{"$f":"SUMIF(K$8:K$373,27,M$8:M$373)+SUMIF(O$8:O$373,27,Q$8:Q$373)","v":0},null,null,null,0]
["module 28",null,"ok",null,{"$f":"SUMIF(C$8:C$373,28,E$8:E$373)+SUMIF(G$8:G$373,28,I$8:I$373)","v":0},null,null,null,0,null,"ok",null,{"$f":"SUMIF(K$8:K$373,28,M$8:M$373)+SUMIF(O$8:O$373,28,Q$8:Q$373)","v":0},null,null,null,0]
["module 29",null,"ok",null,{"$f":"SUMIF(C$8:C$373,29,E$8:E$373)+SUMIF(G$8:G$373,29,I$8:I$373)","v":0},null,null,null,0,null,"ok",null,{"$f":"SUMIF(K$8:K$373,29,M$8:M$373)+SUMIF(O$8:O$373,29,Q$8:Q$373)","v":0},null,null,null,0]
["module 30",null,"ok",null,{"$f":"SUMIF(C$8:C$373,30,E$8:E$373)+SUMIF(G$8:G$373,30,I$8:I$373)","v":0},null,null,null,0,null,"ok",null,{"$f":"SUMIF(K$8:K$373,30,M$8:M$373)+SUMIF(O$8:O$373,30,Q$8:Q$373)","v":0},null,null,null,0]
["module 31",null,"ok",null,{"$f":"SUMIF(C$8:C$373,31,E$8:E$373)+SUMIF(G$8:G$373,31,I$8:I$373)","v":0},null,null,null,0,null,"ok",null,{"$f":"SUMIF(K$8:K$373,31,M$8:M$373)+SUMIF(O$8:O$373,31,Q$8:Q$373)","v":0},null,null,null,0]
["module 32",null,"ok",null,{"$f":"SUMIF(C$8:C$373,32,E$8:E$373)+SUMIF(G$8:G$373,32,I$8:I$373)","v":0},null,null,null,0,null,"ok",null,{"$f":"SUMIF(K$8:K$373,32,M$8:M$373)+SUMIF(O$8:O$373,32,Q$8:Q$373)","v":0},null,null,null,0]
["module 33",null,"ok",null,{"$f":"SUMIF(C$8:C$373,33,E$8:E$373)+SUMIF(G$8:G$373,33,I$8:I$373)","v":0},null,null,null,0,null,"ok",null,{"$f":"SUMIF(K$8:K$373,33,M$8:M$373)+SUMIF(O$8:O$373,33,Q$8:Q$373)","v":0},null,null,null,0]
["module 34",null,"ok",null,{"$f":"SUMIF(C$8:C$373,34,E$8:E$373)+SUMIF(G$8:G$373,34,I$8:I$373)","v":0},null,null,null,0,null,"ok",null,{"$f":"SUMIF(K$8:K$373,34,M$8:M$373)+SUMIF(O$8:O$373,34,Q$8:Q$373)","v":0},null,null,null,0]
["module 35",null,"TE",null,{"$f":"SUMIF(C$8:C$373,35,E$8:E$373)+SUMIF(G$8:G$373,35,I$8:I$373)","v":0},null,null,null,85,null,"TE",null,{"$f":"SUMIF(K$8:K$373,35,M$8:M$373)+SUMIF(O$8:O$373,35,Q$8:Q$373)","v":0},null,null,null,85,null,"=","TACHES PRÉSENCE ÉLÈVE (PERMANENT)"]
["module 36",null,"TA",null,{"$f":"SUMIF(C$8:C$373,36,E$8:E$373)+SUMIF(G$8:G$373,36,I$8:I$373)","v":0},null,null,null,360,null,"TA",null,{"$f":"SUMIF(K$8:K$373,36,M$8:M$373)+SUMIF(O$8:O$373,36,Q$8:Q$373)","v":0},null,null,null,360,null,"=","TACHES DE DISPO"]
["module 37",null,"TNP",null,{"$f":"SUMIF(C$8:C$373,37,E$8:E$373)+SUMIF(G$8:G$373,37,I$8:I$373)","v":0},null,null,null,200,null,"TNP",null,{"$f":"SUMIF(K$8:K$373,37,M$8:M$373)+SUMIF(O$8:O$373,37,Q$8:Q$373)","v":0},null,null,null,200,null,"=","TACHES DE NATURE PERSONNEL"]
["module 90",null,"ok",null,{"$f":"SUMIF(C$8:C$373,90,E$8:E$373)+SUMIF(G$8:G$373,90,I$8:I$373)","v":0},null,null,null,0,null,"ok",null,{"$f":"SUMIF(K$8:K$373,38,M$8:M$373)+SUMIF(O$8:O$373,38,Q$8:Q$373)","v":0},null,null,null,0]
["module 39",null,"ok",null,{"$f":"SUMIF(C$8:C$373,39,E$8:E$373)+SUMIF(G$8:G$373,39,I$8:I$373)","v":0},null,null,null,0,null,"ok",null,{"$f":"SUMIF(K$8:K$373,39,M$8:M$373)+SUMIF(O$8:O$373,39,Q$8:Q$373)","v":0},null,null,null,0]
["module 89",null,"ok",null,{"$f":"SUMIF(C$8:C$373,40,E$8:E$373)+SUMIF(G$8:G$373,40,I$8:I$373)","v":0},null,null,null,0,null,"ok",null,{"$f":"SUMIF(K$8:K$373,40,M$8:M$373)+SUMIF(O$8:O$373,40,Q$8:Q$373)","v":0},null,null,null,0]
["module 90",null,"ok",null,{"$f":"SUMIF(C$8:C$373,90,E$8:E$373)+SUMIF(G$8:G$373,90,I$8:I$373)","v":0},null,null,null,0,null,"ok",null,{"$f":"SUMIF(K$8:K$373,90,M$8:M$373)+SUMIF(O$8:O$373,90,Q$8:Q$373)","v":0},null,null,null,0,null,"=","RECUPERATION"]
["module 91",null,"ok",null,{"$f":"SUMIF(C$8:C$373,91,E$8:E$373)+SUMIF(G$8:G$373,91,I$8:I$373)","v":0},null,null,null,0,null,"ok",null,{"$f":"SUMIF(K$8:K$373,91,M$8:M$373)+SUMIF(O$8:O$373,91,Q$8:Q$373)","v":0},null,null,null,0]
["module 92",null,"ok",null,{"$f":"SUMIF(C$8:C$373,92,E$8:E$373)+SUMIF(G$8:G$373,92,I$8:I$373)","v":0},null,null,null,0,null,"ok",null,{"$f":"SUMIF(K$8:K$373,92,M$8:M$373)+SUMIF(O$8:O$373,92,Q$8:Q$373)","v":0},null,null,null,0]
["module 93",null,"ok",null,{"$f":"SUMIF(C$8:C$373,93,E$8:E$373)+SUMIF(G$8:G$373,93,I$8:I$373)","v":0},null,null,null,0,null,"ok",null,{"$f":"SUMIF(K$8:K$373,93,M$8:M$373)+SUMIF(O$8:O$373,93,Q$8:Q$373)","v":0},null,null,null,0]
["module 94",null,"ok",null,{"$f":"SUMIF(C$8:C$373,94,E$8:E$373)+SUMIF(G$8:G$373,94,I$8:I$373)","v":0},null,null,null,0,null,"ok",null,{"$f":"SUMIF(K$8:K$373,94,M$8:M$373)+SUMIF(O$8:O$373,94,Q$8:Q$373)","v":0},null,null,null,0]
["module 95",null,"ok",null,{"$f":"SUMIF(C$8:C$373,95,E$8:E$373)+SUMIF(G$8:G$373,95,I$8:I$373)","v":0},null,null,null,0,null,"ok",null,{"$f":"SUMIF(K$8:K$373,95,M$8:M$373)+SUMIF(O$8:O$373,95,Q$8:Q$373)","v":0},null,null,null,0,null," "]
["module 96",null,"ok",null,{"$f":"SUMIF(C$8:C$373,96,E$8:E$373)+SUMIF(G$8:G$373,96,I$8:I$373)","v":0},null,null,null,0,null,"ok",null,{"$f":"SUMIF(K$8:K$373,96,M$8:M$373)+SUMIF(O$8:O$373,96,Q$8:Q$373)","v":0},null,null,null,0]
["module 97",null,"ok",null,{"$f":"SUMIF(C$8:C$373,97,E$8:E$373)+SUMIF(G$8:G$373,97,I$8:I$373)","v":0},null,null,null,0,null,"ok",null,{"$f":"SUMIF(K$8:K$373,97,M$8:M$373)+SUMIF(O$8:O$373,97,Q$8:Q$373)","v":0},null,null,null,0]
["module 98",null,"ok",null,{"$f":"SUMIF(C$8:C$373,98,E$8:E$373)+SUMIF(G$8:G$373,98,I$8:I$373)","v":0},null,null,null,0,null,"ok",null,{"$f":"SUMIF(K$8:K$373,98,M$8:M$373)+SUMIF(O$8:O$373,98,Q$8:Q$373)","v":0},null,null,null,0]
["module 99",null,"ok",null,{"$f":"SUMIF(C$8:C$373,99,E$8:E$373)+SUMIF(G$8:G$373,99,I$8:I$373)","v":0},null,null,null,0,null,"ok",null,{"$f":"SUMIF(K$8:K$373,99,M$8:M$373)+SUMIF(O$8:O$373,99,Q$8:Q$373)","v":0},null,null,null,0]
["Totaux",null,{"$f":"IF(E429=(I429),\"ok\",($A$429))","v":"ok"},null,{"$f":"SUM(E379:F410)","v":0},null,null,null,{"$f":"SUM(I379:J410)","v":0},null,{"$f":"IF(M429=(Q429),\"ok\",($A$429))","v":"ok"},null,{"$f":"SUM(M379:N410)","v":0},null,null,null,{"$f":"SUM(Q379:R410)","v":0}]
[]
[]
["Calculateur de période / enseignants"]
["Enseignants",null,{"$f":"C4","v":" Mathieu Primard"}]
[null,null,{"$f":"\"Heures \"& RIGHT($A4,9)","v":"Heures 2024-2025"},null,null,null,{"$f":"\"Heures été \"& RIGHT($A4,9)","v":"Heures été 2024-2025"},null,null,null,{"$f":"\"Heures \"& RIGHT($A4,9)","v":"Heures 2024-2025"},null,null,null,{"$f":"\"Heures été \"& RIGHT($A4,9)","v":"Heures été 2024-2025"}]
["mp","Mathieu Primard",{"$f":"SUMIF(D$65:D$374,A435,E$65:E$374)+SUMIF(H$65:H$374,A435,I$65:I$374)","v":0},null,null,null,{"$f":"SUMIF(D$8:D$64,A435,E$8:E$64)+SUMIF(H$8:H$64,A435,I$8:I$64)","v":0},null,null,null,{"$f":"SUMIF(L$65:L$374,A435,M$65:M$374)+SUMIF(P$65:P$374,A435,Q$65:Q$374)","v":0},null,null,null,{"$f":"SUMIF(L$8:L$64,#REF!,M$8:M$64)+SUMIF(P$8:P$64,#REF!,Q$8:Q$64)","v":0}]
[]
[]
["Total des hrs"]
[null,{"$f":"SUM(W441,S441,O441,K441,G441,C441)","v":0},"ENSEIGNEMENT",null,null,null,"PERMANENT",null,null,null,"DISPO",null,null,null,"NATURE PERSO",null,null,null,"TUTORAT+RECUP",null,null,null,"AUTRE"]
[null,null,"Heures 2012-2013",null,null,null,"TE = 85 HRS",null,null,null,"TA = 360 HRS",null,null,null,"TNP = 200 HRS"]
[null,null,{"$f":"SUM(C435+K435)","v":0},null,null,null,{"$f":"SUM(E413+M413)","v":0},null,null,null,{"$f":"SUM(E414+M414)","v":0},null,null,null,{"$f":"SUM(E415+M415)","v":0},null,null,null,0,null,null,null,0]

{"sheet":"Sylvain Bellemare","index":44,"n_rows":441,"n_cols":23,"rows_kept":441,"cut":false,"hidden":false,"merged":[[366,2,366,9],[366,10,366,17],[367,2,367,9],[367,10,367,17],[368,2,368,9],[368,10,368,17],[360,2,360,9],[360,10,360,17],[361,2,361,9],[361,10,361,17],[364,2,364,9],[364,10,364,17],[365,10,365,17],[357,2,357,9],[357,10,357,17],[358,2,358,9],[358,10,358,17],[359,2,359,9],[359,10,359,17],[352,2,352,9],[352,10,352,17],[353,2,353,9],[353,10,353,17],[354,2,354,9],[354,10,354,17],[346,2,346,9],[346,10,346,17],[350,2,350,9],[350,10,350,17],[351,2,351,9],[351,10,351,17],[343,2,343,9],[343,10,343,17],[344,2,344,9],[344,10,344,17],[345,2,345,9],[345,10,345,17],[347,2,347,9],[347,10,347,17],[338,2,338,9],[338,10,338,17],[339,2,339,9],[339,10,339,17],[340,2,340,9],[340,10,340,17],[333,2,333,9],[333,10,333,17],[336,2,336,9],[336,10,336,17],[337,2,337,9],[337,10,337,17],[330,2,330,9],[330,10,330,17],[331,2,331,9],[331,10,331,17],[332,2,332,9],[332,10,332,17],[324,2,324,9],[324,10,324,17],[325,2,325,9],[325,10,325,17],[326,2,326,9],[326,10,326,17],[142,2,142,9],[142,10,142,17],[317,2,317,9],[317,10,317,17],[322,2,322,9],[322,10,322,17],[323,2,323,9],[323,10,323,17],[235,10,235,17],[238,2,238,9],[238,10,238,17],[263,2,263,9],[263,10,263,17],[235,2,235,9],[298,2,298,9],[298,10,298,17],[280,2,280,9],[280,10,280,17],[143,2,143,9],[143,10,143,17],[144,2,144,9],[144,10,144,17],[147,2,147,9],[147,10,147,17],[133,2,133,9],[133,10,133,17],[134,2,134,9],[134,10,134,17],[135,2,135,9],[135,10,135,17],[140,10,140,17],[141,2,141,9],[141,10,141,17],[136,2,136,9],[137,2,137,9],[136,10,136,17],[137,10,137,17],[140,2,140,9],[87,2,87,9],[87,10,87,17],[88,2,88,9],[88,10,88,17],[101,2,101,9],[101,10,101,17],[21,2,21,9],[21,10,21,17],[72,2,72,9],[72,10,72,17],[172,2,172,9],[172,10,172,17],[198,2,198,9],[198,10,198,17],[214,2,214,9],[214,10,214,17],[440,18,440,21],[439,6,439,9],[439,10,439,13],[439,14,439,17],[439,18,439,21],[418,19,418,27],[416,16,416,17],[417,16,417,17],[414,16,414,17],[414,19,414,27],[412,16,412,17],[412,2,412,3],[412,4,412,7],[412,8,412,9],[412,10,412,11],[412,19,412,29],[410,16,410,17],[408,16,408,17],[440,22,440,25],[63,2,63,9],[63,10,63,17],[329,2,329,9],[438,18,438,21],[438,22,438,25],[439,2,439,5],[439,22,439,25],[434,2,434,5],[434,6,434,9],[434,10,434,13],[434,14,434,17],[428,2,428,3],[428,4,428,7],[428,8,428,9],[428,10,428,11],[428,12,428,15],[329,10,329,17],[365,2,365,9],[428,16,428,17],[426,16,426,17],[424,16,424,17],[422,16,422,17],[420,16,420,17],[438,1,440,1],[438,6,438,9],[438,10,438,13],[438,14,438,17],[440,2,440,5],[440,6,440,9],[432,0,433,1],[432,2,432,17],[433,2,433,5],[433,6,433,9],[433,10,433,13],[433,14,433,17],[440,10,440,13],[440,14,440,17],[427,0,427,1],[427,2,427,3],[427,4,427,7],[427,8,427,9],[427,10,427,11],[427,12,427,15],[427,16,427,17],[426,0,426,1],[426,2,426,3],[426,4,426,7],[426,8,426,9],[426,10,426,11],[426,12,426,15],[425,0,425,1],[425,2,425,3],[425,4,425,7],[425,8,425,9],[425,10,425,11],[425,12,425,15],[425,16,425,17],[424,0,424,1],[424,2,424,3],[424,4,424,7],[424,8,424,9],[424,10,424,11],[424,12,424,15],[423,0,423,1],[423,2,423,3],[423,4,423,7],[423,8,423,9],[423,10,423,11],[423,12,423,15],[423,16,423,17],[422,0,422,1],[422,2,422,3],[422,4,422,7],[422,8,422,9],[422,10,422,11],[422,12,422,15],[421,0,421,1],[421,2,421,3],[421,4,421,7],[421,8,421,9],[421,10,421,11],[421,12,421,15],[421,16,421,17],[420,0,420,1],[420,2,420,3],[420,4,420,7],[420,8,420,9],[420,10,420,11],[420,12,420,15],[419,0,419,1],[419,2,419,3],[419,4,419,7],[419,8,419,9],[419,10,419,11],[419,12,419,15],[419,16,419,17],[418,0,418,1],[418,2,418,3],[418,4,418,7],[418,8,418,9],[418,10,418,11],[418,12,418,15],[418,16,418,17],[417,0,417,1],[417,2,417,3],[417,4,417,7],[417,8,417,9],[417,10,417,11],[417,12,417,15],[416,0,416,1],[416,2,416,3],[416,4,416,7],[416,8,416,9],[416,10,416,11],[416,12,416,15],[415,0,415,1],[415,2,415,3],[415,4,415,7],[415,8,415,9],[415,10,415,11],[415,12,415,15],[415,16,415,17],[414,0,414,1],[414,2,414,3],[414,4,414,7],[414,8,414,9],[414,10,414,11],[414,12,414,15],[413,0,413,1],[413,2,413,3],[413,4,413,7],[413,8,413,9],[413,10,413,11],[413,12,413,15],[413,16,413,17],[413,19,413,27],[412,0,412,1],[412,12,412,15],[411,0,411,1],[411,2,411,3],[411,4,411,7],[411,8,411,9],[411,10,411,11],[411,12,411,15],[411,16,411,17],[410,0,410,1],[410,2,410,3],[410,4,410,7],[410,8,410,9],[410,10,410,11],[410,12,410,15],[409,16,409,17],[409,0,409,1],[409,2,409,3],[409,4,409,7],[409,8,409,9],[409,10,409,11],[409,12,409,15],[408,0,408,1],[408,2,408,3],[408,4,408,7],[408,8,408,9],[408,10,408,11],[408,12,408,15],[406,16,406,17],[407,0,407,1],[407,2,407,3],[407,4,407,7],[407,8,407,9],[407,10,407,11],[407,12,407,15],[407,16,407,17],[406,0,406,1],[406,2,406,3],[406,4,406,7],[406,8,406,9],[406,10,406,11],[406,12,406,15],[404,16,404,17],[405,0,405,1],[405,2,405,3],[405,4,405,7],[405,8,405,9],[405,10,405,11],[405,12,405,15],[405,16,405,17],[404,0,404,1],[404,2,404,3],[404,4,404,7],[404,8,404,9],[404,10,404,11],[404,12,404,15],[402,16,402,17],[403,0,403,1],[403,2,403,3],[403,4,403,7],[403,8,403,9],[403,10,403,11],[403,12,403,15],[403,16,403,17],[402,0,402,1],[402,2,402,3],[402,4,402,7],[402,8,402,9],[402,10,402,11],[402,12,402,15],[400,16,400,17],[401,0,401,1],[401,2,401,3],[401,4,401,7],[401,8,401,9],[401,10,401,11],[401,12,401,15],[401,16,401,17],[400,0,400,1],[400,2,400,3],[400,4,400,7],[400,8,400,9],[400,10,400,11],[400,12,400,15],[398,16,398,17],[399,0,399,1],[399,2,399,3],[399,4,399,7],[399,8,399,9],[399,10,399,11],[399,12,399,15],[399,16,399,17],[398,0,398,1],[398,2,398,3],[398,4,398,7],[398,8,398,9],[398,10,398,11],[398,12,398,15],[396,16,396,17],[397,0,397,1],[397,2,397,3],[397,4,397,7],[397,8,397,9],[397,10,397,11],[397,12,397,15],[397,16,397,17],[396,0,396,1],[396,2,396,3],[396,4,396,7],[396,8,396,9],[396,10,396,11],[396,12,396,15],[394,16,394,17],[395,0,395,1],[395,2,395,3],[395,4,395,7],[395,8,395,9],[395,10,395,11],[395,12,395,15],[395,16,395,17],[394,0,394,1],[394,2,394,3],[394,4,394,7],[394,8,394,9],[394,10,394,11],[394,12,394,15],[392,16,392,17],[393,0,393,1],[393,2,393,3],[393,4,393,7],[393,8,393,9],[393,10,393,11],[393,12,393,15],[393,16,393,17],[392,0,392,1],[392,2,392,3],[392,4,392,7],[392,8,392,9],[392,10,392,11],[392,12,392,15],[390,16,390,17],[391,0,391,1],[391,2,391,3],[391,4,391,7],[391,8,391,9],[391,10,391,11],[391,12,391,15],[391,16,391,17],[390,0,390,1],[390,2,390,3],[390,4,390,7],[390,8,390,9],[390,10,390,11],[390,12,390,15],[388,16,388,17],[389,0,389,1],[389,2,389,3],[389,4,389,7],[389,8,389,9],[389,10,389,11],[389,12,389,15],[389,16,389,17],[388,0,388,1],[388,2,388,3],[388,4,388,7],[388,8,388,9],[388,10,388,11],[388,12,388,15],[386,16,386,17],[387,0,387,1],[387,2,387,3],[387,4,387,7],[387,8,387,9],[387,10,387,11],[387,12,387,15],[387,16,387,17],[386,0,386,1],[386,2,386,3],[386,4,386,7],[386,8,386,9],[386,10,386,11],[386,12,386,15],[384,16,384,17],[385,0,385,1],[385,2,385,3],[385,4,385,7],[385,8,385,9],[385,10,385,11],[385,12,385,15],[385,16,385,17],[384,0,384,1],[384,2,384,3],[384,4,384,7],[384,8,384,9],[384,10,384,11],[384,12,384,15],[382,16,382,17],[383,0,383,1],[383,2,383,3],[383,4,383,7],[383,8,383,9],[383,10,383,11],[383,12,383,15],[383,16,383,17],[382,0,382,1],[382,2,382,3],[382,4,382,7],[382,8,382,9],[382,10,382,11],[382,12,382,15],[379,0,379,1],[379,2,379,3],[379,4,379,7],[379,8,379,9],[379,10,379,11],[379,12,379,15],[379,16,379,17],[380,16,380,17],[381,0,381,1],[381,2,381,3],[381,4,381,7],[381,8,381,9],[381,10,381,11],[381,12,381,15],[381,16,381,17],[380,0,380,1],[380,2,380,3],[380,4,380,7],[380,8,380,9],[380,10,380,11],[380,12,380,15],[371,19,371,29],[372,19,372,29],[376,0,377,1],[377,4,377,7],[377,12,377,15],[378,0,378,1],[378,2,378,3],[378,4,378,7],[378,8,378,9],[378,10,378,11],[378,12,378,15],[378,16,378,17],[371,2,371,9],[371,10,371,17],[372,2,372,9],[372,10,372,17],[373,2,373,9],[373,10,373,17],[365,19,365,29],[366,19,366,29],[367,19,367,29],[368,19,368,29],[369,19,369,29],[370,19,370,29],[359,19,359,29],[360,19,360,29],[361,19,361,29],[362,19,362,29],[363,19,363,29],[364,19,364,29],[353,19,353,29],[354,19,354,29],[355,19,355,29],[356,19,356,29],[357,19,357,29],[358,19,358,29],[347,19,347,29],[348,19,348,29],[349,19,349,29],[350,19,350,29],[351,19,351,29],[352,19,352,29],[341,19,341,29],[342,19,342,29],[343,19,343,29],[344,19,344,29],[345,19,345,29],[346,19,346,29],[335,19,335,29],[336,19,336,29],[337,19,337,29],[338,19,338,29],[339,19,339,29],[340,19,340,29],[329,19,329,29],[330,19,330,29],[331,19,331,29],[332,19,332,29],[333,19,333,29],[334,19,334,29],[323,19,323,29],[324,19,324,29],[325,19,325,29],[326,19,326,29],[327,19,327,29],[328,19,328,29],[317,19,317,29],[318,19,318,29],[319,19,319,29],[320,19,320,29],[321,19,321,29],[322,19,322,29],[311,19,311,29],[312,19,312,29],[313,19,313,29],[314,19,314,29],[315,19,315,29],[316,19,316,29],[305,19,305,29],[306,19,306,29],[307,19,307,29],[308,19,308,29],[309,19,309,29],[310,19,310,29],[299,19,299,29],[300,19,300,29],[301,19,301,29],[302,19,302,29],[303,19,303,29],[304,19,304,29],[293,19,293,29],[294,19,294,29],[295,19,295,29],[296,19,296,29],[297,19,297,29],[298,19,298,29],[287,19,287,29],[288,19,288,29],[289,19,289,29],[290,19,290,29],[291,19,291,29],[292,19,292,29],[281,19,281,29],[282,19,282,29],[283,19,283,29],[284,19,284,29],[285,19,285,29],[286,19,286,29],[275,19,275,29],[276,19,276,29],[277,19,277,29],[278,19,278,29],[279,19,279,29],[280,19,280,29],[269,19,269,29],[270,19,270,29],[271,19,271,29],[272,19,272,29],[273,19,273,29],[274,19,274,29],[263,19,263,29],[264,19,264,29],[265,19,265,29],[266,19,266,29],[267,19,267,29],[268,19,268,29],[257,19,257,29],[258,19,258,29],[259,19,259,29],[260,19,260,29],[261,19,261,29],[262,19,262,29],[251,19,251,29],[252,19,252,29],[253,19,253,29],[254,19,254,29],[255,19,255,29],[256,19,256,29],[245,19,245,29],[246,19,246,29],[247,19,247,29],[248,19,248,29],[249,19,249,29],[250,19,250,29],[239,19,239,29],[240,19,240,29],[241,19,241,29],[242,19,242,29],[243,19,243,29],[244,19,244,29],[233,19,233,29],[234,19,234,29],[235,19,235,29],[236,19,236,29],[237,19,237,29],[238,19,238,29],[227,19,227,29],[228,19,228,29],[229,19,229,29],[230,19,230,29],[231,19,231,29],[232,19,232,29],[221,19,221,29],[222,19,222,29],[223,19,223,29],[224,19,224,29],[225,19,225,29],[226,19,226,29],[215,19,215,29],[216,19,216,29],[217,19,217,29],[218,19,218,29],[219,19,219,29],[220,19,220,29],[209,19,209,29],[210,19,210,29],[211,19,211,29],[212,19,212,29],[213,19,213,29],[214,19,214,29],[203,19,203,29],[204,19,204,29],[205,19,205,29],[206,19,206,29],[207,19,207,29],[208,19,208,29],[197,19,197,29],[198,19,198,29],[199,19,199,29],[200,19,200,29],[201,19,201,29],[202,19,202,29],[191,19,191,29],[192,19,192,29],[193,19,193,29],[194,19,194,29],[195,19,195,29],[196,19,196,29],[185,19,185,29],[186,19,186,29],[187,19,187,29],[188,19,188,29],[189,19,189,29],[190,19,190,29],[179,19,179,29],[180,19,180,29],[181,19,181,29],[182,19,182,29],[183,19,183,29],[184,19,184,29],[173,19,173,29],[174,19,174,29],[175,19,175,29],[176,19,176,29],[177,19,177,29],[178,19,178,29],[167,19,167,29],[168,19,168,29],[169,19,169,29],[170,19,170,29],[171,19,171,29],[172,19,172,29],[161,19,161,29],[162,19,162,29],[163,19,163,29],[164,19,164,29],[165,19,165,29],[166,19,166,29],[155,19,155,29],[156,19,156,29],[157,19,157,29],[158,19,158,29],[159,19,159,29],[160,19,160,29],[149,19,149,29],[150,19,150,29],[151,19,151,29],[152,19,152,29],[153,19,153,29],[154,19,154,29],[143,19,143,29],[144,19,144,29],[145,19,145,29],[146,19,146,29],[147,19,147,29],[148,19,148,29],[137,19,137,29],[138,19,138,29],[139,19,139,29],[140,19,140,29],[141,19,141,29],[142,19,142,29],[131,19,131,29],[132,19,132,29],[133,19,133,29],[134,19,134,29],[135,19,135,29],[136,19,136,29],[125,19,125,29],[126,19,126,29],[127,19,127,29],[128,19,128,29],[129,19,129,29],[130,19,130,29],[119,19,119,29],[120,19,120,29],[121,19,121,29],[122,19,122,29],[123,19,123,29],[124,19,124,29],[113,19,113,29],[114,19,114,29],[115,19,115,29],[116,19,116,29],[117,19,117,29],[118,19,118,29],[107,19,107,29],[108,19,108,29],[109,19,109,29],[110,19,110,29],[111,19,111,29],[112,19,112,29],[101,19,101,29],[102,19,102,29],[103,19,103,29],[104,19,104,29],[105,19,105,29],[106,19,106,29],[95,19,95,29],[96,19,96,29],[97,19,97,29],[98,19,98,29],[99,19,99,29],[100,19,100,29],[89,19,89,29],[90,19,90,29],[91,19,91,29],[92,19,92,29],[93,19,93,29],[94,19,94,29],[83,19,83,29],[84,19,84,29],[85,19,85,29],[86,19,86,29],[87,19,87,29],[88,19,88,29],[77,19,77,29],[78,19,78,29],[79,19,79,29],[80,19,80,29],[81,19,81,29],[82,19,82,29],[71,19,71,29],[72,19,72,29],[73,19,73,29],[74,19,74,29],[75,19,75,29],[76,19,76,29],[65,19,65,29],[66,19,66,29],[67,19,67,29],[68,19,68,29],[69,19,69,29],[70,19,70,29],[59,19,59,29],[60,19,60,29],[61,19,61,29],[62,19,62,29],[63,19,63,29],[64,19,64,29],[53,19,53,29],[54,19,54,29],[55,19,55,29],[56,19,56,29],[57,19,57,29],[58,19,58,29],[47,19,47,29],[48,19,48,29],[49,19,49,29],[50,19,50,29],[51,19,51,29],[52,19,52,29],[41,19,41,29],[42,19,42,29],[43,19,43,29],[44,19,44,29],[45,19,45,29],[46,19,46,29],[35,19,35,29],[36,19,36,29],[37,19,37,29],[38,19,38,29],[39,19,39,29],[40,19,40,29],[29,19,29,29],[30,19,30,29],[31,19,31,29],[32,19,32,29],[33,19,33,29],[34,19,34,29],[23,19,23,29],[24,19,24,29],[25,19,25,29],[26,19,26,29],[27,19,27,29],[28,19,28,29],[19,19,19,29],[20,19,20,29],[21,19,21,29],[22,19,22,29],[11,19,11,29],[12,19,12,29],[13,19,13,29],[14,19,14,29],[15,19,15,29],[16,19,16,29],[8,19,8,29],[9,19,9,29],[10,19,10,29],[7,2,7,9],[7,10,7,17],[8,2,8,9],[8,10,8,17],[17,19,17,29],[18,19,18,29],[14,2,14,9],[14,10,14,17],[9,2,9,9],[9,10,9,17],[10,2,10,9],[10,10,10,17],[11,2,11,9],[11,10,11,17],[3,0,3,1],[3,2,3,17],[3,19,3,29],[4,0,4,1],[4,2,4,9],[4,10,4,17],[5,2,5,9],[5,10,5,17],[7,19,7,29]]}
[]
["Horaire prof Mécanique de véhicules lourds routiers"]
[" "]
["Année scolaire 2024-2025",null," Sylvain Bellemare",null,null,null,null,null,null,null,null,null,null,null,null,null,null,null,null,"Commentaires"]
[null,null," Intensif 1800",null,null,null,null,null,null,null," Intensif 1800"]
[2,null,"Jour    ",null,null,null,null,null,null,null,"Soir    "]
[null,null,"M","P","H","L","M","P","H","L","M","P","H","L","M","P","H","L"]
[{"$f":"WEEKDAY(B8,2)","v":1},"2025-08-18","                   Vacances          ",null,null,null,null,null,null,null,"                   Vacances          "]
[2,"2025-08-19","                   Vacances          ",null,null,null,null,null,null,null,"                   Vacances          "]
[3,{"$f":"B9+1","v":"2025-08-20"},"                   Vacances          ",null,null,null,null,null,null,null,"                   Vacances          "]
[4,{"$f":"B10+1","v":"2025-08-21"},"                   Vacances          ",null,null,null,null,null,null,null,"                   Vacances          "]
[5,"2025-08-22","     Pédagogique Commune",null,null,null,null,null,null,null,"     Pédagogique Commune"]
[6,"2025-08-23","                       WEEK-END                       ",null,null,null,null,null,null,null,"                       WEEK-END                       "]
[7,"2025-08-24","                       WEEK-END                       ",null,null,null,null,null,null,null,"                       WEEK-END                       "]
[1,"2025-08-25","     Pédagogique",null,null,null,null,null,null,null,"     Pédagogique"]
[2,"2025-08-26"]
[3,"2025-08-27"]
[4,"2025-08-28"]
[5,"2025-08-29"]
[6,"2025-08-30","                       WEEK-END                       ",null,null,null,null,null,null,null,"                       WEEK-END                       "]
[7,"2025-08-31","                       WEEK-END                       ",null,null,null,null,null,null,null,"                       WEEK-END                       "]
[1,"2025-09-01","Congé",null,null,null,null,null,null,null,"Congé"]
[2,"2025-09-02"]
[3,"2025-09-03"]
[4,"2025-09-04"]
[5,"2025-09-05"]
[6,"2025-09-06","                       WEEK-END                       ",null,null,null,null,null,null,null,"                       WEEK-END                       "]
[7,"2025-09-07","                       WEEK-END                       ",null,null,null,null,null,null,null,"                       WEEK-END                       "]
[1,"2025-09-08"]
[2,"2025-09-09"]
[3,"2025-09-10"]
[4,"2025-09-11"]
[5,"2025-09-12"]
[6,"2025-09-13","                       WEEK-END                       ",null,null,null,null,null,null,null,"                       WEEK-END                       "]
[7,"2025-09-14","                       WEEK-END                       ",null,null,null,null,null,null,null,"                       WEEK-END                       "]
[1,"2025-09-15"]
[2,"2025-09-16"]
[3,"2025-09-17"]
[4,"2025-09-18"]
[5,"2025-09-19"]
[6,"2025-09-20","                       WEEK-END                       ",null,null,null,null,null,null,null,"                       WEEK-END                       "]
[7,"2025-09-21","                       WEEK-END                       ",null,null,null,null,null,null,null,"                       WEEK-END                       "]
[1,"2025-09-22"]
[2,"2025-09-23"]
[3,"2025-09-24"]
[4,"2025-09-25"]
[5,"2025-09-26"]
[6,"2025-09-27","                       WEEK-END                       ",null,null,null,null,null,null,null,"                       WEEK-END                       "]
[7,"2025-09-28","                       WEEK-END                       ",null,null,null,null,null,null,null,"                       WEEK-END                       "]
[1,"2025-09-29"]
[2,"2025-09-30"]
[3,"2025-10-01"]
[4,"2025-10-02"]
[5,"2025-10-03"]
[6,"2025-10-04","                       WEEK-END                       ",null,null,null,null,null,null,null,"                       WEEK-END                       "]
[7,"2025-10-05","                       WEEK-END                       ",null,null,null,null,null,null,null,"                       WEEK-END                       "]
[1,"2025-10-06"]
[2,"2025-10-07"]
[3,"2025-10-08"]
[4,"2025-10-09"]
[5,"2025-10-10"]
[6,"2025-10-11","                       WEEK-END                       ",null,null,null,null,null,null,null,"                       WEEK-END                       "]
[7,"2025-10-12","                       WEEK-END                       ",null,null,null,null,null,null,null,"                       WEEK-END                       "]
[1,"2025-10-13","Congé",null,null,null,null,null,null,null,"Congé"]
[2,"2025-10-14"]
[3,"2025-10-15"]
[4,"2025-10-16"]
[5,"2025-10-17"]
[6,"2025-10-18","                       WEEK-END                       ",null,null,null,null,null,null,null,"                       WEEK-END                       "]
[7,"2025-10-19","                       WEEK-END                       ",null,null,null,null,null,null,null,"                       WEEK-END                       "]
[1,"2025-10-20"]
[{"$f":"WEEKDAY(B72,2)","v":2},"2025-10-21"]
[3,"2025-10-22","     Pédagogique",null,null,null,null,null,null,null,"     Pédagogique"]
[4,"2025-10-23"]
[5,{"$f":"B74+1","v":"2025-10-24"}]
[6,"2025-10-25","                       WEEK-END                       ",null,null,null,null,null,null,null,"                       WEEK-END                       "]
[7,"2025-10-26","                       WEEK-END                       ",null,null,null,null,null,null,null,"                       WEEK-END                       "]
[1,"2025-10-27"]
[2,"2025-10-28"]
[3,"2025-10-29"]
[4,"2025-10-30"]
[5,"2025-10-31"]
[6,"2025-11-01","                       WEEK-END                       ",null,null,null,null,null,null,null,"                       WEEK-END                       "]
[7,"2025-11-02","                       WEEK-END                       ",null,null,null,null,null,null,null,"                       WEEK-END                       "]
[1,"2025-11-03"]
[2,"2025-11-04"]
[3,"2025-11-05"]
[4,"2025-11-06","     Pédagogique",null,null,null,null,null,null,null,"     Pédagogique"]
[5,"2025-11-07","     Pédagogique",null,null,null,null,null,null,null,"     Pédagogique"]
[6,"2025-11-08","                       WEEK-END                       ",null,null,null,null,null,null,null,"                       WEEK-END                       "]
[7,"2025-11-09","                       WEEK-END                       ",null,null,null,null,null,null,null,"                       WEEK-END                       "]
[1,"2025-11-10"]
[2,"2025-11-11"]
[3,"2025-11-12"]
[4,"2025-11-13"]
[5,"2025-11-14"]
[6,"2025-11-15","                       WEEK-END                       ",null,null,null,null,null,null,null,"                       WEEK-END                       "]
[7,"2025-11-16","                       WEEK-END                       ",null,null,null,null,null,null,null,"                       WEEK-END                       "]
[1,"2025-11-17"]
[2,"2025-11-18"]
[3,"2025-11-19"]
[4,"2025-11-20","     Pédagogique Commune",null,null,null,null,null,null,null,"     Pédagogique Commune"]
[5,"2025-11-21"]
[6,"2025-11-22","                       WEEK-END                       ",null,null,null,null,null,null,null,"                       WEEK-END                       "]
[7,"2025-11-23","                       WEEK-END                       ",null,null,null,null,null,null,null,"                       WEEK-END                       "]
[1,"2025-11-24"]
[2,"2025-11-25"]
[3,"2025-11-26"]
[4,"2025-11-27"]
[5,"2025-11-28"]
[6,"2025-11-29","                       WEEK-END                       ",null,null,null,null,null,null,null,"                       WEEK-END                       "]
[7,"2025-11-30","                       WEEK-END                       ",null,null,null,null,null,null,null,"                       WEEK-END                       "]
[1,"2025-12-01"]
[2,"2025-12-02"]
[3,"2025-12-03"]
[4,"2025-12-04"]
[5,"2025-12-05"]
[6,"2025-12-06","                       WEEK-END                       ",null,null,null,null,null,null,null,"                       WEEK-END                       "]
[7,"2025-12-07","                       WEEK-END                       ",null,null,null,null,null,null,null,"                       WEEK-END                       "]
[1,"2025-12-08"]
[2,"2025-12-09"]
[3,"2025-12-10"]
[4,"2025-12-11"]
[5,"2025-12-12"]
[6,"2025-12-13","                       WEEK-END                       ",null,null,null,null,null,null,null,"                       WEEK-END                       "]
[7,"2025-12-14","                       WEEK-END                       ",null,null,null,null,null,null,null,"                       WEEK-END                       "]
[1,"2025-12-15"]
[2,"2025-12-16"]
[3,"2025-12-17"]
[4,"2025-12-18"]
[5,"2025-12-19"]
[6,"2025-12-20","                       WEEK-END                       ",null,null,null,null,null,null,null,"                       WEEK-END                       "]
[7,"2025-12-21","                       WEEK-END                       ",null,null,null,null,null,null,null,"                       WEEK-END                       "]
[1,"2025-12-22","Congé Noël",null,null,null,null,null,null,null,"Congé Noël"]
[2,"2025-12-23","Congé Noël",null,null,null,null,null,null,null,"Congé Noël"]
[{"$f":"WEEKDAY(B136,2)","v":3},"2025-12-24","Congé Noël",null,null,null,null,null,null,null,"Congé Noël"]
[4,"2025-12-25","Congé Noël",null,null,null,null,null,null,null,"Congé Noël"]
[5,"2025-12-26","Congé Noël",null,null,null,null,null,null,null,"Congé Noël"]
[6,{"$f":"B138+1","v":"2025-12-27"},"                       WEEK-END                       ",null,null,null,null,null,null,null,"                       WEEK-END                       "]
[7,"2025-12-28","                       WEEK-END                       ",null,null,null,null,null,null,null,"                       WEEK-END                       "]
[1,"2025-12-29","Congé Noël",null,null,null,null,null,null,null,"Congé Noël"]
[2,"2025-12-30","Congé Noël",null,null,null,null,null,null,null,"Congé Noël"]
[3,"2025-12-31","Congé Noël",null,null,null,null,null,null,null,"Congé Noël"]
[4,"2026-01-01","Congé Noël",null,null,null,null,null,null,null,"Congé Noël"]
[5,"2026-01-02","Congé Noël",null,null,null,null,null,null,null,"Congé Noël"]
[6,"2026-01-03","                       WEEK-END                       ",null,null,null,null,null,null,null,"                       WEEK-END                       "]
[7,"2026-01-04","                       WEEK-END                       ",null,null,null,null,null,null,null,"                       WEEK-END                       "]
[1,"2026-01-05","     Pédagogique Commune",null,null,null,null,null,null,null,"     Pédagogique Commune"]
[2,"2026-01-06"]
[3,"2026-01-07"]
[4,"2026-01-08"]
[5,"2026-01-09"]
[6,"2026-01-10","                       WEEK-END                       ",null,null,null,null,null,null,null,"                       WEEK-END                       "]
[7,"2026-01-11","                       WEEK-END                       ",null,null,null,null,null,null,null,"                       WEEK-END                       "]
[1,"2026-01-12"]
[2,"2026-01-13"]
[3,"2026-01-14"]
[4,"2026-01-15"]
[5,"2026-01-16"]
[6,"2026-01-17","                       WEEK-END                       ",null,null,null,null,null,null,null,"                       WEEK-END                       "]
[7,"2026-01-18","                       WEEK-END                       ",null,null,null,null,null,null,null,"                       WEEK-END                       "]
[1,"2026-01-19"]
[2,"2026-01-20"]
[3,"2026-01-21"]
[4,"2026-01-22"]
[5,"2026-01-23"]
[6,"2026-01-24","                       WEEK-END                       ",null,null,null,null,null,null,null,"                       WEEK-END                       "]
[7,"2026-01-25","                       WEEK-END                       ",null,null,null,null,null,null,null,"                       WEEK-END                       "]
[1,"2026-01-26"]
[2,"2026-01-27"]
[3,"2026-01-28"]
[4,"2026-01-29"]
[5,"2026-01-30","     Pédagogique",null,null,null,null,null,null,null,"     Pédagogique"]
[6,"2026-01-31","                       WEEK-END                       ",null,null,null,null,null,null,null,"                       WEEK-END                       "]
[7,"2026-02-01","                       WEEK-END                       ",null,null,null,null,null,null,null,"                       WEEK-END                       "]
[1,"2026-02-02"]
[2,"2026-02-03"]
[3,"2026-02-04"]
[4,"2026-02-05"]
[5,"2026-02-06"]
[6,"2026-02-07","                       WEEK-END                       ",null,null,null,null,null,null,null,"                       WEEK-END                       "]
[7,"2026-02-08","                       WEEK-END                       ",null,null,null,null,null,null,null,"                       WEEK-END                       "]
[1,"2026-02-09"]
[2,"2026-02-10"]
[3,"2026-02-11"]
[4,"2026-02-12"]
[5,"2026-02-13"]
[6,"2026-02-14","                       WEEK-END                       ",null,null,null,null,null,null,null,"                       WEEK-END                       "]
[7,"2026-02-15","                       WEEK-END                       ",null,null,null,null,null,null,null,"                       WEEK-END                       "]
[1,"2026-02-16"]
[2,"2026-02-17"]
[3,"2026-02-18"]
[4,"2026-02-19"]
[5,"2026-02-20"]
[6,"2026-02-21","                       WEEK-END                       ",null,null,null,null,null,null,null,"                       WEEK-END                       "]
[7,"2026-02-22","                       WEEK-END                       ",null,null,null,null,null,null,null,"                       WEEK-END                       "]
[1,"2026-02-23"]
[2,"2026-02-24"]
[3,"2026-02-25","     Pédagogique",null,null,null,null,null,null,null,"     Pédagogique"]
[{"$f":"WEEKDAY(B200,2)","v":4},"2026-02-26"]
[5,"2026-02-27"]
[6,"2026-02-28","                       WEEK-END                       ",null,null,null,null,null,null,null,"                       WEEK-END                       "]
[7,{"$f":"B202+1","v":"2026-03-01"},"                       WEEK-END                       ",null,null,null,null,null,null,null,"                       WEEK-END                       "]
[1,"2026-03-02"]
[2,"2026-03-03"]
[3,"2026-03-04"]
[4,"2026-03-05"]
[5,"2026-03-06"]
[6,"2026-03-07","                       WEEK-END                       ",null,null,null,null,null,null,null,"                       WEEK-END                       "]
[7,"2026-03-08","                       WEEK-END                       ",null,null,null,null,null,null,null,"                       WEEK-END                       "]
[1,"2026-03-09"]
[2,"2026-03-10"]
[3,"2026-03-11"]
[4,"2026-03-12"]
[5,"2026-03-13","     Pédagogique",null,null,null,null,null,null,null,"     Pédagogique"]
[6,"2026-03-14","                       WEEK-END                       ",null,null,null,null,null,null,null,"                       WEEK-END                       "]
[7,"2026-03-15","                       WEEK-END                       ",null,null,null,null,null,null,null,"                       WEEK-END                       "]
[1,"2026-03-16"]
[2,"2026-03-17"]
[3,"2026-03-18"]
[4,"2026-03-19"]
[5,"2026-03-20"]
[6,"2026-03-21","                       WEEK-END                       ",null,null,null,null,null,null,null,"                       WEEK-END                       "]
[7,"2026-03-22","                       WEEK-END                       ",null,null,null,null,null,null,null,"                       WEEK-END                       "]
[1,"2026-03-23"]
[2,"2026-03-24"]
[3,"2026-03-25"]
[4,"2026-03-26"]
[5,"2026-03-27"]
[6,"2026-03-28","                       WEEK-END                       ",null,null,null,null,null,null,null,"                       WEEK-END                       "]
[7,"2026-03-29","                       WEEK-END                       ",null,null,null,null,null,null,null,"                       WEEK-END                       "]
[1,"2026-03-30"]
[2,"2026-03-31"]
[3,"2026-04-01"]
[4,"2026-04-02"]
[5,"2026-04-03","Congé",null,null,null,null,null,null,null,"Congé"]
[6,"2026-04-04","                       WEEK-END                       ",null,null,null,null,null,null,null,"                       WEEK-END                       "]
[7,"2026-04-05","                       WEEK-END                       ",null,null,null,null,null,null,null,"                       WEEK-END                       "]
[1,"2026-04-06","Congé",null,null,null,null,null,null,null,"Congé"]
[2,"2026-04-07"]
[3,"2026-04-08"]
[4,"2026-04-09"]
[5,"2026-04-10"]
[6,"2026-04-11","                       WEEK-END                       ",null,null,null,null,null,null,null,"                       WEEK-END                       "]
[7,"2026-04-12","                       WEEK-END                       ",null,null,null,null,null,null,null,"                       WEEK-END                       "]
[1,"2026-04-13"]
[2,"2026-04-14"]
[3,"2026-04-15"]
[4,"2026-04-16"]
[5,"2026-04-17"]
[6,"2026-04-18","                       WEEK-END                       ",null,null,null,null,null,null,null,"                       WEEK-END                       "]
[7,"2026-04-19","                       WEEK-END                       ",null,null,null,null,null,null,null,"                       WEEK-END                       "]
[1,"2026-04-20"]
[2,"2026-04-21"]
[3,"2026-04-22"]
[4,"2026-04-23"]
[5,"2026-04-24"]
[6,"2026-04-25","                       WEEK-END                       ",null,null,null,null,null,null,null,"                       WEEK-END                       "]
[7,"2026-04-26","                       WEEK-END                       ",null,null,null,null,null,null,null,"                       WEEK-END                       "]
[1,"2026-04-27"]
[2,"2026-04-28"]
[3,"2026-04-29"]
[4,"2026-04-30"]
[{"$f":"WEEKDAY(B264,2)","v":5},"2026-05-01","     Pédagogique Commune",null,null,null,null,null,null,null,"     Pédagogique Commune"]
[6,"2026-05-02","                       WEEK-END                       ",null,null,null,null,null,null,null,"                       WEEK-END                       "]
[7,"2026-05-03","                       WEEK-END                       ",null,null,null,null,null,null,null,"                       WEEK-END                       "]
[1,{"$f":"B266+1","v":"2026-05-04"}]
[2,"2026-05-05"]
[3,"2026-05-06"]
[4,"2026-05-07"]
[5,"2026-05-08"]
[6,"2026-05-09","                       WEEK-END                       ",null,null,null,null,null,null,null,"                       WEEK-END                       "]
[7,"2026-05-10","                       WEEK-END                       ",null,null,null,null,null,null,null,"                       WEEK-END                       "]
[1,"2026-05-11"]
[2,"2026-05-12"]
[3,"2026-05-13"]
[4,"2026-05-14"]
[5,"2026-05-15"]
[6,"2026-05-16","                       WEEK-END                       ",null,null,null,null,null,null,null,"                       WEEK-END                       "]
[7,"2026-05-17","                       WEEK-END                       ",null,null,null,null,null,null,null,"                       WEEK-END                       "]
[1,"2026-05-18","Congé",null,null,null,null,null,null,null,"Congé"]
[2,"2026-05-19"]
[3,"2026-05-20"]
[4,"2026-05-21"]
[5,"2026-05-22"]
[6,"2026-05-23","                       WEEK-END                       ",null,null,null,null,null,null,null,"                       WEEK-END                       "]
[7,"2026-05-24","                       WEEK-END                       ",null,null,null,null,null,null,null,"                       WEEK-END                       "]
[1,"2026-05-25"]
[2,"2026-05-26"]
[3,"2026-05-27"]
[4,"2026-05-28"]
[5,"2026-05-29"]
[6,"2026-05-30","                       WEEK-END                       ",null,null,null,null,null,null,null,"                       WEEK-END                       "]
[7,"2026-05-31","                       WEEK-END                       ",null,null,null,null,null,null,null,"                       WEEK-END                       "]
[1,"2026-06-01"]
[2,"2026-06-02"]
[3,"2026-06-03"]
[4,"2026-06-04"]
[5,"2026-06-05","     Pédagogique",null,null,null,null,null,null,null,"     Pédagogique"]
[6,"2026-06-06","                       WEEK-END                       ",null,null,null,null,null,null,null,"                       WEEK-END                       "]
[7,"2026-06-07","                       WEEK-END                       ",null,null,null,null,null,null,null,"                       WEEK-END                       "]
[1,"2026-06-08"]
[2,"2026-06-09"]
[3,"2026-06-10"]
[4,"2026-06-11"]
[5,"2026-06-12"]
[6,"2026-06-13","                       WEEK-END                       ",null,null,null,null,null,null,null,"                       WEEK-END                       "]
[7,"2026-06-14","                       WEEK-END                       ",null,null,null,null,null,null,null,"                       WEEK-END                       "]
[1,"2026-06-15"]
[2,"2026-06-16"]
[3,"2026-06-17"]
[4,"2026-06-18"]
[5,"2026-06-19"]
[6,"2026-06-20","                       WEEK-END                       ",null,null,null,null,null,null,null,"                       WEEK-END                       "]
[7,"2026-06-21","                       WEEK-END                       ",null,null,null,null,null,null,null,"                       WEEK-END                       "]
[1,"2026-06-22"]
[2,"2026-06-23"]
[3,"2026-06-24","Congé",null,null,null,null,null,null,null,"Congé"]
[4,"2026-06-25"]
[5,"2026-06-26"]
[6,"2026-06-27","                       WEEK-END                       ",null,null,null,null,null,null,null,"                       WEEK-END                       "]
[7,"2026-06-28","                       WEEK-END                       ",null,null,null,null,null,null,null,"                       WEEK-END                       "]
[1,"2026-06-29","                   Vacances          ",null,null,null,null,null,null,null,"                   Vacances          "]
[2,"2026-06-30","                   Vacances          ",null,null,null,null,null,null,null,"                   Vacances          "]
[3,"2026-07-01","                   Vacances          ",null,null,null,null,null,null,null,"                   Vacances          "]
[4,"2026-07-02","                   Vacances          ",null,null,null,null,null,null,null,"                   Vacances          "]
[5,"2026-07-03","                   Vacances          ",null,null,null,null,null,null,null,"                   Vacances          "]
[{"$f":"WEEKDAY(B328,2)","v":6},"2026-07-04","                       WEEK-END                       ",null,null,null,null,null,null,null,"                       WEEK-END                       "]
[7,"2026-07-05","                       WEEK-END                       ",null,null,null,null,null,null,null,"                       WEEK-END                       "]
[1,"2026-07-06","                   Vacances          ",null,null,null,null,null,null,null,"                   Vacances          "]
[2,{"$f":"B330+1","v":"2026-07-07"},"                   Vacances          ",null,null,null,null,null,null,null,"                   Vacances          "]
[3,"2026-07-08","                   Vacances          ",null,null,null,null,null,null,null,"                   Vacances          "]
[4,"2026-07-09","                   Vacances          ",null,null,null,null,null,null,null,"                   Vacances          "]
[5,"2026-07-10","                   Vacances          ",null,null,null,null,null,null,null,"                   Vacances          "]
[6,"2026-07-11","                       WEEK-END                       ",null,null,null,null,null,null,null,"                       WEEK-END                       "]
[7,"2026-07-12","                       WEEK-END                       ",null,null,null,null,null,null,null,"                       WEEK-END                       "]
[1,"2026-07-13","                   Vacances          ",null,null,null,null,null,null,null,"                   Vacances          "]
[2,"2026-07-14","                   Vacances          ",null,null,null,null,null,null,null,"                   Vacances          "]
[3,"2026-07-15","                   Vacances          ",null,null,null,null,null,null,null,"                   Vacances          "]
[4,"2026-07-16","                   Vacances          ",null,null,null,null,null,null,null,"                   Vacances          "]
[5,"2026-07-17","                   Vacances          ",null,null,null,null,null,null,null,"                   Vacances          "]
[6,"2026-07-18","                       WEEK-END                       ",null,null,null,null,null,null,null,"                       WEEK-END                       "]
[7,"2026-07-19","                       WEEK-END                       ",null,null,null,null,null,null,null,"                       WEEK-END                       "]
[1,"2026-07-20","                   Vacances          ",null,null,null,null,null,null,null,"                   Vacances          "]
[2,"2026-07-21","                   Vacances          ",null,null,null,null,null,null,null,"                   Vacances          "]
[3,"2026-07-22","                   Vacances          ",null,null,null,null,null,null,null,"                   Vacances          "]
[4,"2026-07-23","                   Vacances          ",null,null,null,null,null,null,null,"                   Vacances          "]
[5,"2026-07-24","                   Vacances          ",null,null,null,null,null,null,null,"                   Vacances          "]
[6,"2026-07-25","                       WEEK-END                       ",null,null,null,null,null,null,null,"                       WEEK-END                       "]
[7,"2026-07-26","                       WEEK-END                       ",null,null,null,null,null,null,null,"                       WEEK-END                       "]
[1,"2026-07-27","                   Vacances          ",null,null,null,null,null,null,null,"                   Vacances          "]
[2,"2026-07-28","                   Vacances          ",null,null,null,null,null,null,null,"                   Vacances          "]
[3,"2026-07-29","                   Vacances          ",null,null,null,null,null,null,null,"                   Vacances          "]
[4,"2026-07-30","                   Vacances          ",null,null,null,null,null,null,null,"                   Vacances          "]
[5,"2026-07-31","                   Vacances          ",null,null,null,null,null,null,null,"                   Vacances          "]
[6,"2026-08-01","                       WEEK-END                       ",null,null,null,null,null,null,null,"                       WEEK-END                       "]
[7,"2026-08-02","                       WEEK-END                       ",null,null,null,null,null,null,null,"                       WEEK-END                       "]
[1,"2026-08-03","                   Vacances          ",null,null,null,null,null,null,null,"                   Vacances          "]
[2,"2026-08-04","                   Vacances          ",null,null,null,null,null,null,null,"                   Vacances          "]
[3,"2026-08-05","                   Vacances          ",null,null,null,null,null,null,null,"                   Vacances          "]
[4,"2026-08-06","                   Vacances          ",null,null,null,null,null,null,null,"                   Vacances          "]
[5,"2026-08-07","                   Vacances          ",null,null,null,null,null,null,null,"                   Vacances          "]
[6,"2026-08-08","                       WEEK-END                       ",null,null,null,null,null,null,null,"                       WEEK-END                       "]
[7,"2026-08-09","                       WEEK-END                       ",null,null,null,null,null,null,null,"                       WEEK-END                       "]
[1,"2026-08-10","                   Vacances          ",null,null,null,null,null,null,null,"                   Vacances          "]
[2,"2026-08-11","                   Vacances          ",null,null,null,null,null,null,null,"                   Vacances          "]
[3,"2026-08-12","                   Vacances          ",null,null,null,null,null,null,null,"                   Vacances          "]
[4,"2026-08-13","                   Vacances          ",null,null,null,null,null,null,null,"                   Vacances          "]
[5,"2026-08-14","                   Vacances          ",null,null,null,null,null,null,null,"                   Vacances          "]
[6,"2026-08-15","                       WEEK-END                       ",null,null,null,null,null,null,null,"                       WEEK-END                       "]
[7,"2026-08-16","                       WEEK-END                       ",null,null,null,null,null,null,null,"                       WEEK-END                       "]
[1,"2026-08-17","                   Vacances          ",null,null,null,null,null,null,null,"                   Vacances          "]
[2,"2026-08-18","                   Vacances          ",null,null,null,null,null,null,null,"                   Vacances          "]
[null,"2026-08-19","                   Vacances          ",null,null,null,null,null,null,null,"                   Vacances          "]
[]
["Calculateur de période par module"]
["Modules",null," ",null,null,null,null,null,null,null," "]
[null,null,"à prog.",null,"entrées",null,null,null,"à faire",null,"à prog.",null,"entrées",null,null,null,"à faire"]
["module 1",null,{"$f":"IF(E379=(I379),\"ok\",($A379))","v":"ok"},null,{"$f":"SUMIF(C$8:C$373,1,E$8:E$373)+SUMIF(G$8:G$373,1,I$8:I$373)","v":0},null,null,null,0,null,{"$f":"IF(M379=(Q379),\"ok\",($A379))","v":"ok"},null,{"$f":"SUMIF(K$8:K$373,1,M$8:M$373)+SUMIF(O$8:O$373,1,Q$8:Q$373)","v":0},null,null,null,0]
["module 2",null,"ok",null,{"$f":"SUMIF(C$8:C$373,2,E$8:E$373)+SUMIF(G$8:G$373,2,I$8:I$373)","v":0},null,null,null,0,null,"ok",null,{"$f":"SUMIF(K$8:K$373,2,M$8:M$373)+SUMIF(O$8:O$373,2,Q$8:Q$373)","v":0},null,null,null,0]
["module 3",null,"ok",null,{"$f":"SUMIF(C$8:C$373,3,E$8:E$373)+SUMIF(G$8:G$373,3,I$8:I$373)","v":0},null,null,null,0,null,"ok",null,{"$f":"SUMIF(K$8:K$373,3,M$8:M$373)+SUMIF(O$8:O$373,3,Q$8:Q$373)","v":0},null,null,null,0]
["module 4",null,"ok",null,{"$f":"SUMIF(C$8:C$373,4,E$8:E$373)+SUMIF(G$8:G$373,4,I$8:I$373)","v":0},null,null,null,0,null,"ok",null,{"$f":"SUMIF(K$8:K$373,4,M$8:M$373)+SUMIF(O$8:O$373,4,Q$8:Q$373)","v":0},null,null,null,0]
["module 5",null,"ok",null,{"$f":"SUMIF(C$8:C$373,5,E$8:E$373)+SUMIF(G$8:G$373,5,I$8:I$373)","v":0},null,null,null,0,null,"ok",null,{"$f":"SUMIF(K$8:K$373,5,M$8:M$373)+SUMIF(O$8:O$373,5,Q$8:Q$373)","v":0},null,null,null,0]
["module 6",null,"ok",null,{"$f":"SUMIF(C$8:C$373,6,E$8:E$373)+SUMIF(G$8:G$373,6,I$8:I$373)","v":0},null,null,null,0,null,"ok",null,{"$f":"SUMIF(K$8:K$373,6,M$8:M$373)+SUMIF(O$8:O$373,6,Q$8:Q$373)","v":0},null,null,null,0]
["module 7",null,"ok",null,{"$f":"SUMIF(C$8:C$373,7,E$8:E$373)+SUMIF(G$8:G$373,7,I$8:I$373)","v":0},null,null,null,0,null,"ok",null,{"$f":"SUMIF(K$8:K$373,7,M$8:M$373)+SUMIF(O$8:O$373,7,Q$8:Q$373)","v":0},null,null,null,0]
["module 8",null,"ok",null,{"$f":"SUMIF(C$8:C$373,8,E$8:E$373)+SUMIF(G$8:G$373,8,I$8:I$373)","v":0},null,null,null,0,null,"ok",null,{"$f":"SUMIF(K$8:K$373,8,M$8:M$373)+SUMIF(O$8:O$373,8,Q$8:Q$373)","v":0},null,null,null,0]
["module 9",null,"ok",null,{"$f":"SUMIF(C$8:C$373,9,E$8:E$373)+SUMIF(G$8:G$373,9,I$8:I$373)","v":0},null,null,null,0,null,"ok",null,{"$f":"SUMIF(K$8:K$373,9,M$8:M$373)+SUMIF(O$8:O$373,9,Q$8:Q$373)","v":0},null,null,null,0]
["module 10",null,"ok",null,{"$f":"SUMIF(C$8:C$373,10,E$8:E$373)+SUMIF(G$8:G$373,10,I$8:I$373)","v":0},null,null,null,0,null,"ok",null,{"$f":"SUMIF(K$8:K$373,10,M$8:M$373)+SUMIF(O$8:O$373,10,Q$8:Q$373)","v":0},null,null,null,0]
["module 11",null,"ok",null,{"$f":"SUMIF(C$8:C$373,11,E$8:E$373)+SUMIF(G$8:G$373,11,I$8:I$373)","v":0},null,null,null,0,null,"ok",null,{"$f":"SUMIF(K$8:K$373,11,M$8:M$373)+SUMIF(O$8:O$373,11,Q$8:Q$373)","v":0},null,null,null,0]
["module 12",null,"ok",null,{"$f":"SUMIF(C$8:C$373,12,E$8:E$373)+SUMIF(G$8:G$373,12,I$8:I$373)","v":0},null,null,null,0,null,"ok",null,{"$f":"SUMIF(K$8:K$373,12,M$8:M$373)+SUMIF(O$8:O$373,12,Q$8:Q$373)","v":0},null,null,null,0]
["module 13",null,"ok",null,{"$f":"SUMIF(C$8:C$373,13,E$8:E$373)+SUMIF(G$8:G$373,13,I$8:I$373)","v":0},null,null,null,0,null,"ok",null,{"$f":"SUMIF(K$8:K$373,13,M$8:M$373)+SUMIF(O$8:O$373,13,Q$8:Q$373)","v":0},null,null,null,0]
["module 14",null,"ok",null,{"$f":"SUMIF(C$8:C$373,14,E$8:E$373)+SUMIF(G$8:G$373,14,I$8:I$373)","v":0},null,null,null,0,null,"ok",null,{"$f":"SUMIF(K$8:K$373,14,M$8:M$373)+SUMIF(O$8:O$373,14,Q$8:Q$373)","v":0},null,null,null,0]
["module 15",null,"ok",null,{"$f":"SUMIF(C$8:C$373,15,E$8:E$373)+SUMIF(G$8:G$373,15,I$8:I$373)","v":0},null,null,null,0,null,"ok",null,{"$f":"SUMIF(K$8:K$373,15,M$8:M$373)+SUMIF(O$8:O$373,15,Q$8:Q$373)","v":0},null,null,null,0]
["module 16",null,"ok",null,{"$f":"SUMIF(C$8:C$373,16,E$8:E$373)+SUMIF(G$8:G$373,16,I$8:I$373)","v":0},null,null,null,0,null,"ok",null,{"$f":"SUMIF(K$8:K$373,16,M$8:M$373)+SUMIF(O$8:O$373,16,Q$8:Q$373)","v":0},null,null,null,0]
["module 17",null,"ok",null,{"$f":"SUMIF(C$8:C$373,17,E$8:E$373)+SUMIF(G$8:G$373,17,I$8:I$373)","v":0},null,null,null,0,null,"ok",null,{"$f":"SUMIF(K$8:K$373,17,M$8:M$373)+SUMIF(O$8:O$373,17,Q$8:Q$373)","v":0},null,null,null,0]
["module 18",null,"ok",null,{"$f":"SUMIF(C$8:C$373,18,E$8:E$373)+SUMIF(G$8:G$373,18,I$8:I$373)","v":0},null,null,null,0,null,"ok",null,{"$f":"SUMIF(K$8:K$373,18,M$8:M$373)+SUMIF(O$8:O$373,18,Q$8:Q$373)","v":0},null,null,null,0]
["module 19",null,"ok",null,{"$f":"SUMIF(C$8:C$373,19,E$8:E$373)+SUMIF(G$8:G$373,19,I$8:I$373)","v":0},null,null,null,0,null,"ok",null,{"$f":"SUMIF(K$8:K$373,19,M$8:M$373)+SUMIF(O$8:O$373,19,Q$8:Q$373)","v":0},null,null,null,0]
["module 20",null,"ok",null,{"$f":"SUMIF(C$8:C$373,20,E$8:E$373)+SUMIF(G$8:G$373,20,I$8:I$373)","v":0},null,null,null,0,null,"ok",null,{"$f":"SUMIF(K$8:K$373,20,M$8:M$373)+SUMIF(O$8:O$373,20,Q$8:Q$373)","v":0},null,null,null,0]
["module 21",null,"ok",null,{"$f":"SUMIF(C$8:C$373,21,E$8:E$373)+SUMIF(G$8:G$373,21,I$8:I$373)","v":0},null,null,null,0,null,"ok",null,{"$f":"SUMIF(K$8:K$373,21,M$8:M$373)+SUMIF(O$8:O$373,21,Q$8:Q$373)","v":0},null,null,null,0]
["module 22",null,"ok",null,{"$f":"SUMIF(C$8:C$373,22,E$8:E$373)+SUMIF(G$8:G$373,22,I$8:I$373)","v":0},null,null,null,0,null,"ok",null,{"$f":"SUMIF(K$8:K$373,22,M$8:M$373)+SUMIF(O$8:O$373,22,Q$8:Q$373)","v":0},null,null,null,0]
["module 23",null,"ok",null,{"$f":"SUMIF(C$8:C$373,23,E$8:E$373)+SUMIF(G$8:G$373,23,I$8:I$373)","v":0},null,null,null,0,null,"ok",null,{"$f":"SUMIF(K$8:K$373,23,M$8:M$373)+SUMIF(O$8:O$373,23,Q$8:Q$373)","v":0},null,null,null,0]
["module 24",null,"ok",null,{"$f":"SUMIF(C$8:C$373,24,E$8:E$373)+SUMIF(G$8:G$373,24,I$8:I$373)","v":0},null,null,null,0,null,"ok",null,{"$f":"SUMIF(K$8:K$373,24,M$8:M$373)+SUMIF(O$8:O$373,24,Q$8:Q$373)","v":0},null,null,null,0]
["module 25",null,"ok",null,{"$f":"SUMIF(C$8:C$373,25,E$8:E$373)+SUMIF(G$8:G$373,25,I$8:I$373)","v":0},null,null,null,0,null,"ok",null,{"$f":"SUMIF(K$8:K$373,25,M$8:M$373)+SUMIF(O$8:O$373,25,Q$8:Q$373)","v":0},null,null,null,0]
["module 26",null,"ok",null,{"$f":"SUMIF(C$8:C$373,26,E$8:E$373)+SUMIF(G$8:G$373,26,I$8:I$373)","v":0},null,null,null,0,null,"ok",null,{"$f":"SUMIF(K$8:K$373,26,M$8:M$373)+SUMIF(O$8:O$373,26,Q$8:Q$373)","v":0},null,null,null,0]
["module 27",null,"ok",null,{"$f":"SUMIF(C$8:C$373,27,E$8:E$373)+SUMIF(G$8:G$373,27,I$8:I$373)","v":0},null,null,null,0,null,"ok",null,{"$f":"SUMIF(K$8:K$373,27,M$8:M$373)+SUMIF(O$8:O$373,27,Q$8:Q$373)","v":0},null,null,null,0]
["module 28",null,"ok",null,{"$f":"SUMIF(C$8:C$373,28,E$8:E$373)+SUMIF(G$8:G$373,28,I$8:I$373)","v":0},null,null,null,0,null,"ok",null,{"$f":"SUMIF(K$8:K$373,28,M$8:M$373)+SUMIF(O$8:O$373,28,Q$8:Q$373)","v":0},null,null,null,0]
["module 29",null,"ok",null,{"$f":"SUMIF(C$8:C$373,29,E$8:E$373)+SUMIF(G$8:G$373,29,I$8:I$373)","v":0},null,null,null,0,null,"ok",null,{"$f":"SUMIF(K$8:K$373,29,M$8:M$373)+SUMIF(O$8:O$373,29,Q$8:Q$373)","v":0},null,null,null,0]
["module 30",null,"ok",null,{"$f":"SUMIF(C$8:C$373,30,E$8:E$373)+SUMIF(G$8:G$373,30,I$8:I$373)","v":0},null,null,null,0,null,"ok",null,{"$f":"SUMIF(K$8:K$373,30,M$8:M$373)+SUMIF(O$8:O$373,30,Q$8:Q$373)","v":0},null,null,null,0]
["module 31",null,"ok",null,{"$f":"SUMIF(C$8:C$373,31,E$8:E$373)+SUMIF(G$8:G$373,31,I$8:I$373)","v":0},null,null,null,0,null,"ok",null,{"$f":"SUMIF(K$8:K$373,31,M$8:M$373)+SUMIF(O$8:O$373,31,Q$8:Q$373)","v":0},null,null,null,0]
["module 32",null,"ok",null,{"$f":"SUMIF(C$8:C$373,32,E$8:E$373)+SUMIF(G$8:G$373,32,I$8:I$373)","v":0},null,null,null,0,null,"ok",null,{"$f":"SUMIF(K$8:K$373,32,M$8:M$373)+SUMIF(O$8:O$373,32,Q$8:Q$373)","v":0},null,null,null,0]
["module 33",null,"ok",null,{"$f":"SUMIF(C$8:C$373,33,E$8:E$373)+SUMIF(G$8:G$373,33,I$8:I$373)","v":0},null,null,null,0,null,"ok",null,{"$f":"SUMIF(K$8:K$373,33,M$8:M$373)+SUMIF(O$8:O$373,33,Q$8:Q$373)","v":0},null,null,null,0]
["module 34",null,"ok",null,{"$f":"SUMIF(C$8:C$373,34,E$8:E$373)+SUMIF(G$8:G$373,34,I$8:I$373)","v":0},null,null,null,0,null,"ok",null,{"$f":"SUMIF(K$8:K$373,34,M$8:M$373)+SUMIF(O$8:O$373,34,Q$8:Q$373)","v":0},null,null,null,0]
["module 35",null,"TE",null,{"$f":"SUMIF(C$8:C$373,35,E$8:E$373)+SUMIF(G$8:G$373,35,I$8:I$373)","v":0},null,null,null,85,null,"TE",null,{"$f":"SUMIF(K$8:K$373,35,M$8:M$373)+SUMIF(O$8:O$373,35,Q$8:Q$373)","v":0},null,null,null,85,null,"=","TACHES PRÉSENCE ÉLÈVE (PERMANENT)"]
["module 36",null,"TA",null,{"$f":"SUMIF(C$8:C$373,36,E$8:E$373)+SUMIF(G$8:G$373,36,I$8:I$373)","v":0},null,null,null,360,null,"TA",null,{"$f":"SUMIF(K$8:K$373,36,M$8:M$373)+SUMIF(O$8:O$373,36,Q$8:Q$373)","v":0},null,null,null,360,null,"=","TACHES DE DISPO"]
["module 37",null,"TNP",null,{"$f":"SUMIF(C$8:C$373,37,E$8:E$373)+SUMIF(G$8:G$373,37,I$8:I$373)","v":0},null,null,null,200,null,"TNP",null,{"$f":"SUMIF(K$8:K$373,37,M$8:M$373)+SUMIF(O$8:O$373,37,Q$8:Q$373)","v":0},null,null,null,200,null,"=","TACHES DE NATURE PERSONNEL"]
["module 90",null,"ok",null,{"$f":"SUMIF(C$8:C$373,90,E$8:E$373)+SUMIF(G$8:G$373,90,I$8:I$373)","v":0},null,null,null,0,null,"ok",null,{"$f":"SUMIF(K$8:K$373,38,M$8:M$373)+SUMIF(O$8:O$373,38,Q$8:Q$373)","v":0},null,null,null,0]
["module 39",null,"ok",null,{"$f":"SUMIF(C$8:C$373,39,E$8:E$373)+SUMIF(G$8:G$373,39,I$8:I$373)","v":0},null,null,null,0,null,"ok",null,{"$f":"SUMIF(K$8:K$373,39,M$8:M$373)+SUMIF(O$8:O$373,39,Q$8:Q$373)","v":0},null,null,null,0]
["module 89",null,"ok",null,{"$f":"SUMIF(C$8:C$373,40,E$8:E$373)+SUMIF(G$8:G$373,40,I$8:I$373)","v":0},null,null,null,0,null,"ok",null,{"$f":"SUMIF(K$8:K$373,40,M$8:M$373)+SUMIF(O$8:O$373,40,Q$8:Q$373)","v":0},null,null,null,0]
["module 90",null,"ok",null,{"$f":"SUMIF(C$8:C$373,90,E$8:E$373)+SUMIF(G$8:G$373,90,I$8:I$373)","v":0},null,null,null,0,null,"ok",null,{"$f":"SUMIF(K$8:K$373,90,M$8:M$373)+SUMIF(O$8:O$373,90,Q$8:Q$373)","v":0},null,null,null,0,null,"=","RECUPERATION"]
["module 91",null,"ok",null,{"$f":"SUMIF(C$8:C$373,91,E$8:E$373)+SUMIF(G$8:G$373,91,I$8:I$373)","v":0},null,null,null,0,null,"ok",null,{"$f":"SUMIF(K$8:K$373,91,M$8:M$373)+SUMIF(O$8:O$373,91,Q$8:Q$373)","v":0},null,null,null,0]
["module 92",null,"ok",null,{"$f":"SUMIF(C$8:C$373,92,E$8:E$373)+SUMIF(G$8:G$373,92,I$8:I$373)","v":0},null,null,null,0,null,"ok",null,{"$f":"SUMIF(K$8:K$373,92,M$8:M$373)+SUMIF(O$8:O$373,92,Q$8:Q$373)","v":0},null,null,null,0]
["module 93",null,"ok",null,{"$f":"SUMIF(C$8:C$373,93,E$8:E$373)+SUMIF(G$8:G$373,93,I$8:I$373)","v":0},null,null,null,0,null,"ok",null,{"$f":"SUMIF(K$8:K$373,93,M$8:M$373)+SUMIF(O$8:O$373,93,Q$8:Q$373)","v":0},null,null,null,0]
["module 94",null,"ok",null,{"$f":"SUMIF(C$8:C$373,94,E$8:E$373)+SUMIF(G$8:G$373,94,I$8:I$373)","v":0},null,null,null,0,null,"ok",null,{"$f":"SUMIF(K$8:K$373,94,M$8:M$373)+SUMIF(O$8:O$373,94,Q$8:Q$373)","v":0},null,null,null,0]
["module 95",null,"ok",null,{"$f":"SUMIF(C$8:C$373,95,E$8:E$373)+SUMIF(G$8:G$373,95,I$8:I$373)","v":0},null,null,null,0,null,"ok",null,{"$f":"SUMIF(K$8:K$373,95,M$8:M$373)+SUMIF(O$8:O$373,95,Q$8:Q$373)","v":0},null,null,null,0,null," "]
["module 96",null,"ok",null,{"$f":"SUMIF(C$8:C$373,96,E$8:E$373)+SUMIF(G$8:G$373,96,I$8:I$373)","v":0},null,null,null,0,null,"ok",null,{"$f":"SUMIF(K$8:K$373,96,M$8:M$373)+SUMIF(O$8:O$373,96,Q$8:Q$373)","v":0},null,null,null,0]
["module 97",null,"ok",null,{"$f":"SUMIF(C$8:C$373,97,E$8:E$373)+SUMIF(G$8:G$373,97,I$8:I$373)","v":0},null,null,null,0,null,"ok",null,{"$f":"SUMIF(K$8:K$373,97,M$8:M$373)+SUMIF(O$8:O$373,97,Q$8:Q$373)","v":0},null,null,null,0]
["module 98",null,"ok",null,{"$f":"SUMIF(C$8:C$373,98,E$8:E$373)+SUMIF(G$8:G$373,98,I$8:I$373)","v":0},null,null,null,0,null,"ok",null,{"$f":"SUMIF(K$8:K$373,98,M$8:M$373)+SUMIF(O$8:O$373,98,Q$8:Q$373)","v":0},null,null,null,0]
["module 99",null,"ok",null,{"$f":"SUMIF(C$8:C$373,99,E$8:E$373)+SUMIF(G$8:G$373,99,I$8:I$373)","v":0},null,null,null,0,null,"ok",null,{"$f":"SUMIF(K$8:K$373,99,M$8:M$373)+SUMIF(O$8:O$373,99,Q$8:Q$373)","v":0},null,null,null,0]
["Totaux",null,{"$f":"IF(E429=(I429),\"ok\",($A$429))","v":"ok"},null,{"$f":"SUM(E379:F410)","v":0},null,null,null,{"$f":"SUM(I379:J410)","v":0},null,{"$f":"IF(M429=(Q429),\"ok\",($A$429))","v":"ok"},null,{"$f":"SUM(M379:N410)","v":0},null,null,null,{"$f":"SUM(Q379:R410)","v":0}]
[]
[]
["Calculateur de période / enseignants"]
["Enseignants",null,{"$f":"C4","v":" Sylvain Bellemare"}]
[null,null,{"$f":"\"Heures \"& RIGHT($A4,9)","v":"Heures 2024-2025"},null,null,null,{"$f":"\"Heures été \"& RIGHT($A4,9)","v":"Heures été 2024-2025"},null,null,null,{"$f":"\"Heures \"& RIGHT($A4,9)","v":"Heures 2024-2025"},null,null,null,{"$f":"\"Heures été \"& RIGHT($A4,9)","v":"Heures été 2024-2025"}]
["sb","Sylvain Bellemare",{"$f":"SUMIF(D$65:D$374,A435,E$65:E$374)+SUMIF(H$65:H$374,A435,I$65:I$374)","v":0},null,null,null,{"$f":"SUMIF(D$8:D$64,A435,E$8:E$64)+SUMIF(H$8:H$64,A435,I$8:I$64)","v":0},null,null,null,{"$f":"SUMIF(L$65:L$374,A435,M$65:M$374)+SUMIF(P$65:P$374,A435,Q$65:Q$374)","v":0},null,null,null,{"$f":"SUMIF(L$8:L$64,#REF!,M$8:M$64)+SUMIF(P$8:P$64,#REF!,Q$8:Q$64)","v":0}]
[]
[]
["Total des hrs"]
[null,{"$f":"SUM(W441,S441,O441,K441,G441,C441)","v":0},"ENSEIGNEMENT",null,null,null,"PERMANENT",null,null,null,"DISPO",null,null,null,"NATURE PERSO",null,null,null,"TUTORAT+RECUP",null,null,null,"AUTRE"]
[null,null,"Heures 2012-2013",null,null,null,"TE = 85 HRS",null,null,null,"TA = 360 HRS",null,null,null,"TNP = 200 HRS"]
[null,null,{"$f":"SUM(C435+K435)","v":0},null,null,null,{"$f":"SUM(E413+M413)","v":0},null,null,null,{"$f":"SUM(E414+M414)","v":0},null,null,null,{"$f":"SUM(E415+M415)","v":0},null,null,null,0,null,null,null,0]

{"sheet":"Feuil1","index":45,"n_rows":0,"n_cols":0,"rows_kept":0,"cut":false,"hidden":true,"merged":[]}